{"text_format":"1","workbook":"xlsx","n_sheets":5,"sheets":["EDU Dynamic Rulebook_2024","Programmes lists","Dashboard module list","RAW module list","Slicer Pivot"],"not_rendered":{"charts":0,"images":3,"macros":1,"external_links":0,"defined_names":7,"comments":0,"pivot_tables":2},"unopened":[],"bounds":{"document_bytes":16777216,"sheet_cells":100000,"rows_first":2000,"rows_last":500,"rows_between":2000,"halvings":0,"cell_chars":16384,"cell_head_chars":4096},"cells_cut":0,"cells_raw":0,"read":"whole","date_system":"1900"}

{"sheet":"EDU Dynamic Rulebook_2024","index":0,"n_rows":35,"n_cols":12,"rows_kept":35,"cut":false,"hidden":false,"merged":[[25,10,25,11],[26,10,28,11],[29,10,31,11],[10,4,10,8],[17,4,17,8],[18,4,18,8],[12,4,12,5],[12,6,13,8],[15,4,15,5],[24,10,24,11],[14,10,14,11],[10,10,10,11],[17,10,17,11],[18,10,23,11]]}
[]
[]
[]
[]
[]
[]
[]
[]
[]
[]
[null,null,null,null,{"$f":"'Slicer Pivot'!B2","v":"Foundation Phase"},null,null,null,null,null,"Academic Plan"]
[]
[null,null,null,null,"Select plan:",null,"Specialising in Afrikaans Home Language",null,null,null,"BFN",{"$f":"_xlfn.XLOOKUP(G13,'Dashboard module list'!B:B,'Dashboard module list'!I:I,)","v":"LC735101"}]
[null,null,null,null,null,null,null,null,null,null,"QQ",{"$f":"_xlfn.XLOOKUP(G13,'Dashboard module list'!B:B,'Dashboard module list'!J:J, \"N/A\")","v":0}]
[]
[null,null,null,null,"Year of study:",null,"First Year","Rulebook",{"$f":"_xlfn.XLOOKUP(G13,'Programmes lists'!B:B,'Programmes lists'!C:C)","v":"Pages 35-36"},null,"Total Credits:",{"$f":"_xlfn.XLOOKUP(G13,'Programmes lists'!B:B,'Programmes lists'!F:F)","v":528}]
[]
[null,null,null,null,"Modules:",null,null,null,null,null,"Minimum requirements"]
[null,null,null,null,"Semester and/or Year Module(s)",null,null,null,null,null,{"$f":"_xlfn.XLOOKUP(G13,'Dashboard module list'!B:B,'Dashboard module list'!K:K)","v":"Minimum grade 12 pass in\n•\tAfrikaans HL 55% \n•\tEnglish HL/FAL 50%"}]
[null,null,null,null,"Module code","Module Description","NQF level","Credits","Prerequisites"]
[null,null,null,null,{"$f":"_xlfn._xlws.FILTER('Dashboard module list'!C:G,('Dashboard module list'!B:B='EDU Dynamic Rulebook_2024'!G13)*('Dashboard module list'!H:H='EDU Dynamic Rulebook_2024'!G16))","v":"LLST1513"},"Lifelong Learning Skills",5,12,0]
[null,null,null,null,"ENGE1608","English Language for Education ",6,32,0]
[null,null,null,null,"LSCF1604","Life Skills Content 1: Foundation Phase",5,16,0]
[null,null,null,null,"MTCF1604","Mathematics Content 1: Numbers, Operations, Relationships, Patterns, Functions and Algebra",5,16,0]
[null,null,null,null,"EDUB1613","Education Studies 1.1 The Individual in the learning context",6,12,0]
[null,null,null,null,"TPRF1502","Teaching Practice 1 for Foundation Phase",5,8,0,null,"Location of Studies"]
[null,null,null,null,"AGAE1508","Academic Literacy in Afrikaans",5,-32,"NBT requirements not met",null,{"$f":"IF(OR(L13='Programmes lists'!D2, L13='Programmes lists'!D4), \"This programme is ONLY offered at the South Campus\",\nIF(L13='Programmes lists'!D3, \"This programme is offered at both South Campus and QwaQwa separately\",\nIF(L13='Programmes lists'!D5, \"This programme is NOT offered at the Main Campus\",\nIF(OR(L13='Programmes lists'!D9, L13='Programmes lists'!D13, L13='Programmes lists'!D17, L13='Programmes lists'!D21, L13='Programmes lists'!D26, L13='Programmes lists'!D29, L13='Programmes lists'!D31, L13='Programmes lists'!D35), \"This programme is NOT offered at the Main Campus\",\n\"This programme is offered at the Main Campus\"))))","v":"This programme is ONLY offered at the South Campus"}]
[null,null,null,null,"UFSS1504","Undergraduate core curriculum",5,-16,0]
[null,null,null,null,"EDUB1623","Education Studies 1.2 What it means to educate: Theoretical perspectives and their significance for SA education",6,12,0]
[null,null,null,null,"PEDF1623","General Pedagogy 1: Early Childhood Development and Learning (birth to nine years)",6,12,0,null,{"$f":"IF(L14='Programmes lists'!E34, \"This programme is also offered at the QwaQwa Campus\",\nIF(L14='Programmes lists'!E35, \"This programme is ONLY offered at the QwaQwa Campus\",\nIF(OR(L14='Programmes lists'!E3, L14='Programmes lists'!E7, L14='Programmes lists'!E11, L14='Programmes lists'!E15, L14='Programmes lists'!E19, L14='Programmes lists'!E23, L14='Programmes lists'!E25), \"This programme is offered separately at the QwaQwa Campus\",\nIF(OR(L14='Programmes lists'!E2, L14='Programmes lists'!E4, L14='Programmes lists'!E6, L14='Programmes lists'!E8, L14='Programmes lists'!E10, L14='Programmes lists'!E12, L14='Programmes lists'!E14, L14='Programmes lists'!E16, L14='Programmes lists'!E18, L14='Programmes lists'!E20, L14='Programmes lists'!E22, L14='Programmes lists'!E24, L14='Programmes lists'!E27, L14='Programmes lists'!E28, L14='Programmes lists'!E30, L14='Programmes lists'!E32, L14='Programmes lists'!E33), \"This programme is NOT offered at the QwaQwa Campus\",\n\"This programme is ONLY offered at the QwaQwa Campus\"))))","v":"This programme is NOT offered at the QwaQwa Campus"}]
[]
[]
[]
[]
[null,null,null,null,null,null,"Year Credits",{"$f":"SUMIF(H21:H33, \">0\")","v":120}]

{"sheet":"Programmes lists","index":1,"n_rows":35,"n_cols":11,"rows_kept":35,"cut":false,"hidden":true,"merged":[]}
["Phases","Specialisations","Page in Rulebook","Academic Plan BFN","Academic Plan QQ","Credits","Admission requirements",null,null,null,"Years of Study Drodown list"]
["Foundation Phase","Specialising in Afrikaans Home Language","Pages 35-36","LC735101",null,528,"Minimum grade 12 pass in\n•\tAfrikaans HL 55% \n•\tEnglish HL/FAL 50%",null,null,null,"Year Levels"]
["Foundation Phase","Specialising in Sesotho Home Language","Pages 37-38","LC735103","QC735103",528,"Minimum grade 12 pass in\n•\tSesotho HL 50% \n•\tEnglish HL/FAL 50%",null,null,null,"First Year"]
["Foundation Phase","Specialising in English Home Language","Pages 39-41","LC735106",null,528,"Minimum grade 12 pass in\n•\tEnglish HL 50% \n•\tAfrikaans 55%\n•\tSesotho/isiZulu 50%",null,null,null,"Second Year"]
["Foundation Phase","Specialising in isiZulu Home Language","Pages 42-43",null,"QC735105",528,"Minimum grade 12 pass in\n•\tIsiZulu HL 50% \n•\tEnglish FAL 50%",null,null,null,"Third Year"]
["Intermediate Phase","Specialising in Mathematics, Natural Science & Technology and Afrikaans Home Language","Pages 45-46","BC735791",null,532,"Minimum grade 12 pass in\n•\tAfrikaans HL 55% \n•\tEnglish FAL 50% \n•\tMathematics 50% ",null,null,null,"Fourth Year"]
["Intermediate Phase","Specialising in Mathematics, Natural Science & Technology and Sesotho Home Language","Pages 47-48","BC735792","QC735792",532,"Minimum grade 12 pass in\n•\tSesotho HL 50% \n•\tEnglish FAL 50% \n•\tMathematics 50%",null,null,null,"Fifth Year"]
["Intermediate Phase","Specialising in Mathematics, Natural Science & Technology and English Home Language","Pages 49-50","BC735793",null,532,"Minimum grade 12 pass in\n•\tEnglish HL 50%\n•\tAfrikaans FAL 50%\n•\tMathematics 50% "]
["Intermediate Phase","Specialising in Mathematics, Natural Science & Technology and isiZulu Home Language","Pages 51-52",null,"QC735794",532,"Minimum grade 12 pass in\n•\tIsiZulu HL 50% \n•\tEnglish FAL 50%\n•\tMathematics 50%"]
["Intermediate Phase","Specialising in Life Skills, Social Sciences & Afrikaans Home Language","Pages 53-54","BC735784",null,532,"Minimum grade 12 pass in\n•\tAfrikaans HL 55% \n•\tEnglish 50%"]
["Intermediate Phase","Specialising in Life Skills, Social Sciences & Sesotho Home Language","Pages 55-56","BC735782","QC735782",532,"Minimum grade 12 pass in\n•\tSesotho HL 50% \n•\tEnglish 50%"]
["Intermediate Phase","Specialising in Life Skills, Social Sciences, & English Home Language","Pages 57-58","BC735787        ",null,532,"Minimum grade 12 pass in\n•\tEnglish HL 50% \n•\tAfrikaans FAL 55%"]
["Intermediate Phase","Specialising in Life Skills, Social Sciences & IsiZulu Home Language","Pages 59-60",null,"QC735788        ",532,"Minimum grade 12 pass in\n•\tIsiZulu HL 50% \n•\tEnglish FAL 50%"]
["Intermediate Phase Extended Progamme","EXT - Specialising in Mathematics, Natural Science & Technology and Afrikaans Home Language","Pages 62-63","BC7357E2",null,660,"Minimum grade 12 pass in\n•\tAfrikaans HL 55% \n•\tEnglish FAL 50%\n•\tMathematics 50%"]
["Intermediate Phase Extended Progamme","EXT - Specialising in Mathematics, Natural Science & Technology and Sesotho Home Language","Pages 64-65","BC7357E2","QC7375E2",660,"Minimum grade 12 pass in\n•\tSesotho HL 50% \n•\tEnglish FAL 55%\n•\tMathematics 50%"]
["Intermediate Phase Extended Progamme","EXT - Specialising in Mathematics, Natural Science & Technology and English Home Language","Pagse 66-68","BC7357E2",null,660,"Minimum grade 12 pass in\n•\tEnglish HL 50% \n•\tAfrikaans FAL 55%\n•\tMathematics 50%"]
["Intermediate Phase Extended Progamme","EXT - Specialising in Mathematics, Natural Science & Technology and isiZulu Home Language","Pages 69-70",null,"QC7357E2",660,"Minimum grade 12 pass in\n•\tIsiZulu HL 50% \n•\tEnglish FAL 50%\n•\tMathematics 50%"]
["Intermediate Phase Extended Progamme","EXT - Specialising in Life Skills, Social Sciences & Afrikaans Home Language","Pages 71-72","BC7357E2",null,660,"Minimum grade 12 pass in\n•\tAfrikaans HL 55% \n•\tEnglish FAL 50%"]
["Intermediate Phase Extended Progamme","EXT - Specialising in Life Skills, Social Sciences & Sesotho Home Language","Pages 73-74","BC7357E2","QC7357E2",660,"Minimum grade 12 pass in\n•\tSesotho HL 50% \n•\tEnglish FAL 50%"]
["Intermediate Phase Extended Progamme","EXT - Specialising in Life Skills, Social Sciences, & English Home Language","Pages 75-76","BC7357E2  ",null,660,"Minimum grade 12 pass in\n•\tEnglish HL 50% \n•\tAfrikaans FAL 55%"]
["Intermediate Phase Extended Progamme","EXT - Specialising in Life Skills, Social Sciences & IsiZulu Home Language","Pages 77-78",null,"QC7357E2",660,"Minimum grade 12 pass in\n•\tIsiZulu HL 50% \n•\tEnglish FAL 50%"]
["Senior and FET ","Specialising in Accounting and Business Studies","Pages 82-83","BC736101      ",null,512,"Minimum of 50% in grade 12 pass for\n•\tAccounting \n•\tBusiness Studies"]
["Senior and FET ","Specialising in EMS and Business Studies","Pages 84-85","BC736104","QC736104        ",512,"Minimum of 50% in grade 12 pass for\n•\tAccounting\n•\tBusiness Studies or Economics"]
["Senior and FET ","Specialising in Technology and Engineering and Graphic Design","Pages 86-87","BC736301",null,512,"Minimum of 50% in grade 12 pass for \n•\tEngineering Graphics and Design"]
["Senior and FET ","Specialising in Mathematics and Physical Sciences","Pages 88-89","BC736314","QC736314        ",512,"Minimum grade 12 pass of 60% for \n•\tMathematics\n•\tPhysical Sciences "]
["Senior and FET ","Specialising in Mathematics and Life Sciences (QQ)","Pages 90-91",null,"QC736305",520,"Minimum of 60% in grade 12 pass for \n•\tMathematics \n•\tLife Sciences "]
["Senior and FET ","Specialising In Mathematics and Life Sciences (BFN)","Pagse 92-94","BC736305",null,512,"Minimum of 60% in grade 12 pass for \n•\tMathematics\n•\tLife Sciences "]
["Senior and FET ","Specialising In Technology and Life Sciences (BFN)","Pages 95-96","BC736308",null,520,"Minimum grade 12 pass at 60% for \n•\tLife Sciences "]
["Senior and FET ","Specialising in Sesotho Home Language and English First Additional Language (QQ)","Pages 97-98",null,"QC736402    ",512,"Minimum of 50% in grade 12 pass for \n•\tisiZulu HL "]
["Senior and FET ","Specialising in English Home Language and Sesotho Home Language (BFN)","Pages 99-100","BC736404    ",null,512,"Minimum of 50% in grade 12 pass for \n•\tSesotho HL \n•\tEnglish HL or FAL "]
["Senior and FET ","Specialising in IsiZulu Home Language and English First Additional Language (QQ)","Pages 101-102",null,"QC736403",512,"Minimum of 50% in grade 12 pass for \n•\tSesotho HL \n•\tEnglish FAL "]
["Senior and FET ","Specialising in English and Afrikaans","Pages 103-104","BC736521  ",null,512,"Minimum of 50% in grade 12 pass for \n•\tAfrikaans HL (or FAL 70%) \n•\tEnglish HL or FAL"]
["Senior and FET ","Specialising in English and History","Pages 105-106","BC736519 ",null,512,"Minimum of 50% in grade 12 pass for \n•\tEnglish HL or FAL "]
["Senior and FET ","Specialising in Sesotho and History","Pages 107-108","BC736511","QC736511 ",512,"Minimum of 50% in grade 12 pass for \n•\tSesotho HL "]
["Senior and FET ","Specialising in isiZulu and History (QQ)","Pages 109-110",null,"QC736512",512,"Minimum of 50% in grade 12 pass for \n•\tisiZulu HL "]

{"sheet":"Dashboard module list","index":2,"n_rows":1275,"n_cols":13,"rows_kept":1275,"cut":false,"hidden":true,"merged":[]}
["Phase","Specialisation","Module","Description","NQF Level","Credits","Prerequisites","When Offered","Academic Plan BFN","Academic Plan (if) QQ","Admission Requirements","Total Compulsory Credits","Special Requirements"]
["Foundation Phase","Specialising in Afrikaans Home Language","LLST1513",{"$f":"_xlfn.XLOOKUP(C2,'RAW module list'!A:A,'RAW module list'!B:B, \"Not found\")","v":"Lifelong Learning Skills"},{"$f":"_xlfn.XLOOKUP(C2,'RAW module list'!A:A,'RAW module list'!C:C, \"Not found\")","v":5},{"$f":"_xlfn.XLOOKUP(C2,'RAW module list'!A:A,'RAW module list'!D:D, \"Not found\")","v":12},{"$f":"_xlfn.XLOOKUP(C2,'RAW module list'!A:A,'RAW module list'!E:E, \"Not found\")","v":0},"First Year",{"$f":"_xlfn.XLOOKUP(B2,'Programmes lists'!B:B,'Programmes lists'!D:D)","v":"LC735101"},{"$f":"_xlfn.XLOOKUP(B2,'Programmes lists'!B:B,'Programmes lists'!E:E, \"Not found\")","v":0},{"$f":"_xlfn.XLOOKUP(B2,'Programmes lists'!B:B,'Programmes lists'!G:G,\"Not found\")","v":"Minimum grade 12 pass in\n•\tAfrikaans HL 55% \n•\tEnglish HL/FAL 50%"},{"$f":"_xlfn.XLOOKUP(B2,'Programmes lists'!B:B,'Programmes lists'!F:F,\"Not found\")","v":528}]
["Foundation Phase","Specialising in Afrikaans Home Language","ENGE1608",{"$f":"_xlfn.XLOOKUP(C3,'RAW module list'!A:A,'RAW module list'!B:B, \"Not found\")","v":"English Language for Education "},{"$f":"_xlfn.XLOOKUP(C3,'RAW module list'!A:A,'RAW module list'!C:C, \"Not found\")","v":6},{"$f":"_xlfn.XLOOKUP(C3,'RAW module list'!A:A,'RAW module list'!D:D, \"Not found\")","v":32},{"$f":"_xlfn.XLOOKUP(C3,'RAW module list'!A:A,'RAW module list'!E:E, \"Not found\")","v":0},"First Year",{"$f":"_xlfn.XLOOKUP(B3,'Programmes lists'!B:B,'Programmes lists'!D:D)","v":"LC735101"},{"$f":"_xlfn.XLOOKUP(B3,'Programmes lists'!B:B,'Programmes lists'!E:E, \"Not found\")","v":0},{"$f":"_xlfn.XLOOKUP(B3,'Programmes lists'!B:B,'Programmes lists'!G:G,\"Not found\")","v":"Minimum grade 12 pass in\n•\tAfrikaans HL 55% \n•\tEnglish HL/FAL 50%"},{"$f":"_xlfn.XLOOKUP(B3,'Programmes lists'!B:B,'Programmes lists'!F:F,\"Not found\")","v":528}]
["Foundation Phase","Specialising in Afrikaans Home Language","LSCF1604",{"$f":"_xlfn.XLOOKUP(C4,'RAW module list'!A:A,'RAW module list'!B:B, \"Not found\")","v":"Life Skills Content 1: Foundation Phase"},{"$f":"_xlfn.XLOOKUP(C4,'RAW module list'!A:A,'RAW module list'!C:C, \"Not found\")","v":5},{"$f":"_xlfn.XLOOKUP(C4,'RAW module list'!A:A,'RAW module list'!D:D, \"Not found\")","v":16},{"$f":"_xlfn.XLOOKUP(C4,'RAW module list'!A:A,'RAW module list'!E:E, \"Not found\")","v":0},"First Year",{"$f":"_xlfn.XLOOKUP(B4,'Programmes lists'!B:B,'Programmes lists'!D:D)","v":"LC735101"},{"$f":"_xlfn.XLOOKUP(B4,'Programmes lists'!B:B,'Programmes lists'!E:E, \"Not found\")","v":0},{"$f":"_xlfn.XLOOKUP(B4,'Programmes lists'!B:B,'Programmes lists'!G:G,\"Not found\")","v":"Minimum grade 12 pass in\n•\tAfrikaans HL 55% \n•\tEnglish HL/FAL 50%"},{"$f":"_xlfn.XLOOKUP(B4,'Programmes lists'!B:B,'Programmes lists'!F:F,\"Not found\")","v":528}]
["Foundation Phase","Specialising in Afrikaans Home Language","MTCF1604",{"$f":"_xlfn.XLOOKUP(C5,'RAW module list'!A:A,'RAW module list'!B:B, \"Not found\")","v":"Mathematics Content 1: Numbers, Operations, Relationships, Patterns, Functions and Algebra"},{"$f":"_xlfn.XLOOKUP(C5,'RAW module list'!A:A,'RAW module list'!C:C, \"Not found\")","v":5},{"$f":"_xlfn.XLOOKUP(C5,'RAW module list'!A:A,'RAW module list'!D:D, \"Not found\")","v":16},{"$f":"_xlfn.XLOOKUP(C5,'RAW module list'!A:A,'RAW module list'!E:E, \"Not found\")","v":0},"First Year",{"$f":"_xlfn.XLOOKUP(B5,'Programmes lists'!B:B,'Programmes lists'!D:D)","v":"LC735101"},{"$f":"_xlfn.XLOOKUP(B5,'Programmes lists'!B:B,'Programmes lists'!E:E, \"Not found\")","v":0},{"$f":"_xlfn.XLOOKUP(B5,'Programmes lists'!B:B,'Programmes lists'!G:G,\"Not found\")","v":"Minimum grade 12 pass in\n•\tAfrikaans HL 55% \n•\tEnglish HL/FAL 50%"},{"$f":"_xlfn.XLOOKUP(B5,'Programmes lists'!B:B,'Programmes lists'!F:F,\"Not found\")","v":528}]
["Foundation Phase","Specialising in Afrikaans Home Language","EDUB1613",{"$f":"_xlfn.XLOOKUP(C6,'RAW module list'!A:A,'RAW module list'!B:B, \"Not found\")","v":"Education Studies 1.1 The Individual in the learning context"},{"$f":"_xlfn.XLOOKUP(C6,'RAW module list'!A:A,'RAW module list'!C:C, \"Not found\")","v":6},{"$f":"_xlfn.XLOOKUP(C6,'RAW module list'!A:A,'RAW module list'!D:D, \"Not found\")","v":12},{"$f":"_xlfn.XLOOKUP(C6,'RAW module list'!A:A,'RAW module list'!E:E, \"Not found\")","v":0},"First Year",{"$f":"_xlfn.XLOOKUP(B6,'Programmes lists'!B:B,'Programmes lists'!D:D)","v":"LC735101"},{"$f":"_xlfn.XLOOKUP(B6,'Programmes lists'!B:B,'Programmes lists'!E:E, \"Not found\")","v":0},{"$f":"_xlfn.XLOOKUP(B6,'Programmes lists'!B:B,'Programmes lists'!G:G,\"Not found\")","v":"Minimum grade 12 pass in\n•\tAfrikaans HL 55% \n•\tEnglish HL/FAL 50%"},{"$f":"_xlfn.XLOOKUP(B6,'Programmes lists'!B:B,'Programmes lists'!F:F,\"Not found\")","v":528}]
["Foundation Phase","Specialising in Afrikaans Home Language","TPRF1502",{"$f":"_xlfn.XLOOKUP(C7,'RAW module list'!A:A,'RAW module list'!B:B, \"Not found\")","v":"Teaching Practice 1 for Foundation Phase"},{"$f":"_xlfn.XLOOKUP(C7,'RAW module list'!A:A,'RAW module list'!C:C, \"Not found\")","v":5},{"$f":"_xlfn.XLOOKUP(C7,'RAW module list'!A:A,'RAW module list'!D:D, \"Not found\")","v":8},{"$f":"_xlfn.XLOOKUP(C7,'RAW module list'!A:A,'RAW module list'!E:E, \"Not found\")","v":0},"First Year",{"$f":"_xlfn.XLOOKUP(B7,'Programmes lists'!B:B,'Programmes lists'!D:D)","v":"LC735101"},{"$f":"_xlfn.XLOOKUP(B7,'Programmes lists'!B:B,'Programmes lists'!E:E, \"Not found\")","v":0},{"$f":"_xlfn.XLOOKUP(B7,'Programmes lists'!B:B,'Programmes lists'!G:G,\"Not found\")","v":"Minimum grade 12 pass in\n•\tAfrikaans HL 55% \n•\tEnglish HL/FAL 50%"},{"$f":"_xlfn.XLOOKUP(B7,'Programmes lists'!B:B,'Programmes lists'!F:F,\"Not found\")","v":528}]
["Foundation Phase","Specialising in Afrikaans Home Language","AGAE1508",{"$f":"_xlfn.XLOOKUP(C8,'RAW module list'!A:A,'RAW module list'!B:B, \"Not found\")","v":"Academic Literacy in Afrikaans"},{"$f":"_xlfn.XLOOKUP(C8,'RAW module list'!A:A,'RAW module list'!C:C, \"Not found\")","v":5},{"$f":"_xlfn.XLOOKUP(C8,'RAW module list'!A:A,'RAW module list'!D:D, \"Not found\")","v":-32},{"$f":"_xlfn.XLOOKUP(C8,'RAW module list'!A:A,'RAW module list'!E:E, \"Not found\")","v":"NBT requirements not met"},"First Year",{"$f":"_xlfn.XLOOKUP(B8,'Programmes lists'!B:B,'Programmes lists'!D:D)","v":"LC735101"},{"$f":"_xlfn.XLOOKUP(B8,'Programmes lists'!B:B,'Programmes lists'!E:E, \"Not found\")","v":0},{"$f":"_xlfn.XLOOKUP(B8,'Programmes lists'!B:B,'Programmes lists'!G:G,\"Not found\")","v":"Minimum grade 12 pass in\n•\tAfrikaans HL 55% \n•\tEnglish HL/FAL 50%"},{"$f":"_xlfn.XLOOKUP(B8,'Programmes lists'!B:B,'Programmes lists'!F:F,\"Not found\")","v":528}]
["Foundation Phase","Specialising in Afrikaans Home Language","UFSS1504",{"$f":"_xlfn.XLOOKUP(C9,'RAW module list'!A:A,'RAW module list'!B:B, \"Not found\")","v":"Undergraduate core curriculum"},{"$f":"_xlfn.XLOOKUP(C9,'RAW module list'!A:A,'RAW module list'!C:C, \"Not found\")","v":5},{"$f":"_xlfn.XLOOKUP(C9,'RAW module list'!A:A,'RAW module list'!D:D, \"Not found\")","v":-16},{"$f":"_xlfn.XLOOKUP(C9,'RAW module list'!A:A,'RAW module list'!E:E, \"Not found\")","v":0},"First Year",{"$f":"_xlfn.XLOOKUP(B9,'Programmes lists'!B:B,'Programmes lists'!D:D)","v":"LC735101"},{"$f":"_xlfn.XLOOKUP(B9,'Programmes lists'!B:B,'Programmes lists'!E:E, \"Not found\")","v":0},{"$f":"_xlfn.XLOOKUP(B9,'Programmes lists'!B:B,'Programmes lists'!G:G,\"Not found\")","v":"Minimum grade 12 pass in\n•\tAfrikaans HL 55% \n•\tEnglish HL/FAL 50%"},{"$f":"_xlfn.XLOOKUP(B9,'Programmes lists'!B:B,'Programmes lists'!F:F,\"Not found\")","v":528}]
["Foundation Phase","Specialising in Afrikaans Home Language","EDUB1623",{"$f":"_xlfn.XLOOKUP(C10,'RAW module list'!A:A,'RAW module list'!B:B, \"Not found\")","v":"Education Studies 1.2 What it means to educate: Theoretical perspectives and their significance for SA education"},{"$f":"_xlfn.XLOOKUP(C10,'RAW module list'!A:A,'RAW module list'!C:C, \"Not found\")","v":6},{"$f":"_xlfn.XLOOKUP(C10,'RAW module list'!A:A,'RAW module list'!D:D, \"Not found\")","v":12},{"$f":"_xlfn.XLOOKUP(C10,'RAW module list'!A:A,'RAW module list'!E:E, \"Not found\")","v":0},"First Year",{"$f":"_xlfn.XLOOKUP(B10,'Programmes lists'!B:B,'Programmes lists'!D:D)","v":"LC735101"},{"$f":"_xlfn.XLOOKUP(B10,'Programmes lists'!B:B,'Programmes lists'!E:E, \"Not found\")","v":0},{"$f":"_xlfn.XLOOKUP(B10,'Programmes lists'!B:B,'Programmes lists'!G:G,\"Not found\")","v":"Minimum grade 12 pass in\n•\tAfrikaans HL 55% \n•\tEnglish HL/FAL 50%"},{"$f":"_xlfn.XLOOKUP(B10,'Programmes lists'!B:B,'Programmes lists'!F:F,\"Not found\")","v":528}]
["Foundation Phase","Specialising in Afrikaans Home Language","PEDF1623",{"$f":"_xlfn.XLOOKUP(C11,'RAW module list'!A:A,'RAW module list'!B:B, \"Not found\")","v":"General Pedagogy 1: Early Childhood Development and Learning (birth to nine years)"},{"$f":"_xlfn.XLOOKUP(C11,'RAW module list'!A:A,'RAW module list'!C:C, \"Not found\")","v":6},{"$f":"_xlfn.XLOOKUP(C11,'RAW module list'!A:A,'RAW module list'!D:D, \"Not found\")","v":12},{"$f":"_xlfn.XLOOKUP(C11,'RAW module list'!A:A,'RAW module list'!E:E, \"Not found\")","v":0},"First Year",{"$f":"_xlfn.XLOOKUP(B11,'Programmes lists'!B:B,'Programmes lists'!D:D)","v":"LC735101"},{"$f":"_xlfn.XLOOKUP(B11,'Programmes lists'!B:B,'Programmes lists'!E:E, \"Not found\")","v":0},{"$f":"_xlfn.XLOOKUP(B11,'Programmes lists'!B:B,'Programmes lists'!G:G,\"Not found\")","v":"Minimum grade 12 pass in\n•\tAfrikaans HL 55% \n•\tEnglish HL/FAL 50%"},{"$f":"_xlfn.XLOOKUP(B11,'Programmes lists'!B:B,'Programmes lists'!F:F,\"Not found\")","v":528}]
["Foundation Phase","Specialising in Afrikaans Home Language","MTCF2604",{"$f":"_xlfn.XLOOKUP(C12,'RAW module list'!A:A,'RAW module list'!B:B, \"Not found\")","v":"Mathematics content 2: Algebra, Geometry, Measurement and Statistics in the Foundation Phase"},{"$f":"_xlfn.XLOOKUP(C12,'RAW module list'!A:A,'RAW module list'!C:C, \"Not found\")","v":6},{"$f":"_xlfn.XLOOKUP(C12,'RAW module list'!A:A,'RAW module list'!D:D, \"Not found\")","v":16},{"$f":"_xlfn.XLOOKUP(C12,'RAW module list'!A:A,'RAW module list'!E:E, \"Not found\")","v":"MTCF1604"},"Second Year",{"$f":"_xlfn.XLOOKUP(B12,'Programmes lists'!B:B,'Programmes lists'!D:D)","v":"LC735101"},{"$f":"_xlfn.XLOOKUP(B12,'Programmes lists'!B:B,'Programmes lists'!E:E, \"Not found\")","v":0},{"$f":"_xlfn.XLOOKUP(B12,'Programmes lists'!B:B,'Programmes lists'!G:G,\"Not found\")","v":"Minimum grade 12 pass in\n•\tAfrikaans HL 55% \n•\tEnglish HL/FAL 50%"},{"$f":"_xlfn.XLOOKUP(B12,'Programmes lists'!B:B,'Programmes lists'!F:F,\"Not found\")","v":528}]
["Foundation Phase","Specialising in Afrikaans Home Language","LSCF2604",{"$f":"_xlfn.XLOOKUP(C13,'RAW module list'!A:A,'RAW module list'!B:B, \"Not found\")","v":"Life Skills content 2: Foundation Phase"},{"$f":"_xlfn.XLOOKUP(C13,'RAW module list'!A:A,'RAW module list'!C:C, \"Not found\")","v":6},{"$f":"_xlfn.XLOOKUP(C13,'RAW module list'!A:A,'RAW module list'!D:D, \"Not found\")","v":16},{"$f":"_xlfn.XLOOKUP(C13,'RAW module list'!A:A,'RAW module list'!E:E, \"Not found\")","v":"LSCF1604"},"Second Year",{"$f":"_xlfn.XLOOKUP(B13,'Programmes lists'!B:B,'Programmes lists'!D:D)","v":"LC735101"},{"$f":"_xlfn.XLOOKUP(B13,'Programmes lists'!B:B,'Programmes lists'!E:E, \"Not found\")","v":0},{"$f":"_xlfn.XLOOKUP(B13,'Programmes lists'!B:B,'Programmes lists'!G:G,\"Not found\")","v":"Minimum grade 12 pass in\n•\tAfrikaans HL 55% \n•\tEnglish HL/FAL 50%"},{"$f":"_xlfn.XLOOKUP(B13,'Programmes lists'!B:B,'Programmes lists'!F:F,\"Not found\")","v":528}]
["Foundation Phase","Specialising in Afrikaans Home Language","EDUB2714",{"$f":"_xlfn.XLOOKUP(C14,'RAW module list'!A:A,'RAW module list'!B:B, \"Not found\")","v":"Education Studies 2: Teaching and Learning in Education Context"},{"$f":"_xlfn.XLOOKUP(C14,'RAW module list'!A:A,'RAW module list'!C:C, \"Not found\")","v":7},{"$f":"_xlfn.XLOOKUP(C14,'RAW module list'!A:A,'RAW module list'!D:D, \"Not found\")","v":16},{"$f":"_xlfn.XLOOKUP(C14,'RAW module list'!A:A,'RAW module list'!E:E, \"Not found\")","v":"EDUB1613 & EDUB1623"},"Second Year",{"$f":"_xlfn.XLOOKUP(B14,'Programmes lists'!B:B,'Programmes lists'!D:D)","v":"LC735101"},{"$f":"_xlfn.XLOOKUP(B14,'Programmes lists'!B:B,'Programmes lists'!E:E, \"Not found\")","v":0},{"$f":"_xlfn.XLOOKUP(B14,'Programmes lists'!B:B,'Programmes lists'!G:G,\"Not found\")","v":"Minimum grade 12 pass in\n•\tAfrikaans HL 55% \n•\tEnglish HL/FAL 50%"},{"$f":"_xlfn.XLOOKUP(B14,'Programmes lists'!B:B,'Programmes lists'!F:F,\"Not found\")","v":528}]
["Foundation Phase","Specialising in Afrikaans Home Language","PEDF2613",{"$f":"_xlfn.XLOOKUP(C15,'RAW module list'!A:A,'RAW module list'!B:B, \"Not found\")","v":"General Pedagogy 2: Learning in an inclusive environment"},{"$f":"_xlfn.XLOOKUP(C15,'RAW module list'!A:A,'RAW module list'!C:C, \"Not found\")","v":6},{"$f":"_xlfn.XLOOKUP(C15,'RAW module list'!A:A,'RAW module list'!D:D, \"Not found\")","v":12},{"$f":"_xlfn.XLOOKUP(C15,'RAW module list'!A:A,'RAW module list'!E:E, \"Not found\")","v":"PEDF1623"},"Second Year",{"$f":"_xlfn.XLOOKUP(B15,'Programmes lists'!B:B,'Programmes lists'!D:D)","v":"LC735101"},{"$f":"_xlfn.XLOOKUP(B15,'Programmes lists'!B:B,'Programmes lists'!E:E, \"Not found\")","v":0},{"$f":"_xlfn.XLOOKUP(B15,'Programmes lists'!B:B,'Programmes lists'!G:G,\"Not found\")","v":"Minimum grade 12 pass in\n•\tAfrikaans HL 55% \n•\tEnglish HL/FAL 50%"},{"$f":"_xlfn.XLOOKUP(B15,'Programmes lists'!B:B,'Programmes lists'!F:F,\"Not found\")","v":528}]
["Foundation Phase","Specialising in Afrikaans Home Language","TPRF2502",{"$f":"_xlfn.XLOOKUP(C16,'RAW module list'!A:A,'RAW module list'!B:B, \"Not found\")","v":"Teaching Practice  2"},{"$f":"_xlfn.XLOOKUP(C16,'RAW module list'!A:A,'RAW module list'!C:C, \"Not found\")","v":5},{"$f":"_xlfn.XLOOKUP(C16,'RAW module list'!A:A,'RAW module list'!D:D, \"Not found\")","v":8},{"$f":"_xlfn.XLOOKUP(C16,'RAW module list'!A:A,'RAW module list'!E:E, \"Not found\")","v":"TPRF1502"},"Second Year",{"$f":"_xlfn.XLOOKUP(B16,'Programmes lists'!B:B,'Programmes lists'!D:D)","v":"LC735101"},{"$f":"_xlfn.XLOOKUP(B16,'Programmes lists'!B:B,'Programmes lists'!E:E, \"Not found\")","v":0},{"$f":"_xlfn.XLOOKUP(B16,'Programmes lists'!B:B,'Programmes lists'!G:G,\"Not found\")","v":"Minimum grade 12 pass in\n•\tAfrikaans HL 55% \n•\tEnglish HL/FAL 50%"},{"$f":"_xlfn.XLOOKUP(B16,'Programmes lists'!B:B,'Programmes lists'!F:F,\"Not found\")","v":528}]
["Foundation Phase","Specialising in Afrikaans Home Language","AFNL1634",{"$f":"_xlfn.XLOOKUP(C17,'RAW module list'!A:A,'RAW module list'!B:B, \"Not found\")","v":"Introduction to Afrikaans and Dutch literature"},{"$f":"_xlfn.XLOOKUP(C17,'RAW module list'!A:A,'RAW module list'!C:C, \"Not found\")","v":6},{"$f":"_xlfn.XLOOKUP(C17,'RAW module list'!A:A,'RAW module list'!D:D, \"Not found\")","v":16},{"$f":"_xlfn.XLOOKUP(C17,'RAW module list'!A:A,'RAW module list'!E:E, \"Not found\")","v":"Grade 12 Afrikaans HL >55% or Afrikaans FAL in grade 12 >70%"},"Second Year",{"$f":"_xlfn.XLOOKUP(B17,'Programmes lists'!B:B,'Programmes lists'!D:D)","v":"LC735101"},{"$f":"_xlfn.XLOOKUP(B17,'Programmes lists'!B:B,'Programmes lists'!E:E, \"Not found\")","v":0},{"$f":"_xlfn.XLOOKUP(B17,'Programmes lists'!B:B,'Programmes lists'!G:G,\"Not found\")","v":"Minimum grade 12 pass in\n•\tAfrikaans HL 55% \n•\tEnglish HL/FAL 50%"},{"$f":"_xlfn.XLOOKUP(B17,'Programmes lists'!B:B,'Programmes lists'!F:F,\"Not found\")","v":528}]
["Foundation Phase","Specialising in Afrikaans Home Language","EDUB2724",{"$f":"_xlfn.XLOOKUP(C18,'RAW module list'!A:A,'RAW module list'!B:B, \"Not found\")","v":"Education Studies 2: Human Relationships in Education context"},{"$f":"_xlfn.XLOOKUP(C18,'RAW module list'!A:A,'RAW module list'!C:C, \"Not found\")","v":7},{"$f":"_xlfn.XLOOKUP(C18,'RAW module list'!A:A,'RAW module list'!D:D, \"Not found\")","v":16},{"$f":"_xlfn.XLOOKUP(C18,'RAW module list'!A:A,'RAW module list'!E:E, \"Not found\")","v":"EDUB2714"},"Second Year",{"$f":"_xlfn.XLOOKUP(B18,'Programmes lists'!B:B,'Programmes lists'!D:D)","v":"LC735101"},{"$f":"_xlfn.XLOOKUP(B18,'Programmes lists'!B:B,'Programmes lists'!E:E, \"Not found\")","v":0},{"$f":"_xlfn.XLOOKUP(B18,'Programmes lists'!B:B,'Programmes lists'!G:G,\"Not found\")","v":"Minimum grade 12 pass in\n•\tAfrikaans HL 55% \n•\tEnglish HL/FAL 50%"},{"$f":"_xlfn.XLOOKUP(B18,'Programmes lists'!B:B,'Programmes lists'!F:F,\"Not found\")","v":528}]
["Foundation Phase","Specialising in Afrikaans Home Language","PEDF2623",{"$f":"_xlfn.XLOOKUP(C19,'RAW module list'!A:A,'RAW module list'!B:B, \"Not found\")","v":"General Pedagogy 2: Teaching and Learning in the Foundation Phase"},{"$f":"_xlfn.XLOOKUP(C19,'RAW module list'!A:A,'RAW module list'!C:C, \"Not found\")","v":6},{"$f":"_xlfn.XLOOKUP(C19,'RAW module list'!A:A,'RAW module list'!D:D, \"Not found\")","v":12},{"$f":"_xlfn.XLOOKUP(C19,'RAW module list'!A:A,'RAW module list'!E:E, \"Not found\")","v":"PEDF2613"},"Second Year",{"$f":"_xlfn.XLOOKUP(B19,'Programmes lists'!B:B,'Programmes lists'!D:D)","v":"LC735101"},{"$f":"_xlfn.XLOOKUP(B19,'Programmes lists'!B:B,'Programmes lists'!E:E, \"Not found\")","v":0},{"$f":"_xlfn.XLOOKUP(B19,'Programmes lists'!B:B,'Programmes lists'!G:G,\"Not found\")","v":"Minimum grade 12 pass in\n•\tAfrikaans HL 55% \n•\tEnglish HL/FAL 50%"},{"$f":"_xlfn.XLOOKUP(B19,'Programmes lists'!B:B,'Programmes lists'!F:F,\"Not found\")","v":528}]
["Foundation Phase","Specialising in Afrikaans Home Language","AFNT1644",{"$f":"_xlfn.XLOOKUP(C20,'RAW module list'!A:A,'RAW module list'!B:B, \"Not found\")","v":"Introduction to Afrikaans Linguistics"},{"$f":"_xlfn.XLOOKUP(C20,'RAW module list'!A:A,'RAW module list'!C:C, \"Not found\")","v":6},{"$f":"_xlfn.XLOOKUP(C20,'RAW module list'!A:A,'RAW module list'!D:D, \"Not found\")","v":16},{"$f":"_xlfn.XLOOKUP(C20,'RAW module list'!A:A,'RAW module list'!E:E, \"Not found\")","v":"AFNL1634"},"Second Year",{"$f":"_xlfn.XLOOKUP(B20,'Programmes lists'!B:B,'Programmes lists'!D:D)","v":"LC735101"},{"$f":"_xlfn.XLOOKUP(B20,'Programmes lists'!B:B,'Programmes lists'!E:E, \"Not found\")","v":0},{"$f":"_xlfn.XLOOKUP(B20,'Programmes lists'!B:B,'Programmes lists'!G:G,\"Not found\")","v":"Minimum grade 12 pass in\n•\tAfrikaans HL 55% \n•\tEnglish HL/FAL 50%"},{"$f":"_xlfn.XLOOKUP(B20,'Programmes lists'!B:B,'Programmes lists'!F:F,\"Not found\")","v":528}]
["Foundation Phase","Specialising in Afrikaans Home Language","MTTF3604",{"$f":"_xlfn.XLOOKUP(C21,'RAW module list'!A:A,'RAW module list'!B:B, \"Not found\")","v":"Mathematics Teaching 1"},{"$f":"_xlfn.XLOOKUP(C21,'RAW module list'!A:A,'RAW module list'!C:C, \"Not found\")","v":6},{"$f":"_xlfn.XLOOKUP(C21,'RAW module list'!A:A,'RAW module list'!D:D, \"Not found\")","v":16},{"$f":"_xlfn.XLOOKUP(C21,'RAW module list'!A:A,'RAW module list'!E:E, \"Not found\")","v":"MTCF1604 & MTCF2604"},"Third Year",{"$f":"_xlfn.XLOOKUP(B21,'Programmes lists'!B:B,'Programmes lists'!D:D)","v":"LC735101"},{"$f":"_xlfn.XLOOKUP(B21,'Programmes lists'!B:B,'Programmes lists'!E:E, \"Not found\")","v":0},{"$f":"_xlfn.XLOOKUP(B21,'Programmes lists'!B:B,'Programmes lists'!G:G,\"Not found\")","v":"Minimum grade 12 pass in\n•\tAfrikaans HL 55% \n•\tEnglish HL/FAL 50%"},{"$f":"_xlfn.XLOOKUP(B21,'Programmes lists'!B:B,'Programmes lists'!F:F,\"Not found\")","v":528}]
["Foundation Phase","Specialising in Afrikaans Home Language","LSTF3604",{"$f":"_xlfn.XLOOKUP(C22,'RAW module list'!A:A,'RAW module list'!B:B, \"Not found\")","v":"Life Skills Teaching 1"},{"$f":"_xlfn.XLOOKUP(C22,'RAW module list'!A:A,'RAW module list'!C:C, \"Not found\")","v":6},{"$f":"_xlfn.XLOOKUP(C22,'RAW module list'!A:A,'RAW module list'!D:D, \"Not found\")","v":16},{"$f":"_xlfn.XLOOKUP(C22,'RAW module list'!A:A,'RAW module list'!E:E, \"Not found\")","v":"LSCF1604 & LSCF2604"},"Third Year",{"$f":"_xlfn.XLOOKUP(B22,'Programmes lists'!B:B,'Programmes lists'!D:D)","v":"LC735101"},{"$f":"_xlfn.XLOOKUP(B22,'Programmes lists'!B:B,'Programmes lists'!E:E, \"Not found\")","v":0},{"$f":"_xlfn.XLOOKUP(B22,'Programmes lists'!B:B,'Programmes lists'!G:G,\"Not found\")","v":"Minimum grade 12 pass in\n•\tAfrikaans HL 55% \n•\tEnglish HL/FAL 50%"},{"$f":"_xlfn.XLOOKUP(B22,'Programmes lists'!B:B,'Programmes lists'!F:F,\"Not found\")","v":528}]
["Foundation Phase","Specialising in Afrikaans Home Language","EDUB3714",{"$f":"_xlfn.XLOOKUP(C23,'RAW module list'!A:A,'RAW module list'!B:B, \"Not found\")","v":"Education Studies 3.1 Education systems in global and national context"},{"$f":"_xlfn.XLOOKUP(C23,'RAW module list'!A:A,'RAW module list'!C:C, \"Not found\")","v":7},{"$f":"_xlfn.XLOOKUP(C23,'RAW module list'!A:A,'RAW module list'!D:D, \"Not found\")","v":16},{"$f":"_xlfn.XLOOKUP(C23,'RAW module list'!A:A,'RAW module list'!E:E, \"Not found\")","v":"EDUB1613 & EDUB1623& EDUB2714 & EDUB2724"},"Third Year",{"$f":"_xlfn.XLOOKUP(B23,'Programmes lists'!B:B,'Programmes lists'!D:D)","v":"LC735101"},{"$f":"_xlfn.XLOOKUP(B23,'Programmes lists'!B:B,'Programmes lists'!E:E, \"Not found\")","v":0},{"$f":"_xlfn.XLOOKUP(B23,'Programmes lists'!B:B,'Programmes lists'!G:G,\"Not found\")","v":"Minimum grade 12 pass in\n•\tAfrikaans HL 55% \n•\tEnglish HL/FAL 50%"},{"$f":"_xlfn.XLOOKUP(B23,'Programmes lists'!B:B,'Programmes lists'!F:F,\"Not found\")","v":528}]
["Foundation Phase","Specialising in Afrikaans Home Language","ECED3703",{"$f":"_xlfn.XLOOKUP(C24,'RAW module list'!A:A,'RAW module list'!B:B, \"Not found\")","v":"Early Childhood Education 1: Reception Year Studies"},{"$f":"_xlfn.XLOOKUP(C24,'RAW module list'!A:A,'RAW module list'!C:C, \"Not found\")","v":7},{"$f":"_xlfn.XLOOKUP(C24,'RAW module list'!A:A,'RAW module list'!D:D, \"Not found\")","v":12},{"$f":"_xlfn.XLOOKUP(C24,'RAW module list'!A:A,'RAW module list'!E:E, \"Not found\")","v":0},"Third Year",{"$f":"_xlfn.XLOOKUP(B24,'Programmes lists'!B:B,'Programmes lists'!D:D)","v":"LC735101"},{"$f":"_xlfn.XLOOKUP(B24,'Programmes lists'!B:B,'Programmes lists'!E:E, \"Not found\")","v":0},{"$f":"_xlfn.XLOOKUP(B24,'Programmes lists'!B:B,'Programmes lists'!G:G,\"Not found\")","v":"Minimum grade 12 pass in\n•\tAfrikaans HL 55% \n•\tEnglish HL/FAL 50%"},{"$f":"_xlfn.XLOOKUP(B24,'Programmes lists'!B:B,'Programmes lists'!F:F,\"Not found\")","v":528}]
["Foundation Phase","Specialising in Afrikaans Home Language","AHTF3604",{"$f":"_xlfn.XLOOKUP(C25,'RAW module list'!A:A,'RAW module list'!B:B, \"Not found\")","v":"Afrikaans Home language Teaching 1 "},{"$f":"_xlfn.XLOOKUP(C25,'RAW module list'!A:A,'RAW module list'!C:C, \"Not found\")","v":6},{"$f":"_xlfn.XLOOKUP(C25,'RAW module list'!A:A,'RAW module list'!D:D, \"Not found\")","v":16},{"$f":"_xlfn.XLOOKUP(C25,'RAW module list'!A:A,'RAW module list'!E:E, \"Not found\")","v":"AFNT1644 & AFNL1634"},"Third Year",{"$f":"_xlfn.XLOOKUP(B25,'Programmes lists'!B:B,'Programmes lists'!D:D)","v":"LC735101"},{"$f":"_xlfn.XLOOKUP(B25,'Programmes lists'!B:B,'Programmes lists'!E:E, \"Not found\")","v":0},{"$f":"_xlfn.XLOOKUP(B25,'Programmes lists'!B:B,'Programmes lists'!G:G,\"Not found\")","v":"Minimum grade 12 pass in\n•\tAfrikaans HL 55% \n•\tEnglish HL/FAL 50%"},{"$f":"_xlfn.XLOOKUP(B25,'Programmes lists'!B:B,'Programmes lists'!F:F,\"Not found\")","v":528}]
["Foundation Phase","Specialising in Afrikaans Home Language","EATF3604",{"$f":"_xlfn.XLOOKUP(C26,'RAW module list'!A:A,'RAW module list'!B:B, \"Not found\")","v":"English additional language teaching 1 "},{"$f":"_xlfn.XLOOKUP(C26,'RAW module list'!A:A,'RAW module list'!C:C, \"Not found\")","v":6},{"$f":"_xlfn.XLOOKUP(C26,'RAW module list'!A:A,'RAW module list'!D:D, \"Not found\")","v":16},{"$f":"_xlfn.XLOOKUP(C26,'RAW module list'!A:A,'RAW module list'!E:E, \"Not found\")","v":"ENGE1608"},"Third Year",{"$f":"_xlfn.XLOOKUP(B26,'Programmes lists'!B:B,'Programmes lists'!D:D)","v":"LC735101"},{"$f":"_xlfn.XLOOKUP(B26,'Programmes lists'!B:B,'Programmes lists'!E:E, \"Not found\")","v":0},{"$f":"_xlfn.XLOOKUP(B26,'Programmes lists'!B:B,'Programmes lists'!G:G,\"Not found\")","v":"Minimum grade 12 pass in\n•\tAfrikaans HL 55% \n•\tEnglish HL/FAL 50%"},{"$f":"_xlfn.XLOOKUP(B26,'Programmes lists'!B:B,'Programmes lists'!F:F,\"Not found\")","v":528}]
["Foundation Phase","Specialising in Afrikaans Home Language","SSCL3512 OR SICL3512 OR ZUCL3512",{"$f":"_xlfn.XLOOKUP(C27,'RAW module list'!A:A,'RAW module list'!B:B, \"Not found\")","v":"Conversational Language: Sesotho OR Conversational Sign Language OR Conversational IsiZulu"},{"$f":"_xlfn.XLOOKUP(C27,'RAW module list'!A:A,'RAW module list'!C:C, \"Not found\")","v":5},{"$f":"_xlfn.XLOOKUP(C27,'RAW module list'!A:A,'RAW module list'!D:D, \"Not found\")","v":8},{"$f":"_xlfn.XLOOKUP(C27,'RAW module list'!A:A,'RAW module list'!E:E, \"Not found\")","v":"No previous exposure to the language"},"Third Year",{"$f":"_xlfn.XLOOKUP(B27,'Programmes lists'!B:B,'Programmes lists'!D:D)","v":"LC735101"},{"$f":"_xlfn.XLOOKUP(B27,'Programmes lists'!B:B,'Programmes lists'!E:E, \"Not found\")","v":0},{"$f":"_xlfn.XLOOKUP(B27,'Programmes lists'!B:B,'Programmes lists'!G:G,\"Not found\")","v":"Minimum grade 12 pass in\n•\tAfrikaans HL 55% \n•\tEnglish HL/FAL 50%"},{"$f":"_xlfn.XLOOKUP(B27,'Programmes lists'!B:B,'Programmes lists'!F:F,\"Not found\")","v":528}]
["Foundation Phase","Specialising in Afrikaans Home Language","WILF3606",{"$f":"_xlfn.XLOOKUP(C28,'RAW module list'!A:A,'RAW module list'!B:B, \"Not found\")","v":"Teaching Practice 3"},{"$f":"_xlfn.XLOOKUP(C28,'RAW module list'!A:A,'RAW module list'!C:C, \"Not found\")","v":6},{"$f":"_xlfn.XLOOKUP(C28,'RAW module list'!A:A,'RAW module list'!D:D, \"Not found\")","v":24},{"$f":"_xlfn.XLOOKUP(C28,'RAW module list'!A:A,'RAW module list'!E:E, \"Not found\")","v":"TPRF2502"},"Third Year",{"$f":"_xlfn.XLOOKUP(B28,'Programmes lists'!B:B,'Programmes lists'!D:D)","v":"LC735101"},{"$f":"_xlfn.XLOOKUP(B28,'Programmes lists'!B:B,'Programmes lists'!E:E, \"Not found\")","v":0},{"$f":"_xlfn.XLOOKUP(B28,'Programmes lists'!B:B,'Programmes lists'!G:G,\"Not found\")","v":"Minimum grade 12 pass in\n•\tAfrikaans HL 55% \n•\tEnglish HL/FAL 50%"},{"$f":"_xlfn.XLOOKUP(B28,'Programmes lists'!B:B,'Programmes lists'!F:F,\"Not found\")","v":528}]
["Foundation Phase","Specialising in Afrikaans Home Language","EDUB3724",{"$f":"_xlfn.XLOOKUP(C29,'RAW module list'!A:A,'RAW module list'!B:B, \"Not found\")","v":"Education Studies 3.2: Contemporary Education Theory in the current social context"},{"$f":"_xlfn.XLOOKUP(C29,'RAW module list'!A:A,'RAW module list'!C:C, \"Not found\")","v":7},{"$f":"_xlfn.XLOOKUP(C29,'RAW module list'!A:A,'RAW module list'!D:D, \"Not found\")","v":16},{"$f":"_xlfn.XLOOKUP(C29,'RAW module list'!A:A,'RAW module list'!E:E, \"Not found\")","v":"EDUB1613 & EDUB1623 & EDUB2714 & EDUB2724 & EDUB3714"},"Third Year",{"$f":"_xlfn.XLOOKUP(B29,'Programmes lists'!B:B,'Programmes lists'!D:D)","v":"LC735101"},{"$f":"_xlfn.XLOOKUP(B29,'Programmes lists'!B:B,'Programmes lists'!E:E, \"Not found\")","v":0},{"$f":"_xlfn.XLOOKUP(B29,'Programmes lists'!B:B,'Programmes lists'!G:G,\"Not found\")","v":"Minimum grade 12 pass in\n•\tAfrikaans HL 55% \n•\tEnglish HL/FAL 50%"},{"$f":"_xlfn.XLOOKUP(B29,'Programmes lists'!B:B,'Programmes lists'!F:F,\"Not found\")","v":528}]
["Foundation Phase","Specialising in Afrikaans Home Language","SICL3522 OR SSCL3522 OR ZUCL3522",{"$f":"_xlfn.XLOOKUP(C30,'RAW module list'!A:A,'RAW module list'!B:B, \"Not found\")","v":"Conversational Sign Language OR Conversational Sesotho OR Conversational IsiZulu"},{"$f":"_xlfn.XLOOKUP(C30,'RAW module list'!A:A,'RAW module list'!C:C, \"Not found\")","v":5},{"$f":"_xlfn.XLOOKUP(C30,'RAW module list'!A:A,'RAW module list'!D:D, \"Not found\")","v":8},{"$f":"_xlfn.XLOOKUP(C30,'RAW module list'!A:A,'RAW module list'!E:E, \"Not found\")","v":"Continue with the conversational language  chosen in Semester 1"},"Third Year",{"$f":"_xlfn.XLOOKUP(B30,'Programmes lists'!B:B,'Programmes lists'!D:D)","v":"LC735101"},{"$f":"_xlfn.XLOOKUP(B30,'Programmes lists'!B:B,'Programmes lists'!E:E, \"Not found\")","v":0},{"$f":"_xlfn.XLOOKUP(B30,'Programmes lists'!B:B,'Programmes lists'!G:G,\"Not found\")","v":"Minimum grade 12 pass in\n•\tAfrikaans HL 55% \n•\tEnglish HL/FAL 50%"},{"$f":"_xlfn.XLOOKUP(B30,'Programmes lists'!B:B,'Programmes lists'!F:F,\"Not found\")","v":528}]
["Foundation Phase","Specialising in Afrikaans Home Language","MTTF4705",{"$f":"_xlfn.XLOOKUP(C31,'RAW module list'!A:A,'RAW module list'!B:B, \"Not found\")","v":"Mathematics Teaching 2"},{"$f":"_xlfn.XLOOKUP(C31,'RAW module list'!A:A,'RAW module list'!C:C, \"Not found\")","v":7},{"$f":"_xlfn.XLOOKUP(C31,'RAW module list'!A:A,'RAW module list'!D:D, \"Not found\")","v":20},{"$f":"_xlfn.XLOOKUP(C31,'RAW module list'!A:A,'RAW module list'!E:E, \"Not found\")","v":"MTTF3604"},"Fourth Year",{"$f":"_xlfn.XLOOKUP(B31,'Programmes lists'!B:B,'Programmes lists'!D:D)","v":"LC735101"},{"$f":"_xlfn.XLOOKUP(B31,'Programmes lists'!B:B,'Programmes lists'!E:E, \"Not found\")","v":0},{"$f":"_xlfn.XLOOKUP(B31,'Programmes lists'!B:B,'Programmes lists'!G:G,\"Not found\")","v":"Minimum grade 12 pass in\n•\tAfrikaans HL 55% \n•\tEnglish HL/FAL 50%"},{"$f":"_xlfn.XLOOKUP(B31,'Programmes lists'!B:B,'Programmes lists'!F:F,\"Not found\")","v":528}]
["Foundation Phase","Specialising in Afrikaans Home Language","LSTF4705",{"$f":"_xlfn.XLOOKUP(C32,'RAW module list'!A:A,'RAW module list'!B:B, \"Not found\")","v":"Life Skills Teaching 2"},{"$f":"_xlfn.XLOOKUP(C32,'RAW module list'!A:A,'RAW module list'!C:C, \"Not found\")","v":7},{"$f":"_xlfn.XLOOKUP(C32,'RAW module list'!A:A,'RAW module list'!D:D, \"Not found\")","v":20},{"$f":"_xlfn.XLOOKUP(C32,'RAW module list'!A:A,'RAW module list'!E:E, \"Not found\")","v":"LSTF3604"},"Fourth Year",{"$f":"_xlfn.XLOOKUP(B32,'Programmes lists'!B:B,'Programmes lists'!D:D)","v":"LC735101"},{"$f":"_xlfn.XLOOKUP(B32,'Programmes lists'!B:B,'Programmes lists'!E:E, \"Not found\")","v":0},{"$f":"_xlfn.XLOOKUP(B32,'Programmes lists'!B:B,'Programmes lists'!G:G,\"Not found\")","v":"Minimum grade 12 pass in\n•\tAfrikaans HL 55% \n•\tEnglish HL/FAL 50%"},{"$f":"_xlfn.XLOOKUP(B32,'Programmes lists'!B:B,'Programmes lists'!F:F,\"Not found\")","v":528}]
["Foundation Phase","Specialising in Afrikaans Home Language","ECED4703",{"$f":"_xlfn.XLOOKUP(C33,'RAW module list'!A:A,'RAW module list'!B:B, \"Not found\")","v":"Early Childhood Education 2: Foundations in Early Childhood Education (birth to four years)"},{"$f":"_xlfn.XLOOKUP(C33,'RAW module list'!A:A,'RAW module list'!C:C, \"Not found\")","v":7},{"$f":"_xlfn.XLOOKUP(C33,'RAW module list'!A:A,'RAW module list'!D:D, \"Not found\")","v":12},{"$f":"_xlfn.XLOOKUP(C33,'RAW module list'!A:A,'RAW module list'!E:E, \"Not found\")","v":"ECED3703"},"Fourth Year",{"$f":"_xlfn.XLOOKUP(B33,'Programmes lists'!B:B,'Programmes lists'!D:D)","v":"LC735101"},{"$f":"_xlfn.XLOOKUP(B33,'Programmes lists'!B:B,'Programmes lists'!E:E, \"Not found\")","v":0},{"$f":"_xlfn.XLOOKUP(B33,'Programmes lists'!B:B,'Programmes lists'!G:G,\"Not found\")","v":"Minimum grade 12 pass in\n•\tAfrikaans HL 55% \n•\tEnglish HL/FAL 50%"},{"$f":"_xlfn.XLOOKUP(B33,'Programmes lists'!B:B,'Programmes lists'!F:F,\"Not found\")","v":528}]
["Foundation Phase","Specialising in Afrikaans Home Language","EATF4705",{"$f":"_xlfn.XLOOKUP(C34,'RAW module list'!A:A,'RAW module list'!B:B, \"Not found\")","v":"English Additional language Teaching 2 "},{"$f":"_xlfn.XLOOKUP(C34,'RAW module list'!A:A,'RAW module list'!C:C, \"Not found\")","v":7},{"$f":"_xlfn.XLOOKUP(C34,'RAW module list'!A:A,'RAW module list'!D:D, \"Not found\")","v":20},{"$f":"_xlfn.XLOOKUP(C34,'RAW module list'!A:A,'RAW module list'!E:E, \"Not found\")","v":"EATF3604"},"Fourth Year",{"$f":"_xlfn.XLOOKUP(B34,'Programmes lists'!B:B,'Programmes lists'!D:D)","v":"LC735101"},{"$f":"_xlfn.XLOOKUP(B34,'Programmes lists'!B:B,'Programmes lists'!E:E, \"Not found\")","v":0},{"$f":"_xlfn.XLOOKUP(B34,'Programmes lists'!B:B,'Programmes lists'!G:G,\"Not found\")","v":"Minimum grade 12 pass in\n•\tAfrikaans HL 55% \n•\tEnglish HL/FAL 50%"},{"$f":"_xlfn.XLOOKUP(B34,'Programmes lists'!B:B,'Programmes lists'!F:F,\"Not found\")","v":528}]
["Foundation Phase","Specialising in Afrikaans Home Language","AHTF4705",{"$f":"_xlfn.XLOOKUP(C35,'RAW module list'!A:A,'RAW module list'!B:B, \"Not found\")","v":"Afrikaans Home language Teaching 2"},{"$f":"_xlfn.XLOOKUP(C35,'RAW module list'!A:A,'RAW module list'!C:C, \"Not found\")","v":7},{"$f":"_xlfn.XLOOKUP(C35,'RAW module list'!A:A,'RAW module list'!D:D, \"Not found\")","v":20},{"$f":"_xlfn.XLOOKUP(C35,'RAW module list'!A:A,'RAW module list'!E:E, \"Not found\")","v":"AHTF3604"},"Fourth Year",{"$f":"_xlfn.XLOOKUP(B35,'Programmes lists'!B:B,'Programmes lists'!D:D)","v":"LC735101"},{"$f":"_xlfn.XLOOKUP(B35,'Programmes lists'!B:B,'Programmes lists'!E:E, \"Not found\")","v":0},{"$f":"_xlfn.XLOOKUP(B35,'Programmes lists'!B:B,'Programmes lists'!G:G,\"Not found\")","v":"Minimum grade 12 pass in\n•\tAfrikaans HL 55% \n•\tEnglish HL/FAL 50%"},{"$f":"_xlfn.XLOOKUP(B35,'Programmes lists'!B:B,'Programmes lists'!F:F,\"Not found\")","v":528}]
["Foundation Phase","Specialising in Afrikaans Home Language","WILF4700",{"$f":"_xlfn.XLOOKUP(C36,'RAW module list'!A:A,'RAW module list'!B:B, \"Not found\")","v":"Teaching Practice 4"},{"$f":"_xlfn.XLOOKUP(C36,'RAW module list'!A:A,'RAW module list'!C:C, \"Not found\")","v":7},{"$f":"_xlfn.XLOOKUP(C36,'RAW module list'!A:A,'RAW module list'!D:D, \"Not found\")","v":40},{"$f":"_xlfn.XLOOKUP(C36,'RAW module list'!A:A,'RAW module list'!E:E, \"Not found\")","v":"WILF3606"},"Fourth Year",{"$f":"_xlfn.XLOOKUP(B36,'Programmes lists'!B:B,'Programmes lists'!D:D)","v":"LC735101"},{"$f":"_xlfn.XLOOKUP(B36,'Programmes lists'!B:B,'Programmes lists'!E:E, \"Not found\")","v":0},{"$f":"_xlfn.XLOOKUP(B36,'Programmes lists'!B:B,'Programmes lists'!G:G,\"Not found\")","v":"Minimum grade 12 pass in\n•\tAfrikaans HL 55% \n•\tEnglish HL/FAL 50%"},{"$f":"_xlfn.XLOOKUP(B36,'Programmes lists'!B:B,'Programmes lists'!F:F,\"Not found\")","v":528}]
["Foundation Phase","Specialising in Sesotho Home Language","LLST1513",{"$f":"_xlfn.XLOOKUP(C37,'RAW module list'!A:A,'RAW module list'!B:B, \"Not found\")","v":"Lifelong Learning Skills"},{"$f":"_xlfn.XLOOKUP(C37,'RAW module list'!A:A,'RAW module list'!C:C, \"Not found\")","v":5},{"$f":"_xlfn.XLOOKUP(C37,'RAW module list'!A:A,'RAW module list'!D:D, \"Not found\")","v":12},{"$f":"_xlfn.XLOOKUP(C37,'RAW module list'!A:A,'RAW module list'!E:E, \"Not found\")","v":0},"First Year",{"$f":"_xlfn.XLOOKUP(B37,'Programmes lists'!B:B,'Programmes lists'!D:D)","v":"LC735103"},{"$f":"_xlfn.XLOOKUP(B37,'Programmes lists'!B:B,'Programmes lists'!E:E, \"Not found\")","v":"QC735103"},{"$f":"_xlfn.XLOOKUP(B37,'Programmes lists'!B:B,'Programmes lists'!G:G,\"Not found\")","v":"Minimum grade 12 pass in\n•\tSesotho HL 50% \n•\tEnglish HL/FAL 50%"},{"$f":"_xlfn.XLOOKUP(B37,'Programmes lists'!B:B,'Programmes lists'!F:F,\"Not found\")","v":528}]
["Foundation Phase","Specialising in Sesotho Home Language","ENGE1608",{"$f":"_xlfn.XLOOKUP(C38,'RAW module list'!A:A,'RAW module list'!B:B, \"Not found\")","v":"English Language for Education "},{"$f":"_xlfn.XLOOKUP(C38,'RAW module list'!A:A,'RAW module list'!C:C, \"Not found\")","v":6},{"$f":"_xlfn.XLOOKUP(C38,'RAW module list'!A:A,'RAW module list'!D:D, \"Not found\")","v":32},{"$f":"_xlfn.XLOOKUP(C38,'RAW module list'!A:A,'RAW module list'!E:E, \"Not found\")","v":0},"First Year",{"$f":"_xlfn.XLOOKUP(B38,'Programmes lists'!B:B,'Programmes lists'!D:D)","v":"LC735103"},{"$f":"_xlfn.XLOOKUP(B38,'Programmes lists'!B:B,'Programmes lists'!E:E, \"Not found\")","v":"QC735103"},{"$f":"_xlfn.XLOOKUP(B38,'Programmes lists'!B:B,'Programmes lists'!G:G,\"Not found\")","v":"Minimum grade 12 pass in\n•\tSesotho HL 50% \n•\tEnglish HL/FAL 50%"},{"$f":"_xlfn.XLOOKUP(B38,'Programmes lists'!B:B,'Programmes lists'!F:F,\"Not found\")","v":528}]
["Foundation Phase","Specialising in Sesotho Home Language","LSCF1604",{"$f":"_xlfn.XLOOKUP(C39,'RAW module list'!A:A,'RAW module list'!B:B, \"Not found\")","v":"Life Skills Content 1: Foundation Phase"},{"$f":"_xlfn.XLOOKUP(C39,'RAW module list'!A:A,'RAW module list'!C:C, \"Not found\")","v":5},{"$f":"_xlfn.XLOOKUP(C39,'RAW module list'!A:A,'RAW module list'!D:D, \"Not found\")","v":16},{"$f":"_xlfn.XLOOKUP(C39,'RAW module list'!A:A,'RAW module list'!E:E, \"Not found\")","v":0},"First Year",{"$f":"_xlfn.XLOOKUP(B39,'Programmes lists'!B:B,'Programmes lists'!D:D)","v":"LC735103"},{"$f":"_xlfn.XLOOKUP(B39,'Programmes lists'!B:B,'Programmes lists'!E:E, \"Not found\")","v":"QC735103"},{"$f":"_xlfn.XLOOKUP(B39,'Programmes lists'!B:B,'Programmes lists'!G:G,\"Not found\")","v":"Minimum grade 12 pass in\n•\tSesotho HL 50% \n•\tEnglish HL/FAL 50%"},{"$f":"_xlfn.XLOOKUP(B39,'Programmes lists'!B:B,'Programmes lists'!F:F,\"Not found\")","v":528}]
["Foundation Phase","Specialising in Sesotho Home Language","MTCF1604",{"$f":"_xlfn.XLOOKUP(C40,'RAW module list'!A:A,'RAW module list'!B:B, \"Not found\")","v":"Mathematics Content 1: Numbers, Operations, Relationships, Patterns, Functions and Algebra"},{"$f":"_xlfn.XLOOKUP(C40,'RAW module list'!A:A,'RAW module list'!C:C, \"Not found\")","v":5},{"$f":"_xlfn.XLOOKUP(C40,'RAW module list'!A:A,'RAW module list'!D:D, \"Not found\")","v":16},{"$f":"_xlfn.XLOOKUP(C40,'RAW module list'!A:A,'RAW module list'!E:E, \"Not found\")","v":0},"First Year",{"$f":"_xlfn.XLOOKUP(B40,'Programmes lists'!B:B,'Programmes lists'!D:D)","v":"LC735103"},{"$f":"_xlfn.XLOOKUP(B40,'Programmes lists'!B:B,'Programmes lists'!E:E, \"Not found\")","v":"QC735103"},{"$f":"_xlfn.XLOOKUP(B40,'Programmes lists'!B:B,'Programmes lists'!G:G,\"Not found\")","v":"Minimum grade 12 pass in\n•\tSesotho HL 50% \n•\tEnglish HL/FAL 50%"},{"$f":"_xlfn.XLOOKUP(B40,'Programmes lists'!B:B,'Programmes lists'!F:F,\"Not found\")","v":528}]
["Foundation Phase","Specialising in Sesotho Home Language","EDUB1613",{"$f":"_xlfn.XLOOKUP(C41,'RAW module list'!A:A,'RAW module list'!B:B, \"Not found\")","v":"Education Studies 1.1 The Individual in the learning context"},{"$f":"_xlfn.XLOOKUP(C41,'RAW module list'!A:A,'RAW module list'!C:C, \"Not found\")","v":6},{"$f":"_xlfn.XLOOKUP(C41,'RAW module list'!A:A,'RAW module list'!D:D, \"Not found\")","v":12},{"$f":"_xlfn.XLOOKUP(C41,'RAW module list'!A:A,'RAW module list'!E:E, \"Not found\")","v":0},"First Year",{"$f":"_xlfn.XLOOKUP(B41,'Programmes lists'!B:B,'Programmes lists'!D:D)","v":"LC735103"},{"$f":"_xlfn.XLOOKUP(B41,'Programmes lists'!B:B,'Programmes lists'!E:E, \"Not found\")","v":"QC735103"},{"$f":"_xlfn.XLOOKUP(B41,'Programmes lists'!B:B,'Programmes lists'!G:G,\"Not found\")","v":"Minimum grade 12 pass in\n•\tSesotho HL 50% \n•\tEnglish HL/FAL 50%"},{"$f":"_xlfn.XLOOKUP(B41,'Programmes lists'!B:B,'Programmes lists'!F:F,\"Not found\")","v":528}]
["Foundation Phase","Specialising in Sesotho Home Language","TPRF1502",{"$f":"_xlfn.XLOOKUP(C42,'RAW module list'!A:A,'RAW module list'!B:B, \"Not found\")","v":"Teaching Practice 1 for Foundation Phase"},{"$f":"_xlfn.XLOOKUP(C42,'RAW module list'!A:A,'RAW module list'!C:C, \"Not found\")","v":5},{"$f":"_xlfn.XLOOKUP(C42,'RAW module list'!A:A,'RAW module list'!D:D, \"Not found\")","v":8},{"$f":"_xlfn.XLOOKUP(C42,'RAW module list'!A:A,'RAW module list'!E:E, \"Not found\")","v":0},"First Year",{"$f":"_xlfn.XLOOKUP(B42,'Programmes lists'!B:B,'Programmes lists'!D:D)","v":"LC735103"},{"$f":"_xlfn.XLOOKUP(B42,'Programmes lists'!B:B,'Programmes lists'!E:E, \"Not found\")","v":"QC735103"},{"$f":"_xlfn.XLOOKUP(B42,'Programmes lists'!B:B,'Programmes lists'!G:G,\"Not found\")","v":"Minimum grade 12 pass in\n•\tSesotho HL 50% \n•\tEnglish HL/FAL 50%"},{"$f":"_xlfn.XLOOKUP(B42,'Programmes lists'!B:B,'Programmes lists'!F:F,\"Not found\")","v":528}]
["Foundation Phase","Specialising in Sesotho Home Language","EALT1508",{"$f":"_xlfn.XLOOKUP(C43,'RAW module list'!A:A,'RAW module list'!B:B, \"Not found\")","v":"English Academic Literacy for Education "},{"$f":"_xlfn.XLOOKUP(C43,'RAW module list'!A:A,'RAW module list'!C:C, \"Not found\")","v":5},{"$f":"_xlfn.XLOOKUP(C43,'RAW module list'!A:A,'RAW module list'!D:D, \"Not found\")","v":-32},{"$f":"_xlfn.XLOOKUP(C43,'RAW module list'!A:A,'RAW module list'!E:E, \"Not found\")","v":"NBT requirements not met"},"First Year",{"$f":"_xlfn.XLOOKUP(B43,'Programmes lists'!B:B,'Programmes lists'!D:D)","v":"LC735103"},{"$f":"_xlfn.XLOOKUP(B43,'Programmes lists'!B:B,'Programmes lists'!E:E, \"Not found\")","v":"QC735103"},{"$f":"_xlfn.XLOOKUP(B43,'Programmes lists'!B:B,'Programmes lists'!G:G,\"Not found\")","v":"Minimum grade 12 pass in\n•\tSesotho HL 50% \n•\tEnglish HL/FAL 50%"},{"$f":"_xlfn.XLOOKUP(B43,'Programmes lists'!B:B,'Programmes lists'!F:F,\"Not found\")","v":528}]
["Foundation Phase","Specialising in Sesotho Home Language","UFSS1504",{"$f":"_xlfn.XLOOKUP(C44,'RAW module list'!A:A,'RAW module list'!B:B, \"Not found\")","v":"Undergraduate core curriculum"},{"$f":"_xlfn.XLOOKUP(C44,'RAW module list'!A:A,'RAW module list'!C:C, \"Not found\")","v":5},{"$f":"_xlfn.XLOOKUP(C44,'RAW module list'!A:A,'RAW module list'!D:D, \"Not found\")","v":-16},{"$f":"_xlfn.XLOOKUP(C44,'RAW module list'!A:A,'RAW module list'!E:E, \"Not found\")","v":0},"First Year",{"$f":"_xlfn.XLOOKUP(B44,'Programmes lists'!B:B,'Programmes lists'!D:D)","v":"LC735103"},{"$f":"_xlfn.XLOOKUP(B44,'Programmes lists'!B:B,'Programmes lists'!E:E, \"Not found\")","v":"QC735103"},{"$f":"_xlfn.XLOOKUP(B44,'Programmes lists'!B:B,'Programmes lists'!G:G,\"Not found\")","v":"Minimum grade 12 pass in\n•\tSesotho HL 50% \n•\tEnglish HL/FAL 50%"},{"$f":"_xlfn.XLOOKUP(B44,'Programmes lists'!B:B,'Programmes lists'!F:F,\"Not found\")","v":528}]
["Foundation Phase","Specialising in Sesotho Home Language","EDUB1623",{"$f":"_xlfn.XLOOKUP(C45,'RAW module list'!A:A,'RAW module list'!B:B, \"Not found\")","v":"Education Studies 1.2 What it means to educate: Theoretical perspectives and their significance for SA education"},{"$f":"_xlfn.XLOOKUP(C45,'RAW module list'!A:A,'RAW module list'!C:C, \"Not found\")","v":6},{"$f":"_xlfn.XLOOKUP(C45,'RAW module list'!A:A,'RAW module list'!D:D, \"Not found\")","v":12},{"$f":"_xlfn.XLOOKUP(C45,'RAW module list'!A:A,'RAW module list'!E:E, \"Not found\")","v":0},"First Year",{"$f":"_xlfn.XLOOKUP(B45,'Programmes lists'!B:B,'Programmes lists'!D:D)","v":"LC735103"},{"$f":"_xlfn.XLOOKUP(B45,'Programmes lists'!B:B,'Programmes lists'!E:E, \"Not found\")","v":"QC735103"},{"$f":"_xlfn.XLOOKUP(B45,'Programmes lists'!B:B,'Programmes lists'!G:G,\"Not found\")","v":"Minimum grade 12 pass in\n•\tSesotho HL 50% \n•\tEnglish HL/FAL 50%"},{"$f":"_xlfn.XLOOKUP(B45,'Programmes lists'!B:B,'Programmes lists'!F:F,\"Not found\")","v":528}]
["Foundation Phase","Specialising in Sesotho Home Language","PEDF1623",{"$f":"_xlfn.XLOOKUP(C46,'RAW module list'!A:A,'RAW module list'!B:B, \"Not found\")","v":"General Pedagogy 1: Early Childhood Development and Learning (birth to nine years)"},{"$f":"_xlfn.XLOOKUP(C46,'RAW module list'!A:A,'RAW module list'!C:C, \"Not found\")","v":6},{"$f":"_xlfn.XLOOKUP(C46,'RAW module list'!A:A,'RAW module list'!D:D, \"Not found\")","v":12},{"$f":"_xlfn.XLOOKUP(C46,'RAW module list'!A:A,'RAW module list'!E:E, \"Not found\")","v":0},"First Year",{"$f":"_xlfn.XLOOKUP(B46,'Programmes lists'!B:B,'Programmes lists'!D:D)","v":"LC735103"},{"$f":"_xlfn.XLOOKUP(B46,'Programmes lists'!B:B,'Programmes lists'!E:E, \"Not found\")","v":"QC735103"},{"$f":"_xlfn.XLOOKUP(B46,'Programmes lists'!B:B,'Programmes lists'!G:G,\"Not found\")","v":"Minimum grade 12 pass in\n•\tSesotho HL 50% \n•\tEnglish HL/FAL 50%"},{"$f":"_xlfn.XLOOKUP(B46,'Programmes lists'!B:B,'Programmes lists'!F:F,\"Not found\")","v":528}]
["Foundation Phase","Specialising in Sesotho Home Language","MTCF2604",{"$f":"_xlfn.XLOOKUP(C47,'RAW module list'!A:A,'RAW module list'!B:B, \"Not found\")","v":"Mathematics content 2: Algebra, Geometry, Measurement and Statistics in the Foundation Phase"},{"$f":"_xlfn.XLOOKUP(C47,'RAW module list'!A:A,'RAW module list'!C:C, \"Not found\")","v":6},{"$f":"_xlfn.XLOOKUP(C47,'RAW module list'!A:A,'RAW module list'!D:D, \"Not found\")","v":16},{"$f":"_xlfn.XLOOKUP(C47,'RAW module list'!A:A,'RAW module list'!E:E, \"Not found\")","v":"MTCF1604"},"Second Year",{"$f":"_xlfn.XLOOKUP(B47,'Programmes lists'!B:B,'Programmes lists'!D:D)","v":"LC735103"},{"$f":"_xlfn.XLOOKUP(B47,'Programmes lists'!B:B,'Programmes lists'!E:E, \"Not found\")","v":"QC735103"},{"$f":"_xlfn.XLOOKUP(B47,'Programmes lists'!B:B,'Programmes lists'!G:G,\"Not found\")","v":"Minimum grade 12 pass in\n•\tSesotho HL 50% \n•\tEnglish HL/FAL 50%"},{"$f":"_xlfn.XLOOKUP(B47,'Programmes lists'!B:B,'Programmes lists'!F:F,\"Not found\")","v":528}]
["Foundation Phase","Specialising in Sesotho Home Language","LSCF2604",{"$f":"_xlfn.XLOOKUP(C48,'RAW module list'!A:A,'RAW module list'!B:B, \"Not found\")","v":"Life Skills content 2: Foundation Phase"},{"$f":"_xlfn.XLOOKUP(C48,'RAW module list'!A:A,'RAW module list'!C:C, \"Not found\")","v":6},{"$f":"_xlfn.XLOOKUP(C48,'RAW module list'!A:A,'RAW module list'!D:D, \"Not found\")","v":16},{"$f":"_xlfn.XLOOKUP(C48,'RAW module list'!A:A,'RAW module list'!E:E, \"Not found\")","v":"LSCF1604"},"Second Year",{"$f":"_xlfn.XLOOKUP(B48,'Programmes lists'!B:B,'Programmes lists'!D:D)","v":"LC735103"},{"$f":"_xlfn.XLOOKUP(B48,'Programmes lists'!B:B,'Programmes lists'!E:E, \"Not found\")","v":"QC735103"},{"$f":"_xlfn.XLOOKUP(B48,'Programmes lists'!B:B,'Programmes lists'!G:G,\"Not found\")","v":"Minimum grade 12 pass in\n•\tSesotho HL 50% \n•\tEnglish HL/FAL 50%"},{"$f":"_xlfn.XLOOKUP(B48,'Programmes lists'!B:B,'Programmes lists'!F:F,\"Not found\")","v":528}]
["Foundation Phase","Specialising in Sesotho Home Language","EDUB2714",{"$f":"_xlfn.XLOOKUP(C49,'RAW module list'!A:A,'RAW module list'!B:B, \"Not found\")","v":"Education Studies 2: Teaching and Learning in Education Context"},{"$f":"_xlfn.XLOOKUP(C49,'RAW module list'!A:A,'RAW module list'!C:C, \"Not found\")","v":7},{"$f":"_xlfn.XLOOKUP(C49,'RAW module list'!A:A,'RAW module list'!D:D, \"Not found\")","v":16},{"$f":"_xlfn.XLOOKUP(C49,'RAW module list'!A:A,'RAW module list'!E:E, \"Not found\")","v":"EDUB1613 & EDUB1623"},"Second Year",{"$f":"_xlfn.XLOOKUP(B49,'Programmes lists'!B:B,'Programmes lists'!D:D)","v":"LC735103"},{"$f":"_xlfn.XLOOKUP(B49,'Programmes lists'!B:B,'Programmes lists'!E:E, \"Not found\")","v":"QC735103"},{"$f":"_xlfn.XLOOKUP(B49,'Programmes lists'!B:B,'Programmes lists'!G:G,\"Not found\")","v":"Minimum grade 12 pass in\n•\tSesotho HL 50% \n•\tEnglish HL/FAL 50%"},{"$f":"_xlfn.XLOOKUP(B49,'Programmes lists'!B:B,'Programmes lists'!F:F,\"Not found\")","v":528}]
["Foundation Phase","Specialising in Sesotho Home Language","PEDF2613",{"$f":"_xlfn.XLOOKUP(C50,'RAW module list'!A:A,'RAW module list'!B:B, \"Not found\")","v":"General Pedagogy 2: Learning in an inclusive environment"},{"$f":"_xlfn.XLOOKUP(C50,'RAW module list'!A:A,'RAW module list'!C:C, \"Not found\")","v":6},{"$f":"_xlfn.XLOOKUP(C50,'RAW module list'!A:A,'RAW module list'!D:D, \"Not found\")","v":12},{"$f":"_xlfn.XLOOKUP(C50,'RAW module list'!A:A,'RAW module list'!E:E, \"Not found\")","v":"PEDF1623"},"Second Year",{"$f":"_xlfn.XLOOKUP(B50,'Programmes lists'!B:B,'Programmes lists'!D:D)","v":"LC735103"},{"$f":"_xlfn.XLOOKUP(B50,'Programmes lists'!B:B,'Programmes lists'!E:E, \"Not found\")","v":"QC735103"},{"$f":"_xlfn.XLOOKUP(B50,'Programmes lists'!B:B,'Programmes lists'!G:G,\"Not found\")","v":"Minimum grade 12 pass in\n•\tSesotho HL 50% \n•\tEnglish HL/FAL 50%"},{"$f":"_xlfn.XLOOKUP(B50,'Programmes lists'!B:B,'Programmes lists'!F:F,\"Not found\")","v":528}]
["Foundation Phase","Specialising in Sesotho Home Language","TPRF2502",{"$f":"_xlfn.XLOOKUP(C51,'RAW module list'!A:A,'RAW module list'!B:B, \"Not found\")","v":"Teaching Practice  2"},{"$f":"_xlfn.XLOOKUP(C51,'RAW module list'!A:A,'RAW module list'!C:C, \"Not found\")","v":5},{"$f":"_xlfn.XLOOKUP(C51,'RAW module list'!A:A,'RAW module list'!D:D, \"Not found\")","v":8},{"$f":"_xlfn.XLOOKUP(C51,'RAW module list'!A:A,'RAW module list'!E:E, \"Not found\")","v":"TPRF1502"},"Second Year",{"$f":"_xlfn.XLOOKUP(B51,'Programmes lists'!B:B,'Programmes lists'!D:D)","v":"LC735103"},{"$f":"_xlfn.XLOOKUP(B51,'Programmes lists'!B:B,'Programmes lists'!E:E, \"Not found\")","v":"QC735103"},{"$f":"_xlfn.XLOOKUP(B51,'Programmes lists'!B:B,'Programmes lists'!G:G,\"Not found\")","v":"Minimum grade 12 pass in\n•\tSesotho HL 50% \n•\tEnglish HL/FAL 50%"},{"$f":"_xlfn.XLOOKUP(B51,'Programmes lists'!B:B,'Programmes lists'!F:F,\"Not found\")","v":528}]
["Foundation Phase","Specialising in Sesotho Home Language","SSML1514",{"$f":"_xlfn.XLOOKUP(C52,'RAW module list'!A:A,'RAW module list'!B:B, \"Not found\")","v":"Sesotho language structure "},{"$f":"_xlfn.XLOOKUP(C52,'RAW module list'!A:A,'RAW module list'!C:C, \"Not found\")","v":5},{"$f":"_xlfn.XLOOKUP(C52,'RAW module list'!A:A,'RAW module list'!D:D, \"Not found\")","v":16},{"$f":"_xlfn.XLOOKUP(C52,'RAW module list'!A:A,'RAW module list'!E:E, \"Not found\")","v":0},"Second Year",{"$f":"_xlfn.XLOOKUP(B52,'Programmes lists'!B:B,'Programmes lists'!D:D)","v":"LC735103"},{"$f":"_xlfn.XLOOKUP(B52,'Programmes lists'!B:B,'Programmes lists'!E:E, \"Not found\")","v":"QC735103"},{"$f":"_xlfn.XLOOKUP(B52,'Programmes lists'!B:B,'Programmes lists'!G:G,\"Not found\")","v":"Minimum grade 12 pass in\n•\tSesotho HL 50% \n•\tEnglish HL/FAL 50%"},{"$f":"_xlfn.XLOOKUP(B52,'Programmes lists'!B:B,'Programmes lists'!F:F,\"Not found\")","v":528}]
["Foundation Phase","Specialising in Sesotho Home Language","EDUB2724",{"$f":"_xlfn.XLOOKUP(C53,'RAW module list'!A:A,'RAW module list'!B:B, \"Not found\")","v":"Education Studies 2: Human Relationships in Education context"},{"$f":"_xlfn.XLOOKUP(C53,'RAW module list'!A:A,'RAW module list'!C:C, \"Not found\")","v":7},{"$f":"_xlfn.XLOOKUP(C53,'RAW module list'!A:A,'RAW module list'!D:D, \"Not found\")","v":16},{"$f":"_xlfn.XLOOKUP(C53,'RAW module list'!A:A,'RAW module list'!E:E, \"Not found\")","v":"EDUB2714"},"Second Year",{"$f":"_xlfn.XLOOKUP(B53,'Programmes lists'!B:B,'Programmes lists'!D:D)","v":"LC735103"},{"$f":"_xlfn.XLOOKUP(B53,'Programmes lists'!B:B,'Programmes lists'!E:E, \"Not found\")","v":"QC735103"},{"$f":"_xlfn.XLOOKUP(B53,'Programmes lists'!B:B,'Programmes lists'!G:G,\"Not found\")","v":"Minimum grade 12 pass in\n•\tSesotho HL 50% \n•\tEnglish HL/FAL 50%"},{"$f":"_xlfn.XLOOKUP(B53,'Programmes lists'!B:B,'Programmes lists'!F:F,\"Not found\")","v":528}]
["Foundation Phase","Specialising in Sesotho Home Language","PEDF2623",{"$f":"_xlfn.XLOOKUP(C54,'RAW module list'!A:A,'RAW module list'!B:B, \"Not found\")","v":"General Pedagogy 2: Teaching and Learning in the Foundation Phase"},{"$f":"_xlfn.XLOOKUP(C54,'RAW module list'!A:A,'RAW module list'!C:C, \"Not found\")","v":6},{"$f":"_xlfn.XLOOKUP(C54,'RAW module list'!A:A,'RAW module list'!D:D, \"Not found\")","v":12},{"$f":"_xlfn.XLOOKUP(C54,'RAW module list'!A:A,'RAW module list'!E:E, \"Not found\")","v":"PEDF2613"},"Second Year",{"$f":"_xlfn.XLOOKUP(B54,'Programmes lists'!B:B,'Programmes lists'!D:D)","v":"LC735103"},{"$f":"_xlfn.XLOOKUP(B54,'Programmes lists'!B:B,'Programmes lists'!E:E, \"Not found\")","v":"QC735103"},{"$f":"_xlfn.XLOOKUP(B54,'Programmes lists'!B:B,'Programmes lists'!G:G,\"Not found\")","v":"Minimum grade 12 pass in\n•\tSesotho HL 50% \n•\tEnglish HL/FAL 50%"},{"$f":"_xlfn.XLOOKUP(B54,'Programmes lists'!B:B,'Programmes lists'!F:F,\"Not found\")","v":528}]
["Foundation Phase","Specialising in Sesotho Home Language","SSMT1524",{"$f":"_xlfn.XLOOKUP(C55,'RAW module list'!A:A,'RAW module list'!B:B, \"Not found\")","v":"Prose fiction in Sesotho"},{"$f":"_xlfn.XLOOKUP(C55,'RAW module list'!A:A,'RAW module list'!C:C, \"Not found\")","v":5},{"$f":"_xlfn.XLOOKUP(C55,'RAW module list'!A:A,'RAW module list'!D:D, \"Not found\")","v":16},{"$f":"_xlfn.XLOOKUP(C55,'RAW module list'!A:A,'RAW module list'!E:E, \"Not found\")","v":"SSML1514"},"Second Year",{"$f":"_xlfn.XLOOKUP(B55,'Programmes lists'!B:B,'Programmes lists'!D:D)","v":"LC735103"},{"$f":"_xlfn.XLOOKUP(B55,'Programmes lists'!B:B,'Programmes lists'!E:E, \"Not found\")","v":"QC735103"},{"$f":"_xlfn.XLOOKUP(B55,'Programmes lists'!B:B,'Programmes lists'!G:G,\"Not found\")","v":"Minimum grade 12 pass in\n•\tSesotho HL 50% \n•\tEnglish HL/FAL 50%"},{"$f":"_xlfn.XLOOKUP(B55,'Programmes lists'!B:B,'Programmes lists'!F:F,\"Not found\")","v":528}]
["Foundation Phase","Specialising in Sesotho Home Language","MTTF3604",{"$f":"_xlfn.XLOOKUP(C56,'RAW module list'!A:A,'RAW module list'!B:B, \"Not found\")","v":"Mathematics Teaching 1"},{"$f":"_xlfn.XLOOKUP(C56,'RAW module list'!A:A,'RAW module list'!C:C, \"Not found\")","v":6},{"$f":"_xlfn.XLOOKUP(C56,'RAW module list'!A:A,'RAW module list'!D:D, \"Not found\")","v":16},{"$f":"_xlfn.XLOOKUP(C56,'RAW module list'!A:A,'RAW module list'!E:E, \"Not found\")","v":"MTCF1604 & MTCF2604"},"Third Year",{"$f":"_xlfn.XLOOKUP(B56,'Programmes lists'!B:B,'Programmes lists'!D:D)","v":"LC735103"},{"$f":"_xlfn.XLOOKUP(B56,'Programmes lists'!B:B,'Programmes lists'!E:E, \"Not found\")","v":"QC735103"},{"$f":"_xlfn.XLOOKUP(B56,'Programmes lists'!B:B,'Programmes lists'!G:G,\"Not found\")","v":"Minimum grade 12 pass in\n•\tSesotho HL 50% \n•\tEnglish HL/FAL 50%"},{"$f":"_xlfn.XLOOKUP(B56,'Programmes lists'!B:B,'Programmes lists'!F:F,\"Not found\")","v":528}]
["Foundation Phase","Specialising in Sesotho Home Language","LSTF3604",{"$f":"_xlfn.XLOOKUP(C57,'RAW module list'!A:A,'RAW module list'!B:B, \"Not found\")","v":"Life Skills Teaching 1"},{"$f":"_xlfn.XLOOKUP(C57,'RAW module list'!A:A,'RAW module list'!C:C, \"Not found\")","v":6},{"$f":"_xlfn.XLOOKUP(C57,'RAW module list'!A:A,'RAW module list'!D:D, \"Not found\")","v":16},{"$f":"_xlfn.XLOOKUP(C57,'RAW module list'!A:A,'RAW module list'!E:E, \"Not found\")","v":"LSCF1604 & LSCF2604"},"Third Year",{"$f":"_xlfn.XLOOKUP(B57,'Programmes lists'!B:B,'Programmes lists'!D:D)","v":"LC735103"},{"$f":"_xlfn.XLOOKUP(B57,'Programmes lists'!B:B,'Programmes lists'!E:E, \"Not found\")","v":"QC735103"},{"$f":"_xlfn.XLOOKUP(B57,'Programmes lists'!B:B,'Programmes lists'!G:G,\"Not found\")","v":"Minimum grade 12 pass in\n•\tSesotho HL 50% \n•\tEnglish HL/FAL 50%"},{"$f":"_xlfn.XLOOKUP(B57,'Programmes lists'!B:B,'Programmes lists'!F:F,\"Not found\")","v":528}]
["Foundation Phase","Specialising in Sesotho Home Language","EDUB3714",{"$f":"_xlfn.XLOOKUP(C58,'RAW module list'!A:A,'RAW module list'!B:B, \"Not found\")","v":"Education Studies 3.1 Education systems in global and national context"},{"$f":"_xlfn.XLOOKUP(C58,'RAW module list'!A:A,'RAW module list'!C:C, \"Not found\")","v":7},{"$f":"_xlfn.XLOOKUP(C58,'RAW module list'!A:A,'RAW module list'!D:D, \"Not found\")","v":16},{"$f":"_xlfn.XLOOKUP(C58,'RAW module list'!A:A,'RAW module list'!E:E, \"Not found\")","v":"EDUB1613 & EDUB1623& EDUB2714 & EDUB2724"},"Third Year",{"$f":"_xlfn.XLOOKUP(B58,'Programmes lists'!B:B,'Programmes lists'!D:D)","v":"LC735103"},{"$f":"_xlfn.XLOOKUP(B58,'Programmes lists'!B:B,'Programmes lists'!E:E, \"Not found\")","v":"QC735103"},{"$f":"_xlfn.XLOOKUP(B58,'Programmes lists'!B:B,'Programmes lists'!G:G,\"Not found\")","v":"Minimum grade 12 pass in\n•\tSesotho HL 50% \n•\tEnglish HL/FAL 50%"},{"$f":"_xlfn.XLOOKUP(B58,'Programmes lists'!B:B,'Programmes lists'!F:F,\"Not found\")","v":528}]
["Foundation Phase","Specialising in Sesotho Home Language","ECED3703",{"$f":"_xlfn.XLOOKUP(C59,'RAW module list'!A:A,'RAW module list'!B:B, \"Not found\")","v":"Early Childhood Education 1: Reception Year Studies"},{"$f":"_xlfn.XLOOKUP(C59,'RAW module list'!A:A,'RAW module list'!C:C, \"Not found\")","v":7},{"$f":"_xlfn.XLOOKUP(C59,'RAW module list'!A:A,'RAW module list'!D:D, \"Not found\")","v":12},{"$f":"_xlfn.XLOOKUP(C59,'RAW module list'!A:A,'RAW module list'!E:E, \"Not found\")","v":0},"Third Year",{"$f":"_xlfn.XLOOKUP(B59,'Programmes lists'!B:B,'Programmes lists'!D:D)","v":"LC735103"},{"$f":"_xlfn.XLOOKUP(B59,'Programmes lists'!B:B,'Programmes lists'!E:E, \"Not found\")","v":"QC735103"},{"$f":"_xlfn.XLOOKUP(B59,'Programmes lists'!B:B,'Programmes lists'!G:G,\"Not found\")","v":"Minimum grade 12 pass in\n•\tSesotho HL 50% \n•\tEnglish HL/FAL 50%"},{"$f":"_xlfn.XLOOKUP(B59,'Programmes lists'!B:B,'Programmes lists'!F:F,\"Not found\")","v":528}]
["Foundation Phase","Specialising in Sesotho Home Language","SHTF3604",{"$f":"_xlfn.XLOOKUP(C60,'RAW module list'!A:A,'RAW module list'!B:B, \"Not found\")","v":"Sesotho Home language Teaching 1 "},{"$f":"_xlfn.XLOOKUP(C60,'RAW module list'!A:A,'RAW module list'!C:C, \"Not found\")","v":6},{"$f":"_xlfn.XLOOKUP(C60,'RAW module list'!A:A,'RAW module list'!D:D, \"Not found\")","v":16},{"$f":"_xlfn.XLOOKUP(C60,'RAW module list'!A:A,'RAW module list'!E:E, \"Not found\")","v":"SSML1514 & SSMT1524"},"Third Year",{"$f":"_xlfn.XLOOKUP(B60,'Programmes lists'!B:B,'Programmes lists'!D:D)","v":"LC735103"},{"$f":"_xlfn.XLOOKUP(B60,'Programmes lists'!B:B,'Programmes lists'!E:E, \"Not found\")","v":"QC735103"},{"$f":"_xlfn.XLOOKUP(B60,'Programmes lists'!B:B,'Programmes lists'!G:G,\"Not found\")","v":"Minimum grade 12 pass in\n•\tSesotho HL 50% \n•\tEnglish HL/FAL 50%"},{"$f":"_xlfn.XLOOKUP(B60,'Programmes lists'!B:B,'Programmes lists'!F:F,\"Not found\")","v":528}]
["Foundation Phase","Specialising in Sesotho Home Language","EATF3604",{"$f":"_xlfn.XLOOKUP(C61,'RAW module list'!A:A,'RAW module list'!B:B, \"Not found\")","v":"English additional language teaching 1 "},{"$f":"_xlfn.XLOOKUP(C61,'RAW module list'!A:A,'RAW module list'!C:C, \"Not found\")","v":6},{"$f":"_xlfn.XLOOKUP(C61,'RAW module list'!A:A,'RAW module list'!D:D, \"Not found\")","v":16},{"$f":"_xlfn.XLOOKUP(C61,'RAW module list'!A:A,'RAW module list'!E:E, \"Not found\")","v":"ENGE1608"},"Third Year",{"$f":"_xlfn.XLOOKUP(B61,'Programmes lists'!B:B,'Programmes lists'!D:D)","v":"LC735103"},{"$f":"_xlfn.XLOOKUP(B61,'Programmes lists'!B:B,'Programmes lists'!E:E, \"Not found\")","v":"QC735103"},{"$f":"_xlfn.XLOOKUP(B61,'Programmes lists'!B:B,'Programmes lists'!G:G,\"Not found\")","v":"Minimum grade 12 pass in\n•\tSesotho HL 50% \n•\tEnglish HL/FAL 50%"},{"$f":"_xlfn.XLOOKUP(B61,'Programmes lists'!B:B,'Programmes lists'!F:F,\"Not found\")","v":528}]
["Foundation Phase","Specialising in Sesotho Home Language","SICL3512 OR ZUCL3512 OR GAFR3512",{"$f":"_xlfn.XLOOKUP(C62,'RAW module list'!A:A,'RAW module list'!B:B, \"Not found\")","v":"Conversational Sign Language OR Conversational IsiZulu OR Conversational Afrikaans"},{"$f":"_xlfn.XLOOKUP(C62,'RAW module list'!A:A,'RAW module list'!C:C, \"Not found\")","v":5},{"$f":"_xlfn.XLOOKUP(C62,'RAW module list'!A:A,'RAW module list'!D:D, \"Not found\")","v":8},{"$f":"_xlfn.XLOOKUP(C62,'RAW module list'!A:A,'RAW module list'!E:E, \"Not found\")","v":"No previous exposure to the language"},"Third Year",{"$f":"_xlfn.XLOOKUP(B62,'Programmes lists'!B:B,'Programmes lists'!D:D)","v":"LC735103"},{"$f":"_xlfn.XLOOKUP(B62,'Programmes lists'!B:B,'Programmes lists'!E:E, \"Not found\")","v":"QC735103"},{"$f":"_xlfn.XLOOKUP(B62,'Programmes lists'!B:B,'Programmes lists'!G:G,\"Not found\")","v":"Minimum grade 12 pass in\n•\tSesotho HL 50% \n•\tEnglish HL/FAL 50%"},{"$f":"_xlfn.XLOOKUP(B62,'Programmes lists'!B:B,'Programmes lists'!F:F,\"Not found\")","v":528}]
["Foundation Phase","Specialising in Sesotho Home Language","WILF3606",{"$f":"_xlfn.XLOOKUP(C63,'RAW module list'!A:A,'RAW module list'!B:B, \"Not found\")","v":"Teaching Practice 3"},{"$f":"_xlfn.XLOOKUP(C63,'RAW module list'!A:A,'RAW module list'!C:C, \"Not found\")","v":6},{"$f":"_xlfn.XLOOKUP(C63,'RAW module list'!A:A,'RAW module list'!D:D, \"Not found\")","v":24},{"$f":"_xlfn.XLOOKUP(C63,'RAW module list'!A:A,'RAW module list'!E:E, \"Not found\")","v":"TPRF2502"},"Third Year",{"$f":"_xlfn.XLOOKUP(B63,'Programmes lists'!B:B,'Programmes lists'!D:D)","v":"LC735103"},{"$f":"_xlfn.XLOOKUP(B63,'Programmes lists'!B:B,'Programmes lists'!E:E, \"Not found\")","v":"QC735103"},{"$f":"_xlfn.XLOOKUP(B63,'Programmes lists'!B:B,'Programmes lists'!G:G,\"Not found\")","v":"Minimum grade 12 pass in\n•\tSesotho HL 50% \n•\tEnglish HL/FAL 50%"},{"$f":"_xlfn.XLOOKUP(B63,'Programmes lists'!B:B,'Programmes lists'!F:F,\"Not found\")","v":528}]
["Foundation Phase","Specialising in Sesotho Home Language","EDUB3724",{"$f":"_xlfn.XLOOKUP(C64,'RAW module list'!A:A,'RAW module list'!B:B, \"Not found\")","v":"Education Studies 3.2: Contemporary Education Theory in the current social context"},{"$f":"_xlfn.XLOOKUP(C64,'RAW module list'!A:A,'RAW module list'!C:C, \"Not found\")","v":7},{"$f":"_xlfn.XLOOKUP(C64,'RAW module list'!A:A,'RAW module list'!D:D, \"Not found\")","v":16},{"$f":"_xlfn.XLOOKUP(C64,'RAW module list'!A:A,'RAW module list'!E:E, \"Not found\")","v":"EDUB1613 & EDUB1623 & EDUB2714 & EDUB2724 & EDUB3714"},"Third Year",{"$f":"_xlfn.XLOOKUP(B64,'Programmes lists'!B:B,'Programmes lists'!D:D)","v":"LC735103"},{"$f":"_xlfn.XLOOKUP(B64,'Programmes lists'!B:B,'Programmes lists'!E:E, \"Not found\")","v":"QC735103"},{"$f":"_xlfn.XLOOKUP(B64,'Programmes lists'!B:B,'Programmes lists'!G:G,\"Not found\")","v":"Minimum grade 12 pass in\n•\tSesotho HL 50% \n•\tEnglish HL/FAL 50%"},{"$f":"_xlfn.XLOOKUP(B64,'Programmes lists'!B:B,'Programmes lists'!F:F,\"Not found\")","v":528}]
["Foundation Phase","Specialising in Sesotho Home Language","SICL3522 OR ZUCL3522 OR GAFR3522",{"$f":"_xlfn.XLOOKUP(C65,'RAW module list'!A:A,'RAW module list'!B:B, \"Not found\")","v":"Conversational Sign Language OR Conversational IsiZulu OR Conversational Afrikaans"},{"$f":"_xlfn.XLOOKUP(C65,'RAW module list'!A:A,'RAW module list'!C:C, \"Not found\")","v":5},{"$f":"_xlfn.XLOOKUP(C65,'RAW module list'!A:A,'RAW module list'!D:D, \"Not found\")","v":8},{"$f":"_xlfn.XLOOKUP(C65,'RAW module list'!A:A,'RAW module list'!E:E, \"Not found\")","v":"Continue with the conversational language chosen in Semester 1"},"Third Year",{"$f":"_xlfn.XLOOKUP(B65,'Programmes lists'!B:B,'Programmes lists'!D:D)","v":"LC735103"},{"$f":"_xlfn.XLOOKUP(B65,'Programmes lists'!B:B,'Programmes lists'!E:E, \"Not found\")","v":"QC735103"},{"$f":"_xlfn.XLOOKUP(B65,'Programmes lists'!B:B,'Programmes lists'!G:G,\"Not found\")","v":"Minimum grade 12 pass in\n•\tSesotho HL 50% \n•\tEnglish HL/FAL 50%"},{"$f":"_xlfn.XLOOKUP(B65,'Programmes lists'!B:B,'Programmes lists'!F:F,\"Not found\")","v":528}]
["Foundation Phase","Specialising in Sesotho Home Language","MTTF4705",{"$f":"_xlfn.XLOOKUP(C66,'RAW module list'!A:A,'RAW module list'!B:B, \"Not found\")","v":"Mathematics Teaching 2"},{"$f":"_xlfn.XLOOKUP(C66,'RAW module list'!A:A,'RAW module list'!C:C, \"Not found\")","v":7},{"$f":"_xlfn.XLOOKUP(C66,'RAW module list'!A:A,'RAW module list'!D:D, \"Not found\")","v":20},{"$f":"_xlfn.XLOOKUP(C66,'RAW module list'!A:A,'RAW module list'!E:E, \"Not found\")","v":"MTTF3604"},"Fourth Year",{"$f":"_xlfn.XLOOKUP(B66,'Programmes lists'!B:B,'Programmes lists'!D:D)","v":"LC735103"},{"$f":"_xlfn.XLOOKUP(B66,'Programmes lists'!B:B,'Programmes lists'!E:E, \"Not found\")","v":"QC735103"},{"$f":"_xlfn.XLOOKUP(B66,'Programmes lists'!B:B,'Programmes lists'!G:G,\"Not found\")","v":"Minimum grade 12 pass in\n•\tSesotho HL 50% \n•\tEnglish HL/FAL 50%"},{"$f":"_xlfn.XLOOKUP(B66,'Programmes lists'!B:B,'Programmes lists'!F:F,\"Not found\")","v":528}]
["Foundation Phase","Specialising in Sesotho Home Language","LSTF4705",{"$f":"_xlfn.XLOOKUP(C67,'RAW module list'!A:A,'RAW module list'!B:B, \"Not found\")","v":"Life Skills Teaching 2"},{"$f":"_xlfn.XLOOKUP(C67,'RAW module list'!A:A,'RAW module list'!C:C, \"Not found\")","v":7},{"$f":"_xlfn.XLOOKUP(C67,'RAW module list'!A:A,'RAW module list'!D:D, \"Not found\")","v":20},{"$f":"_xlfn.XLOOKUP(C67,'RAW module list'!A:A,'RAW module list'!E:E, \"Not found\")","v":"LSTF3604"},"Fourth Year",{"$f":"_xlfn.XLOOKUP(B67,'Programmes lists'!B:B,'Programmes lists'!D:D)","v":"LC735103"},{"$f":"_xlfn.XLOOKUP(B67,'Programmes lists'!B:B,'Programmes lists'!E:E, \"Not found\")","v":"QC735103"},{"$f":"_xlfn.XLOOKUP(B67,'Programmes lists'!B:B,'Programmes lists'!G:G,\"Not found\")","v":"Minimum grade 12 pass in\n•\tSesotho HL 50% \n•\tEnglish HL/FAL 50%"},{"$f":"_xlfn.XLOOKUP(B67,'Programmes lists'!B:B,'Programmes lists'!F:F,\"Not found\")","v":528}]
["Foundation Phase","Specialising in Sesotho Home Language","ECED4703",{"$f":"_xlfn.XLOOKUP(C68,'RAW module list'!A:A,'RAW module list'!B:B, \"Not found\")","v":"Early Childhood Education 2: Foundations in Early Childhood Education (birth to four years)"},{"$f":"_xlfn.XLOOKUP(C68,'RAW module list'!A:A,'RAW module list'!C:C, \"Not found\")","v":7},{"$f":"_xlfn.XLOOKUP(C68,'RAW module list'!A:A,'RAW module list'!D:D, \"Not found\")","v":12},{"$f":"_xlfn.XLOOKUP(C68,'RAW module list'!A:A,'RAW module list'!E:E, \"Not found\")","v":"ECED3703"},"Fourth Year",{"$f":"_xlfn.XLOOKUP(B68,'Programmes lists'!B:B,'Programmes lists'!D:D)","v":"LC735103"},{"$f":"_xlfn.XLOOKUP(B68,'Programmes lists'!B:B,'Programmes lists'!E:E, \"Not found\")","v":"QC735103"},{"$f":"_xlfn.XLOOKUP(B68,'Programmes lists'!B:B,'Programmes lists'!G:G,\"Not found\")","v":"Minimum grade 12 pass in\n•\tSesotho HL 50% \n•\tEnglish HL/FAL 50%"},{"$f":"_xlfn.XLOOKUP(B68,'Programmes lists'!B:B,'Programmes lists'!F:F,\"Not found\")","v":528}]
["Foundation Phase","Specialising in Sesotho Home Language","SHTF4705",{"$f":"_xlfn.XLOOKUP(C69,'RAW module list'!A:A,'RAW module list'!B:B, \"Not found\")","v":"Sesotho Home language Teaching 2 "},{"$f":"_xlfn.XLOOKUP(C69,'RAW module list'!A:A,'RAW module list'!C:C, \"Not found\")","v":7},{"$f":"_xlfn.XLOOKUP(C69,'RAW module list'!A:A,'RAW module list'!D:D, \"Not found\")","v":20},{"$f":"_xlfn.XLOOKUP(C69,'RAW module list'!A:A,'RAW module list'!E:E, \"Not found\")","v":"SHTF3604"},"Fourth Year",{"$f":"_xlfn.XLOOKUP(B69,'Programmes lists'!B:B,'Programmes lists'!D:D)","v":"LC735103"},{"$f":"_xlfn.XLOOKUP(B69,'Programmes lists'!B:B,'Programmes lists'!E:E, \"Not found\")","v":"QC735103"},{"$f":"_xlfn.XLOOKUP(B69,'Programmes lists'!B:B,'Programmes lists'!G:G,\"Not found\")","v":"Minimum grade 12 pass in\n•\tSesotho HL 50% \n•\tEnglish HL/FAL 50%"},{"$f":"_xlfn.XLOOKUP(B69,'Programmes lists'!B:B,'Programmes lists'!F:F,\"Not found\")","v":528}]
["Foundation Phase","Specialising in Sesotho Home Language","EATF4705",{"$f":"_xlfn.XLOOKUP(C70,'RAW module list'!A:A,'RAW module list'!B:B, \"Not found\")","v":"English Additional language Teaching 2 "},{"$f":"_xlfn.XLOOKUP(C70,'RAW module list'!A:A,'RAW module list'!C:C, \"Not found\")","v":7},{"$f":"_xlfn.XLOOKUP(C70,'RAW module list'!A:A,'RAW module list'!D:D, \"Not found\")","v":20},{"$f":"_xlfn.XLOOKUP(C70,'RAW module list'!A:A,'RAW module list'!E:E, \"Not found\")","v":"EATF3604"},"Fourth Year",{"$f":"_xlfn.XLOOKUP(B70,'Programmes lists'!B:B,'Programmes lists'!D:D)","v":"LC735103"},{"$f":"_xlfn.XLOOKUP(B70,'Programmes lists'!B:B,'Programmes lists'!E:E, \"Not found\")","v":"QC735103"},{"$f":"_xlfn.XLOOKUP(B70,'Programmes lists'!B:B,'Programmes lists'!G:G,\"Not found\")","v":"Minimum grade 12 pass in\n•\tSesotho HL 50% \n•\tEnglish HL/FAL 50%"},{"$f":"_xlfn.XLOOKUP(B70,'Programmes lists'!B:B,'Programmes lists'!F:F,\"Not found\")","v":528}]
["Foundation Phase","Specialising in Sesotho Home Language","WILF4700",{"$f":"_xlfn.XLOOKUP(C71,'RAW module list'!A:A,'RAW module list'!B:B, \"Not found\")","v":"Teaching Practice 4"},{"$f":"_xlfn.XLOOKUP(C71,'RAW module list'!A:A,'RAW module list'!C:C, \"Not found\")","v":7},{"$f":"_xlfn.XLOOKUP(C71,'RAW module list'!A:A,'RAW module list'!D:D, \"Not found\")","v":40},{"$f":"_xlfn.XLOOKUP(C71,'RAW module list'!A:A,'RAW module list'!E:E, \"Not found\")","v":"WILF3606"},"Fourth Year",{"$f":"_xlfn.XLOOKUP(B71,'Programmes lists'!B:B,'Programmes lists'!D:D)","v":"LC735103"},{"$f":"_xlfn.XLOOKUP(B71,'Programmes lists'!B:B,'Programmes lists'!E:E, \"Not found\")","v":"QC735103"},{"$f":"_xlfn.XLOOKUP(B71,'Programmes lists'!B:B,'Programmes lists'!G:G,\"Not found\")","v":"Minimum grade 12 pass in\n•\tSesotho HL 50% \n•\tEnglish HL/FAL 50%"},{"$f":"_xlfn.XLOOKUP(B71,'Programmes lists'!B:B,'Programmes lists'!F:F,\"Not found\")","v":528}]
["Foundation Phase","Specialising in English Home Language","LLST1513",{"$f":"_xlfn.XLOOKUP(C72,'RAW module list'!A:A,'RAW module list'!B:B, \"Not found\")","v":"Lifelong Learning Skills"},{"$f":"_xlfn.XLOOKUP(C72,'RAW module list'!A:A,'RAW module list'!C:C, \"Not found\")","v":5},{"$f":"_xlfn.XLOOKUP(C72,'RAW module list'!A:A,'RAW module list'!D:D, \"Not found\")","v":12},{"$f":"_xlfn.XLOOKUP(C72,'RAW module list'!A:A,'RAW module list'!E:E, \"Not found\")","v":0},"First Year",{"$f":"_xlfn.XLOOKUP(B72,'Programmes lists'!B:B,'Programmes lists'!D:D)","v":"LC735106"},{"$f":"_xlfn.XLOOKUP(B72,'Programmes lists'!B:B,'Programmes lists'!E:E, \"Not found\")","v":0},{"$f":"_xlfn.XLOOKUP(B72,'Programmes lists'!B:B,'Programmes lists'!G:G,\"Not found\")","v":"Minimum grade 12 pass in\n•\tEnglish HL 50% \n•\tAfrikaans 55%\n•\tSesotho/isiZulu 50%"},{"$f":"_xlfn.XLOOKUP(B72,'Programmes lists'!B:B,'Programmes lists'!F:F,\"Not found\")","v":528}]
["Foundation Phase","Specialising in English Home Language","ENGE1608",{"$f":"_xlfn.XLOOKUP(C73,'RAW module list'!A:A,'RAW module list'!B:B, \"Not found\")","v":"English Language for Education "},{"$f":"_xlfn.XLOOKUP(C73,'RAW module list'!A:A,'RAW module list'!C:C, \"Not found\")","v":6},{"$f":"_xlfn.XLOOKUP(C73,'RAW module list'!A:A,'RAW module list'!D:D, \"Not found\")","v":32},{"$f":"_xlfn.XLOOKUP(C73,'RAW module list'!A:A,'RAW module list'!E:E, \"Not found\")","v":0},"First Year",{"$f":"_xlfn.XLOOKUP(B73,'Programmes lists'!B:B,'Programmes lists'!D:D)","v":"LC735106"},{"$f":"_xlfn.XLOOKUP(B73,'Programmes lists'!B:B,'Programmes lists'!E:E, \"Not found\")","v":0},{"$f":"_xlfn.XLOOKUP(B73,'Programmes lists'!B:B,'Programmes lists'!G:G,\"Not found\")","v":"Minimum grade 12 pass in\n•\tEnglish HL 50% \n•\tAfrikaans 55%\n•\tSesotho/isiZulu 50%"},{"$f":"_xlfn.XLOOKUP(B73,'Programmes lists'!B:B,'Programmes lists'!F:F,\"Not found\")","v":528}]
["Foundation Phase","Specialising in English Home Language","LSCF1604",{"$f":"_xlfn.XLOOKUP(C74,'RAW module list'!A:A,'RAW module list'!B:B, \"Not found\")","v":"Life Skills Content 1: Foundation Phase"},{"$f":"_xlfn.XLOOKUP(C74,'RAW module list'!A:A,'RAW module list'!C:C, \"Not found\")","v":5},{"$f":"_xlfn.XLOOKUP(C74,'RAW module list'!A:A,'RAW module list'!D:D, \"Not found\")","v":16},{"$f":"_xlfn.XLOOKUP(C74,'RAW module list'!A:A,'RAW module list'!E:E, \"Not found\")","v":0},"First Year",{"$f":"_xlfn.XLOOKUP(B74,'Programmes lists'!B:B,'Programmes lists'!D:D)","v":"LC735106"},{"$f":"_xlfn.XLOOKUP(B74,'Programmes lists'!B:B,'Programmes lists'!E:E, \"Not found\")","v":0},{"$f":"_xlfn.XLOOKUP(B74,'Programmes lists'!B:B,'Programmes lists'!G:G,\"Not found\")","v":"Minimum grade 12 pass in\n•\tEnglish HL 50% \n•\tAfrikaans 55%\n•\tSesotho/isiZulu 50%"},{"$f":"_xlfn.XLOOKUP(B74,'Programmes lists'!B:B,'Programmes lists'!F:F,\"Not found\")","v":528}]
["Foundation Phase","Specialising in English Home Language","MTCF1604",{"$f":"_xlfn.XLOOKUP(C75,'RAW module list'!A:A,'RAW module list'!B:B, \"Not found\")","v":"Mathematics Content 1: Numbers, Operations, Relationships, Patterns, Functions and Algebra"},{"$f":"_xlfn.XLOOKUP(C75,'RAW module list'!A:A,'RAW module list'!C:C, \"Not found\")","v":5},{"$f":"_xlfn.XLOOKUP(C75,'RAW module list'!A:A,'RAW module list'!D:D, \"Not found\")","v":16},{"$f":"_xlfn.XLOOKUP(C75,'RAW module list'!A:A,'RAW module list'!E:E, \"Not found\")","v":0},"First Year",{"$f":"_xlfn.XLOOKUP(B75,'Programmes lists'!B:B,'Programmes lists'!D:D)","v":"LC735106"},{"$f":"_xlfn.XLOOKUP(B75,'Programmes lists'!B:B,'Programmes lists'!E:E, \"Not found\")","v":0},{"$f":"_xlfn.XLOOKUP(B75,'Programmes lists'!B:B,'Programmes lists'!G:G,\"Not found\")","v":"Minimum grade 12 pass in\n•\tEnglish HL 50% \n•\tAfrikaans 55%\n•\tSesotho/isiZulu 50%"},{"$f":"_xlfn.XLOOKUP(B75,'Programmes lists'!B:B,'Programmes lists'!F:F,\"Not found\")","v":528}]
["Foundation Phase","Specialising in English Home Language","EDUB1613",{"$f":"_xlfn.XLOOKUP(C76,'RAW module list'!A:A,'RAW module list'!B:B, \"Not found\")","v":"Education Studies 1.1 The Individual in the learning context"},{"$f":"_xlfn.XLOOKUP(C76,'RAW module list'!A:A,'RAW module list'!C:C, \"Not found\")","v":6},{"$f":"_xlfn.XLOOKUP(C76,'RAW module list'!A:A,'RAW module list'!D:D, \"Not found\")","v":12},{"$f":"_xlfn.XLOOKUP(C76,'RAW module list'!A:A,'RAW module list'!E:E, \"Not found\")","v":0},"First Year",{"$f":"_xlfn.XLOOKUP(B76,'Programmes lists'!B:B,'Programmes lists'!D:D)","v":"LC735106"},{"$f":"_xlfn.XLOOKUP(B76,'Programmes lists'!B:B,'Programmes lists'!E:E, \"Not found\")","v":0},{"$f":"_xlfn.XLOOKUP(B76,'Programmes lists'!B:B,'Programmes lists'!G:G,\"Not found\")","v":"Minimum grade 12 pass in\n•\tEnglish HL 50% \n•\tAfrikaans 55%\n•\tSesotho/isiZulu 50%"},{"$f":"_xlfn.XLOOKUP(B76,'Programmes lists'!B:B,'Programmes lists'!F:F,\"Not found\")","v":528}]
["Foundation Phase","Specialising in English Home Language","TPRF1502",{"$f":"_xlfn.XLOOKUP(C77,'RAW module list'!A:A,'RAW module list'!B:B, \"Not found\")","v":"Teaching Practice 1 for Foundation Phase"},{"$f":"_xlfn.XLOOKUP(C77,'RAW module list'!A:A,'RAW module list'!C:C, \"Not found\")","v":5},{"$f":"_xlfn.XLOOKUP(C77,'RAW module list'!A:A,'RAW module list'!D:D, \"Not found\")","v":8},{"$f":"_xlfn.XLOOKUP(C77,'RAW module list'!A:A,'RAW module list'!E:E, \"Not found\")","v":0},"First Year",{"$f":"_xlfn.XLOOKUP(B77,'Programmes lists'!B:B,'Programmes lists'!D:D)","v":"LC735106"},{"$f":"_xlfn.XLOOKUP(B77,'Programmes lists'!B:B,'Programmes lists'!E:E, \"Not found\")","v":0},{"$f":"_xlfn.XLOOKUP(B77,'Programmes lists'!B:B,'Programmes lists'!G:G,\"Not found\")","v":"Minimum grade 12 pass in\n•\tEnglish HL 50% \n•\tAfrikaans 55%\n•\tSesotho/isiZulu 50%"},{"$f":"_xlfn.XLOOKUP(B77,'Programmes lists'!B:B,'Programmes lists'!F:F,\"Not found\")","v":528}]
["Foundation Phase","Specialising in English Home Language","EALT1508",{"$f":"_xlfn.XLOOKUP(C78,'RAW module list'!A:A,'RAW module list'!B:B, \"Not found\")","v":"English Academic Literacy for Education "},{"$f":"_xlfn.XLOOKUP(C78,'RAW module list'!A:A,'RAW module list'!C:C, \"Not found\")","v":5},{"$f":"_xlfn.XLOOKUP(C78,'RAW module list'!A:A,'RAW module list'!D:D, \"Not found\")","v":-32},{"$f":"_xlfn.XLOOKUP(C78,'RAW module list'!A:A,'RAW module list'!E:E, \"Not found\")","v":"NBT requirements not met"},"First Year",{"$f":"_xlfn.XLOOKUP(B78,'Programmes lists'!B:B,'Programmes lists'!D:D)","v":"LC735106"},{"$f":"_xlfn.XLOOKUP(B78,'Programmes lists'!B:B,'Programmes lists'!E:E, \"Not found\")","v":0},{"$f":"_xlfn.XLOOKUP(B78,'Programmes lists'!B:B,'Programmes lists'!G:G,\"Not found\")","v":"Minimum grade 12 pass in\n•\tEnglish HL 50% \n•\tAfrikaans 55%\n•\tSesotho/isiZulu 50%"},{"$f":"_xlfn.XLOOKUP(B78,'Programmes lists'!B:B,'Programmes lists'!F:F,\"Not found\")","v":528}]
["Foundation Phase","Specialising in English Home Language","UFSS1504",{"$f":"_xlfn.XLOOKUP(C79,'RAW module list'!A:A,'RAW module list'!B:B, \"Not found\")","v":"Undergraduate core curriculum"},{"$f":"_xlfn.XLOOKUP(C79,'RAW module list'!A:A,'RAW module list'!C:C, \"Not found\")","v":5},{"$f":"_xlfn.XLOOKUP(C79,'RAW module list'!A:A,'RAW module list'!D:D, \"Not found\")","v":-16},{"$f":"_xlfn.XLOOKUP(C79,'RAW module list'!A:A,'RAW module list'!E:E, \"Not found\")","v":0},"First Year",{"$f":"_xlfn.XLOOKUP(B79,'Programmes lists'!B:B,'Programmes lists'!D:D)","v":"LC735106"},{"$f":"_xlfn.XLOOKUP(B79,'Programmes lists'!B:B,'Programmes lists'!E:E, \"Not found\")","v":0},{"$f":"_xlfn.XLOOKUP(B79,'Programmes lists'!B:B,'Programmes lists'!G:G,\"Not found\")","v":"Minimum grade 12 pass in\n•\tEnglish HL 50% \n•\tAfrikaans 55%\n•\tSesotho/isiZulu 50%"},{"$f":"_xlfn.XLOOKUP(B79,'Programmes lists'!B:B,'Programmes lists'!F:F,\"Not found\")","v":528}]
["Foundation Phase","Specialising in English Home Language","EDUB1623",{"$f":"_xlfn.XLOOKUP(C80,'RAW module list'!A:A,'RAW module list'!B:B, \"Not found\")","v":"Education Studies 1.2 What it means to educate: Theoretical perspectives and their significance for SA education"},{"$f":"_xlfn.XLOOKUP(C80,'RAW module list'!A:A,'RAW module list'!C:C, \"Not found\")","v":6},{"$f":"_xlfn.XLOOKUP(C80,'RAW module list'!A:A,'RAW module list'!D:D, \"Not found\")","v":12},{"$f":"_xlfn.XLOOKUP(C80,'RAW module list'!A:A,'RAW module list'!E:E, \"Not found\")","v":0},"First Year",{"$f":"_xlfn.XLOOKUP(B80,'Programmes lists'!B:B,'Programmes lists'!D:D)","v":"LC735106"},{"$f":"_xlfn.XLOOKUP(B80,'Programmes lists'!B:B,'Programmes lists'!E:E, \"Not found\")","v":0},{"$f":"_xlfn.XLOOKUP(B80,'Programmes lists'!B:B,'Programmes lists'!G:G,\"Not found\")","v":"Minimum grade 12 pass in\n•\tEnglish HL 50% \n•\tAfrikaans 55%\n•\tSesotho/isiZulu 50%"},{"$f":"_xlfn.XLOOKUP(B80,'Programmes lists'!B:B,'Programmes lists'!F:F,\"Not found\")","v":528}]
["Foundation Phase","Specialising in English Home Language","PEDF1623",{"$f":"_xlfn.XLOOKUP(C81,'RAW module list'!A:A,'RAW module list'!B:B, \"Not found\")","v":"General Pedagogy 1: Early Childhood Development and Learning (birth to nine years)"},{"$f":"_xlfn.XLOOKUP(C81,'RAW module list'!A:A,'RAW module list'!C:C, \"Not found\")","v":6},{"$f":"_xlfn.XLOOKUP(C81,'RAW module list'!A:A,'RAW module list'!D:D, \"Not found\")","v":12},{"$f":"_xlfn.XLOOKUP(C81,'RAW module list'!A:A,'RAW module list'!E:E, \"Not found\")","v":0},"First Year",{"$f":"_xlfn.XLOOKUP(B81,'Programmes lists'!B:B,'Programmes lists'!D:D)","v":"LC735106"},{"$f":"_xlfn.XLOOKUP(B81,'Programmes lists'!B:B,'Programmes lists'!E:E, \"Not found\")","v":0},{"$f":"_xlfn.XLOOKUP(B81,'Programmes lists'!B:B,'Programmes lists'!G:G,\"Not found\")","v":"Minimum grade 12 pass in\n•\tEnglish HL 50% \n•\tAfrikaans 55%\n•\tSesotho/isiZulu 50%"},{"$f":"_xlfn.XLOOKUP(B81,'Programmes lists'!B:B,'Programmes lists'!F:F,\"Not found\")","v":528}]
["Foundation Phase","Specialising in English Home Language","MTCF2604",{"$f":"_xlfn.XLOOKUP(C82,'RAW module list'!A:A,'RAW module list'!B:B, \"Not found\")","v":"Mathematics content 2: Algebra, Geometry, Measurement and Statistics in the Foundation Phase"},{"$f":"_xlfn.XLOOKUP(C82,'RAW module list'!A:A,'RAW module list'!C:C, \"Not found\")","v":6},{"$f":"_xlfn.XLOOKUP(C82,'RAW module list'!A:A,'RAW module list'!D:D, \"Not found\")","v":16},{"$f":"_xlfn.XLOOKUP(C82,'RAW module list'!A:A,'RAW module list'!E:E, \"Not found\")","v":"MTCF1604"},"Second Year",{"$f":"_xlfn.XLOOKUP(B82,'Programmes lists'!B:B,'Programmes lists'!D:D)","v":"LC735106"},{"$f":"_xlfn.XLOOKUP(B82,'Programmes lists'!B:B,'Programmes lists'!E:E, \"Not found\")","v":0},{"$f":"_xlfn.XLOOKUP(B82,'Programmes lists'!B:B,'Programmes lists'!G:G,\"Not found\")","v":"Minimum grade 12 pass in\n•\tEnglish HL 50% \n•\tAfrikaans 55%\n•\tSesotho/isiZulu 50%"},{"$f":"_xlfn.XLOOKUP(B82,'Programmes lists'!B:B,'Programmes lists'!F:F,\"Not found\")","v":528}]
["Foundation Phase","Specialising in English Home Language","LSCF2604",{"$f":"_xlfn.XLOOKUP(C83,'RAW module list'!A:A,'RAW module list'!B:B, \"Not found\")","v":"Life Skills content 2: Foundation Phase"},{"$f":"_xlfn.XLOOKUP(C83,'RAW module list'!A:A,'RAW module list'!C:C, \"Not found\")","v":6},{"$f":"_xlfn.XLOOKUP(C83,'RAW module list'!A:A,'RAW module list'!D:D, \"Not found\")","v":16},{"$f":"_xlfn.XLOOKUP(C83,'RAW module list'!A:A,'RAW module list'!E:E, \"Not found\")","v":"LSCF1604"},"Second Year",{"$f":"_xlfn.XLOOKUP(B83,'Programmes lists'!B:B,'Programmes lists'!D:D)","v":"LC735106"},{"$f":"_xlfn.XLOOKUP(B83,'Programmes lists'!B:B,'Programmes lists'!E:E, \"Not found\")","v":0},{"$f":"_xlfn.XLOOKUP(B83,'Programmes lists'!B:B,'Programmes lists'!G:G,\"Not found\")","v":"Minimum grade 12 pass in\n•\tEnglish HL 50% \n•\tAfrikaans 55%\n•\tSesotho/isiZulu 50%"},{"$f":"_xlfn.XLOOKUP(B83,'Programmes lists'!B:B,'Programmes lists'!F:F,\"Not found\")","v":528}]
["Foundation Phase","Specialising in English Home Language","EDUB2714",{"$f":"_xlfn.XLOOKUP(C84,'RAW module list'!A:A,'RAW module list'!B:B, \"Not found\")","v":"Education Studies 2: Teaching and Learning in Education Context"},{"$f":"_xlfn.XLOOKUP(C84,'RAW module list'!A:A,'RAW module list'!C:C, \"Not found\")","v":7},{"$f":"_xlfn.XLOOKUP(C84,'RAW module list'!A:A,'RAW module list'!D:D, \"Not found\")","v":16},{"$f":"_xlfn.XLOOKUP(C84,'RAW module list'!A:A,'RAW module list'!E:E, \"Not found\")","v":"EDUB1613 & EDUB1623"},"Second Year",{"$f":"_xlfn.XLOOKUP(B84,'Programmes lists'!B:B,'Programmes lists'!D:D)","v":"LC735106"},{"$f":"_xlfn.XLOOKUP(B84,'Programmes lists'!B:B,'Programmes lists'!E:E, \"Not found\")","v":0},{"$f":"_xlfn.XLOOKUP(B84,'Programmes lists'!B:B,'Programmes lists'!G:G,\"Not found\")","v":"Minimum grade 12 pass in\n•\tEnglish HL 50% \n•\tAfrikaans 55%\n•\tSesotho/isiZulu 50%"},{"$f":"_xlfn.XLOOKUP(B84,'Programmes lists'!B:B,'Programmes lists'!F:F,\"Not found\")","v":528}]
["Foundation Phase","Specialising in English Home Language","PEDF2613",{"$f":"_xlfn.XLOOKUP(C85,'RAW module list'!A:A,'RAW module list'!B:B, \"Not found\")","v":"General Pedagogy 2: Learning in an inclusive environment"},{"$f":"_xlfn.XLOOKUP(C85,'RAW module list'!A:A,'RAW module list'!C:C, \"Not found\")","v":6},{"$f":"_xlfn.XLOOKUP(C85,'RAW module list'!A:A,'RAW module list'!D:D, \"Not found\")","v":12},{"$f":"_xlfn.XLOOKUP(C85,'RAW module list'!A:A,'RAW module list'!E:E, \"Not found\")","v":"PEDF1623"},"Second Year",{"$f":"_xlfn.XLOOKUP(B85,'Programmes lists'!B:B,'Programmes lists'!D:D)","v":"LC735106"},{"$f":"_xlfn.XLOOKUP(B85,'Programmes lists'!B:B,'Programmes lists'!E:E, \"Not found\")","v":0},{"$f":"_xlfn.XLOOKUP(B85,'Programmes lists'!B:B,'Programmes lists'!G:G,\"Not found\")","v":"Minimum grade 12 pass in\n•\tEnglish HL 50% \n•\tAfrikaans 55%\n•\tSesotho/isiZulu 50%"},{"$f":"_xlfn.XLOOKUP(B85,'Programmes lists'!B:B,'Programmes lists'!F:F,\"Not found\")","v":528}]
["Foundation Phase","Specialising in English Home Language","TPRF2502",{"$f":"_xlfn.XLOOKUP(C86,'RAW module list'!A:A,'RAW module list'!B:B, \"Not found\")","v":"Teaching Practice  2"},{"$f":"_xlfn.XLOOKUP(C86,'RAW module list'!A:A,'RAW module list'!C:C, \"Not found\")","v":5},{"$f":"_xlfn.XLOOKUP(C86,'RAW module list'!A:A,'RAW module list'!D:D, \"Not found\")","v":8},{"$f":"_xlfn.XLOOKUP(C86,'RAW module list'!A:A,'RAW module list'!E:E, \"Not found\")","v":"TPRF1502"},"Second Year",{"$f":"_xlfn.XLOOKUP(B86,'Programmes lists'!B:B,'Programmes lists'!D:D)","v":"LC735106"},{"$f":"_xlfn.XLOOKUP(B86,'Programmes lists'!B:B,'Programmes lists'!E:E, \"Not found\")","v":0},{"$f":"_xlfn.XLOOKUP(B86,'Programmes lists'!B:B,'Programmes lists'!G:G,\"Not found\")","v":"Minimum grade 12 pass in\n•\tEnglish HL 50% \n•\tAfrikaans 55%\n•\tSesotho/isiZulu 50%"},{"$f":"_xlfn.XLOOKUP(B86,'Programmes lists'!B:B,'Programmes lists'!F:F,\"Not found\")","v":528}]
["Foundation Phase","Specialising in English Home Language","AFNL1634 OR AFRT1514",{"$f":"_xlfn.XLOOKUP(C87,'RAW module list'!A:A,'RAW module list'!B:B, \"Not found\")","v":"Introduction to Afrikaans and Dutch literature OR Basic Afrikaans Language"},{"$f":"_xlfn.XLOOKUP(C87,'RAW module list'!A:A,'RAW module list'!C:C, \"Not found\")","v":6},{"$f":"_xlfn.XLOOKUP(C87,'RAW module list'!A:A,'RAW module list'!D:D, \"Not found\")","v":16},{"$f":"_xlfn.XLOOKUP(C87,'RAW module list'!A:A,'RAW module list'!E:E, \"Not found\")","v":"Afrikaans HL Grade 12 pass at >55% Or Afr FAL Grade 12 pass at >55%/Afrikaans HL Grade 12 pass at <55% or Afr. FAL Grade 12 pass at <70%"},"Second Year",{"$f":"_xlfn.XLOOKUP(B87,'Programmes lists'!B:B,'Programmes lists'!D:D)","v":"LC735106"},{"$f":"_xlfn.XLOOKUP(B87,'Programmes lists'!B:B,'Programmes lists'!E:E, \"Not found\")","v":0},{"$f":"_xlfn.XLOOKUP(B87,'Programmes lists'!B:B,'Programmes lists'!G:G,\"Not found\")","v":"Minimum grade 12 pass in\n•\tEnglish HL 50% \n•\tAfrikaans 55%\n•\tSesotho/isiZulu 50%"},{"$f":"_xlfn.XLOOKUP(B87,'Programmes lists'!B:B,'Programmes lists'!F:F,\"Not found\")","v":528}]
["Foundation Phase","Specialising in English Home Language","EDUB2724",{"$f":"_xlfn.XLOOKUP(C88,'RAW module list'!A:A,'RAW module list'!B:B, \"Not found\")","v":"Education Studies 2: Human Relationships in Education context"},{"$f":"_xlfn.XLOOKUP(C88,'RAW module list'!A:A,'RAW module list'!C:C, \"Not found\")","v":7},{"$f":"_xlfn.XLOOKUP(C88,'RAW module list'!A:A,'RAW module list'!D:D, \"Not found\")","v":16},{"$f":"_xlfn.XLOOKUP(C88,'RAW module list'!A:A,'RAW module list'!E:E, \"Not found\")","v":"EDUB2714"},"Second Year",{"$f":"_xlfn.XLOOKUP(B88,'Programmes lists'!B:B,'Programmes lists'!D:D)","v":"LC735106"},{"$f":"_xlfn.XLOOKUP(B88,'Programmes lists'!B:B,'Programmes lists'!E:E, \"Not found\")","v":0},{"$f":"_xlfn.XLOOKUP(B88,'Programmes lists'!B:B,'Programmes lists'!G:G,\"Not found\")","v":"Minimum grade 12 pass in\n•\tEnglish HL 50% \n•\tAfrikaans 55%\n•\tSesotho/isiZulu 50%"},{"$f":"_xlfn.XLOOKUP(B88,'Programmes lists'!B:B,'Programmes lists'!F:F,\"Not found\")","v":528}]
["Foundation Phase","Specialising in English Home Language","PEDF2623",{"$f":"_xlfn.XLOOKUP(C89,'RAW module list'!A:A,'RAW module list'!B:B, \"Not found\")","v":"General Pedagogy 2: Teaching and Learning in the Foundation Phase"},{"$f":"_xlfn.XLOOKUP(C89,'RAW module list'!A:A,'RAW module list'!C:C, \"Not found\")","v":6},{"$f":"_xlfn.XLOOKUP(C89,'RAW module list'!A:A,'RAW module list'!D:D, \"Not found\")","v":12},{"$f":"_xlfn.XLOOKUP(C89,'RAW module list'!A:A,'RAW module list'!E:E, \"Not found\")","v":"PEDF2613"},"Second Year",{"$f":"_xlfn.XLOOKUP(B89,'Programmes lists'!B:B,'Programmes lists'!D:D)","v":"LC735106"},{"$f":"_xlfn.XLOOKUP(B89,'Programmes lists'!B:B,'Programmes lists'!E:E, \"Not found\")","v":0},{"$f":"_xlfn.XLOOKUP(B89,'Programmes lists'!B:B,'Programmes lists'!G:G,\"Not found\")","v":"Minimum grade 12 pass in\n•\tEnglish HL 50% \n•\tAfrikaans 55%\n•\tSesotho/isiZulu 50%"},{"$f":"_xlfn.XLOOKUP(B89,'Programmes lists'!B:B,'Programmes lists'!F:F,\"Not found\")","v":528}]
["Foundation Phase","Specialising in English Home Language","AFNT1644 OR AFRL1624",{"$f":"_xlfn.XLOOKUP(C90,'RAW module list'!A:A,'RAW module list'!B:B, \"Not found\")","v":"Introduction to Afrikaans Linguistics OR Basic Afrikaans literature"},{"$f":"_xlfn.XLOOKUP(C90,'RAW module list'!A:A,'RAW module list'!C:C, \"Not found\")","v":6},{"$f":"_xlfn.XLOOKUP(C90,'RAW module list'!A:A,'RAW module list'!D:D, \"Not found\")","v":16},{"$f":"_xlfn.XLOOKUP(C90,'RAW module list'!A:A,'RAW module list'!E:E, \"Not found\")","v":"AFNL1634\nor\nAFRT1514"},"Second Year",{"$f":"_xlfn.XLOOKUP(B90,'Programmes lists'!B:B,'Programmes lists'!D:D)","v":"LC735106"},{"$f":"_xlfn.XLOOKUP(B90,'Programmes lists'!B:B,'Programmes lists'!E:E, \"Not found\")","v":0},{"$f":"_xlfn.XLOOKUP(B90,'Programmes lists'!B:B,'Programmes lists'!G:G,\"Not found\")","v":"Minimum grade 12 pass in\n•\tEnglish HL 50% \n•\tAfrikaans 55%\n•\tSesotho/isiZulu 50%"},{"$f":"_xlfn.XLOOKUP(B90,'Programmes lists'!B:B,'Programmes lists'!F:F,\"Not found\")","v":528}]
["Foundation Phase","Specialising in English Home Language","MTTF3604",{"$f":"_xlfn.XLOOKUP(C91,'RAW module list'!A:A,'RAW module list'!B:B, \"Not found\")","v":"Mathematics Teaching 1"},{"$f":"_xlfn.XLOOKUP(C91,'RAW module list'!A:A,'RAW module list'!C:C, \"Not found\")","v":6},{"$f":"_xlfn.XLOOKUP(C91,'RAW module list'!A:A,'RAW module list'!D:D, \"Not found\")","v":16},{"$f":"_xlfn.XLOOKUP(C91,'RAW module list'!A:A,'RAW module list'!E:E, \"Not found\")","v":"MTCF1604 & MTCF2604"},"Third Year",{"$f":"_xlfn.XLOOKUP(B91,'Programmes lists'!B:B,'Programmes lists'!D:D)","v":"LC735106"},{"$f":"_xlfn.XLOOKUP(B91,'Programmes lists'!B:B,'Programmes lists'!E:E, \"Not found\")","v":0},{"$f":"_xlfn.XLOOKUP(B91,'Programmes lists'!B:B,'Programmes lists'!G:G,\"Not found\")","v":"Minimum grade 12 pass in\n•\tEnglish HL 50% \n•\tAfrikaans 55%\n•\tSesotho/isiZulu 50%"},{"$f":"_xlfn.XLOOKUP(B91,'Programmes lists'!B:B,'Programmes lists'!F:F,\"Not found\")","v":528}]
["Foundation Phase","Specialising in English Home Language","LSTF3604",{"$f":"_xlfn.XLOOKUP(C92,'RAW module list'!A:A,'RAW module list'!B:B, \"Not found\")","v":"Life Skills Teaching 1"},{"$f":"_xlfn.XLOOKUP(C92,'RAW module list'!A:A,'RAW module list'!C:C, \"Not found\")","v":6},{"$f":"_xlfn.XLOOKUP(C92,'RAW module list'!A:A,'RAW module list'!D:D, \"Not found\")","v":16},{"$f":"_xlfn.XLOOKUP(C92,'RAW module list'!A:A,'RAW module list'!E:E, \"Not found\")","v":"LSCF1604 & LSCF2604"},"Third Year",{"$f":"_xlfn.XLOOKUP(B92,'Programmes lists'!B:B,'Programmes lists'!D:D)","v":"LC735106"},{"$f":"_xlfn.XLOOKUP(B92,'Programmes lists'!B:B,'Programmes lists'!E:E, \"Not found\")","v":0},{"$f":"_xlfn.XLOOKUP(B92,'Programmes lists'!B:B,'Programmes lists'!G:G,\"Not found\")","v":"Minimum grade 12 pass in\n•\tEnglish HL 50% \n•\tAfrikaans 55%\n•\tSesotho/isiZulu 50%"},{"$f":"_xlfn.XLOOKUP(B92,'Programmes lists'!B:B,'Programmes lists'!F:F,\"Not found\")","v":528}]
["Foundation Phase","Specialising in English Home Language","EDUB3714",{"$f":"_xlfn.XLOOKUP(C93,'RAW module list'!A:A,'RAW module list'!B:B, \"Not found\")","v":"Education Studies 3.1 Education systems in global and national context"},{"$f":"_xlfn.XLOOKUP(C93,'RAW module list'!A:A,'RAW module list'!C:C, \"Not found\")","v":7},{"$f":"_xlfn.XLOOKUP(C93,'RAW module list'!A:A,'RAW module list'!D:D, \"Not found\")","v":16},{"$f":"_xlfn.XLOOKUP(C93,'RAW module list'!A:A,'RAW module list'!E:E, \"Not found\")","v":"EDUB1613 & EDUB1623& EDUB2714 & EDUB2724"},"Third Year",{"$f":"_xlfn.XLOOKUP(B93,'Programmes lists'!B:B,'Programmes lists'!D:D)","v":"LC735106"},{"$f":"_xlfn.XLOOKUP(B93,'Programmes lists'!B:B,'Programmes lists'!E:E, \"Not found\")","v":0},{"$f":"_xlfn.XLOOKUP(B93,'Programmes lists'!B:B,'Programmes lists'!G:G,\"Not found\")","v":"Minimum grade 12 pass in\n•\tEnglish HL 50% \n•\tAfrikaans 55%\n•\tSesotho/isiZulu 50%"},{"$f":"_xlfn.XLOOKUP(B93,'Programmes lists'!B:B,'Programmes lists'!F:F,\"Not found\")","v":528}]
["Foundation Phase","Specialising in English Home Language","ECED3703",{"$f":"_xlfn.XLOOKUP(C94,'RAW module list'!A:A,'RAW module list'!B:B, \"Not found\")","v":"Early Childhood Education 1: Reception Year Studies"},{"$f":"_xlfn.XLOOKUP(C94,'RAW module list'!A:A,'RAW module list'!C:C, \"Not found\")","v":7},{"$f":"_xlfn.XLOOKUP(C94,'RAW module list'!A:A,'RAW module list'!D:D, \"Not found\")","v":12},{"$f":"_xlfn.XLOOKUP(C94,'RAW module list'!A:A,'RAW module list'!E:E, \"Not found\")","v":0},"Third Year",{"$f":"_xlfn.XLOOKUP(B94,'Programmes lists'!B:B,'Programmes lists'!D:D)","v":"LC735106"},{"$f":"_xlfn.XLOOKUP(B94,'Programmes lists'!B:B,'Programmes lists'!E:E, \"Not found\")","v":0},{"$f":"_xlfn.XLOOKUP(B94,'Programmes lists'!B:B,'Programmes lists'!G:G,\"Not found\")","v":"Minimum grade 12 pass in\n•\tEnglish HL 50% \n•\tAfrikaans 55%\n•\tSesotho/isiZulu 50%"},{"$f":"_xlfn.XLOOKUP(B94,'Programmes lists'!B:B,'Programmes lists'!F:F,\"Not found\")","v":528}]
["Foundation Phase","Specialising in English Home Language","AHTF3604 OR AATF3604",{"$f":"_xlfn.XLOOKUP(C95,'RAW module list'!A:A,'RAW module list'!B:B, \"Not found\")","v":"Afrikaans home language Teaching 1 OR Afrikaans additional Language teaching 1"},{"$f":"_xlfn.XLOOKUP(C95,'RAW module list'!A:A,'RAW module list'!C:C, \"Not found\")","v":6},{"$f":"_xlfn.XLOOKUP(C95,'RAW module list'!A:A,'RAW module list'!D:D, \"Not found\")","v":16},{"$f":"_xlfn.XLOOKUP(C95,'RAW module list'!A:A,'RAW module list'!E:E, \"Not found\")","v":"AFRT1514 & AFRL1624\nOR\nAFNT1644 & AFNL1634"},"Third Year",{"$f":"_xlfn.XLOOKUP(B95,'Programmes lists'!B:B,'Programmes lists'!D:D)","v":"LC735106"},{"$f":"_xlfn.XLOOKUP(B95,'Programmes lists'!B:B,'Programmes lists'!E:E, \"Not found\")","v":0},{"$f":"_xlfn.XLOOKUP(B95,'Programmes lists'!B:B,'Programmes lists'!G:G,\"Not found\")","v":"Minimum grade 12 pass in\n•\tEnglish HL 50% \n•\tAfrikaans 55%\n•\tSesotho/isiZulu 50%"},{"$f":"_xlfn.XLOOKUP(B95,'Programmes lists'!B:B,'Programmes lists'!F:F,\"Not found\")","v":528}]
["Foundation Phase","Specialising in English Home Language","EHTF3604",{"$f":"_xlfn.XLOOKUP(C96,'RAW module list'!A:A,'RAW module list'!B:B, \"Not found\")","v":"English Home language Teaching 1 "},{"$f":"_xlfn.XLOOKUP(C96,'RAW module list'!A:A,'RAW module list'!C:C, \"Not found\")","v":6},{"$f":"_xlfn.XLOOKUP(C96,'RAW module list'!A:A,'RAW module list'!D:D, \"Not found\")","v":16},{"$f":"_xlfn.XLOOKUP(C96,'RAW module list'!A:A,'RAW module list'!E:E, \"Not found\")","v":"ENGE1608"},"Third Year",{"$f":"_xlfn.XLOOKUP(B96,'Programmes lists'!B:B,'Programmes lists'!D:D)","v":"LC735106"},{"$f":"_xlfn.XLOOKUP(B96,'Programmes lists'!B:B,'Programmes lists'!E:E, \"Not found\")","v":0},{"$f":"_xlfn.XLOOKUP(B96,'Programmes lists'!B:B,'Programmes lists'!G:G,\"Not found\")","v":"Minimum grade 12 pass in\n•\tEnglish HL 50% \n•\tAfrikaans 55%\n•\tSesotho/isiZulu 50%"},{"$f":"_xlfn.XLOOKUP(B96,'Programmes lists'!B:B,'Programmes lists'!F:F,\"Not found\")","v":528}]
["Foundation Phase","Specialising in English Home Language","SSCL3512 OR SICL3512 OR ZUCL3512",{"$f":"_xlfn.XLOOKUP(C97,'RAW module list'!A:A,'RAW module list'!B:B, \"Not found\")","v":"Conversational Language: Sesotho OR Conversational Sign Language OR Conversational IsiZulu"},{"$f":"_xlfn.XLOOKUP(C97,'RAW module list'!A:A,'RAW module list'!C:C, \"Not found\")","v":5},{"$f":"_xlfn.XLOOKUP(C97,'RAW module list'!A:A,'RAW module list'!D:D, \"Not found\")","v":8},{"$f":"_xlfn.XLOOKUP(C97,'RAW module list'!A:A,'RAW module list'!E:E, \"Not found\")","v":"No previous exposure to the language"},"Third Year",{"$f":"_xlfn.XLOOKUP(B97,'Programmes lists'!B:B,'Programmes lists'!D:D)","v":"LC735106"},{"$f":"_xlfn.XLOOKUP(B97,'Programmes lists'!B:B,'Programmes lists'!E:E, \"Not found\")","v":0},{"$f":"_xlfn.XLOOKUP(B97,'Programmes lists'!B:B,'Programmes lists'!G:G,\"Not found\")","v":"Minimum grade 12 pass in\n•\tEnglish HL 50% \n•\tAfrikaans 55%\n•\tSesotho/isiZulu 50%"},{"$f":"_xlfn.XLOOKUP(B97,'Programmes lists'!B:B,'Programmes lists'!F:F,\"Not found\")","v":528}]
["Foundation Phase","Specialising in English Home Language","WILF3606",{"$f":"_xlfn.XLOOKUP(C98,'RAW module list'!A:A,'RAW module list'!B:B, \"Not found\")","v":"Teaching Practice 3"},{"$f":"_xlfn.XLOOKUP(C98,'RAW module list'!A:A,'RAW module list'!C:C, \"Not found\")","v":6},{"$f":"_xlfn.XLOOKUP(C98,'RAW module list'!A:A,'RAW module list'!D:D, \"Not found\")","v":24},{"$f":"_xlfn.XLOOKUP(C98,'RAW module list'!A:A,'RAW module list'!E:E, \"Not found\")","v":"TPRF2502"},"Third Year",{"$f":"_xlfn.XLOOKUP(B98,'Programmes lists'!B:B,'Programmes lists'!D:D)","v":"LC735106"},{"$f":"_xlfn.XLOOKUP(B98,'Programmes lists'!B:B,'Programmes lists'!E:E, \"Not found\")","v":0},{"$f":"_xlfn.XLOOKUP(B98,'Programmes lists'!B:B,'Programmes lists'!G:G,\"Not found\")","v":"Minimum grade 12 pass in\n•\tEnglish HL 50% \n•\tAfrikaans 55%\n•\tSesotho/isiZulu 50%"},{"$f":"_xlfn.XLOOKUP(B98,'Programmes lists'!B:B,'Programmes lists'!F:F,\"Not found\")","v":528}]
["Foundation Phase","Specialising in English Home Language","EDUB3724",{"$f":"_xlfn.XLOOKUP(C99,'RAW module list'!A:A,'RAW module list'!B:B, \"Not found\")","v":"Education Studies 3.2: Contemporary Education Theory in the current social context"},{"$f":"_xlfn.XLOOKUP(C99,'RAW module list'!A:A,'RAW module list'!C:C, \"Not found\")","v":7},{"$f":"_xlfn.XLOOKUP(C99,'RAW module list'!A:A,'RAW module list'!D:D, \"Not found\")","v":16},{"$f":"_xlfn.XLOOKUP(C99,'RAW module list'!A:A,'RAW module list'!E:E, \"Not found\")","v":"EDUB1613 & EDUB1623 & EDUB2714 & EDUB2724 & EDUB3714"},"Third Year",{"$f":"_xlfn.XLOOKUP(B99,'Programmes lists'!B:B,'Programmes lists'!D:D)","v":"LC735106"},{"$f":"_xlfn.XLOOKUP(B99,'Programmes lists'!B:B,'Programmes lists'!E:E, \"Not found\")","v":0},{"$f":"_xlfn.XLOOKUP(B99,'Programmes lists'!B:B,'Programmes lists'!G:G,\"Not found\")","v":"Minimum grade 12 pass in\n•\tEnglish HL 50% \n•\tAfrikaans 55%\n•\tSesotho/isiZulu 50%"},{"$f":"_xlfn.XLOOKUP(B99,'Programmes lists'!B:B,'Programmes lists'!F:F,\"Not found\")","v":528}]
["Foundation Phase","Specialising in English Home Language","SICL3522 OR SSCL3522 OR ZUCL3522",{"$f":"_xlfn.XLOOKUP(C100,'RAW module list'!A:A,'RAW module list'!B:B, \"Not found\")","v":"Conversational Sign Language OR Conversational Sesotho OR Conversational IsiZulu"},{"$f":"_xlfn.XLOOKUP(C100,'RAW module list'!A:A,'RAW module list'!C:C, \"Not found\")","v":5},{"$f":"_xlfn.XLOOKUP(C100,'RAW module list'!A:A,'RAW module list'!D:D, \"Not found\")","v":8},{"$f":"_xlfn.XLOOKUP(C100,'RAW module list'!A:A,'RAW module list'!E:E, \"Not found\")","v":"Continue with the conversational language  chosen in Semester 1"},"Third Year",{"$f":"_xlfn.XLOOKUP(B100,'Programmes lists'!B:B,'Programmes lists'!D:D)","v":"LC735106"},{"$f":"_xlfn.XLOOKUP(B100,'Programmes lists'!B:B,'Programmes lists'!E:E, \"Not found\")","v":0},{"$f":"_xlfn.XLOOKUP(B100,'Programmes lists'!B:B,'Programmes lists'!G:G,\"Not found\")","v":"Minimum grade 12 pass in\n•\tEnglish HL 50% \n•\tAfrikaans 55%\n•\tSesotho/isiZulu 50%"},{"$f":"_xlfn.XLOOKUP(B100,'Programmes lists'!B:B,'Programmes lists'!F:F,\"Not found\")","v":528}]
["Foundation Phase","Specialising in English Home Language","MTTF4705",{"$f":"_xlfn.XLOOKUP(C101,'RAW module list'!A:A,'RAW module list'!B:B, \"Not found\")","v":"Mathematics Teaching 2"},{"$f":"_xlfn.XLOOKUP(C101,'RAW module list'!A:A,'RAW module list'!C:C, \"Not found\")","v":7},{"$f":"_xlfn.XLOOKUP(C101,'RAW module list'!A:A,'RAW module list'!D:D, \"Not found\")","v":20},{"$f":"_xlfn.XLOOKUP(C101,'RAW module list'!A:A,'RAW module list'!E:E, \"Not found\")","v":"MTTF3604"},"Fourth Year",{"$f":"_xlfn.XLOOKUP(B101,'Programmes lists'!B:B,'Programmes lists'!D:D)","v":"LC735106"},{"$f":"_xlfn.XLOOKUP(B101,'Programmes lists'!B:B,'Programmes lists'!E:E, \"Not found\")","v":0},{"$f":"_xlfn.XLOOKUP(B101,'Programmes lists'!B:B,'Programmes lists'!G:G,\"Not found\")","v":"Minimum grade 12 pass in\n•\tEnglish HL 50% \n•\tAfrikaans 55%\n•\tSesotho/isiZulu 50%"},{"$f":"_xlfn.XLOOKUP(B101,'Programmes lists'!B:B,'Programmes lists'!F:F,\"Not found\")","v":528}]
["Foundation Phase","Specialising in English Home Language","LSTF4705",{"$f":"_xlfn.XLOOKUP(C102,'RAW module list'!A:A,'RAW module list'!B:B, \"Not found\")","v":"Life Skills Teaching 2"},{"$f":"_xlfn.XLOOKUP(C102,'RAW module list'!A:A,'RAW module list'!C:C, \"Not found\")","v":7},{"$f":"_xlfn.XLOOKUP(C102,'RAW module list'!A:A,'RAW module list'!D:D, \"Not found\")","v":20},{"$f":"_xlfn.XLOOKUP(C102,'RAW module list'!A:A,'RAW module list'!E:E, \"Not found\")","v":"LSTF3604"},"Fourth Year",{"$f":"_xlfn.XLOOKUP(B102,'Programmes lists'!B:B,'Programmes lists'!D:D)","v":"LC735106"},{"$f":"_xlfn.XLOOKUP(B102,'Programmes lists'!B:B,'Programmes lists'!E:E, \"Not found\")","v":0},{"$f":"_xlfn.XLOOKUP(B102,'Programmes lists'!B:B,'Programmes lists'!G:G,\"Not found\")","v":"Minimum grade 12 pass in\n•\tEnglish HL 50% \n•\tAfrikaans 55%\n•\tSesotho/isiZulu 50%"},{"$f":"_xlfn.XLOOKUP(B102,'Programmes lists'!B:B,'Programmes lists'!F:F,\"Not found\")","v":528}]
["Foundation Phase","Specialising in English Home Language","ECED4703",{"$f":"_xlfn.XLOOKUP(C103,'RAW module list'!A:A,'RAW module list'!B:B, \"Not found\")","v":"Early Childhood Education 2: Foundations in Early Childhood Education (birth to four years)"},{"$f":"_xlfn.XLOOKUP(C103,'RAW module list'!A:A,'RAW module list'!C:C, \"Not found\")","v":7},{"$f":"_xlfn.XLOOKUP(C103,'RAW module list'!A:A,'RAW module list'!D:D, \"Not found\")","v":12},{"$f":"_xlfn.XLOOKUP(C103,'RAW module list'!A:A,'RAW module list'!E:E, \"Not found\")","v":"ECED3703"},"Fourth Year",{"$f":"_xlfn.XLOOKUP(B103,'Programmes lists'!B:B,'Programmes lists'!D:D)","v":"LC735106"},{"$f":"_xlfn.XLOOKUP(B103,'Programmes lists'!B:B,'Programmes lists'!E:E, \"Not found\")","v":0},{"$f":"_xlfn.XLOOKUP(B103,'Programmes lists'!B:B,'Programmes lists'!G:G,\"Not found\")","v":"Minimum grade 12 pass in\n•\tEnglish HL 50% \n•\tAfrikaans 55%\n•\tSesotho/isiZulu 50%"},{"$f":"_xlfn.XLOOKUP(B103,'Programmes lists'!B:B,'Programmes lists'!F:F,\"Not found\")","v":528}]
["Foundation Phase","Specialising in English Home Language","EHTF4705",{"$f":"_xlfn.XLOOKUP(C104,'RAW module list'!A:A,'RAW module list'!B:B, \"Not found\")","v":"English Home language Teaching 2 "},{"$f":"_xlfn.XLOOKUP(C104,'RAW module list'!A:A,'RAW module list'!C:C, \"Not found\")","v":7},{"$f":"_xlfn.XLOOKUP(C104,'RAW module list'!A:A,'RAW module list'!D:D, \"Not found\")","v":20},{"$f":"_xlfn.XLOOKUP(C104,'RAW module list'!A:A,'RAW module list'!E:E, \"Not found\")","v":"EHTF3604"},"Fourth Year",{"$f":"_xlfn.XLOOKUP(B104,'Programmes lists'!B:B,'Programmes lists'!D:D)","v":"LC735106"},{"$f":"_xlfn.XLOOKUP(B104,'Programmes lists'!B:B,'Programmes lists'!E:E, \"Not found\")","v":0},{"$f":"_xlfn.XLOOKUP(B104,'Programmes lists'!B:B,'Programmes lists'!G:G,\"Not found\")","v":"Minimum grade 12 pass in\n•\tEnglish HL 50% \n•\tAfrikaans 55%\n•\tSesotho/isiZulu 50%"},{"$f":"_xlfn.XLOOKUP(B104,'Programmes lists'!B:B,'Programmes lists'!F:F,\"Not found\")","v":528}]
["Foundation Phase","Specialising in English Home Language","AHTF4705 OR AATF4705",{"$f":"_xlfn.XLOOKUP(C105,'RAW module list'!A:A,'RAW module list'!B:B, \"Not found\")","v":"Afrikaans home language Teaching 2 OR Afrikaans additional language teaching 2"},{"$f":"_xlfn.XLOOKUP(C105,'RAW module list'!A:A,'RAW module list'!C:C, \"Not found\")","v":7},{"$f":"_xlfn.XLOOKUP(C105,'RAW module list'!A:A,'RAW module list'!D:D, \"Not found\")","v":20},{"$f":"_xlfn.XLOOKUP(C105,'RAW module list'!A:A,'RAW module list'!E:E, \"Not found\")","v":"AHTF3604"},"Fourth Year",{"$f":"_xlfn.XLOOKUP(B105,'Programmes lists'!B:B,'Programmes lists'!D:D)","v":"LC735106"},{"$f":"_xlfn.XLOOKUP(B105,'Programmes lists'!B:B,'Programmes lists'!E:E, \"Not found\")","v":0},{"$f":"_xlfn.XLOOKUP(B105,'Programmes lists'!B:B,'Programmes lists'!G:G,\"Not found\")","v":"Minimum grade 12 pass in\n•\tEnglish HL 50% \n•\tAfrikaans 55%\n•\tSesotho/isiZulu 50%"},{"$f":"_xlfn.XLOOKUP(B105,'Programmes lists'!B:B,'Programmes lists'!F:F,\"Not found\")","v":528}]
["Foundation Phase","Specialising in English Home Language","WILF4700",{"$f":"_xlfn.XLOOKUP(C106,'RAW module list'!A:A,'RAW module list'!B:B, \"Not found\")","v":"Teaching Practice 4"},{"$f":"_xlfn.XLOOKUP(C106,'RAW module list'!A:A,'RAW module list'!C:C, \"Not found\")","v":7},{"$f":"_xlfn.XLOOKUP(C106,'RAW module list'!A:A,'RAW module list'!D:D, \"Not found\")","v":40},{"$f":"_xlfn.XLOOKUP(C106,'RAW module list'!A:A,'RAW module list'!E:E, \"Not found\")","v":"WILF3606"},"Fourth Year",{"$f":"_xlfn.XLOOKUP(B106,'Programmes lists'!B:B,'Programmes lists'!D:D)","v":"LC735106"},{"$f":"_xlfn.XLOOKUP(B106,'Programmes lists'!B:B,'Programmes lists'!E:E, \"Not found\")","v":0},{"$f":"_xlfn.XLOOKUP(B106,'Programmes lists'!B:B,'Programmes lists'!G:G,\"Not found\")","v":"Minimum grade 12 pass in\n•\tEnglish HL 50% \n•\tAfrikaans 55%\n•\tSesotho/isiZulu 50%"},{"$f":"_xlfn.XLOOKUP(B106,'Programmes lists'!B:B,'Programmes lists'!F:F,\"Not found\")","v":528}]
["Foundation Phase","Specialising in IsiZulu Home Language","LLST1513",{"$f":"_xlfn.XLOOKUP(C107,'RAW module list'!A:A,'RAW module list'!B:B, \"Not found\")","v":"Lifelong Learning Skills"},{"$f":"_xlfn.XLOOKUP(C107,'RAW module list'!A:A,'RAW module list'!C:C, \"Not found\")","v":5},{"$f":"_xlfn.XLOOKUP(C107,'RAW module list'!A:A,'RAW module list'!D:D, \"Not found\")","v":12},{"$f":"_xlfn.XLOOKUP(C107,'RAW module list'!A:A,'RAW module list'!E:E, \"Not found\")","v":0},"First Year",{"$f":"_xlfn.XLOOKUP(B107,'Programmes lists'!B:B,'Programmes lists'!D:D)","v":0},{"$f":"_xlfn.XLOOKUP(B107,'Programmes lists'!B:B,'Programmes lists'!E:E, \"Not found\")","v":"QC735105"},{"$f":"_xlfn.XLOOKUP(B107,'Programmes lists'!B:B,'Programmes lists'!G:G,\"Not found\")","v":"Minimum grade 12 pass in\n•\tIsiZulu HL 50% \n•\tEnglish FAL 50%"},{"$f":"_xlfn.XLOOKUP(B107,'Programmes lists'!B:B,'Programmes lists'!F:F,\"Not found\")","v":528}]
["Foundation Phase","Specialising in IsiZulu Home Language","ENGE1608",{"$f":"_xlfn.XLOOKUP(C108,'RAW module list'!A:A,'RAW module list'!B:B, \"Not found\")","v":"English Language for Education "},{"$f":"_xlfn.XLOOKUP(C108,'RAW module list'!A:A,'RAW module list'!C:C, \"Not found\")","v":6},{"$f":"_xlfn.XLOOKUP(C108,'RAW module list'!A:A,'RAW module list'!D:D, \"Not found\")","v":32},{"$f":"_xlfn.XLOOKUP(C108,'RAW module list'!A:A,'RAW module list'!E:E, \"Not found\")","v":0},"First Year",{"$f":"_xlfn.XLOOKUP(B108,'Programmes lists'!B:B,'Programmes lists'!D:D)","v":0},{"$f":"_xlfn.XLOOKUP(B108,'Programmes lists'!B:B,'Programmes lists'!E:E, \"Not found\")","v":"QC735105"},{"$f":"_xlfn.XLOOKUP(B108,'Programmes lists'!B:B,'Programmes lists'!G:G,\"Not found\")","v":"Minimum grade 12 pass in\n•\tIsiZulu HL 50% \n•\tEnglish FAL 50%"},{"$f":"_xlfn.XLOOKUP(B108,'Programmes lists'!B:B,'Programmes lists'!F:F,\"Not found\")","v":528}]
["Foundation Phase","Specialising in IsiZulu Home Language","LSCF1604",{"$f":"_xlfn.XLOOKUP(C109,'RAW module list'!A:A,'RAW module list'!B:B, \"Not found\")","v":"Life Skills Content 1: Foundation Phase"},{"$f":"_xlfn.XLOOKUP(C109,'RAW module list'!A:A,'RAW module list'!C:C, \"Not found\")","v":5},{"$f":"_xlfn.XLOOKUP(C109,'RAW module list'!A:A,'RAW module list'!D:D, \"Not found\")","v":16},{"$f":"_xlfn.XLOOKUP(C109,'RAW module list'!A:A,'RAW module list'!E:E, \"Not found\")","v":0},"First Year",{"$f":"_xlfn.XLOOKUP(B109,'Programmes lists'!B:B,'Programmes lists'!D:D)","v":0},{"$f":"_xlfn.XLOOKUP(B109,'Programmes lists'!B:B,'Programmes lists'!E:E, \"Not found\")","v":"QC735105"},{"$f":"_xlfn.XLOOKUP(B109,'Programmes lists'!B:B,'Programmes lists'!G:G,\"Not found\")","v":"Minimum grade 12 pass in\n•\tIsiZulu HL 50% \n•\tEnglish FAL 50%"},{"$f":"_xlfn.XLOOKUP(B109,'Programmes lists'!B:B,'Programmes lists'!F:F,\"Not found\")","v":528}]
["Foundation Phase","Specialising in IsiZulu Home Language","MTCF1604",{"$f":"_xlfn.XLOOKUP(C110,'RAW module list'!A:A,'RAW module list'!B:B, \"Not found\")","v":"Mathematics Content 1: Numbers, Operations, Relationships, Patterns, Functions and Algebra"},{"$f":"_xlfn.XLOOKUP(C110,'RAW module list'!A:A,'RAW module list'!C:C, \"Not found\")","v":5},{"$f":"_xlfn.XLOOKUP(C110,'RAW module list'!A:A,'RAW module list'!D:D, \"Not found\")","v":16},{"$f":"_xlfn.XLOOKUP(C110,'RAW module list'!A:A,'RAW module list'!E:E, \"Not found\")","v":0},"First Year",{"$f":"_xlfn.XLOOKUP(B110,'Programmes lists'!B:B,'Programmes lists'!D:D)","v":0},{"$f":"_xlfn.XLOOKUP(B110,'Programmes lists'!B:B,'Programmes lists'!E:E, \"Not found\")","v":"QC735105"},{"$f":"_xlfn.XLOOKUP(B110,'Programmes lists'!B:B,'Programmes lists'!G:G,\"Not found\")","v":"Minimum grade 12 pass in\n•\tIsiZulu HL 50% \n•\tEnglish FAL 50%"},{"$f":"_xlfn.XLOOKUP(B110,'Programmes lists'!B:B,'Programmes lists'!F:F,\"Not found\")","v":528}]
["Foundation Phase","Specialising in IsiZulu Home Language","EDUB1613",{"$f":"_xlfn.XLOOKUP(C111,'RAW module list'!A:A,'RAW module list'!B:B, \"Not found\")","v":"Education Studies 1.1 The Individual in the learning context"},{"$f":"_xlfn.XLOOKUP(C111,'RAW module list'!A:A,'RAW module list'!C:C, \"Not found\")","v":6},{"$f":"_xlfn.XLOOKUP(C111,'RAW module list'!A:A,'RAW module list'!D:D, \"Not found\")","v":12},{"$f":"_xlfn.XLOOKUP(C111,'RAW module list'!A:A,'RAW module list'!E:E, \"Not found\")","v":0},"First Year",{"$f":"_xlfn.XLOOKUP(B111,'Programmes lists'!B:B,'Programmes lists'!D:D)","v":0},{"$f":"_xlfn.XLOOKUP(B111,'Programmes lists'!B:B,'Programmes lists'!E:E, \"Not found\")","v":"QC735105"},{"$f":"_xlfn.XLOOKUP(B111,'Programmes lists'!B:B,'Programmes lists'!G:G,\"Not found\")","v":"Minimum grade 12 pass in\n•\tIsiZulu HL 50% \n•\tEnglish FAL 50%"},{"$f":"_xlfn.XLOOKUP(B111,'Programmes lists'!B:B,'Programmes lists'!F:F,\"Not found\")","v":528}]
["Foundation Phase","Specialising in IsiZulu Home Language","TPRF1502",{"$f":"_xlfn.XLOOKUP(C112,'RAW module list'!A:A,'RAW module list'!B:B, \"Not found\")","v":"Teaching Practice 1 for Foundation Phase"},{"$f":"_xlfn.XLOOKUP(C112,'RAW module list'!A:A,'RAW module list'!C:C, \"Not found\")","v":5},{"$f":"_xlfn.XLOOKUP(C112,'RAW module list'!A:A,'RAW module list'!D:D, \"Not found\")","v":8},{"$f":"_xlfn.XLOOKUP(C112,'RAW module list'!A:A,'RAW module list'!E:E, \"Not found\")","v":0},"First Year",{"$f":"_xlfn.XLOOKUP(B112,'Programmes lists'!B:B,'Programmes lists'!D:D)","v":0},{"$f":"_xlfn.XLOOKUP(B112,'Programmes lists'!B:B,'Programmes lists'!E:E, \"Not found\")","v":"QC735105"},{"$f":"_xlfn.XLOOKUP(B112,'Programmes lists'!B:B,'Programmes lists'!G:G,\"Not found\")","v":"Minimum grade 12 pass in\n•\tIsiZulu HL 50% \n•\tEnglish FAL 50%"},{"$f":"_xlfn.XLOOKUP(B112,'Programmes lists'!B:B,'Programmes lists'!F:F,\"Not found\")","v":528}]
["Foundation Phase","Specialising in IsiZulu Home Language","EALT1508",{"$f":"_xlfn.XLOOKUP(C113,'RAW module list'!A:A,'RAW module list'!B:B, \"Not found\")","v":"English Academic Literacy for Education "},{"$f":"_xlfn.XLOOKUP(C113,'RAW module list'!A:A,'RAW module list'!C:C, \"Not found\")","v":5},{"$f":"_xlfn.XLOOKUP(C113,'RAW module list'!A:A,'RAW module list'!D:D, \"Not found\")","v":-32},{"$f":"_xlfn.XLOOKUP(C113,'RAW module list'!A:A,'RAW module list'!E:E, \"Not found\")","v":"NBT requirements not met"},"First Year",{"$f":"_xlfn.XLOOKUP(B113,'Programmes lists'!B:B,'Programmes lists'!D:D)","v":0},{"$f":"_xlfn.XLOOKUP(B113,'Programmes lists'!B:B,'Programmes lists'!E:E, \"Not found\")","v":"QC735105"},{"$f":"_xlfn.XLOOKUP(B113,'Programmes lists'!B:B,'Programmes lists'!G:G,\"Not found\")","v":"Minimum grade 12 pass in\n•\tIsiZulu HL 50% \n•\tEnglish FAL 50%"},{"$f":"_xlfn.XLOOKUP(B113,'Programmes lists'!B:B,'Programmes lists'!F:F,\"Not found\")","v":528}]
["Foundation Phase","Specialising in IsiZulu Home Language","UFSS1504",{"$f":"_xlfn.XLOOKUP(C114,'RAW module list'!A:A,'RAW module list'!B:B, \"Not found\")","v":"Undergraduate core curriculum"},{"$f":"_xlfn.XLOOKUP(C114,'RAW module list'!A:A,'RAW module list'!C:C, \"Not found\")","v":5},{"$f":"_xlfn.XLOOKUP(C114,'RAW module list'!A:A,'RAW module list'!D:D, \"Not found\")","v":-16},{"$f":"_xlfn.XLOOKUP(C114,'RAW module list'!A:A,'RAW module list'!E:E, \"Not found\")","v":0},"First Year",{"$f":"_xlfn.XLOOKUP(B114,'Programmes lists'!B:B,'Programmes lists'!D:D)","v":0},{"$f":"_xlfn.XLOOKUP(B114,'Programmes lists'!B:B,'Programmes lists'!E:E, \"Not found\")","v":"QC735105"},{"$f":"_xlfn.XLOOKUP(B114,'Programmes lists'!B:B,'Programmes lists'!G:G,\"Not found\")","v":"Minimum grade 12 pass in\n•\tIsiZulu HL 50% \n•\tEnglish FAL 50%"},{"$f":"_xlfn.XLOOKUP(B114,'Programmes lists'!B:B,'Programmes lists'!F:F,\"Not found\")","v":528}]
["Foundation Phase","Specialising in IsiZulu Home Language","EDUB1623",{"$f":"_xlfn.XLOOKUP(C115,'RAW module list'!A:A,'RAW module list'!B:B, \"Not found\")","v":"Education Studies 1.2 What it means to educate: Theoretical perspectives and their significance for SA education"},{"$f":"_xlfn.XLOOKUP(C115,'RAW module list'!A:A,'RAW module list'!C:C, \"Not found\")","v":6},{"$f":"_xlfn.XLOOKUP(C115,'RAW module list'!A:A,'RAW module list'!D:D, \"Not found\")","v":12},{"$f":"_xlfn.XLOOKUP(C115,'RAW module list'!A:A,'RAW module list'!E:E, \"Not found\")","v":0},"First Year",{"$f":"_xlfn.XLOOKUP(B115,'Programmes lists'!B:B,'Programmes lists'!D:D)","v":0},{"$f":"_xlfn.XLOOKUP(B115,'Programmes lists'!B:B,'Programmes lists'!E:E, \"Not found\")","v":"QC735105"},{"$f":"_xlfn.XLOOKUP(B115,'Programmes lists'!B:B,'Programmes lists'!G:G,\"Not found\")","v":"Minimum grade 12 pass in\n•\tIsiZulu HL 50% \n•\tEnglish FAL 50%"},{"$f":"_xlfn.XLOOKUP(B115,'Programmes lists'!B:B,'Programmes lists'!F:F,\"Not found\")","v":528}]
["Foundation Phase","Specialising in IsiZulu Home Language","PEDF1623",{"$f":"_xlfn.XLOOKUP(C116,'RAW module list'!A:A,'RAW module list'!B:B, \"Not found\")","v":"General Pedagogy 1: Early Childhood Development and Learning (birth to nine years)"},{"$f":"_xlfn.XLOOKUP(C116,'RAW module list'!A:A,'RAW module list'!C:C, \"Not found\")","v":6},{"$f":"_xlfn.XLOOKUP(C116,'RAW module list'!A:A,'RAW module list'!D:D, \"Not found\")","v":12},{"$f":"_xlfn.XLOOKUP(C116,'RAW module list'!A:A,'RAW module list'!E:E, \"Not found\")","v":0},"First Year",{"$f":"_xlfn.XLOOKUP(B116,'Programmes lists'!B:B,'Programmes lists'!D:D)","v":0},{"$f":"_xlfn.XLOOKUP(B116,'Programmes lists'!B:B,'Programmes lists'!E:E, \"Not found\")","v":"QC735105"},{"$f":"_xlfn.XLOOKUP(B116,'Programmes lists'!B:B,'Programmes lists'!G:G,\"Not found\")","v":"Minimum grade 12 pass in\n•\tIsiZulu HL 50% \n•\tEnglish FAL 50%"},{"$f":"_xlfn.XLOOKUP(B116,'Programmes lists'!B:B,'Programmes lists'!F:F,\"Not found\")","v":528}]
["Foundation Phase","Specialising in IsiZulu Home Language","MTCF2604",{"$f":"_xlfn.XLOOKUP(C117,'RAW module list'!A:A,'RAW module list'!B:B, \"Not found\")","v":"Mathematics content 2: Algebra, Geometry, Measurement and Statistics in the Foundation Phase"},{"$f":"_xlfn.XLOOKUP(C117,'RAW module list'!A:A,'RAW module list'!C:C, \"Not found\")","v":6},{"$f":"_xlfn.XLOOKUP(C117,'RAW module list'!A:A,'RAW module list'!D:D, \"Not found\")","v":16},{"$f":"_xlfn.XLOOKUP(C117,'RAW module list'!A:A,'RAW module list'!E:E, \"Not found\")","v":"MTCF1604"},"Second Year",{"$f":"_xlfn.XLOOKUP(B117,'Programmes lists'!B:B,'Programmes lists'!D:D)","v":0},{"$f":"_xlfn.XLOOKUP(B117,'Programmes lists'!B:B,'Programmes lists'!E:E, \"Not found\")","v":"QC735105"},{"$f":"_xlfn.XLOOKUP(B117,'Programmes lists'!B:B,'Programmes lists'!G:G,\"Not found\")","v":"Minimum grade 12 pass in\n•\tIsiZulu HL 50% \n•\tEnglish FAL 50%"},{"$f":"_xlfn.XLOOKUP(B117,'Programmes lists'!B:B,'Programmes lists'!F:F,\"Not found\")","v":528}]
["Foundation Phase","Specialising in IsiZulu Home Language","LSCF2604",{"$f":"_xlfn.XLOOKUP(C118,'RAW module list'!A:A,'RAW module list'!B:B, \"Not found\")","v":"Life Skills content 2: Foundation Phase"},{"$f":"_xlfn.XLOOKUP(C118,'RAW module list'!A:A,'RAW module list'!C:C, \"Not found\")","v":6},{"$f":"_xlfn.XLOOKUP(C118,'RAW module list'!A:A,'RAW module list'!D:D, \"Not found\")","v":16},{"$f":"_xlfn.XLOOKUP(C118,'RAW module list'!A:A,'RAW module list'!E:E, \"Not found\")","v":"LSCF1604"},"Second Year",{"$f":"_xlfn.XLOOKUP(B118,'Programmes lists'!B:B,'Programmes lists'!D:D)","v":0},{"$f":"_xlfn.XLOOKUP(B118,'Programmes lists'!B:B,'Programmes lists'!E:E, \"Not found\")","v":"QC735105"},{"$f":"_xlfn.XLOOKUP(B118,'Programmes lists'!B:B,'Programmes lists'!G:G,\"Not found\")","v":"Minimum grade 12 pass in\n•\tIsiZulu HL 50% \n•\tEnglish FAL 50%"},{"$f":"_xlfn.XLOOKUP(B118,'Programmes lists'!B:B,'Programmes lists'!F:F,\"Not found\")","v":528}]
["Foundation Phase","Specialising in IsiZulu Home Language","EDUB2714",{"$f":"_xlfn.XLOOKUP(C119,'RAW module list'!A:A,'RAW module list'!B:B, \"Not found\")","v":"Education Studies 2: Teaching and Learning in Education Context"},{"$f":"_xlfn.XLOOKUP(C119,'RAW module list'!A:A,'RAW module list'!C:C, \"Not found\")","v":7},{"$f":"_xlfn.XLOOKUP(C119,'RAW module list'!A:A,'RAW module list'!D:D, \"Not found\")","v":16},{"$f":"_xlfn.XLOOKUP(C119,'RAW module list'!A:A,'RAW module list'!E:E, \"Not found\")","v":"EDUB1613 & EDUB1623"},"Second Year",{"$f":"_xlfn.XLOOKUP(B119,'Programmes lists'!B:B,'Programmes lists'!D:D)","v":0},{"$f":"_xlfn.XLOOKUP(B119,'Programmes lists'!B:B,'Programmes lists'!E:E, \"Not found\")","v":"QC735105"},{"$f":"_xlfn.XLOOKUP(B119,'Programmes lists'!B:B,'Programmes lists'!G:G,\"Not found\")","v":"Minimum grade 12 pass in\n•\tIsiZulu HL 50% \n•\tEnglish FAL 50%"},{"$f":"_xlfn.XLOOKUP(B119,'Programmes lists'!B:B,'Programmes lists'!F:F,\"Not found\")","v":528}]
["Foundation Phase","Specialising in IsiZulu Home Language","PEDF2613",{"$f":"_xlfn.XLOOKUP(C120,'RAW module list'!A:A,'RAW module list'!B:B, \"Not found\")","v":"General Pedagogy 2: Learning in an inclusive environment"},{"$f":"_xlfn.XLOOKUP(C120,'RAW module list'!A:A,'RAW module list'!C:C, \"Not found\")","v":6},{"$f":"_xlfn.XLOOKUP(C120,'RAW module list'!A:A,'RAW module list'!D:D, \"Not found\")","v":12},{"$f":"_xlfn.XLOOKUP(C120,'RAW module list'!A:A,'RAW module list'!E:E, \"Not found\")","v":"PEDF1623"},"Second Year",{"$f":"_xlfn.XLOOKUP(B120,'Programmes lists'!B:B,'Programmes lists'!D:D)","v":0},{"$f":"_xlfn.XLOOKUP(B120,'Programmes lists'!B:B,'Programmes lists'!E:E, \"Not found\")","v":"QC735105"},{"$f":"_xlfn.XLOOKUP(B120,'Programmes lists'!B:B,'Programmes lists'!G:G,\"Not found\")","v":"Minimum grade 12 pass in\n•\tIsiZulu HL 50% \n•\tEnglish FAL 50%"},{"$f":"_xlfn.XLOOKUP(B120,'Programmes lists'!B:B,'Programmes lists'!F:F,\"Not found\")","v":528}]
["Foundation Phase","Specialising in IsiZulu Home Language","TPRF2502",{"$f":"_xlfn.XLOOKUP(C121,'RAW module list'!A:A,'RAW module list'!B:B, \"Not found\")","v":"Teaching Practice  2"},{"$f":"_xlfn.XLOOKUP(C121,'RAW module list'!A:A,'RAW module list'!C:C, \"Not found\")","v":5},{"$f":"_xlfn.XLOOKUP(C121,'RAW module list'!A:A,'RAW module list'!D:D, \"Not found\")","v":8},{"$f":"_xlfn.XLOOKUP(C121,'RAW module list'!A:A,'RAW module list'!E:E, \"Not found\")","v":"TPRF1502"},"Second Year",{"$f":"_xlfn.XLOOKUP(B121,'Programmes lists'!B:B,'Programmes lists'!D:D)","v":0},{"$f":"_xlfn.XLOOKUP(B121,'Programmes lists'!B:B,'Programmes lists'!E:E, \"Not found\")","v":"QC735105"},{"$f":"_xlfn.XLOOKUP(B121,'Programmes lists'!B:B,'Programmes lists'!G:G,\"Not found\")","v":"Minimum grade 12 pass in\n•\tIsiZulu HL 50% \n•\tEnglish FAL 50%"},{"$f":"_xlfn.XLOOKUP(B121,'Programmes lists'!B:B,'Programmes lists'!F:F,\"Not found\")","v":528}]
["Foundation Phase","Specialising in IsiZulu Home Language","ZULL1514",{"$f":"_xlfn.XLOOKUP(C122,'RAW module list'!A:A,'RAW module list'!B:B, \"Not found\")","v":"IsiZulu: Introduction to Linguistics"},{"$f":"_xlfn.XLOOKUP(C122,'RAW module list'!A:A,'RAW module list'!C:C, \"Not found\")","v":5},{"$f":"_xlfn.XLOOKUP(C122,'RAW module list'!A:A,'RAW module list'!D:D, \"Not found\")","v":16},{"$f":"_xlfn.XLOOKUP(C122,'RAW module list'!A:A,'RAW module list'!E:E, \"Not found\")","v":0},"Second Year",{"$f":"_xlfn.XLOOKUP(B122,'Programmes lists'!B:B,'Programmes lists'!D:D)","v":0},{"$f":"_xlfn.XLOOKUP(B122,'Programmes lists'!B:B,'Programmes lists'!E:E, \"Not found\")","v":"QC735105"},{"$f":"_xlfn.XLOOKUP(B122,'Programmes lists'!B:B,'Programmes lists'!G:G,\"Not found\")","v":"Minimum grade 12 pass in\n•\tIsiZulu HL 50% \n•\tEnglish FAL 50%"},{"$f":"_xlfn.XLOOKUP(B122,'Programmes lists'!B:B,'Programmes lists'!F:F,\"Not found\")","v":528}]
["Foundation Phase","Specialising in IsiZulu Home Language","EDUB2724",{"$f":"_xlfn.XLOOKUP(C123,'RAW module list'!A:A,'RAW module list'!B:B, \"Not found\")","v":"Education Studies 2: Human Relationships in Education context"},{"$f":"_xlfn.XLOOKUP(C123,'RAW module list'!A:A,'RAW module list'!C:C, \"Not found\")","v":7},{"$f":"_xlfn.XLOOKUP(C123,'RAW module list'!A:A,'RAW module list'!D:D, \"Not found\")","v":16},{"$f":"_xlfn.XLOOKUP(C123,'RAW module list'!A:A,'RAW module list'!E:E, \"Not found\")","v":"EDUB2714"},"Second Year",{"$f":"_xlfn.XLOOKUP(B123,'Programmes lists'!B:B,'Programmes lists'!D:D)","v":0},{"$f":"_xlfn.XLOOKUP(B123,'Programmes lists'!B:B,'Programmes lists'!E:E, \"Not found\")","v":"QC735105"},{"$f":"_xlfn.XLOOKUP(B123,'Programmes lists'!B:B,'Programmes lists'!G:G,\"Not found\")","v":"Minimum grade 12 pass in\n•\tIsiZulu HL 50% \n•\tEnglish FAL 50%"},{"$f":"_xlfn.XLOOKUP(B123,'Programmes lists'!B:B,'Programmes lists'!F:F,\"Not found\")","v":528}]
["Foundation Phase","Specialising in IsiZulu Home Language","PEDF2623",{"$f":"_xlfn.XLOOKUP(C124,'RAW module list'!A:A,'RAW module list'!B:B, \"Not found\")","v":"General Pedagogy 2: Teaching and Learning in the Foundation Phase"},{"$f":"_xlfn.XLOOKUP(C124,'RAW module list'!A:A,'RAW module list'!C:C, \"Not found\")","v":6},{"$f":"_xlfn.XLOOKUP(C124,'RAW module list'!A:A,'RAW module list'!D:D, \"Not found\")","v":12},{"$f":"_xlfn.XLOOKUP(C124,'RAW module list'!A:A,'RAW module list'!E:E, \"Not found\")","v":"PEDF2613"},"Second Year",{"$f":"_xlfn.XLOOKUP(B124,'Programmes lists'!B:B,'Programmes lists'!D:D)","v":0},{"$f":"_xlfn.XLOOKUP(B124,'Programmes lists'!B:B,'Programmes lists'!E:E, \"Not found\")","v":"QC735105"},{"$f":"_xlfn.XLOOKUP(B124,'Programmes lists'!B:B,'Programmes lists'!G:G,\"Not found\")","v":"Minimum grade 12 pass in\n•\tIsiZulu HL 50% \n•\tEnglish FAL 50%"},{"$f":"_xlfn.XLOOKUP(B124,'Programmes lists'!B:B,'Programmes lists'!F:F,\"Not found\")","v":528}]
["Foundation Phase","Specialising in IsiZulu Home Language","ZULT1524",{"$f":"_xlfn.XLOOKUP(C125,'RAW module list'!A:A,'RAW module list'!B:B, \"Not found\")","v":"IsiZulu: Introduction to Literature"},{"$f":"_xlfn.XLOOKUP(C125,'RAW module list'!A:A,'RAW module list'!C:C, \"Not found\")","v":6},{"$f":"_xlfn.XLOOKUP(C125,'RAW module list'!A:A,'RAW module list'!D:D, \"Not found\")","v":16},{"$f":"_xlfn.XLOOKUP(C125,'RAW module list'!A:A,'RAW module list'!E:E, \"Not found\")","v":"ZULL1514"},"Second Year",{"$f":"_xlfn.XLOOKUP(B125,'Programmes lists'!B:B,'Programmes lists'!D:D)","v":0},{"$f":"_xlfn.XLOOKUP(B125,'Programmes lists'!B:B,'Programmes lists'!E:E, \"Not found\")","v":"QC735105"},{"$f":"_xlfn.XLOOKUP(B125,'Programmes lists'!B:B,'Programmes lists'!G:G,\"Not found\")","v":"Minimum grade 12 pass in\n•\tIsiZulu HL 50% \n•\tEnglish FAL 50%"},{"$f":"_xlfn.XLOOKUP(B125,'Programmes lists'!B:B,'Programmes lists'!F:F,\"Not found\")","v":528}]
["Foundation Phase","Specialising in IsiZulu Home Language","MTTF3604",{"$f":"_xlfn.XLOOKUP(C126,'RAW module list'!A:A,'RAW module list'!B:B, \"Not found\")","v":"Mathematics Teaching 1"},{"$f":"_xlfn.XLOOKUP(C126,'RAW module list'!A:A,'RAW module list'!C:C, \"Not found\")","v":6},{"$f":"_xlfn.XLOOKUP(C126,'RAW module list'!A:A,'RAW module list'!D:D, \"Not found\")","v":16},{"$f":"_xlfn.XLOOKUP(C126,'RAW module list'!A:A,'RAW module list'!E:E, \"Not found\")","v":"MTCF1604 & MTCF2604"},"Third Year",{"$f":"_xlfn.XLOOKUP(B126,'Programmes lists'!B:B,'Programmes lists'!D:D)","v":0},{"$f":"_xlfn.XLOOKUP(B126,'Programmes lists'!B:B,'Programmes lists'!E:E, \"Not found\")","v":"QC735105"},{"$f":"_xlfn.XLOOKUP(B126,'Programmes lists'!B:B,'Programmes lists'!G:G,\"Not found\")","v":"Minimum grade 12 pass in\n•\tIsiZulu HL 50% \n•\tEnglish FAL 50%"},{"$f":"_xlfn.XLOOKUP(B126,'Programmes lists'!B:B,'Programmes lists'!F:F,\"Not found\")","v":528}]
["Foundation Phase","Specialising in IsiZulu Home Language","LSTF3604",{"$f":"_xlfn.XLOOKUP(C127,'RAW module list'!A:A,'RAW module list'!B:B, \"Not found\")","v":"Life Skills Teaching 1"},{"$f":"_xlfn.XLOOKUP(C127,'RAW module list'!A:A,'RAW module list'!C:C, \"Not found\")","v":6},{"$f":"_xlfn.XLOOKUP(C127,'RAW module list'!A:A,'RAW module list'!D:D, \"Not found\")","v":16},{"$f":"_xlfn.XLOOKUP(C127,'RAW module list'!A:A,'RAW module list'!E:E, \"Not found\")","v":"LSCF1604 & LSCF2604"},"Third Year",{"$f":"_xlfn.XLOOKUP(B127,'Programmes lists'!B:B,'Programmes lists'!D:D)","v":0},{"$f":"_xlfn.XLOOKUP(B127,'Programmes lists'!B:B,'Programmes lists'!E:E, \"Not found\")","v":"QC735105"},{"$f":"_xlfn.XLOOKUP(B127,'Programmes lists'!B:B,'Programmes lists'!G:G,\"Not found\")","v":"Minimum grade 12 pass in\n•\tIsiZulu HL 50% \n•\tEnglish FAL 50%"},{"$f":"_xlfn.XLOOKUP(B127,'Programmes lists'!B:B,'Programmes lists'!F:F,\"Not found\")","v":528}]
["Foundation Phase","Specialising in IsiZulu Home Language","EDUB3714",{"$f":"_xlfn.XLOOKUP(C128,'RAW module list'!A:A,'RAW module list'!B:B, \"Not found\")","v":"Education Studies 3.1 Education systems in global and national context"},{"$f":"_xlfn.XLOOKUP(C128,'RAW module list'!A:A,'RAW module list'!C:C, \"Not found\")","v":7},{"$f":"_xlfn.XLOOKUP(C128,'RAW module list'!A:A,'RAW module list'!D:D, \"Not found\")","v":16},{"$f":"_xlfn.XLOOKUP(C128,'RAW module list'!A:A,'RAW module list'!E:E, \"Not found\")","v":"EDUB1613 & EDUB1623& EDUB2714 & EDUB2724"},"Third Year",{"$f":"_xlfn.XLOOKUP(B128,'Programmes lists'!B:B,'Programmes lists'!D:D)","v":0},{"$f":"_xlfn.XLOOKUP(B128,'Programmes lists'!B:B,'Programmes lists'!E:E, \"Not found\")","v":"QC735105"},{"$f":"_xlfn.XLOOKUP(B128,'Programmes lists'!B:B,'Programmes lists'!G:G,\"Not found\")","v":"Minimum grade 12 pass in\n•\tIsiZulu HL 50% \n•\tEnglish FAL 50%"},{"$f":"_xlfn.XLOOKUP(B128,'Programmes lists'!B:B,'Programmes lists'!F:F,\"Not found\")","v":528}]
["Foundation Phase","Specialising in IsiZulu Home Language","ECED3703",{"$f":"_xlfn.XLOOKUP(C129,'RAW module list'!A:A,'RAW module list'!B:B, \"Not found\")","v":"Early Childhood Education 1: Reception Year Studies"},{"$f":"_xlfn.XLOOKUP(C129,'RAW module list'!A:A,'RAW module list'!C:C, \"Not found\")","v":7},{"$f":"_xlfn.XLOOKUP(C129,'RAW module list'!A:A,'RAW module list'!D:D, \"Not found\")","v":12},{"$f":"_xlfn.XLOOKUP(C129,'RAW module list'!A:A,'RAW module list'!E:E, \"Not found\")","v":0},"Third Year",{"$f":"_xlfn.XLOOKUP(B129,'Programmes lists'!B:B,'Programmes lists'!D:D)","v":0},{"$f":"_xlfn.XLOOKUP(B129,'Programmes lists'!B:B,'Programmes lists'!E:E, \"Not found\")","v":"QC735105"},{"$f":"_xlfn.XLOOKUP(B129,'Programmes lists'!B:B,'Programmes lists'!G:G,\"Not found\")","v":"Minimum grade 12 pass in\n•\tIsiZulu HL 50% \n•\tEnglish FAL 50%"},{"$f":"_xlfn.XLOOKUP(B129,'Programmes lists'!B:B,'Programmes lists'!F:F,\"Not found\")","v":528}]
["Foundation Phase","Specialising in IsiZulu Home Language","ZHTF3604",{"$f":"_xlfn.XLOOKUP(C130,'RAW module list'!A:A,'RAW module list'!B:B, \"Not found\")","v":"IsiZulu Teaching 1 (Home Language)"},{"$f":"_xlfn.XLOOKUP(C130,'RAW module list'!A:A,'RAW module list'!C:C, \"Not found\")","v":6},{"$f":"_xlfn.XLOOKUP(C130,'RAW module list'!A:A,'RAW module list'!D:D, \"Not found\")","v":16},{"$f":"_xlfn.XLOOKUP(C130,'RAW module list'!A:A,'RAW module list'!E:E, \"Not found\")","v":"ZULL1514 & ZULT1524"},"Third Year",{"$f":"_xlfn.XLOOKUP(B130,'Programmes lists'!B:B,'Programmes lists'!D:D)","v":0},{"$f":"_xlfn.XLOOKUP(B130,'Programmes lists'!B:B,'Programmes lists'!E:E, \"Not found\")","v":"QC735105"},{"$f":"_xlfn.XLOOKUP(B130,'Programmes lists'!B:B,'Programmes lists'!G:G,\"Not found\")","v":"Minimum grade 12 pass in\n•\tIsiZulu HL 50% \n•\tEnglish FAL 50%"},{"$f":"_xlfn.XLOOKUP(B130,'Programmes lists'!B:B,'Programmes lists'!F:F,\"Not found\")","v":528}]
["Foundation Phase","Specialising in IsiZulu Home Language","EATF3604",{"$f":"_xlfn.XLOOKUP(C131,'RAW module list'!A:A,'RAW module list'!B:B, \"Not found\")","v":"English additional language teaching 1 "},{"$f":"_xlfn.XLOOKUP(C131,'RAW module list'!A:A,'RAW module list'!C:C, \"Not found\")","v":6},{"$f":"_xlfn.XLOOKUP(C131,'RAW module list'!A:A,'RAW module list'!D:D, \"Not found\")","v":16},{"$f":"_xlfn.XLOOKUP(C131,'RAW module list'!A:A,'RAW module list'!E:E, \"Not found\")","v":"ENGE1608"},"Third Year",{"$f":"_xlfn.XLOOKUP(B131,'Programmes lists'!B:B,'Programmes lists'!D:D)","v":0},{"$f":"_xlfn.XLOOKUP(B131,'Programmes lists'!B:B,'Programmes lists'!E:E, \"Not found\")","v":"QC735105"},{"$f":"_xlfn.XLOOKUP(B131,'Programmes lists'!B:B,'Programmes lists'!G:G,\"Not found\")","v":"Minimum grade 12 pass in\n•\tIsiZulu HL 50% \n•\tEnglish FAL 50%"},{"$f":"_xlfn.XLOOKUP(B131,'Programmes lists'!B:B,'Programmes lists'!F:F,\"Not found\")","v":528}]
["Foundation Phase","Specialising in IsiZulu Home Language","SSCL3512 OR SICL3512 OR GAFR3512",{"$f":"_xlfn.XLOOKUP(C132,'RAW module list'!A:A,'RAW module list'!B:B, \"Not found\")","v":"Conversational Sesotho OR Conversational Sign Language OR Conversational Afrikaans"},{"$f":"_xlfn.XLOOKUP(C132,'RAW module list'!A:A,'RAW module list'!C:C, \"Not found\")","v":5},{"$f":"_xlfn.XLOOKUP(C132,'RAW module list'!A:A,'RAW module list'!D:D, \"Not found\")","v":8},{"$f":"_xlfn.XLOOKUP(C132,'RAW module list'!A:A,'RAW module list'!E:E, \"Not found\")","v":"No previous exposure to the language"},"Third Year",{"$f":"_xlfn.XLOOKUP(B132,'Programmes lists'!B:B,'Programmes lists'!D:D)","v":0},{"$f":"_xlfn.XLOOKUP(B132,'Programmes lists'!B:B,'Programmes lists'!E:E, \"Not found\")","v":"QC735105"},{"$f":"_xlfn.XLOOKUP(B132,'Programmes lists'!B:B,'Programmes lists'!G:G,\"Not found\")","v":"Minimum grade 12 pass in\n•\tIsiZulu HL 50% \n•\tEnglish FAL 50%"},{"$f":"_xlfn.XLOOKUP(B132,'Programmes lists'!B:B,'Programmes lists'!F:F,\"Not found\")","v":528}]
["Foundation Phase","Specialising in IsiZulu Home Language","WILF3606",{"$f":"_xlfn.XLOOKUP(C133,'RAW module list'!A:A,'RAW module list'!B:B, \"Not found\")","v":"Teaching Practice 3"},{"$f":"_xlfn.XLOOKUP(C133,'RAW module list'!A:A,'RAW module list'!C:C, \"Not found\")","v":6},{"$f":"_xlfn.XLOOKUP(C133,'RAW module list'!A:A,'RAW module list'!D:D, \"Not found\")","v":24},{"$f":"_xlfn.XLOOKUP(C133,'RAW module list'!A:A,'RAW module list'!E:E, \"Not found\")","v":"TPRF2502"},"Third Year",{"$f":"_xlfn.XLOOKUP(B133,'Programmes lists'!B:B,'Programmes lists'!D:D)","v":0},{"$f":"_xlfn.XLOOKUP(B133,'Programmes lists'!B:B,'Programmes lists'!E:E, \"Not found\")","v":"QC735105"},{"$f":"_xlfn.XLOOKUP(B133,'Programmes lists'!B:B,'Programmes lists'!G:G,\"Not found\")","v":"Minimum grade 12 pass in\n•\tIsiZulu HL 50% \n•\tEnglish FAL 50%"},{"$f":"_xlfn.XLOOKUP(B133,'Programmes lists'!B:B,'Programmes lists'!F:F,\"Not found\")","v":528}]
["Foundation Phase","Specialising in IsiZulu Home Language","EDUB3724",{"$f":"_xlfn.XLOOKUP(C134,'RAW module list'!A:A,'RAW module list'!B:B, \"Not found\")","v":"Education Studies 3.2: Contemporary Education Theory in the current social context"},{"$f":"_xlfn.XLOOKUP(C134,'RAW module list'!A:A,'RAW module list'!C:C, \"Not found\")","v":7},{"$f":"_xlfn.XLOOKUP(C134,'RAW module list'!A:A,'RAW module list'!D:D, \"Not found\")","v":16},{"$f":"_xlfn.XLOOKUP(C134,'RAW module list'!A:A,'RAW module list'!E:E, \"Not found\")","v":"EDUB1613 & EDUB1623 & EDUB2714 & EDUB2724 & EDUB3714"},"Third Year",{"$f":"_xlfn.XLOOKUP(B134,'Programmes lists'!B:B,'Programmes lists'!D:D)","v":0},{"$f":"_xlfn.XLOOKUP(B134,'Programmes lists'!B:B,'Programmes lists'!E:E, \"Not found\")","v":"QC735105"},{"$f":"_xlfn.XLOOKUP(B134,'Programmes lists'!B:B,'Programmes lists'!G:G,\"Not found\")","v":"Minimum grade 12 pass in\n•\tIsiZulu HL 50% \n•\tEnglish FAL 50%"},{"$f":"_xlfn.XLOOKUP(B134,'Programmes lists'!B:B,'Programmes lists'!F:F,\"Not found\")","v":528}]
["Foundation Phase","Specialising in IsiZulu Home Language","SICL3522 OR SSCL3522 OR GAFR3522",{"$f":"_xlfn.XLOOKUP(C135,'RAW module list'!A:A,'RAW module list'!B:B, \"Not found\")","v":"Conversational Sesotho OR Conversational Sign Language OR Conversational Afrikaans"},{"$f":"_xlfn.XLOOKUP(C135,'RAW module list'!A:A,'RAW module list'!C:C, \"Not found\")","v":5},{"$f":"_xlfn.XLOOKUP(C135,'RAW module list'!A:A,'RAW module list'!D:D, \"Not found\")","v":8},{"$f":"_xlfn.XLOOKUP(C135,'RAW module list'!A:A,'RAW module list'!E:E, \"Not found\")","v":"Continue with the conversational language chosen in Semester 1"},"Third Year",{"$f":"_xlfn.XLOOKUP(B135,'Programmes lists'!B:B,'Programmes lists'!D:D)","v":0},{"$f":"_xlfn.XLOOKUP(B135,'Programmes lists'!B:B,'Programmes lists'!E:E, \"Not found\")","v":"QC735105"},{"$f":"_xlfn.XLOOKUP(B135,'Programmes lists'!B:B,'Programmes lists'!G:G,\"Not found\")","v":"Minimum grade 12 pass in\n•\tIsiZulu HL 50% \n•\tEnglish FAL 50%"},{"$f":"_xlfn.XLOOKUP(B135,'Programmes lists'!B:B,'Programmes lists'!F:F,\"Not found\")","v":528}]
["Foundation Phase","Specialising in IsiZulu Home Language","MTTF4705",{"$f":"_xlfn.XLOOKUP(C136,'RAW module list'!A:A,'RAW module list'!B:B, \"Not found\")","v":"Mathematics Teaching 2"},{"$f":"_xlfn.XLOOKUP(C136,'RAW module list'!A:A,'RAW module list'!C:C, \"Not found\")","v":7},{"$f":"_xlfn.XLOOKUP(C136,'RAW module list'!A:A,'RAW module list'!D:D, \"Not found\")","v":20},{"$f":"_xlfn.XLOOKUP(C136,'RAW module list'!A:A,'RAW module list'!E:E, \"Not found\")","v":"MTTF3604"},"Fourth Year",{"$f":"_xlfn.XLOOKUP(B136,'Programmes lists'!B:B,'Programmes lists'!D:D)","v":0},{"$f":"_xlfn.XLOOKUP(B136,'Programmes lists'!B:B,'Programmes lists'!E:E, \"Not found\")","v":"QC735105"},{"$f":"_xlfn.XLOOKUP(B136,'Programmes lists'!B:B,'Programmes lists'!G:G,\"Not found\")","v":"Minimum grade 12 pass in\n•\tIsiZulu HL 50% \n•\tEnglish FAL 50%"},{"$f":"_xlfn.XLOOKUP(B136,'Programmes lists'!B:B,'Programmes lists'!F:F,\"Not found\")","v":528}]
["Foundation Phase","Specialising in IsiZulu Home Language","LSTF4705",{"$f":"_xlfn.XLOOKUP(C137,'RAW module list'!A:A,'RAW module list'!B:B, \"Not found\")","v":"Life Skills Teaching 2"},{"$f":"_xlfn.XLOOKUP(C137,'RAW module list'!A:A,'RAW module list'!C:C, \"Not found\")","v":7},{"$f":"_xlfn.XLOOKUP(C137,'RAW module list'!A:A,'RAW module list'!D:D, \"Not found\")","v":20},{"$f":"_xlfn.XLOOKUP(C137,'RAW module list'!A:A,'RAW module list'!E:E, \"Not found\")","v":"LSTF3604"},"Fourth Year",{"$f":"_xlfn.XLOOKUP(B137,'Programmes lists'!B:B,'Programmes lists'!D:D)","v":0},{"$f":"_xlfn.XLOOKUP(B137,'Programmes lists'!B:B,'Programmes lists'!E:E, \"Not found\")","v":"QC735105"},{"$f":"_xlfn.XLOOKUP(B137,'Programmes lists'!B:B,'Programmes lists'!G:G,\"Not found\")","v":"Minimum grade 12 pass in\n•\tIsiZulu HL 50% \n•\tEnglish FAL 50%"},{"$f":"_xlfn.XLOOKUP(B137,'Programmes lists'!B:B,'Programmes lists'!F:F,\"Not found\")","v":528}]
["Foundation Phase","Specialising in IsiZulu Home Language","ECED4703",{"$f":"_xlfn.XLOOKUP(C138,'RAW module list'!A:A,'RAW module list'!B:B, \"Not found\")","v":"Early Childhood Education 2: Foundations in Early Childhood Education (birth to four years)"},{"$f":"_xlfn.XLOOKUP(C138,'RAW module list'!A:A,'RAW module list'!C:C, \"Not found\")","v":7},{"$f":"_xlfn.XLOOKUP(C138,'RAW module list'!A:A,'RAW module list'!D:D, \"Not found\")","v":12},{"$f":"_xlfn.XLOOKUP(C138,'RAW module list'!A:A,'RAW module list'!E:E, \"Not found\")","v":"ECED3703"},"Fourth Year",{"$f":"_xlfn.XLOOKUP(B138,'Programmes lists'!B:B,'Programmes lists'!D:D)","v":0},{"$f":"_xlfn.XLOOKUP(B138,'Programmes lists'!B:B,'Programmes lists'!E:E, \"Not found\")","v":"QC735105"},{"$f":"_xlfn.XLOOKUP(B138,'Programmes lists'!B:B,'Programmes lists'!G:G,\"Not found\")","v":"Minimum grade 12 pass in\n•\tIsiZulu HL 50% \n•\tEnglish FAL 50%"},{"$f":"_xlfn.XLOOKUP(B138,'Programmes lists'!B:B,'Programmes lists'!F:F,\"Not found\")","v":528}]
["Foundation Phase","Specialising in IsiZulu Home Language","EATF4705",{"$f":"_xlfn.XLOOKUP(C139,'RAW module list'!A:A,'RAW module list'!B:B, \"Not found\")","v":"English Additional language Teaching 2 "},{"$f":"_xlfn.XLOOKUP(C139,'RAW module list'!A:A,'RAW module list'!C:C, \"Not found\")","v":7},{"$f":"_xlfn.XLOOKUP(C139,'RAW module list'!A:A,'RAW module list'!D:D, \"Not found\")","v":20},{"$f":"_xlfn.XLOOKUP(C139,'RAW module list'!A:A,'RAW module list'!E:E, \"Not found\")","v":"EATF3604"},"Fourth Year",{"$f":"_xlfn.XLOOKUP(B139,'Programmes lists'!B:B,'Programmes lists'!D:D)","v":0},{"$f":"_xlfn.XLOOKUP(B139,'Programmes lists'!B:B,'Programmes lists'!E:E, \"Not found\")","v":"QC735105"},{"$f":"_xlfn.XLOOKUP(B139,'Programmes lists'!B:B,'Programmes lists'!G:G,\"Not found\")","v":"Minimum grade 12 pass in\n•\tIsiZulu HL 50% \n•\tEnglish FAL 50%"},{"$f":"_xlfn.XLOOKUP(B139,'Programmes lists'!B:B,'Programmes lists'!F:F,\"Not found\")","v":528}]
["Foundation Phase","Specialising in IsiZulu Home Language","ZHTF4705",{"$f":"_xlfn.XLOOKUP(C140,'RAW module list'!A:A,'RAW module list'!B:B, \"Not found\")","v":"isiZulu teaching 2 (Home Language)"},{"$f":"_xlfn.XLOOKUP(C140,'RAW module list'!A:A,'RAW module list'!C:C, \"Not found\")","v":7},{"$f":"_xlfn.XLOOKUP(C140,'RAW module list'!A:A,'RAW module list'!D:D, \"Not found\")","v":20},{"$f":"_xlfn.XLOOKUP(C140,'RAW module list'!A:A,'RAW module list'!E:E, \"Not found\")","v":"ZHTF3604"},"Fourth Year",{"$f":"_xlfn.XLOOKUP(B140,'Programmes lists'!B:B,'Programmes lists'!D:D)","v":0},{"$f":"_xlfn.XLOOKUP(B140,'Programmes lists'!B:B,'Programmes lists'!E:E, \"Not found\")","v":"QC735105"},{"$f":"_xlfn.XLOOKUP(B140,'Programmes lists'!B:B,'Programmes lists'!G:G,\"Not found\")","v":"Minimum grade 12 pass in\n•\tIsiZulu HL 50% \n•\tEnglish FAL 50%"},{"$f":"_xlfn.XLOOKUP(B140,'Programmes lists'!B:B,'Programmes lists'!F:F,\"Not found\")","v":528}]
["Foundation Phase","Specialising in IsiZulu Home Language","WILF4700",{"$f":"_xlfn.XLOOKUP(C141,'RAW module list'!A:A,'RAW module list'!B:B, \"Not found\")","v":"Teaching Practice 4"},{"$f":"_xlfn.XLOOKUP(C141,'RAW module list'!A:A,'RAW module list'!C:C, \"Not found\")","v":7},{"$f":"_xlfn.XLOOKUP(C141,'RAW module list'!A:A,'RAW module list'!D:D, \"Not found\")","v":40},{"$f":"_xlfn.XLOOKUP(C141,'RAW module list'!A:A,'RAW module list'!E:E, \"Not found\")","v":"WILF3606"},"Fourth Year",{"$f":"_xlfn.XLOOKUP(B141,'Programmes lists'!B:B,'Programmes lists'!D:D)","v":0},{"$f":"_xlfn.XLOOKUP(B141,'Programmes lists'!B:B,'Programmes lists'!E:E, \"Not found\")","v":"QC735105"},{"$f":"_xlfn.XLOOKUP(B141,'Programmes lists'!B:B,'Programmes lists'!G:G,\"Not found\")","v":"Minimum grade 12 pass in\n•\tIsiZulu HL 50% \n•\tEnglish FAL 50%"},{"$f":"_xlfn.XLOOKUP(B141,'Programmes lists'!B:B,'Programmes lists'!F:F,\"Not found\")","v":528}]
["Intermediate Phase","Specialising in Mathematics, Natural Science & Technology and Afrikaans Home Language","MTHI1614",{"$f":"_xlfn.XLOOKUP(C142,'RAW module list'!A:A,'RAW module list'!B:B, \"Not found\")","v":"Mathematics: Numbers, algebra and functions "},{"$f":"_xlfn.XLOOKUP(C142,'RAW module list'!A:A,'RAW module list'!C:C, \"Not found\")","v":6},{"$f":"_xlfn.XLOOKUP(C142,'RAW module list'!A:A,'RAW module list'!D:D, \"Not found\")","v":16},{"$f":"_xlfn.XLOOKUP(C142,'RAW module list'!A:A,'RAW module list'!E:E, \"Not found\")","v":"Mathematics at NSC level 4 (50%) pass"},"First Year",{"$f":"_xlfn.XLOOKUP(B142,'Programmes lists'!B:B,'Programmes lists'!D:D)","v":"BC735791"},{"$f":"_xlfn.XLOOKUP(B142,'Programmes lists'!B:B,'Programmes lists'!E:E, \"Not found\")","v":0},{"$f":"_xlfn.XLOOKUP(B142,'Programmes lists'!B:B,'Programmes lists'!G:G,\"Not found\")","v":"Minimum grade 12 pass in\n•\tAfrikaans HL 55% \n•\tEnglish FAL 50% \n•\tMathematics 50% "},{"$f":"_xlfn.XLOOKUP(B142,'Programmes lists'!B:B,'Programmes lists'!F:F,\"Not found\")","v":532}]
["Intermediate Phase","Specialising in Mathematics, Natural Science & Technology and Afrikaans Home Language","ENGE1608",{"$f":"_xlfn.XLOOKUP(C143,'RAW module list'!A:A,'RAW module list'!B:B, \"Not found\")","v":"English Language for Education "},{"$f":"_xlfn.XLOOKUP(C143,'RAW module list'!A:A,'RAW module list'!C:C, \"Not found\")","v":6},{"$f":"_xlfn.XLOOKUP(C143,'RAW module list'!A:A,'RAW module list'!D:D, \"Not found\")","v":32},{"$f":"_xlfn.XLOOKUP(C143,'RAW module list'!A:A,'RAW module list'!E:E, \"Not found\")","v":0},"First Year",{"$f":"_xlfn.XLOOKUP(B143,'Programmes lists'!B:B,'Programmes lists'!D:D)","v":"BC735791"},{"$f":"_xlfn.XLOOKUP(B143,'Programmes lists'!B:B,'Programmes lists'!E:E, \"Not found\")","v":0},{"$f":"_xlfn.XLOOKUP(B143,'Programmes lists'!B:B,'Programmes lists'!G:G,\"Not found\")","v":"Minimum grade 12 pass in\n•\tAfrikaans HL 55% \n•\tEnglish FAL 50% \n•\tMathematics 50% "},{"$f":"_xlfn.XLOOKUP(B143,'Programmes lists'!B:B,'Programmes lists'!F:F,\"Not found\")","v":532}]
["Intermediate Phase","Specialising in Mathematics, Natural Science & Technology and Afrikaans Home Language","LLST1513",{"$f":"_xlfn.XLOOKUP(C144,'RAW module list'!A:A,'RAW module list'!B:B, \"Not found\")","v":"Lifelong Learning Skills"},{"$f":"_xlfn.XLOOKUP(C144,'RAW module list'!A:A,'RAW module list'!C:C, \"Not found\")","v":5},{"$f":"_xlfn.XLOOKUP(C144,'RAW module list'!A:A,'RAW module list'!D:D, \"Not found\")","v":12},{"$f":"_xlfn.XLOOKUP(C144,'RAW module list'!A:A,'RAW module list'!E:E, \"Not found\")","v":0},"First Year",{"$f":"_xlfn.XLOOKUP(B144,'Programmes lists'!B:B,'Programmes lists'!D:D)","v":"BC735791"},{"$f":"_xlfn.XLOOKUP(B144,'Programmes lists'!B:B,'Programmes lists'!E:E, \"Not found\")","v":0},{"$f":"_xlfn.XLOOKUP(B144,'Programmes lists'!B:B,'Programmes lists'!G:G,\"Not found\")","v":"Minimum grade 12 pass in\n•\tAfrikaans HL 55% \n•\tEnglish FAL 50% \n•\tMathematics 50% "},{"$f":"_xlfn.XLOOKUP(B144,'Programmes lists'!B:B,'Programmes lists'!F:F,\"Not found\")","v":532}]
["Intermediate Phase","Specialising in Mathematics, Natural Science & Technology and Afrikaans Home Language","EDUB1613",{"$f":"_xlfn.XLOOKUP(C145,'RAW module list'!A:A,'RAW module list'!B:B, \"Not found\")","v":"Education Studies 1.1 The Individual in the learning context"},{"$f":"_xlfn.XLOOKUP(C145,'RAW module list'!A:A,'RAW module list'!C:C, \"Not found\")","v":6},{"$f":"_xlfn.XLOOKUP(C145,'RAW module list'!A:A,'RAW module list'!D:D, \"Not found\")","v":12},{"$f":"_xlfn.XLOOKUP(C145,'RAW module list'!A:A,'RAW module list'!E:E, \"Not found\")","v":0},"First Year",{"$f":"_xlfn.XLOOKUP(B145,'Programmes lists'!B:B,'Programmes lists'!D:D)","v":"BC735791"},{"$f":"_xlfn.XLOOKUP(B145,'Programmes lists'!B:B,'Programmes lists'!E:E, \"Not found\")","v":0},{"$f":"_xlfn.XLOOKUP(B145,'Programmes lists'!B:B,'Programmes lists'!G:G,\"Not found\")","v":"Minimum grade 12 pass in\n•\tAfrikaans HL 55% \n•\tEnglish FAL 50% \n•\tMathematics 50% "},{"$f":"_xlfn.XLOOKUP(B145,'Programmes lists'!B:B,'Programmes lists'!F:F,\"Not found\")","v":532}]
["Intermediate Phase","Specialising in Mathematics, Natural Science & Technology and Afrikaans Home Language","TPRI1502",{"$f":"_xlfn.XLOOKUP(C146,'RAW module list'!A:A,'RAW module list'!B:B, \"Not found\")","v":"Teaching Practice 1"},{"$f":"_xlfn.XLOOKUP(C146,'RAW module list'!A:A,'RAW module list'!C:C, \"Not found\")","v":5},{"$f":"_xlfn.XLOOKUP(C146,'RAW module list'!A:A,'RAW module list'!D:D, \"Not found\")","v":8},{"$f":"_xlfn.XLOOKUP(C146,'RAW module list'!A:A,'RAW module list'!E:E, \"Not found\")","v":0},"First Year",{"$f":"_xlfn.XLOOKUP(B146,'Programmes lists'!B:B,'Programmes lists'!D:D)","v":"BC735791"},{"$f":"_xlfn.XLOOKUP(B146,'Programmes lists'!B:B,'Programmes lists'!E:E, \"Not found\")","v":0},{"$f":"_xlfn.XLOOKUP(B146,'Programmes lists'!B:B,'Programmes lists'!G:G,\"Not found\")","v":"Minimum grade 12 pass in\n•\tAfrikaans HL 55% \n•\tEnglish FAL 50% \n•\tMathematics 50% "},{"$f":"_xlfn.XLOOKUP(B146,'Programmes lists'!B:B,'Programmes lists'!F:F,\"Not found\")","v":532}]
["Intermediate Phase","Specialising in Mathematics, Natural Science & Technology and Afrikaans Home Language","UFSS1504",{"$f":"_xlfn.XLOOKUP(C147,'RAW module list'!A:A,'RAW module list'!B:B, \"Not found\")","v":"Undergraduate core curriculum"},{"$f":"_xlfn.XLOOKUP(C147,'RAW module list'!A:A,'RAW module list'!C:C, \"Not found\")","v":5},{"$f":"_xlfn.XLOOKUP(C147,'RAW module list'!A:A,'RAW module list'!D:D, \"Not found\")","v":-16},{"$f":"_xlfn.XLOOKUP(C147,'RAW module list'!A:A,'RAW module list'!E:E, \"Not found\")","v":0},"First Year",{"$f":"_xlfn.XLOOKUP(B147,'Programmes lists'!B:B,'Programmes lists'!D:D)","v":"BC735791"},{"$f":"_xlfn.XLOOKUP(B147,'Programmes lists'!B:B,'Programmes lists'!E:E, \"Not found\")","v":0},{"$f":"_xlfn.XLOOKUP(B147,'Programmes lists'!B:B,'Programmes lists'!G:G,\"Not found\")","v":"Minimum grade 12 pass in\n•\tAfrikaans HL 55% \n•\tEnglish FAL 50% \n•\tMathematics 50% "},{"$f":"_xlfn.XLOOKUP(B147,'Programmes lists'!B:B,'Programmes lists'!F:F,\"Not found\")","v":532}]
["Intermediate Phase","Specialising in Mathematics, Natural Science & Technology and Afrikaans Home Language","AGAE1508",{"$f":"_xlfn.XLOOKUP(C148,'RAW module list'!A:A,'RAW module list'!B:B, \"Not found\")","v":"Academic Literacy in Afrikaans"},{"$f":"_xlfn.XLOOKUP(C148,'RAW module list'!A:A,'RAW module list'!C:C, \"Not found\")","v":5},{"$f":"_xlfn.XLOOKUP(C148,'RAW module list'!A:A,'RAW module list'!D:D, \"Not found\")","v":-32},{"$f":"_xlfn.XLOOKUP(C148,'RAW module list'!A:A,'RAW module list'!E:E, \"Not found\")","v":"NBT requirements not met"},"First Year",{"$f":"_xlfn.XLOOKUP(B148,'Programmes lists'!B:B,'Programmes lists'!D:D)","v":"BC735791"},{"$f":"_xlfn.XLOOKUP(B148,'Programmes lists'!B:B,'Programmes lists'!E:E, \"Not found\")","v":0},{"$f":"_xlfn.XLOOKUP(B148,'Programmes lists'!B:B,'Programmes lists'!G:G,\"Not found\")","v":"Minimum grade 12 pass in\n•\tAfrikaans HL 55% \n•\tEnglish FAL 50% \n•\tMathematics 50% "},{"$f":"_xlfn.XLOOKUP(B148,'Programmes lists'!B:B,'Programmes lists'!F:F,\"Not found\")","v":532}]
["Intermediate Phase","Specialising in Mathematics, Natural Science & Technology and Afrikaans Home Language","MTHI1624",{"$f":"_xlfn.XLOOKUP(C149,'RAW module list'!A:A,'RAW module list'!B:B, \"Not found\")","v":"Mathematics: total surface area and volume"},{"$f":"_xlfn.XLOOKUP(C149,'RAW module list'!A:A,'RAW module list'!C:C, \"Not found\")","v":6},{"$f":"_xlfn.XLOOKUP(C149,'RAW module list'!A:A,'RAW module list'!D:D, \"Not found\")","v":16},{"$f":"_xlfn.XLOOKUP(C149,'RAW module list'!A:A,'RAW module list'!E:E, \"Not found\")","v":"Mathematics at NSC level 4 (50%) pass"},"First Year",{"$f":"_xlfn.XLOOKUP(B149,'Programmes lists'!B:B,'Programmes lists'!D:D)","v":"BC735791"},{"$f":"_xlfn.XLOOKUP(B149,'Programmes lists'!B:B,'Programmes lists'!E:E, \"Not found\")","v":0},{"$f":"_xlfn.XLOOKUP(B149,'Programmes lists'!B:B,'Programmes lists'!G:G,\"Not found\")","v":"Minimum grade 12 pass in\n•\tAfrikaans HL 55% \n•\tEnglish FAL 50% \n•\tMathematics 50% "},{"$f":"_xlfn.XLOOKUP(B149,'Programmes lists'!B:B,'Programmes lists'!F:F,\"Not found\")","v":532}]
["Intermediate Phase","Specialising in Mathematics, Natural Science & Technology and Afrikaans Home Language","EDUB1623",{"$f":"_xlfn.XLOOKUP(C150,'RAW module list'!A:A,'RAW module list'!B:B, \"Not found\")","v":"Education Studies 1.2 What it means to educate: Theoretical perspectives and their significance for SA education"},{"$f":"_xlfn.XLOOKUP(C150,'RAW module list'!A:A,'RAW module list'!C:C, \"Not found\")","v":6},{"$f":"_xlfn.XLOOKUP(C150,'RAW module list'!A:A,'RAW module list'!D:D, \"Not found\")","v":12},{"$f":"_xlfn.XLOOKUP(C150,'RAW module list'!A:A,'RAW module list'!E:E, \"Not found\")","v":0},"First Year",{"$f":"_xlfn.XLOOKUP(B150,'Programmes lists'!B:B,'Programmes lists'!D:D)","v":"BC735791"},{"$f":"_xlfn.XLOOKUP(B150,'Programmes lists'!B:B,'Programmes lists'!E:E, \"Not found\")","v":0},{"$f":"_xlfn.XLOOKUP(B150,'Programmes lists'!B:B,'Programmes lists'!G:G,\"Not found\")","v":"Minimum grade 12 pass in\n•\tAfrikaans HL 55% \n•\tEnglish FAL 50% \n•\tMathematics 50% "},{"$f":"_xlfn.XLOOKUP(B150,'Programmes lists'!B:B,'Programmes lists'!F:F,\"Not found\")","v":532}]
["Intermediate Phase","Specialising in Mathematics, Natural Science & Technology and Afrikaans Home Language","GPED1623",{"$f":"_xlfn.XLOOKUP(C151,'RAW module list'!A:A,'RAW module list'!B:B, \"Not found\")","v":"General Pedagogy 1: Managing the Curriculum"},{"$f":"_xlfn.XLOOKUP(C151,'RAW module list'!A:A,'RAW module list'!C:C, \"Not found\")","v":6},{"$f":"_xlfn.XLOOKUP(C151,'RAW module list'!A:A,'RAW module list'!D:D, \"Not found\")","v":12},{"$f":"_xlfn.XLOOKUP(C151,'RAW module list'!A:A,'RAW module list'!E:E, \"Not found\")","v":0},"First Year",{"$f":"_xlfn.XLOOKUP(B151,'Programmes lists'!B:B,'Programmes lists'!D:D)","v":"BC735791"},{"$f":"_xlfn.XLOOKUP(B151,'Programmes lists'!B:B,'Programmes lists'!E:E, \"Not found\")","v":0},{"$f":"_xlfn.XLOOKUP(B151,'Programmes lists'!B:B,'Programmes lists'!G:G,\"Not found\")","v":"Minimum grade 12 pass in\n•\tAfrikaans HL 55% \n•\tEnglish FAL 50% \n•\tMathematics 50% "},{"$f":"_xlfn.XLOOKUP(B151,'Programmes lists'!B:B,'Programmes lists'!F:F,\"Not found\")","v":532}]
["Intermediate Phase","Specialising in Mathematics, Natural Science & Technology and Afrikaans Home Language","NSTC2614",{"$f":"_xlfn.XLOOKUP(C152,'RAW module list'!A:A,'RAW module list'!B:B, \"Not found\")","v":"Elementary Natural Sciences and Technology"},{"$f":"_xlfn.XLOOKUP(C152,'RAW module list'!A:A,'RAW module list'!C:C, \"Not found\")","v":6},{"$f":"_xlfn.XLOOKUP(C152,'RAW module list'!A:A,'RAW module list'!D:D, \"Not found\")","v":16},{"$f":"_xlfn.XLOOKUP(C152,'RAW module list'!A:A,'RAW module list'!E:E, \"Not found\")","v":0},"Second Year",{"$f":"_xlfn.XLOOKUP(B152,'Programmes lists'!B:B,'Programmes lists'!D:D)","v":"BC735791"},{"$f":"_xlfn.XLOOKUP(B152,'Programmes lists'!B:B,'Programmes lists'!E:E, \"Not found\")","v":0},{"$f":"_xlfn.XLOOKUP(B152,'Programmes lists'!B:B,'Programmes lists'!G:G,\"Not found\")","v":"Minimum grade 12 pass in\n•\tAfrikaans HL 55% \n•\tEnglish FAL 50% \n•\tMathematics 50% "},{"$f":"_xlfn.XLOOKUP(B152,'Programmes lists'!B:B,'Programmes lists'!F:F,\"Not found\")","v":532}]
["Intermediate Phase","Specialising in Mathematics, Natural Science & Technology and Afrikaans Home Language","AFNL1634",{"$f":"_xlfn.XLOOKUP(C153,'RAW module list'!A:A,'RAW module list'!B:B, \"Not found\")","v":"Introduction to Afrikaans and Dutch literature"},{"$f":"_xlfn.XLOOKUP(C153,'RAW module list'!A:A,'RAW module list'!C:C, \"Not found\")","v":6},{"$f":"_xlfn.XLOOKUP(C153,'RAW module list'!A:A,'RAW module list'!D:D, \"Not found\")","v":16},{"$f":"_xlfn.XLOOKUP(C153,'RAW module list'!A:A,'RAW module list'!E:E, \"Not found\")","v":"Grade 12 Afrikaans HL >55% or Afrikaans FAL in grade 12 >70%"},"Second Year",{"$f":"_xlfn.XLOOKUP(B153,'Programmes lists'!B:B,'Programmes lists'!D:D)","v":"BC735791"},{"$f":"_xlfn.XLOOKUP(B153,'Programmes lists'!B:B,'Programmes lists'!E:E, \"Not found\")","v":0},{"$f":"_xlfn.XLOOKUP(B153,'Programmes lists'!B:B,'Programmes lists'!G:G,\"Not found\")","v":"Minimum grade 12 pass in\n•\tAfrikaans HL 55% \n•\tEnglish FAL 50% \n•\tMathematics 50% "},{"$f":"_xlfn.XLOOKUP(B153,'Programmes lists'!B:B,'Programmes lists'!F:F,\"Not found\")","v":532}]
["Intermediate Phase","Specialising in Mathematics, Natural Science & Technology and Afrikaans Home Language","MTBI2503",{"$f":"_xlfn.XLOOKUP(C154,'RAW module list'!A:A,'RAW module list'!B:B, \"Not found\")","v":"Basic Mathematics "},{"$f":"_xlfn.XLOOKUP(C154,'RAW module list'!A:A,'RAW module list'!C:C, \"Not found\")","v":5},{"$f":"_xlfn.XLOOKUP(C154,'RAW module list'!A:A,'RAW module list'!D:D, \"Not found\")","v":12},{"$f":"_xlfn.XLOOKUP(C154,'RAW module list'!A:A,'RAW module list'!E:E, \"Not found\")","v":0},"Second Year",{"$f":"_xlfn.XLOOKUP(B154,'Programmes lists'!B:B,'Programmes lists'!D:D)","v":"BC735791"},{"$f":"_xlfn.XLOOKUP(B154,'Programmes lists'!B:B,'Programmes lists'!E:E, \"Not found\")","v":0},{"$f":"_xlfn.XLOOKUP(B154,'Programmes lists'!B:B,'Programmes lists'!G:G,\"Not found\")","v":"Minimum grade 12 pass in\n•\tAfrikaans HL 55% \n•\tEnglish FAL 50% \n•\tMathematics 50% "},{"$f":"_xlfn.XLOOKUP(B154,'Programmes lists'!B:B,'Programmes lists'!F:F,\"Not found\")","v":532}]
["Intermediate Phase","Specialising in Mathematics, Natural Science & Technology and Afrikaans Home Language","EDUB2714",{"$f":"_xlfn.XLOOKUP(C155,'RAW module list'!A:A,'RAW module list'!B:B, \"Not found\")","v":"Education Studies 2: Teaching and Learning in Education Context"},{"$f":"_xlfn.XLOOKUP(C155,'RAW module list'!A:A,'RAW module list'!C:C, \"Not found\")","v":7},{"$f":"_xlfn.XLOOKUP(C155,'RAW module list'!A:A,'RAW module list'!D:D, \"Not found\")","v":16},{"$f":"_xlfn.XLOOKUP(C155,'RAW module list'!A:A,'RAW module list'!E:E, \"Not found\")","v":"EDUB1613 & EDUB1623"},"Second Year",{"$f":"_xlfn.XLOOKUP(B155,'Programmes lists'!B:B,'Programmes lists'!D:D)","v":"BC735791"},{"$f":"_xlfn.XLOOKUP(B155,'Programmes lists'!B:B,'Programmes lists'!E:E, \"Not found\")","v":0},{"$f":"_xlfn.XLOOKUP(B155,'Programmes lists'!B:B,'Programmes lists'!G:G,\"Not found\")","v":"Minimum grade 12 pass in\n•\tAfrikaans HL 55% \n•\tEnglish FAL 50% \n•\tMathematics 50% "},{"$f":"_xlfn.XLOOKUP(B155,'Programmes lists'!B:B,'Programmes lists'!F:F,\"Not found\")","v":532}]
["Intermediate Phase","Specialising in Mathematics, Natural Science & Technology and Afrikaans Home Language","GPED2613",{"$f":"_xlfn.XLOOKUP(C156,'RAW module list'!A:A,'RAW module list'!B:B, \"Not found\")","v":"General Pedagogy 2.1"},{"$f":"_xlfn.XLOOKUP(C156,'RAW module list'!A:A,'RAW module list'!C:C, \"Not found\")","v":6},{"$f":"_xlfn.XLOOKUP(C156,'RAW module list'!A:A,'RAW module list'!D:D, \"Not found\")","v":12},{"$f":"_xlfn.XLOOKUP(C156,'RAW module list'!A:A,'RAW module list'!E:E, \"Not found\")","v":"GPED1623"},"Second Year",{"$f":"_xlfn.XLOOKUP(B156,'Programmes lists'!B:B,'Programmes lists'!D:D)","v":"BC735791"},{"$f":"_xlfn.XLOOKUP(B156,'Programmes lists'!B:B,'Programmes lists'!E:E, \"Not found\")","v":0},{"$f":"_xlfn.XLOOKUP(B156,'Programmes lists'!B:B,'Programmes lists'!G:G,\"Not found\")","v":"Minimum grade 12 pass in\n•\tAfrikaans HL 55% \n•\tEnglish FAL 50% \n•\tMathematics 50% "},{"$f":"_xlfn.XLOOKUP(B156,'Programmes lists'!B:B,'Programmes lists'!F:F,\"Not found\")","v":532}]
["Intermediate Phase","Specialising in Mathematics, Natural Science & Technology and Afrikaans Home Language","TPRI2502",{"$f":"_xlfn.XLOOKUP(C157,'RAW module list'!A:A,'RAW module list'!B:B, \"Not found\")","v":"Teaching Practice 2 "},{"$f":"_xlfn.XLOOKUP(C157,'RAW module list'!A:A,'RAW module list'!C:C, \"Not found\")","v":5},{"$f":"_xlfn.XLOOKUP(C157,'RAW module list'!A:A,'RAW module list'!D:D, \"Not found\")","v":8},{"$f":"_xlfn.XLOOKUP(C157,'RAW module list'!A:A,'RAW module list'!E:E, \"Not found\")","v":"TPRI1502"},"Second Year",{"$f":"_xlfn.XLOOKUP(B157,'Programmes lists'!B:B,'Programmes lists'!D:D)","v":"BC735791"},{"$f":"_xlfn.XLOOKUP(B157,'Programmes lists'!B:B,'Programmes lists'!E:E, \"Not found\")","v":0},{"$f":"_xlfn.XLOOKUP(B157,'Programmes lists'!B:B,'Programmes lists'!G:G,\"Not found\")","v":"Minimum grade 12 pass in\n•\tAfrikaans HL 55% \n•\tEnglish FAL 50% \n•\tMathematics 50% "},{"$f":"_xlfn.XLOOKUP(B157,'Programmes lists'!B:B,'Programmes lists'!F:F,\"Not found\")","v":532}]
["Intermediate Phase","Specialising in Mathematics, Natural Science & Technology and Afrikaans Home Language","NSTC2624",{"$f":"_xlfn.XLOOKUP(C158,'RAW module list'!A:A,'RAW module list'!B:B, \"Not found\")","v":"Elementary Natural Science and Technology"},{"$f":"_xlfn.XLOOKUP(C158,'RAW module list'!A:A,'RAW module list'!C:C, \"Not found\")","v":6},{"$f":"_xlfn.XLOOKUP(C158,'RAW module list'!A:A,'RAW module list'!D:D, \"Not found\")","v":16},{"$f":"_xlfn.XLOOKUP(C158,'RAW module list'!A:A,'RAW module list'!E:E, \"Not found\")","v":"NSTC2614"},"Second Year",{"$f":"_xlfn.XLOOKUP(B158,'Programmes lists'!B:B,'Programmes lists'!D:D)","v":"BC735791"},{"$f":"_xlfn.XLOOKUP(B158,'Programmes lists'!B:B,'Programmes lists'!E:E, \"Not found\")","v":0},{"$f":"_xlfn.XLOOKUP(B158,'Programmes lists'!B:B,'Programmes lists'!G:G,\"Not found\")","v":"Minimum grade 12 pass in\n•\tAfrikaans HL 55% \n•\tEnglish FAL 50% \n•\tMathematics 50% "},{"$f":"_xlfn.XLOOKUP(B158,'Programmes lists'!B:B,'Programmes lists'!F:F,\"Not found\")","v":532}]
["Intermediate Phase","Specialising in Mathematics, Natural Science & Technology and Afrikaans Home Language","AFNT1644",{"$f":"_xlfn.XLOOKUP(C159,'RAW module list'!A:A,'RAW module list'!B:B, \"Not found\")","v":"Introduction to Afrikaans Linguistics"},{"$f":"_xlfn.XLOOKUP(C159,'RAW module list'!A:A,'RAW module list'!C:C, \"Not found\")","v":6},{"$f":"_xlfn.XLOOKUP(C159,'RAW module list'!A:A,'RAW module list'!D:D, \"Not found\")","v":16},{"$f":"_xlfn.XLOOKUP(C159,'RAW module list'!A:A,'RAW module list'!E:E, \"Not found\")","v":"AFNL1634"},"Second Year",{"$f":"_xlfn.XLOOKUP(B159,'Programmes lists'!B:B,'Programmes lists'!D:D)","v":"BC735791"},{"$f":"_xlfn.XLOOKUP(B159,'Programmes lists'!B:B,'Programmes lists'!E:E, \"Not found\")","v":0},{"$f":"_xlfn.XLOOKUP(B159,'Programmes lists'!B:B,'Programmes lists'!G:G,\"Not found\")","v":"Minimum grade 12 pass in\n•\tAfrikaans HL 55% \n•\tEnglish FAL 50% \n•\tMathematics 50% "},{"$f":"_xlfn.XLOOKUP(B159,'Programmes lists'!B:B,'Programmes lists'!F:F,\"Not found\")","v":532}]
["Intermediate Phase","Specialising in Mathematics, Natural Science & Technology and Afrikaans Home Language","EDUB2724",{"$f":"_xlfn.XLOOKUP(C160,'RAW module list'!A:A,'RAW module list'!B:B, \"Not found\")","v":"Education Studies 2: Human Relationships in Education context"},{"$f":"_xlfn.XLOOKUP(C160,'RAW module list'!A:A,'RAW module list'!C:C, \"Not found\")","v":7},{"$f":"_xlfn.XLOOKUP(C160,'RAW module list'!A:A,'RAW module list'!D:D, \"Not found\")","v":16},{"$f":"_xlfn.XLOOKUP(C160,'RAW module list'!A:A,'RAW module list'!E:E, \"Not found\")","v":"EDUB2714"},"Second Year",{"$f":"_xlfn.XLOOKUP(B160,'Programmes lists'!B:B,'Programmes lists'!D:D)","v":"BC735791"},{"$f":"_xlfn.XLOOKUP(B160,'Programmes lists'!B:B,'Programmes lists'!E:E, \"Not found\")","v":0},{"$f":"_xlfn.XLOOKUP(B160,'Programmes lists'!B:B,'Programmes lists'!G:G,\"Not found\")","v":"Minimum grade 12 pass in\n•\tAfrikaans HL 55% \n•\tEnglish FAL 50% \n•\tMathematics 50% "},{"$f":"_xlfn.XLOOKUP(B160,'Programmes lists'!B:B,'Programmes lists'!F:F,\"Not found\")","v":532}]
["Intermediate Phase","Specialising in Mathematics, Natural Science & Technology and Afrikaans Home Language","GPED2623",{"$f":"_xlfn.XLOOKUP(C161,'RAW module list'!A:A,'RAW module list'!B:B, \"Not found\")","v":"General Pedagogy 2.2: Assessment"},{"$f":"_xlfn.XLOOKUP(C161,'RAW module list'!A:A,'RAW module list'!C:C, \"Not found\")","v":6},{"$f":"_xlfn.XLOOKUP(C161,'RAW module list'!A:A,'RAW module list'!D:D, \"Not found\")","v":12},{"$f":"_xlfn.XLOOKUP(C161,'RAW module list'!A:A,'RAW module list'!E:E, \"Not found\")","v":"GPED2613"},"Second Year",{"$f":"_xlfn.XLOOKUP(B161,'Programmes lists'!B:B,'Programmes lists'!D:D)","v":"BC735791"},{"$f":"_xlfn.XLOOKUP(B161,'Programmes lists'!B:B,'Programmes lists'!E:E, \"Not found\")","v":0},{"$f":"_xlfn.XLOOKUP(B161,'Programmes lists'!B:B,'Programmes lists'!G:G,\"Not found\")","v":"Minimum grade 12 pass in\n•\tAfrikaans HL 55% \n•\tEnglish FAL 50% \n•\tMathematics 50% "},{"$f":"_xlfn.XLOOKUP(B161,'Programmes lists'!B:B,'Programmes lists'!F:F,\"Not found\")","v":532}]
["Intermediate Phase","Specialising in Mathematics, Natural Science & Technology and Afrikaans Home Language","NTTI3604",{"$f":"_xlfn.XLOOKUP(C162,'RAW module list'!A:A,'RAW module list'!B:B, \"Not found\")","v":"Natural Sciences and Technology Teaching 1 "},{"$f":"_xlfn.XLOOKUP(C162,'RAW module list'!A:A,'RAW module list'!C:C, \"Not found\")","v":6},{"$f":"_xlfn.XLOOKUP(C162,'RAW module list'!A:A,'RAW module list'!D:D, \"Not found\")","v":16},{"$f":"_xlfn.XLOOKUP(C162,'RAW module list'!A:A,'RAW module list'!E:E, \"Not found\")","v":"NSTC2614 & NSTC2624"},"Third Year",{"$f":"_xlfn.XLOOKUP(B162,'Programmes lists'!B:B,'Programmes lists'!D:D)","v":"BC735791"},{"$f":"_xlfn.XLOOKUP(B162,'Programmes lists'!B:B,'Programmes lists'!E:E, \"Not found\")","v":0},{"$f":"_xlfn.XLOOKUP(B162,'Programmes lists'!B:B,'Programmes lists'!G:G,\"Not found\")","v":"Minimum grade 12 pass in\n•\tAfrikaans HL 55% \n•\tEnglish FAL 50% \n•\tMathematics 50% "},{"$f":"_xlfn.XLOOKUP(B162,'Programmes lists'!B:B,'Programmes lists'!F:F,\"Not found\")","v":532}]
["Intermediate Phase","Specialising in Mathematics, Natural Science & Technology and Afrikaans Home Language","MTTI3604",{"$f":"_xlfn.XLOOKUP(C163,'RAW module list'!A:A,'RAW module list'!B:B, \"Not found\")","v":"Teaching Mathematics 1"},{"$f":"_xlfn.XLOOKUP(C163,'RAW module list'!A:A,'RAW module list'!C:C, \"Not found\")","v":6},{"$f":"_xlfn.XLOOKUP(C163,'RAW module list'!A:A,'RAW module list'!D:D, \"Not found\")","v":16},{"$f":"_xlfn.XLOOKUP(C163,'RAW module list'!A:A,'RAW module list'!E:E, \"Not found\")","v":"MTHI1614 & MTHI1624"},"Third Year",{"$f":"_xlfn.XLOOKUP(B163,'Programmes lists'!B:B,'Programmes lists'!D:D)","v":"BC735791"},{"$f":"_xlfn.XLOOKUP(B163,'Programmes lists'!B:B,'Programmes lists'!E:E, \"Not found\")","v":0},{"$f":"_xlfn.XLOOKUP(B163,'Programmes lists'!B:B,'Programmes lists'!G:G,\"Not found\")","v":"Minimum grade 12 pass in\n•\tAfrikaans HL 55% \n•\tEnglish FAL 50% \n•\tMathematics 50% "},{"$f":"_xlfn.XLOOKUP(B163,'Programmes lists'!B:B,'Programmes lists'!F:F,\"Not found\")","v":532}]
["Intermediate Phase","Specialising in Mathematics, Natural Science & Technology and Afrikaans Home Language","AHTI3604",{"$f":"_xlfn.XLOOKUP(C164,'RAW module list'!A:A,'RAW module list'!B:B, \"Not found\")","v":"Afrikaans Teaching 1 (Home Language)"},{"$f":"_xlfn.XLOOKUP(C164,'RAW module list'!A:A,'RAW module list'!C:C, \"Not found\")","v":6},{"$f":"_xlfn.XLOOKUP(C164,'RAW module list'!A:A,'RAW module list'!D:D, \"Not found\")","v":16},{"$f":"_xlfn.XLOOKUP(C164,'RAW module list'!A:A,'RAW module list'!E:E, \"Not found\")","v":"AFNT1644 & AFNL1634"},"Third Year",{"$f":"_xlfn.XLOOKUP(B164,'Programmes lists'!B:B,'Programmes lists'!D:D)","v":"BC735791"},{"$f":"_xlfn.XLOOKUP(B164,'Programmes lists'!B:B,'Programmes lists'!E:E, \"Not found\")","v":0},{"$f":"_xlfn.XLOOKUP(B164,'Programmes lists'!B:B,'Programmes lists'!G:G,\"Not found\")","v":"Minimum grade 12 pass in\n•\tAfrikaans HL 55% \n•\tEnglish FAL 50% \n•\tMathematics 50% "},{"$f":"_xlfn.XLOOKUP(B164,'Programmes lists'!B:B,'Programmes lists'!F:F,\"Not found\")","v":532}]
["Intermediate Phase","Specialising in Mathematics, Natural Science & Technology and Afrikaans Home Language","EATI3604",{"$f":"_xlfn.XLOOKUP(C165,'RAW module list'!A:A,'RAW module list'!B:B, \"Not found\")","v":"English additional language teaching 1"},{"$f":"_xlfn.XLOOKUP(C165,'RAW module list'!A:A,'RAW module list'!C:C, \"Not found\")","v":6},{"$f":"_xlfn.XLOOKUP(C165,'RAW module list'!A:A,'RAW module list'!D:D, \"Not found\")","v":16},{"$f":"_xlfn.XLOOKUP(C165,'RAW module list'!A:A,'RAW module list'!E:E, \"Not found\")","v":"ENGE1608"},"Third Year",{"$f":"_xlfn.XLOOKUP(B165,'Programmes lists'!B:B,'Programmes lists'!D:D)","v":"BC735791"},{"$f":"_xlfn.XLOOKUP(B165,'Programmes lists'!B:B,'Programmes lists'!E:E, \"Not found\")","v":0},{"$f":"_xlfn.XLOOKUP(B165,'Programmes lists'!B:B,'Programmes lists'!G:G,\"Not found\")","v":"Minimum grade 12 pass in\n•\tAfrikaans HL 55% \n•\tEnglish FAL 50% \n•\tMathematics 50% "},{"$f":"_xlfn.XLOOKUP(B165,'Programmes lists'!B:B,'Programmes lists'!F:F,\"Not found\")","v":532}]
["Intermediate Phase","Specialising in Mathematics, Natural Science & Technology and Afrikaans Home Language","CURM3502",{"$f":"_xlfn.XLOOKUP(C166,'RAW module list'!A:A,'RAW module list'!B:B, \"Not found\")","v":"Intermediate Phase School Curriculum 1"},{"$f":"_xlfn.XLOOKUP(C166,'RAW module list'!A:A,'RAW module list'!C:C, \"Not found\")","v":5},{"$f":"_xlfn.XLOOKUP(C166,'RAW module list'!A:A,'RAW module list'!D:D, \"Not found\")","v":8},{"$f":"_xlfn.XLOOKUP(C166,'RAW module list'!A:A,'RAW module list'!E:E, \"Not found\")","v":0},"Third Year",{"$f":"_xlfn.XLOOKUP(B166,'Programmes lists'!B:B,'Programmes lists'!D:D)","v":"BC735791"},{"$f":"_xlfn.XLOOKUP(B166,'Programmes lists'!B:B,'Programmes lists'!E:E, \"Not found\")","v":0},{"$f":"_xlfn.XLOOKUP(B166,'Programmes lists'!B:B,'Programmes lists'!G:G,\"Not found\")","v":"Minimum grade 12 pass in\n•\tAfrikaans HL 55% \n•\tEnglish FAL 50% \n•\tMathematics 50% "},{"$f":"_xlfn.XLOOKUP(B166,'Programmes lists'!B:B,'Programmes lists'!F:F,\"Not found\")","v":532}]
["Intermediate Phase","Specialising in Mathematics, Natural Science & Technology and Afrikaans Home Language","EDUB3714",{"$f":"_xlfn.XLOOKUP(C167,'RAW module list'!A:A,'RAW module list'!B:B, \"Not found\")","v":"Education Studies 3.1 Education systems in global and national context"},{"$f":"_xlfn.XLOOKUP(C167,'RAW module list'!A:A,'RAW module list'!C:C, \"Not found\")","v":7},{"$f":"_xlfn.XLOOKUP(C167,'RAW module list'!A:A,'RAW module list'!D:D, \"Not found\")","v":16},{"$f":"_xlfn.XLOOKUP(C167,'RAW module list'!A:A,'RAW module list'!E:E, \"Not found\")","v":"EDUB1613 & EDUB1623& EDUB2714 & EDUB2724"},"Third Year",{"$f":"_xlfn.XLOOKUP(B167,'Programmes lists'!B:B,'Programmes lists'!D:D)","v":"BC735791"},{"$f":"_xlfn.XLOOKUP(B167,'Programmes lists'!B:B,'Programmes lists'!E:E, \"Not found\")","v":0},{"$f":"_xlfn.XLOOKUP(B167,'Programmes lists'!B:B,'Programmes lists'!G:G,\"Not found\")","v":"Minimum grade 12 pass in\n•\tAfrikaans HL 55% \n•\tEnglish FAL 50% \n•\tMathematics 50% "},{"$f":"_xlfn.XLOOKUP(B167,'Programmes lists'!B:B,'Programmes lists'!F:F,\"Not found\")","v":532}]
["Intermediate Phase","Specialising in Mathematics, Natural Science & Technology and Afrikaans Home Language","SICL3512 OR SSCL3512 OR ZUCL3512",{"$f":"_xlfn.XLOOKUP(C168,'RAW module list'!A:A,'RAW module list'!B:B, \"Not found\")","v":"Conversational Sign Language OR Conversational Sesotho OR Conversational IsiZulu"},{"$f":"_xlfn.XLOOKUP(C168,'RAW module list'!A:A,'RAW module list'!C:C, \"Not found\")","v":5},{"$f":"_xlfn.XLOOKUP(C168,'RAW module list'!A:A,'RAW module list'!D:D, \"Not found\")","v":8},{"$f":"_xlfn.XLOOKUP(C168,'RAW module list'!A:A,'RAW module list'!E:E, \"Not found\")","v":"No previous exposure to the language"},"Third Year",{"$f":"_xlfn.XLOOKUP(B168,'Programmes lists'!B:B,'Programmes lists'!D:D)","v":"BC735791"},{"$f":"_xlfn.XLOOKUP(B168,'Programmes lists'!B:B,'Programmes lists'!E:E, \"Not found\")","v":0},{"$f":"_xlfn.XLOOKUP(B168,'Programmes lists'!B:B,'Programmes lists'!G:G,\"Not found\")","v":"Minimum grade 12 pass in\n•\tAfrikaans HL 55% \n•\tEnglish FAL 50% \n•\tMathematics 50% "},{"$f":"_xlfn.XLOOKUP(B168,'Programmes lists'!B:B,'Programmes lists'!F:F,\"Not found\")","v":532}]
["Intermediate Phase","Specialising in Mathematics, Natural Science & Technology and Afrikaans Home Language","WILI3606",{"$f":"_xlfn.XLOOKUP(C169,'RAW module list'!A:A,'RAW module list'!B:B, \"Not found\")","v":"Teaching Practice 3"},{"$f":"_xlfn.XLOOKUP(C169,'RAW module list'!A:A,'RAW module list'!C:C, \"Not found\")","v":6},{"$f":"_xlfn.XLOOKUP(C169,'RAW module list'!A:A,'RAW module list'!D:D, \"Not found\")","v":24},{"$f":"_xlfn.XLOOKUP(C169,'RAW module list'!A:A,'RAW module list'!E:E, \"Not found\")","v":"TPRI2502"},"Third Year",{"$f":"_xlfn.XLOOKUP(B169,'Programmes lists'!B:B,'Programmes lists'!D:D)","v":"BC735791"},{"$f":"_xlfn.XLOOKUP(B169,'Programmes lists'!B:B,'Programmes lists'!E:E, \"Not found\")","v":0},{"$f":"_xlfn.XLOOKUP(B169,'Programmes lists'!B:B,'Programmes lists'!G:G,\"Not found\")","v":"Minimum grade 12 pass in\n•\tAfrikaans HL 55% \n•\tEnglish FAL 50% \n•\tMathematics 50% "},{"$f":"_xlfn.XLOOKUP(B169,'Programmes lists'!B:B,'Programmes lists'!F:F,\"Not found\")","v":532}]
["Intermediate Phase","Specialising in Mathematics, Natural Science & Technology and Afrikaans Home Language","EDUB3724",{"$f":"_xlfn.XLOOKUP(C170,'RAW module list'!A:A,'RAW module list'!B:B, \"Not found\")","v":"Education Studies 3.2: Contemporary Education Theory in the current social context"},{"$f":"_xlfn.XLOOKUP(C170,'RAW module list'!A:A,'RAW module list'!C:C, \"Not found\")","v":7},{"$f":"_xlfn.XLOOKUP(C170,'RAW module list'!A:A,'RAW module list'!D:D, \"Not found\")","v":16},{"$f":"_xlfn.XLOOKUP(C170,'RAW module list'!A:A,'RAW module list'!E:E, \"Not found\")","v":"EDUB1613 & EDUB1623 & EDUB2714 & EDUB2724 & EDUB3714"},"Third Year",{"$f":"_xlfn.XLOOKUP(B170,'Programmes lists'!B:B,'Programmes lists'!D:D)","v":"BC735791"},{"$f":"_xlfn.XLOOKUP(B170,'Programmes lists'!B:B,'Programmes lists'!E:E, \"Not found\")","v":0},{"$f":"_xlfn.XLOOKUP(B170,'Programmes lists'!B:B,'Programmes lists'!G:G,\"Not found\")","v":"Minimum grade 12 pass in\n•\tAfrikaans HL 55% \n•\tEnglish FAL 50% \n•\tMathematics 50% "},{"$f":"_xlfn.XLOOKUP(B170,'Programmes lists'!B:B,'Programmes lists'!F:F,\"Not found\")","v":532}]
["Intermediate Phase","Specialising in Mathematics, Natural Science & Technology and Afrikaans Home Language","SICL3522 OR GAFR3522 OR ZUCL3522",{"$f":"_xlfn.XLOOKUP(C171,'RAW module list'!A:A,'RAW module list'!B:B, \"Not found\")","v":"Conversational Language: Sesotho OR Conversational Afrikaans OR Conversational IsiZulu"},{"$f":"_xlfn.XLOOKUP(C171,'RAW module list'!A:A,'RAW module list'!C:C, \"Not found\")","v":5},{"$f":"_xlfn.XLOOKUP(C171,'RAW module list'!A:A,'RAW module list'!D:D, \"Not found\")","v":8},{"$f":"_xlfn.XLOOKUP(C171,'RAW module list'!A:A,'RAW module list'!E:E, \"Not found\")","v":"Continue with the conversational language chosen in Semester 1"},"Third Year",{"$f":"_xlfn.XLOOKUP(B171,'Programmes lists'!B:B,'Programmes lists'!D:D)","v":"BC735791"},{"$f":"_xlfn.XLOOKUP(B171,'Programmes lists'!B:B,'Programmes lists'!E:E, \"Not found\")","v":0},{"$f":"_xlfn.XLOOKUP(B171,'Programmes lists'!B:B,'Programmes lists'!G:G,\"Not found\")","v":"Minimum grade 12 pass in\n•\tAfrikaans HL 55% \n•\tEnglish FAL 50% \n•\tMathematics 50% "},{"$f":"_xlfn.XLOOKUP(B171,'Programmes lists'!B:B,'Programmes lists'!F:F,\"Not found\")","v":532}]
["Intermediate Phase","Specialising in Mathematics, Natural Science & Technology and Afrikaans Home Language","NTTI4705",{"$f":"_xlfn.XLOOKUP(C172,'RAW module list'!A:A,'RAW module list'!B:B, \"Not found\")","v":"Natural Sciences and Technology Teaching  2"},{"$f":"_xlfn.XLOOKUP(C172,'RAW module list'!A:A,'RAW module list'!C:C, \"Not found\")","v":7},{"$f":"_xlfn.XLOOKUP(C172,'RAW module list'!A:A,'RAW module list'!D:D, \"Not found\")","v":20},{"$f":"_xlfn.XLOOKUP(C172,'RAW module list'!A:A,'RAW module list'!E:E, \"Not found\")","v":"NTTI3604"},"Fourth Year",{"$f":"_xlfn.XLOOKUP(B172,'Programmes lists'!B:B,'Programmes lists'!D:D)","v":"BC735791"},{"$f":"_xlfn.XLOOKUP(B172,'Programmes lists'!B:B,'Programmes lists'!E:E, \"Not found\")","v":0},{"$f":"_xlfn.XLOOKUP(B172,'Programmes lists'!B:B,'Programmes lists'!G:G,\"Not found\")","v":"Minimum grade 12 pass in\n•\tAfrikaans HL 55% \n•\tEnglish FAL 50% \n•\tMathematics 50% "},{"$f":"_xlfn.XLOOKUP(B172,'Programmes lists'!B:B,'Programmes lists'!F:F,\"Not found\")","v":532}]
["Intermediate Phase","Specialising in Mathematics, Natural Science & Technology and Afrikaans Home Language","MTTI4705",{"$f":"_xlfn.XLOOKUP(C173,'RAW module list'!A:A,'RAW module list'!B:B, \"Not found\")","v":"Mathematics teaching 2"},{"$f":"_xlfn.XLOOKUP(C173,'RAW module list'!A:A,'RAW module list'!C:C, \"Not found\")","v":7},{"$f":"_xlfn.XLOOKUP(C173,'RAW module list'!A:A,'RAW module list'!D:D, \"Not found\")","v":20},{"$f":"_xlfn.XLOOKUP(C173,'RAW module list'!A:A,'RAW module list'!E:E, \"Not found\")","v":"MTTI3604"},"Fourth Year",{"$f":"_xlfn.XLOOKUP(B173,'Programmes lists'!B:B,'Programmes lists'!D:D)","v":"BC735791"},{"$f":"_xlfn.XLOOKUP(B173,'Programmes lists'!B:B,'Programmes lists'!E:E, \"Not found\")","v":0},{"$f":"_xlfn.XLOOKUP(B173,'Programmes lists'!B:B,'Programmes lists'!G:G,\"Not found\")","v":"Minimum grade 12 pass in\n•\tAfrikaans HL 55% \n•\tEnglish FAL 50% \n•\tMathematics 50% "},{"$f":"_xlfn.XLOOKUP(B173,'Programmes lists'!B:B,'Programmes lists'!F:F,\"Not found\")","v":532}]
["Intermediate Phase","Specialising in Mathematics, Natural Science & Technology and Afrikaans Home Language","AHTI4705",{"$f":"_xlfn.XLOOKUP(C174,'RAW module list'!A:A,'RAW module list'!B:B, \"Not found\")","v":"Afrikaans Teaching 2 (Home Language)"},{"$f":"_xlfn.XLOOKUP(C174,'RAW module list'!A:A,'RAW module list'!C:C, \"Not found\")","v":7},{"$f":"_xlfn.XLOOKUP(C174,'RAW module list'!A:A,'RAW module list'!D:D, \"Not found\")","v":20},{"$f":"_xlfn.XLOOKUP(C174,'RAW module list'!A:A,'RAW module list'!E:E, \"Not found\")","v":"AHTI3604"},"Fourth Year",{"$f":"_xlfn.XLOOKUP(B174,'Programmes lists'!B:B,'Programmes lists'!D:D)","v":"BC735791"},{"$f":"_xlfn.XLOOKUP(B174,'Programmes lists'!B:B,'Programmes lists'!E:E, \"Not found\")","v":0},{"$f":"_xlfn.XLOOKUP(B174,'Programmes lists'!B:B,'Programmes lists'!G:G,\"Not found\")","v":"Minimum grade 12 pass in\n•\tAfrikaans HL 55% \n•\tEnglish FAL 50% \n•\tMathematics 50% "},{"$f":"_xlfn.XLOOKUP(B174,'Programmes lists'!B:B,'Programmes lists'!F:F,\"Not found\")","v":532}]
["Intermediate Phase","Specialising in Mathematics, Natural Science & Technology and Afrikaans Home Language","EATI4705",{"$f":"_xlfn.XLOOKUP(C175,'RAW module list'!A:A,'RAW module list'!B:B, \"Not found\")","v":"English additional language teaching 2"},{"$f":"_xlfn.XLOOKUP(C175,'RAW module list'!A:A,'RAW module list'!C:C, \"Not found\")","v":7},{"$f":"_xlfn.XLOOKUP(C175,'RAW module list'!A:A,'RAW module list'!D:D, \"Not found\")","v":20},{"$f":"_xlfn.XLOOKUP(C175,'RAW module list'!A:A,'RAW module list'!E:E, \"Not found\")","v":"EATI3604"},"Fourth Year",{"$f":"_xlfn.XLOOKUP(B175,'Programmes lists'!B:B,'Programmes lists'!D:D)","v":"BC735791"},{"$f":"_xlfn.XLOOKUP(B175,'Programmes lists'!B:B,'Programmes lists'!E:E, \"Not found\")","v":0},{"$f":"_xlfn.XLOOKUP(B175,'Programmes lists'!B:B,'Programmes lists'!G:G,\"Not found\")","v":"Minimum grade 12 pass in\n•\tAfrikaans HL 55% \n•\tEnglish FAL 50% \n•\tMathematics 50% "},{"$f":"_xlfn.XLOOKUP(B175,'Programmes lists'!B:B,'Programmes lists'!F:F,\"Not found\")","v":532}]
["Intermediate Phase","Specialising in Mathematics, Natural Science & Technology and Afrikaans Home Language","CURM4502",{"$f":"_xlfn.XLOOKUP(C176,'RAW module list'!A:A,'RAW module list'!B:B, \"Not found\")","v":"Intermediate Phase School Curriculum 2"},{"$f":"_xlfn.XLOOKUP(C176,'RAW module list'!A:A,'RAW module list'!C:C, \"Not found\")","v":5},{"$f":"_xlfn.XLOOKUP(C176,'RAW module list'!A:A,'RAW module list'!D:D, \"Not found\")","v":8},{"$f":"_xlfn.XLOOKUP(C176,'RAW module list'!A:A,'RAW module list'!E:E, \"Not found\")","v":"CURM3502"},"Fourth Year",{"$f":"_xlfn.XLOOKUP(B176,'Programmes lists'!B:B,'Programmes lists'!D:D)","v":"BC735791"},{"$f":"_xlfn.XLOOKUP(B176,'Programmes lists'!B:B,'Programmes lists'!E:E, \"Not found\")","v":0},{"$f":"_xlfn.XLOOKUP(B176,'Programmes lists'!B:B,'Programmes lists'!G:G,\"Not found\")","v":"Minimum grade 12 pass in\n•\tAfrikaans HL 55% \n•\tEnglish FAL 50% \n•\tMathematics 50% "},{"$f":"_xlfn.XLOOKUP(B176,'Programmes lists'!B:B,'Programmes lists'!F:F,\"Not found\")","v":532}]
["Intermediate Phase","Specialising in Mathematics, Natural Science & Technology and Afrikaans Home Language","WILI4700",{"$f":"_xlfn.XLOOKUP(C177,'RAW module list'!A:A,'RAW module list'!B:B, \"Not found\")","v":"Teaching Practice 4"},{"$f":"_xlfn.XLOOKUP(C177,'RAW module list'!A:A,'RAW module list'!C:C, \"Not found\")","v":7},{"$f":"_xlfn.XLOOKUP(C177,'RAW module list'!A:A,'RAW module list'!D:D, \"Not found\")","v":40},{"$f":"_xlfn.XLOOKUP(C177,'RAW module list'!A:A,'RAW module list'!E:E, \"Not found\")","v":"WILI3606"},"Fourth Year",{"$f":"_xlfn.XLOOKUP(B177,'Programmes lists'!B:B,'Programmes lists'!D:D)","v":"BC735791"},{"$f":"_xlfn.XLOOKUP(B177,'Programmes lists'!B:B,'Programmes lists'!E:E, \"Not found\")","v":0},{"$f":"_xlfn.XLOOKUP(B177,'Programmes lists'!B:B,'Programmes lists'!G:G,\"Not found\")","v":"Minimum grade 12 pass in\n•\tAfrikaans HL 55% \n•\tEnglish FAL 50% \n•\tMathematics 50% "},{"$f":"_xlfn.XLOOKUP(B177,'Programmes lists'!B:B,'Programmes lists'!F:F,\"Not found\")","v":532}]
["Intermediate Phase","Specialising in Mathematics, Natural Science & Technology and Sesotho Home Language","MTHI1614",{"$f":"_xlfn.XLOOKUP(C178,'RAW module list'!A:A,'RAW module list'!B:B, \"Not found\")","v":"Mathematics: Numbers, algebra and functions "},{"$f":"_xlfn.XLOOKUP(C178,'RAW module list'!A:A,'RAW module list'!C:C, \"Not found\")","v":6},{"$f":"_xlfn.XLOOKUP(C178,'RAW module list'!A:A,'RAW module list'!D:D, \"Not found\")","v":16},{"$f":"_xlfn.XLOOKUP(C178,'RAW module list'!A:A,'RAW module list'!E:E, \"Not found\")","v":"Mathematics at NSC level 4 (50%) pass"},"First Year",{"$f":"_xlfn.XLOOKUP(B178,'Programmes lists'!B:B,'Programmes lists'!D:D)","v":"BC735792"},{"$f":"_xlfn.XLOOKUP(B178,'Programmes lists'!B:B,'Programmes lists'!E:E, \"Not found\")","v":"QC735792"},{"$f":"_xlfn.XLOOKUP(B178,'Programmes lists'!B:B,'Programmes lists'!G:G,\"Not found\")","v":"Minimum grade 12 pass in\n•\tSesotho HL 50% \n•\tEnglish FAL 50% \n•\tMathematics 50%"},{"$f":"_xlfn.XLOOKUP(B178,'Programmes lists'!B:B,'Programmes lists'!F:F,\"Not found\")","v":532}]
["Intermediate Phase","Specialising in Mathematics, Natural Science & Technology and Sesotho Home Language","ENGE1608",{"$f":"_xlfn.XLOOKUP(C179,'RAW module list'!A:A,'RAW module list'!B:B, \"Not found\")","v":"English Language for Education "},{"$f":"_xlfn.XLOOKUP(C179,'RAW module list'!A:A,'RAW module list'!C:C, \"Not found\")","v":6},{"$f":"_xlfn.XLOOKUP(C179,'RAW module list'!A:A,'RAW module list'!D:D, \"Not found\")","v":32},{"$f":"_xlfn.XLOOKUP(C179,'RAW module list'!A:A,'RAW module list'!E:E, \"Not found\")","v":0},"First Year",{"$f":"_xlfn.XLOOKUP(B179,'Programmes lists'!B:B,'Programmes lists'!D:D)","v":"BC735792"},{"$f":"_xlfn.XLOOKUP(B179,'Programmes lists'!B:B,'Programmes lists'!E:E, \"Not found\")","v":"QC735792"},{"$f":"_xlfn.XLOOKUP(B179,'Programmes lists'!B:B,'Programmes lists'!G:G,\"Not found\")","v":"Minimum grade 12 pass in\n•\tSesotho HL 50% \n•\tEnglish FAL 50% \n•\tMathematics 50%"},{"$f":"_xlfn.XLOOKUP(B179,'Programmes lists'!B:B,'Programmes lists'!F:F,\"Not found\")","v":532}]
["Intermediate Phase","Specialising in Mathematics, Natural Science & Technology and Sesotho Home Language","LLST1513",{"$f":"_xlfn.XLOOKUP(C180,'RAW module list'!A:A,'RAW module list'!B:B, \"Not found\")","v":"Lifelong Learning Skills"},{"$f":"_xlfn.XLOOKUP(C180,'RAW module list'!A:A,'RAW module list'!C:C, \"Not found\")","v":5},{"$f":"_xlfn.XLOOKUP(C180,'RAW module list'!A:A,'RAW module list'!D:D, \"Not found\")","v":12},{"$f":"_xlfn.XLOOKUP(C180,'RAW module list'!A:A,'RAW module list'!E:E, \"Not found\")","v":0},"First Year",{"$f":"_xlfn.XLOOKUP(B180,'Programmes lists'!B:B,'Programmes lists'!D:D)","v":"BC735792"},{"$f":"_xlfn.XLOOKUP(B180,'Programmes lists'!B:B,'Programmes lists'!E:E, \"Not found\")","v":"QC735792"},{"$f":"_xlfn.XLOOKUP(B180,'Programmes lists'!B:B,'Programmes lists'!G:G,\"Not found\")","v":"Minimum grade 12 pass in\n•\tSesotho HL 50% \n•\tEnglish FAL 50% \n•\tMathematics 50%"},{"$f":"_xlfn.XLOOKUP(B180,'Programmes lists'!B:B,'Programmes lists'!F:F,\"Not found\")","v":532}]
["Intermediate Phase","Specialising in Mathematics, Natural Science & Technology and Sesotho Home Language","EDUB1613",{"$f":"_xlfn.XLOOKUP(C181,'RAW module list'!A:A,'RAW module list'!B:B, \"Not found\")","v":"Education Studies 1.1 The Individual in the learning context"},{"$f":"_xlfn.XLOOKUP(C181,'RAW module list'!A:A,'RAW module list'!C:C, \"Not found\")","v":6},{"$f":"_xlfn.XLOOKUP(C181,'RAW module list'!A:A,'RAW module list'!D:D, \"Not found\")","v":12},{"$f":"_xlfn.XLOOKUP(C181,'RAW module list'!A:A,'RAW module list'!E:E, \"Not found\")","v":0},"First Year",{"$f":"_xlfn.XLOOKUP(B181,'Programmes lists'!B:B,'Programmes lists'!D:D)","v":"BC735792"},{"$f":"_xlfn.XLOOKUP(B181,'Programmes lists'!B:B,'Programmes lists'!E:E, \"Not found\")","v":"QC735792"},{"$f":"_xlfn.XLOOKUP(B181,'Programmes lists'!B:B,'Programmes lists'!G:G,\"Not found\")","v":"Minimum grade 12 pass in\n•\tSesotho HL 50% \n•\tEnglish FAL 50% \n•\tMathematics 50%"},{"$f":"_xlfn.XLOOKUP(B181,'Programmes lists'!B:B,'Programmes lists'!F:F,\"Not found\")","v":532}]
["Intermediate Phase","Specialising in Mathematics, Natural Science & Technology and Sesotho Home Language","TPRI1502",{"$f":"_xlfn.XLOOKUP(C182,'RAW module list'!A:A,'RAW module list'!B:B, \"Not found\")","v":"Teaching Practice 1"},{"$f":"_xlfn.XLOOKUP(C182,'RAW module list'!A:A,'RAW module list'!C:C, \"Not found\")","v":5},{"$f":"_xlfn.XLOOKUP(C182,'RAW module list'!A:A,'RAW module list'!D:D, \"Not found\")","v":8},{"$f":"_xlfn.XLOOKUP(C182,'RAW module list'!A:A,'RAW module list'!E:E, \"Not found\")","v":0},"First Year",{"$f":"_xlfn.XLOOKUP(B182,'Programmes lists'!B:B,'Programmes lists'!D:D)","v":"BC735792"},{"$f":"_xlfn.XLOOKUP(B182,'Programmes lists'!B:B,'Programmes lists'!E:E, \"Not found\")","v":"QC735792"},{"$f":"_xlfn.XLOOKUP(B182,'Programmes lists'!B:B,'Programmes lists'!G:G,\"Not found\")","v":"Minimum grade 12 pass in\n•\tSesotho HL 50% \n•\tEnglish FAL 50% \n•\tMathematics 50%"},{"$f":"_xlfn.XLOOKUP(B182,'Programmes lists'!B:B,'Programmes lists'!F:F,\"Not found\")","v":532}]
["Intermediate Phase","Specialising in Mathematics, Natural Science & Technology and Sesotho Home Language","UFSS1504",{"$f":"_xlfn.XLOOKUP(C183,'RAW module list'!A:A,'RAW module list'!B:B, \"Not found\")","v":"Undergraduate core curriculum"},{"$f":"_xlfn.XLOOKUP(C183,'RAW module list'!A:A,'RAW module list'!C:C, \"Not found\")","v":5},{"$f":"_xlfn.XLOOKUP(C183,'RAW module list'!A:A,'RAW module list'!D:D, \"Not found\")","v":-16},{"$f":"_xlfn.XLOOKUP(C183,'RAW module list'!A:A,'RAW module list'!E:E, \"Not found\")","v":0},"First Year",{"$f":"_xlfn.XLOOKUP(B183,'Programmes lists'!B:B,'Programmes lists'!D:D)","v":"BC735792"},{"$f":"_xlfn.XLOOKUP(B183,'Programmes lists'!B:B,'Programmes lists'!E:E, \"Not found\")","v":"QC735792"},{"$f":"_xlfn.XLOOKUP(B183,'Programmes lists'!B:B,'Programmes lists'!G:G,\"Not found\")","v":"Minimum grade 12 pass in\n•\tSesotho HL 50% \n•\tEnglish FAL 50% \n•\tMathematics 50%"},{"$f":"_xlfn.XLOOKUP(B183,'Programmes lists'!B:B,'Programmes lists'!F:F,\"Not found\")","v":532}]
["Intermediate Phase","Specialising in Mathematics, Natural Science & Technology and Sesotho Home Language","EALT1508",{"$f":"_xlfn.XLOOKUP(C184,'RAW module list'!A:A,'RAW module list'!B:B, \"Not found\")","v":"English Academic Literacy for Education "},{"$f":"_xlfn.XLOOKUP(C184,'RAW module list'!A:A,'RAW module list'!C:C, \"Not found\")","v":5},{"$f":"_xlfn.XLOOKUP(C184,'RAW module list'!A:A,'RAW module list'!D:D, \"Not found\")","v":-32},{"$f":"_xlfn.XLOOKUP(C184,'RAW module list'!A:A,'RAW module list'!E:E, \"Not found\")","v":"NBT requirements not met"},"First Year",{"$f":"_xlfn.XLOOKUP(B184,'Programmes lists'!B:B,'Programmes lists'!D:D)","v":"BC735792"},{"$f":"_xlfn.XLOOKUP(B184,'Programmes lists'!B:B,'Programmes lists'!E:E, \"Not found\")","v":"QC735792"},{"$f":"_xlfn.XLOOKUP(B184,'Programmes lists'!B:B,'Programmes lists'!G:G,\"Not found\")","v":"Minimum grade 12 pass in\n•\tSesotho HL 50% \n•\tEnglish FAL 50% \n•\tMathematics 50%"},{"$f":"_xlfn.XLOOKUP(B184,'Programmes lists'!B:B,'Programmes lists'!F:F,\"Not found\")","v":532}]
["Intermediate Phase","Specialising in Mathematics, Natural Science & Technology and Sesotho Home Language","MTHI1624",{"$f":"_xlfn.XLOOKUP(C185,'RAW module list'!A:A,'RAW module list'!B:B, \"Not found\")","v":"Mathematics: total surface area and volume"},{"$f":"_xlfn.XLOOKUP(C185,'RAW module list'!A:A,'RAW module list'!C:C, \"Not found\")","v":6},{"$f":"_xlfn.XLOOKUP(C185,'RAW module list'!A:A,'RAW module list'!D:D, \"Not found\")","v":16},{"$f":"_xlfn.XLOOKUP(C185,'RAW module list'!A:A,'RAW module list'!E:E, \"Not found\")","v":"Mathematics at NSC level 4 (50%) pass"},"First Year",{"$f":"_xlfn.XLOOKUP(B185,'Programmes lists'!B:B,'Programmes lists'!D:D)","v":"BC735792"},{"$f":"_xlfn.XLOOKUP(B185,'Programmes lists'!B:B,'Programmes lists'!E:E, \"Not found\")","v":"QC735792"},{"$f":"_xlfn.XLOOKUP(B185,'Programmes lists'!B:B,'Programmes lists'!G:G,\"Not found\")","v":"Minimum grade 12 pass in\n•\tSesotho HL 50% \n•\tEnglish FAL 50% \n•\tMathematics 50%"},{"$f":"_xlfn.XLOOKUP(B185,'Programmes lists'!B:B,'Programmes lists'!F:F,\"Not found\")","v":532}]
["Intermediate Phase","Specialising in Mathematics, Natural Science & Technology and Sesotho Home Language","EDUB1623",{"$f":"_xlfn.XLOOKUP(C186,'RAW module list'!A:A,'RAW module list'!B:B, \"Not found\")","v":"Education Studies 1.2 What it means to educate: Theoretical perspectives and their significance for SA education"},{"$f":"_xlfn.XLOOKUP(C186,'RAW module list'!A:A,'RAW module list'!C:C, \"Not found\")","v":6},{"$f":"_xlfn.XLOOKUP(C186,'RAW module list'!A:A,'RAW module list'!D:D, \"Not found\")","v":12},{"$f":"_xlfn.XLOOKUP(C186,'RAW module list'!A:A,'RAW module list'!E:E, \"Not found\")","v":0},"First Year",{"$f":"_xlfn.XLOOKUP(B186,'Programmes lists'!B:B,'Programmes lists'!D:D)","v":"BC735792"},{"$f":"_xlfn.XLOOKUP(B186,'Programmes lists'!B:B,'Programmes lists'!E:E, \"Not found\")","v":"QC735792"},{"$f":"_xlfn.XLOOKUP(B186,'Programmes lists'!B:B,'Programmes lists'!G:G,\"Not found\")","v":"Minimum grade 12 pass in\n•\tSesotho HL 50% \n•\tEnglish FAL 50% \n•\tMathematics 50%"},{"$f":"_xlfn.XLOOKUP(B186,'Programmes lists'!B:B,'Programmes lists'!F:F,\"Not found\")","v":532}]
["Intermediate Phase","Specialising in Mathematics, Natural Science & Technology and Sesotho Home Language","GPED1623",{"$f":"_xlfn.XLOOKUP(C187,'RAW module list'!A:A,'RAW module list'!B:B, \"Not found\")","v":"General Pedagogy 1: Managing the Curriculum"},{"$f":"_xlfn.XLOOKUP(C187,'RAW module list'!A:A,'RAW module list'!C:C, \"Not found\")","v":6},{"$f":"_xlfn.XLOOKUP(C187,'RAW module list'!A:A,'RAW module list'!D:D, \"Not found\")","v":12},{"$f":"_xlfn.XLOOKUP(C187,'RAW module list'!A:A,'RAW module list'!E:E, \"Not found\")","v":0},"First Year",{"$f":"_xlfn.XLOOKUP(B187,'Programmes lists'!B:B,'Programmes lists'!D:D)","v":"BC735792"},{"$f":"_xlfn.XLOOKUP(B187,'Programmes lists'!B:B,'Programmes lists'!E:E, \"Not found\")","v":"QC735792"},{"$f":"_xlfn.XLOOKUP(B187,'Programmes lists'!B:B,'Programmes lists'!G:G,\"Not found\")","v":"Minimum grade 12 pass in\n•\tSesotho HL 50% \n•\tEnglish FAL 50% \n•\tMathematics 50%"},{"$f":"_xlfn.XLOOKUP(B187,'Programmes lists'!B:B,'Programmes lists'!F:F,\"Not found\")","v":532}]
["Intermediate Phase","Specialising in Mathematics, Natural Science & Technology and Sesotho Home Language","NSTC2614",{"$f":"_xlfn.XLOOKUP(C188,'RAW module list'!A:A,'RAW module list'!B:B, \"Not found\")","v":"Elementary Natural Sciences and Technology"},{"$f":"_xlfn.XLOOKUP(C188,'RAW module list'!A:A,'RAW module list'!C:C, \"Not found\")","v":6},{"$f":"_xlfn.XLOOKUP(C188,'RAW module list'!A:A,'RAW module list'!D:D, \"Not found\")","v":16},{"$f":"_xlfn.XLOOKUP(C188,'RAW module list'!A:A,'RAW module list'!E:E, \"Not found\")","v":0},"Second Year",{"$f":"_xlfn.XLOOKUP(B188,'Programmes lists'!B:B,'Programmes lists'!D:D)","v":"BC735792"},{"$f":"_xlfn.XLOOKUP(B188,'Programmes lists'!B:B,'Programmes lists'!E:E, \"Not found\")","v":"QC735792"},{"$f":"_xlfn.XLOOKUP(B188,'Programmes lists'!B:B,'Programmes lists'!G:G,\"Not found\")","v":"Minimum grade 12 pass in\n•\tSesotho HL 50% \n•\tEnglish FAL 50% \n•\tMathematics 50%"},{"$f":"_xlfn.XLOOKUP(B188,'Programmes lists'!B:B,'Programmes lists'!F:F,\"Not found\")","v":532}]
["Intermediate Phase","Specialising in Mathematics, Natural Science & Technology and Sesotho Home Language","SSML1514",{"$f":"_xlfn.XLOOKUP(C189,'RAW module list'!A:A,'RAW module list'!B:B, \"Not found\")","v":"Sesotho language structure "},{"$f":"_xlfn.XLOOKUP(C189,'RAW module list'!A:A,'RAW module list'!C:C, \"Not found\")","v":5},{"$f":"_xlfn.XLOOKUP(C189,'RAW module list'!A:A,'RAW module list'!D:D, \"Not found\")","v":16},{"$f":"_xlfn.XLOOKUP(C189,'RAW module list'!A:A,'RAW module list'!E:E, \"Not found\")","v":0},"Second Year",{"$f":"_xlfn.XLOOKUP(B189,'Programmes lists'!B:B,'Programmes lists'!D:D)","v":"BC735792"},{"$f":"_xlfn.XLOOKUP(B189,'Programmes lists'!B:B,'Programmes lists'!E:E, \"Not found\")","v":"QC735792"},{"$f":"_xlfn.XLOOKUP(B189,'Programmes lists'!B:B,'Programmes lists'!G:G,\"Not found\")","v":"Minimum grade 12 pass in\n•\tSesotho HL 50% \n•\tEnglish FAL 50% \n•\tMathematics 50%"},{"$f":"_xlfn.XLOOKUP(B189,'Programmes lists'!B:B,'Programmes lists'!F:F,\"Not found\")","v":532}]
["Intermediate Phase","Specialising in Mathematics, Natural Science & Technology and Sesotho Home Language","MTBI2503",{"$f":"_xlfn.XLOOKUP(C190,'RAW module list'!A:A,'RAW module list'!B:B, \"Not found\")","v":"Basic Mathematics "},{"$f":"_xlfn.XLOOKUP(C190,'RAW module list'!A:A,'RAW module list'!C:C, \"Not found\")","v":5},{"$f":"_xlfn.XLOOKUP(C190,'RAW module list'!A:A,'RAW module list'!D:D, \"Not found\")","v":12},{"$f":"_xlfn.XLOOKUP(C190,'RAW module list'!A:A,'RAW module list'!E:E, \"Not found\")","v":0},"Second Year",{"$f":"_xlfn.XLOOKUP(B190,'Programmes lists'!B:B,'Programmes lists'!D:D)","v":"BC735792"},{"$f":"_xlfn.XLOOKUP(B190,'Programmes lists'!B:B,'Programmes lists'!E:E, \"Not found\")","v":"QC735792"},{"$f":"_xlfn.XLOOKUP(B190,'Programmes lists'!B:B,'Programmes lists'!G:G,\"Not found\")","v":"Minimum grade 12 pass in\n•\tSesotho HL 50% \n•\tEnglish FAL 50% \n•\tMathematics 50%"},{"$f":"_xlfn.XLOOKUP(B190,'Programmes lists'!B:B,'Programmes lists'!F:F,\"Not found\")","v":532}]
["Intermediate Phase","Specialising in Mathematics, Natural Science & Technology and Sesotho Home Language","EDUB2714",{"$f":"_xlfn.XLOOKUP(C191,'RAW module list'!A:A,'RAW module list'!B:B, \"Not found\")","v":"Education Studies 2: Teaching and Learning in Education Context"},{"$f":"_xlfn.XLOOKUP(C191,'RAW module list'!A:A,'RAW module list'!C:C, \"Not found\")","v":7},{"$f":"_xlfn.XLOOKUP(C191,'RAW module list'!A:A,'RAW module list'!D:D, \"Not found\")","v":16},{"$f":"_xlfn.XLOOKUP(C191,'RAW module list'!A:A,'RAW module list'!E:E, \"Not found\")","v":"EDUB1613 & EDUB1623"},"Second Year",{"$f":"_xlfn.XLOOKUP(B191,'Programmes lists'!B:B,'Programmes lists'!D:D)","v":"BC735792"},{"$f":"_xlfn.XLOOKUP(B191,'Programmes lists'!B:B,'Programmes lists'!E:E, \"Not found\")","v":"QC735792"},{"$f":"_xlfn.XLOOKUP(B191,'Programmes lists'!B:B,'Programmes lists'!G:G,\"Not found\")","v":"Minimum grade 12 pass in\n•\tSesotho HL 50% \n•\tEnglish FAL 50% \n•\tMathematics 50%"},{"$f":"_xlfn.XLOOKUP(B191,'Programmes lists'!B:B,'Programmes lists'!F:F,\"Not found\")","v":532}]
["Intermediate Phase","Specialising in Mathematics, Natural Science & Technology and Sesotho Home Language","GPED2613",{"$f":"_xlfn.XLOOKUP(C192,'RAW module list'!A:A,'RAW module list'!B:B, \"Not found\")","v":"General Pedagogy 2.1"},{"$f":"_xlfn.XLOOKUP(C192,'RAW module list'!A:A,'RAW module list'!C:C, \"Not found\")","v":6},{"$f":"_xlfn.XLOOKUP(C192,'RAW module list'!A:A,'RAW module list'!D:D, \"Not found\")","v":12},{"$f":"_xlfn.XLOOKUP(C192,'RAW module list'!A:A,'RAW module list'!E:E, \"Not found\")","v":"GPED1623"},"Second Year",{"$f":"_xlfn.XLOOKUP(B192,'Programmes lists'!B:B,'Programmes lists'!D:D)","v":"BC735792"},{"$f":"_xlfn.XLOOKUP(B192,'Programmes lists'!B:B,'Programmes lists'!E:E, \"Not found\")","v":"QC735792"},{"$f":"_xlfn.XLOOKUP(B192,'Programmes lists'!B:B,'Programmes lists'!G:G,\"Not found\")","v":"Minimum grade 12 pass in\n•\tSesotho HL 50% \n•\tEnglish FAL 50% \n•\tMathematics 50%"},{"$f":"_xlfn.XLOOKUP(B192,'Programmes lists'!B:B,'Programmes lists'!F:F,\"Not found\")","v":532}]
["Intermediate Phase","Specialising in Mathematics, Natural Science & Technology and Sesotho Home Language","TPRI2502",{"$f":"_xlfn.XLOOKUP(C193,'RAW module list'!A:A,'RAW module list'!B:B, \"Not found\")","v":"Teaching Practice 2 "},{"$f":"_xlfn.XLOOKUP(C193,'RAW module list'!A:A,'RAW module list'!C:C, \"Not found\")","v":5},{"$f":"_xlfn.XLOOKUP(C193,'RAW module list'!A:A,'RAW module list'!D:D, \"Not found\")","v":8},{"$f":"_xlfn.XLOOKUP(C193,'RAW module list'!A:A,'RAW module list'!E:E, \"Not found\")","v":"TPRI1502"},"Second Year",{"$f":"_xlfn.XLOOKUP(B193,'Programmes lists'!B:B,'Programmes lists'!D:D)","v":"BC735792"},{"$f":"_xlfn.XLOOKUP(B193,'Programmes lists'!B:B,'Programmes lists'!E:E, \"Not found\")","v":"QC735792"},{"$f":"_xlfn.XLOOKUP(B193,'Programmes lists'!B:B,'Programmes lists'!G:G,\"Not found\")","v":"Minimum grade 12 pass in\n•\tSesotho HL 50% \n•\tEnglish FAL 50% \n•\tMathematics 50%"},{"$f":"_xlfn.XLOOKUP(B193,'Programmes lists'!B:B,'Programmes lists'!F:F,\"Not found\")","v":532}]
["Intermediate Phase","Specialising in Mathematics, Natural Science & Technology and Sesotho Home Language","NSTC2624",{"$f":"_xlfn.XLOOKUP(C194,'RAW module list'!A:A,'RAW module list'!B:B, \"Not found\")","v":"Elementary Natural Science and Technology"},{"$f":"_xlfn.XLOOKUP(C194,'RAW module list'!A:A,'RAW module list'!C:C, \"Not found\")","v":6},{"$f":"_xlfn.XLOOKUP(C194,'RAW module list'!A:A,'RAW module list'!D:D, \"Not found\")","v":16},{"$f":"_xlfn.XLOOKUP(C194,'RAW module list'!A:A,'RAW module list'!E:E, \"Not found\")","v":"NSTC2614"},"Second Year",{"$f":"_xlfn.XLOOKUP(B194,'Programmes lists'!B:B,'Programmes lists'!D:D)","v":"BC735792"},{"$f":"_xlfn.XLOOKUP(B194,'Programmes lists'!B:B,'Programmes lists'!E:E, \"Not found\")","v":"QC735792"},{"$f":"_xlfn.XLOOKUP(B194,'Programmes lists'!B:B,'Programmes lists'!G:G,\"Not found\")","v":"Minimum grade 12 pass in\n•\tSesotho HL 50% \n•\tEnglish FAL 50% \n•\tMathematics 50%"},{"$f":"_xlfn.XLOOKUP(B194,'Programmes lists'!B:B,'Programmes lists'!F:F,\"Not found\")","v":532}]
["Intermediate Phase","Specialising in Mathematics, Natural Science & Technology and Sesotho Home Language","SSMT1524",{"$f":"_xlfn.XLOOKUP(C195,'RAW module list'!A:A,'RAW module list'!B:B, \"Not found\")","v":"Prose fiction in Sesotho"},{"$f":"_xlfn.XLOOKUP(C195,'RAW module list'!A:A,'RAW module list'!C:C, \"Not found\")","v":5},{"$f":"_xlfn.XLOOKUP(C195,'RAW module list'!A:A,'RAW module list'!D:D, \"Not found\")","v":16},{"$f":"_xlfn.XLOOKUP(C195,'RAW module list'!A:A,'RAW module list'!E:E, \"Not found\")","v":"SSML1514"},"Second Year",{"$f":"_xlfn.XLOOKUP(B195,'Programmes lists'!B:B,'Programmes lists'!D:D)","v":"BC735792"},{"$f":"_xlfn.XLOOKUP(B195,'Programmes lists'!B:B,'Programmes lists'!E:E, \"Not found\")","v":"QC735792"},{"$f":"_xlfn.XLOOKUP(B195,'Programmes lists'!B:B,'Programmes lists'!G:G,\"Not found\")","v":"Minimum grade 12 pass in\n•\tSesotho HL 50% \n•\tEnglish FAL 50% \n•\tMathematics 50%"},{"$f":"_xlfn.XLOOKUP(B195,'Programmes lists'!B:B,'Programmes lists'!F:F,\"Not found\")","v":532}]
["Intermediate Phase","Specialising in Mathematics, Natural Science & Technology and Sesotho Home Language","EDUB2724",{"$f":"_xlfn.XLOOKUP(C196,'RAW module list'!A:A,'RAW module list'!B:B, \"Not found\")","v":"Education Studies 2: Human Relationships in Education context"},{"$f":"_xlfn.XLOOKUP(C196,'RAW module list'!A:A,'RAW module list'!C:C, \"Not found\")","v":7},{"$f":"_xlfn.XLOOKUP(C196,'RAW module list'!A:A,'RAW module list'!D:D, \"Not found\")","v":16},{"$f":"_xlfn.XLOOKUP(C196,'RAW module list'!A:A,'RAW module list'!E:E, \"Not found\")","v":"EDUB2714"},"Second Year",{"$f":"_xlfn.XLOOKUP(B196,'Programmes lists'!B:B,'Programmes lists'!D:D)","v":"BC735792"},{"$f":"_xlfn.XLOOKUP(B196,'Programmes lists'!B:B,'Programmes lists'!E:E, \"Not found\")","v":"QC735792"},{"$f":"_xlfn.XLOOKUP(B196,'Programmes lists'!B:B,'Programmes lists'!G:G,\"Not found\")","v":"Minimum grade 12 pass in\n•\tSesotho HL 50% \n•\tEnglish FAL 50% \n•\tMathematics 50%"},{"$f":"_xlfn.XLOOKUP(B196,'Programmes lists'!B:B,'Programmes lists'!F:F,\"Not found\")","v":532}]
["Intermediate Phase","Specialising in Mathematics, Natural Science & Technology and Sesotho Home Language","GPED2623",{"$f":"_xlfn.XLOOKUP(C197,'RAW module list'!A:A,'RAW module list'!B:B, \"Not found\")","v":"General Pedagogy 2.2: Assessment"},{"$f":"_xlfn.XLOOKUP(C197,'RAW module list'!A:A,'RAW module list'!C:C, \"Not found\")","v":6},{"$f":"_xlfn.XLOOKUP(C197,'RAW module list'!A:A,'RAW module list'!D:D, \"Not found\")","v":12},{"$f":"_xlfn.XLOOKUP(C197,'RAW module list'!A:A,'RAW module list'!E:E, \"Not found\")","v":"GPED2613"},"Second Year",{"$f":"_xlfn.XLOOKUP(B197,'Programmes lists'!B:B,'Programmes lists'!D:D)","v":"BC735792"},{"$f":"_xlfn.XLOOKUP(B197,'Programmes lists'!B:B,'Programmes lists'!E:E, \"Not found\")","v":"QC735792"},{"$f":"_xlfn.XLOOKUP(B197,'Programmes lists'!B:B,'Programmes lists'!G:G,\"Not found\")","v":"Minimum grade 12 pass in\n•\tSesotho HL 50% \n•\tEnglish FAL 50% \n•\tMathematics 50%"},{"$f":"_xlfn.XLOOKUP(B197,'Programmes lists'!B:B,'Programmes lists'!F:F,\"Not found\")","v":532}]
["Intermediate Phase","Specialising in Mathematics, Natural Science & Technology and Sesotho Home Language","NTTI3604",{"$f":"_xlfn.XLOOKUP(C198,'RAW module list'!A:A,'RAW module list'!B:B, \"Not found\")","v":"Natural Sciences and Technology Teaching 1 "},{"$f":"_xlfn.XLOOKUP(C198,'RAW module list'!A:A,'RAW module list'!C:C, \"Not found\")","v":6},{"$f":"_xlfn.XLOOKUP(C198,'RAW module list'!A:A,'RAW module list'!D:D, \"Not found\")","v":16},{"$f":"_xlfn.XLOOKUP(C198,'RAW module list'!A:A,'RAW module list'!E:E, \"Not found\")","v":"NSTC2614 & NSTC2624"},"Third Year",{"$f":"_xlfn.XLOOKUP(B198,'Programmes lists'!B:B,'Programmes lists'!D:D)","v":"BC735792"},{"$f":"_xlfn.XLOOKUP(B198,'Programmes lists'!B:B,'Programmes lists'!E:E, \"Not found\")","v":"QC735792"},{"$f":"_xlfn.XLOOKUP(B198,'Programmes lists'!B:B,'Programmes lists'!G:G,\"Not found\")","v":"Minimum grade 12 pass in\n•\tSesotho HL 50% \n•\tEnglish FAL 50% \n•\tMathematics 50%"},{"$f":"_xlfn.XLOOKUP(B198,'Programmes lists'!B:B,'Programmes lists'!F:F,\"Not found\")","v":532}]
["Intermediate Phase","Specialising in Mathematics, Natural Science & Technology and Sesotho Home Language","MTTI3604",{"$f":"_xlfn.XLOOKUP(C199,'RAW module list'!A:A,'RAW module list'!B:B, \"Not found\")","v":"Teaching Mathematics 1"},{"$f":"_xlfn.XLOOKUP(C199,'RAW module list'!A:A,'RAW module list'!C:C, \"Not found\")","v":6},{"$f":"_xlfn.XLOOKUP(C199,'RAW module list'!A:A,'RAW module list'!D:D, \"Not found\")","v":16},{"$f":"_xlfn.XLOOKUP(C199,'RAW module list'!A:A,'RAW module list'!E:E, \"Not found\")","v":"MTHI1614 & MTHI1624"},"Third Year",{"$f":"_xlfn.XLOOKUP(B199,'Programmes lists'!B:B,'Programmes lists'!D:D)","v":"BC735792"},{"$f":"_xlfn.XLOOKUP(B199,'Programmes lists'!B:B,'Programmes lists'!E:E, \"Not found\")","v":"QC735792"},{"$f":"_xlfn.XLOOKUP(B199,'Programmes lists'!B:B,'Programmes lists'!G:G,\"Not found\")","v":"Minimum grade 12 pass in\n•\tSesotho HL 50% \n•\tEnglish FAL 50% \n•\tMathematics 50%"},{"$f":"_xlfn.XLOOKUP(B199,'Programmes lists'!B:B,'Programmes lists'!F:F,\"Not found\")","v":532}]
["Intermediate Phase","Specialising in Mathematics, Natural Science & Technology and Sesotho Home Language","SHTI3604",{"$f":"_xlfn.XLOOKUP(C200,'RAW module list'!A:A,'RAW module list'!B:B, \"Not found\")","v":"Sesotho Teaching 1: Home Language"},{"$f":"_xlfn.XLOOKUP(C200,'RAW module list'!A:A,'RAW module list'!C:C, \"Not found\")","v":6},{"$f":"_xlfn.XLOOKUP(C200,'RAW module list'!A:A,'RAW module list'!D:D, \"Not found\")","v":16},{"$f":"_xlfn.XLOOKUP(C200,'RAW module list'!A:A,'RAW module list'!E:E, \"Not found\")","v":"SSML1514 & SSMT1524"},"Third Year",{"$f":"_xlfn.XLOOKUP(B200,'Programmes lists'!B:B,'Programmes lists'!D:D)","v":"BC735792"},{"$f":"_xlfn.XLOOKUP(B200,'Programmes lists'!B:B,'Programmes lists'!E:E, \"Not found\")","v":"QC735792"},{"$f":"_xlfn.XLOOKUP(B200,'Programmes lists'!B:B,'Programmes lists'!G:G,\"Not found\")","v":"Minimum grade 12 pass in\n•\tSesotho HL 50% \n•\tEnglish FAL 50% \n•\tMathematics 50%"},{"$f":"_xlfn.XLOOKUP(B200,'Programmes lists'!B:B,'Programmes lists'!F:F,\"Not found\")","v":532}]
["Intermediate Phase","Specialising in Mathematics, Natural Science & Technology and Sesotho Home Language","EATI3604",{"$f":"_xlfn.XLOOKUP(C201,'RAW module list'!A:A,'RAW module list'!B:B, \"Not found\")","v":"English additional language teaching 1"},{"$f":"_xlfn.XLOOKUP(C201,'RAW module list'!A:A,'RAW module list'!C:C, \"Not found\")","v":6},{"$f":"_xlfn.XLOOKUP(C201,'RAW module list'!A:A,'RAW module list'!D:D, \"Not found\")","v":16},{"$f":"_xlfn.XLOOKUP(C201,'RAW module list'!A:A,'RAW module list'!E:E, \"Not found\")","v":"ENGE1608"},"Third Year",{"$f":"_xlfn.XLOOKUP(B201,'Programmes lists'!B:B,'Programmes lists'!D:D)","v":"BC735792"},{"$f":"_xlfn.XLOOKUP(B201,'Programmes lists'!B:B,'Programmes lists'!E:E, \"Not found\")","v":"QC735792"},{"$f":"_xlfn.XLOOKUP(B201,'Programmes lists'!B:B,'Programmes lists'!G:G,\"Not found\")","v":"Minimum grade 12 pass in\n•\tSesotho HL 50% \n•\tEnglish FAL 50% \n•\tMathematics 50%"},{"$f":"_xlfn.XLOOKUP(B201,'Programmes lists'!B:B,'Programmes lists'!F:F,\"Not found\")","v":532}]
["Intermediate Phase","Specialising in Mathematics, Natural Science & Technology and Sesotho Home Language","CURM3502",{"$f":"_xlfn.XLOOKUP(C202,'RAW module list'!A:A,'RAW module list'!B:B, \"Not found\")","v":"Intermediate Phase School Curriculum 1"},{"$f":"_xlfn.XLOOKUP(C202,'RAW module list'!A:A,'RAW module list'!C:C, \"Not found\")","v":5},{"$f":"_xlfn.XLOOKUP(C202,'RAW module list'!A:A,'RAW module list'!D:D, \"Not found\")","v":8},{"$f":"_xlfn.XLOOKUP(C202,'RAW module list'!A:A,'RAW module list'!E:E, \"Not found\")","v":0},"Third Year",{"$f":"_xlfn.XLOOKUP(B202,'Programmes lists'!B:B,'Programmes lists'!D:D)","v":"BC735792"},{"$f":"_xlfn.XLOOKUP(B202,'Programmes lists'!B:B,'Programmes lists'!E:E, \"Not found\")","v":"QC735792"},{"$f":"_xlfn.XLOOKUP(B202,'Programmes lists'!B:B,'Programmes lists'!G:G,\"Not found\")","v":"Minimum grade 12 pass in\n•\tSesotho HL 50% \n•\tEnglish FAL 50% \n•\tMathematics 50%"},{"$f":"_xlfn.XLOOKUP(B202,'Programmes lists'!B:B,'Programmes lists'!F:F,\"Not found\")","v":532}]
["Intermediate Phase","Specialising in Mathematics, Natural Science & Technology and Sesotho Home Language","EDUB3714",{"$f":"_xlfn.XLOOKUP(C203,'RAW module list'!A:A,'RAW module list'!B:B, \"Not found\")","v":"Education Studies 3.1 Education systems in global and national context"},{"$f":"_xlfn.XLOOKUP(C203,'RAW module list'!A:A,'RAW module list'!C:C, \"Not found\")","v":7},{"$f":"_xlfn.XLOOKUP(C203,'RAW module list'!A:A,'RAW module list'!D:D, \"Not found\")","v":16},{"$f":"_xlfn.XLOOKUP(C203,'RAW module list'!A:A,'RAW module list'!E:E, \"Not found\")","v":"EDUB1613 & EDUB1623& EDUB2714 & EDUB2724"},"Third Year",{"$f":"_xlfn.XLOOKUP(B203,'Programmes lists'!B:B,'Programmes lists'!D:D)","v":"BC735792"},{"$f":"_xlfn.XLOOKUP(B203,'Programmes lists'!B:B,'Programmes lists'!E:E, \"Not found\")","v":"QC735792"},{"$f":"_xlfn.XLOOKUP(B203,'Programmes lists'!B:B,'Programmes lists'!G:G,\"Not found\")","v":"Minimum grade 12 pass in\n•\tSesotho HL 50% \n•\tEnglish FAL 50% \n•\tMathematics 50%"},{"$f":"_xlfn.XLOOKUP(B203,'Programmes lists'!B:B,'Programmes lists'!F:F,\"Not found\")","v":532}]
["Intermediate Phase","Specialising in Mathematics, Natural Science & Technology and Sesotho Home Language","SICL3512 OR GAFR3512 OR ZUCL3512",{"$f":"_xlfn.XLOOKUP(C204,'RAW module list'!A:A,'RAW module list'!B:B, \"Not found\")","v":"Conversational Language: Sesotho OR Conversational Afrikaans OR Conversational IsiZulu"},{"$f":"_xlfn.XLOOKUP(C204,'RAW module list'!A:A,'RAW module list'!C:C, \"Not found\")","v":5},{"$f":"_xlfn.XLOOKUP(C204,'RAW module list'!A:A,'RAW module list'!D:D, \"Not found\")","v":8},{"$f":"_xlfn.XLOOKUP(C204,'RAW module list'!A:A,'RAW module list'!E:E, \"Not found\")","v":"No previous exposure to the language"},"Third Year",{"$f":"_xlfn.XLOOKUP(B204,'Programmes lists'!B:B,'Programmes lists'!D:D)","v":"BC735792"},{"$f":"_xlfn.XLOOKUP(B204,'Programmes lists'!B:B,'Programmes lists'!E:E, \"Not found\")","v":"QC735792"},{"$f":"_xlfn.XLOOKUP(B204,'Programmes lists'!B:B,'Programmes lists'!G:G,\"Not found\")","v":"Minimum grade 12 pass in\n•\tSesotho HL 50% \n•\tEnglish FAL 50% \n•\tMathematics 50%"},{"$f":"_xlfn.XLOOKUP(B204,'Programmes lists'!B:B,'Programmes lists'!F:F,\"Not found\")","v":532}]
["Intermediate Phase","Specialising in Mathematics, Natural Science & Technology and Sesotho Home Language","WILI3606",{"$f":"_xlfn.XLOOKUP(C205,'RAW module list'!A:A,'RAW module list'!B:B, \"Not found\")","v":"Teaching Practice 3"},{"$f":"_xlfn.XLOOKUP(C205,'RAW module list'!A:A,'RAW module list'!C:C, \"Not found\")","v":6},{"$f":"_xlfn.XLOOKUP(C205,'RAW module list'!A:A,'RAW module list'!D:D, \"Not found\")","v":24},{"$f":"_xlfn.XLOOKUP(C205,'RAW module list'!A:A,'RAW module list'!E:E, \"Not found\")","v":"TPRI2502"},"Third Year",{"$f":"_xlfn.XLOOKUP(B205,'Programmes lists'!B:B,'Programmes lists'!D:D)","v":"BC735792"},{"$f":"_xlfn.XLOOKUP(B205,'Programmes lists'!B:B,'Programmes lists'!E:E, \"Not found\")","v":"QC735792"},{"$f":"_xlfn.XLOOKUP(B205,'Programmes lists'!B:B,'Programmes lists'!G:G,\"Not found\")","v":"Minimum grade 12 pass in\n•\tSesotho HL 50% \n•\tEnglish FAL 50% \n•\tMathematics 50%"},{"$f":"_xlfn.XLOOKUP(B205,'Programmes lists'!B:B,'Programmes lists'!F:F,\"Not found\")","v":532}]
["Intermediate Phase","Specialising in Mathematics, Natural Science & Technology and Sesotho Home Language","EDUB3724",{"$f":"_xlfn.XLOOKUP(C206,'RAW module list'!A:A,'RAW module list'!B:B, \"Not found\")","v":"Education Studies 3.2: Contemporary Education Theory in the current social context"},{"$f":"_xlfn.XLOOKUP(C206,'RAW module list'!A:A,'RAW module list'!C:C, \"Not found\")","v":7},{"$f":"_xlfn.XLOOKUP(C206,'RAW module list'!A:A,'RAW module list'!D:D, \"Not found\")","v":16},{"$f":"_xlfn.XLOOKUP(C206,'RAW module list'!A:A,'RAW module list'!E:E, \"Not found\")","v":"EDUB1613 & EDUB1623 & EDUB2714 & EDUB2724 & EDUB3714"},"Third Year",{"$f":"_xlfn.XLOOKUP(B206,'Programmes lists'!B:B,'Programmes lists'!D:D)","v":"BC735792"},{"$f":"_xlfn.XLOOKUP(B206,'Programmes lists'!B:B,'Programmes lists'!E:E, \"Not found\")","v":"QC735792"},{"$f":"_xlfn.XLOOKUP(B206,'Programmes lists'!B:B,'Programmes lists'!G:G,\"Not found\")","v":"Minimum grade 12 pass in\n•\tSesotho HL 50% \n•\tEnglish FAL 50% \n•\tMathematics 50%"},{"$f":"_xlfn.XLOOKUP(B206,'Programmes lists'!B:B,'Programmes lists'!F:F,\"Not found\")","v":532}]
["Intermediate Phase","Specialising in Mathematics, Natural Science & Technology and Sesotho Home Language","SICL3522 OR GAFR3522 OR ZUCL3522",{"$f":"_xlfn.XLOOKUP(C207,'RAW module list'!A:A,'RAW module list'!B:B, \"Not found\")","v":"Conversational Language: Sesotho OR Conversational Afrikaans OR Conversational IsiZulu"},{"$f":"_xlfn.XLOOKUP(C207,'RAW module list'!A:A,'RAW module list'!C:C, \"Not found\")","v":5},{"$f":"_xlfn.XLOOKUP(C207,'RAW module list'!A:A,'RAW module list'!D:D, \"Not found\")","v":8},{"$f":"_xlfn.XLOOKUP(C207,'RAW module list'!A:A,'RAW module list'!E:E, \"Not found\")","v":"Continue with the conversational language chosen in Semester 1"},"Third Year",{"$f":"_xlfn.XLOOKUP(B207,'Programmes lists'!B:B,'Programmes lists'!D:D)","v":"BC735792"},{"$f":"_xlfn.XLOOKUP(B207,'Programmes lists'!B:B,'Programmes lists'!E:E, \"Not found\")","v":"QC735792"},{"$f":"_xlfn.XLOOKUP(B207,'Programmes lists'!B:B,'Programmes lists'!G:G,\"Not found\")","v":"Minimum grade 12 pass in\n•\tSesotho HL 50% \n•\tEnglish FAL 50% \n•\tMathematics 50%"},{"$f":"_xlfn.XLOOKUP(B207,'Programmes lists'!B:B,'Programmes lists'!F:F,\"Not found\")","v":532}]
["Intermediate Phase","Specialising in Mathematics, Natural Science & Technology and Sesotho Home Language","NTTI4705",{"$f":"_xlfn.XLOOKUP(C208,'RAW module list'!A:A,'RAW module list'!B:B, \"Not found\")","v":"Natural Sciences and Technology Teaching  2"},{"$f":"_xlfn.XLOOKUP(C208,'RAW module list'!A:A,'RAW module list'!C:C, \"Not found\")","v":7},{"$f":"_xlfn.XLOOKUP(C208,'RAW module list'!A:A,'RAW module list'!D:D, \"Not found\")","v":20},{"$f":"_xlfn.XLOOKUP(C208,'RAW module list'!A:A,'RAW module list'!E:E, \"Not found\")","v":"NTTI3604"},"Fourth Year",{"$f":"_xlfn.XLOOKUP(B208,'Programmes lists'!B:B,'Programmes lists'!D:D)","v":"BC735792"},{"$f":"_xlfn.XLOOKUP(B208,'Programmes lists'!B:B,'Programmes lists'!E:E, \"Not found\")","v":"QC735792"},{"$f":"_xlfn.XLOOKUP(B208,'Programmes lists'!B:B,'Programmes lists'!G:G,\"Not found\")","v":"Minimum grade 12 pass in\n•\tSesotho HL 50% \n•\tEnglish FAL 50% \n•\tMathematics 50%"},{"$f":"_xlfn.XLOOKUP(B208,'Programmes lists'!B:B,'Programmes lists'!F:F,\"Not found\")","v":532}]
["Intermediate Phase","Specialising in Mathematics, Natural Science & Technology and Sesotho Home Language","MTTI4705",{"$f":"_xlfn.XLOOKUP(C209,'RAW module list'!A:A,'RAW module list'!B:B, \"Not found\")","v":"Mathematics teaching 2"},{"$f":"_xlfn.XLOOKUP(C209,'RAW module list'!A:A,'RAW module list'!C:C, \"Not found\")","v":7},{"$f":"_xlfn.XLOOKUP(C209,'RAW module list'!A:A,'RAW module list'!D:D, \"Not found\")","v":20},{"$f":"_xlfn.XLOOKUP(C209,'RAW module list'!A:A,'RAW module list'!E:E, \"Not found\")","v":"MTTI3604"},"Fourth Year",{"$f":"_xlfn.XLOOKUP(B209,'Programmes lists'!B:B,'Programmes lists'!D:D)","v":"BC735792"},{"$f":"_xlfn.XLOOKUP(B209,'Programmes lists'!B:B,'Programmes lists'!E:E, \"Not found\")","v":"QC735792"},{"$f":"_xlfn.XLOOKUP(B209,'Programmes lists'!B:B,'Programmes lists'!G:G,\"Not found\")","v":"Minimum grade 12 pass in\n•\tSesotho HL 50% \n•\tEnglish FAL 50% \n•\tMathematics 50%"},{"$f":"_xlfn.XLOOKUP(B209,'Programmes lists'!B:B,'Programmes lists'!F:F,\"Not found\")","v":532}]
["Intermediate Phase","Specialising in Mathematics, Natural Science & Technology and Sesotho Home Language","SHTI4705",{"$f":"_xlfn.XLOOKUP(C210,'RAW module list'!A:A,'RAW module list'!B:B, \"Not found\")","v":"Sesotho Teaching 1 (Home Language)"},{"$f":"_xlfn.XLOOKUP(C210,'RAW module list'!A:A,'RAW module list'!C:C, \"Not found\")","v":7},{"$f":"_xlfn.XLOOKUP(C210,'RAW module list'!A:A,'RAW module list'!D:D, \"Not found\")","v":20},{"$f":"_xlfn.XLOOKUP(C210,'RAW module list'!A:A,'RAW module list'!E:E, \"Not found\")","v":"SHTI3604"},"Fourth Year",{"$f":"_xlfn.XLOOKUP(B210,'Programmes lists'!B:B,'Programmes lists'!D:D)","v":"BC735792"},{"$f":"_xlfn.XLOOKUP(B210,'Programmes lists'!B:B,'Programmes lists'!E:E, \"Not found\")","v":"QC735792"},{"$f":"_xlfn.XLOOKUP(B210,'Programmes lists'!B:B,'Programmes lists'!G:G,\"Not found\")","v":"Minimum grade 12 pass in\n•\tSesotho HL 50% \n•\tEnglish FAL 50% \n•\tMathematics 50%"},{"$f":"_xlfn.XLOOKUP(B210,'Programmes lists'!B:B,'Programmes lists'!F:F,\"Not found\")","v":532}]
["Intermediate Phase","Specialising in Mathematics, Natural Science & Technology and Sesotho Home Language","EATI4705",{"$f":"_xlfn.XLOOKUP(C211,'RAW module list'!A:A,'RAW module list'!B:B, \"Not found\")","v":"English additional language teaching 2"},{"$f":"_xlfn.XLOOKUP(C211,'RAW module list'!A:A,'RAW module list'!C:C, \"Not found\")","v":7},{"$f":"_xlfn.XLOOKUP(C211,'RAW module list'!A:A,'RAW module list'!D:D, \"Not found\")","v":20},{"$f":"_xlfn.XLOOKUP(C211,'RAW module list'!A:A,'RAW module list'!E:E, \"Not found\")","v":"EATI3604"},"Fourth Year",{"$f":"_xlfn.XLOOKUP(B211,'Programmes lists'!B:B,'Programmes lists'!D:D)","v":"BC735792"},{"$f":"_xlfn.XLOOKUP(B211,'Programmes lists'!B:B,'Programmes lists'!E:E, \"Not found\")","v":"QC735792"},{"$f":"_xlfn.XLOOKUP(B211,'Programmes lists'!B:B,'Programmes lists'!G:G,\"Not found\")","v":"Minimum grade 12 pass in\n•\tSesotho HL 50% \n•\tEnglish FAL 50% \n•\tMathematics 50%"},{"$f":"_xlfn.XLOOKUP(B211,'Programmes lists'!B:B,'Programmes lists'!F:F,\"Not found\")","v":532}]
["Intermediate Phase","Specialising in Mathematics, Natural Science & Technology and Sesotho Home Language","CURM4502",{"$f":"_xlfn.XLOOKUP(C212,'RAW module list'!A:A,'RAW module list'!B:B, \"Not found\")","v":"Intermediate Phase School Curriculum 2"},{"$f":"_xlfn.XLOOKUP(C212,'RAW module list'!A:A,'RAW module list'!C:C, \"Not found\")","v":5},{"$f":"_xlfn.XLOOKUP(C212,'RAW module list'!A:A,'RAW module list'!D:D, \"Not found\")","v":8},{"$f":"_xlfn.XLOOKUP(C212,'RAW module list'!A:A,'RAW module list'!E:E, \"Not found\")","v":"CURM3502"},"Fourth Year",{"$f":"_xlfn.XLOOKUP(B212,'Programmes lists'!B:B,'Programmes lists'!D:D)","v":"BC735792"},{"$f":"_xlfn.XLOOKUP(B212,'Programmes lists'!B:B,'Programmes lists'!E:E, \"Not found\")","v":"QC735792"},{"$f":"_xlfn.XLOOKUP(B212,'Programmes lists'!B:B,'Programmes lists'!G:G,\"Not found\")","v":"Minimum grade 12 pass in\n•\tSesotho HL 50% \n•\tEnglish FAL 50% \n•\tMathematics 50%"},{"$f":"_xlfn.XLOOKUP(B212,'Programmes lists'!B:B,'Programmes lists'!F:F,\"Not found\")","v":532}]
["Intermediate Phase","Specialising in Mathematics, Natural Science & Technology and Sesotho Home Language","WILI4700",{"$f":"_xlfn.XLOOKUP(C213,'RAW module list'!A:A,'RAW module list'!B:B, \"Not found\")","v":"Teaching Practice 4"},{"$f":"_xlfn.XLOOKUP(C213,'RAW module list'!A:A,'RAW module list'!C:C, \"Not found\")","v":7},{"$f":"_xlfn.XLOOKUP(C213,'RAW module list'!A:A,'RAW module list'!D:D, \"Not found\")","v":40},{"$f":"_xlfn.XLOOKUP(C213,'RAW module list'!A:A,'RAW module list'!E:E, \"Not found\")","v":"WILI3606"},"Fourth Year",{"$f":"_xlfn.XLOOKUP(B213,'Programmes lists'!B:B,'Programmes lists'!D:D)","v":"BC735792"},{"$f":"_xlfn.XLOOKUP(B213,'Programmes lists'!B:B,'Programmes lists'!E:E, \"Not found\")","v":"QC735792"},{"$f":"_xlfn.XLOOKUP(B213,'Programmes lists'!B:B,'Programmes lists'!G:G,\"Not found\")","v":"Minimum grade 12 pass in\n•\tSesotho HL 50% \n•\tEnglish FAL 50% \n•\tMathematics 50%"},{"$f":"_xlfn.XLOOKUP(B213,'Programmes lists'!B:B,'Programmes lists'!F:F,\"Not found\")","v":532}]
["Intermediate Phase","Specialising in Mathematics, Natural Science & Technology and English Home Language","MTHI1614",{"$f":"_xlfn.XLOOKUP(C214,'RAW module list'!A:A,'RAW module list'!B:B, \"Not found\")","v":"Mathematics: Numbers, algebra and functions "},{"$f":"_xlfn.XLOOKUP(C214,'RAW module list'!A:A,'RAW module list'!C:C, \"Not found\")","v":6},{"$f":"_xlfn.XLOOKUP(C214,'RAW module list'!A:A,'RAW module list'!D:D, \"Not found\")","v":16},{"$f":"_xlfn.XLOOKUP(C214,'RAW module list'!A:A,'RAW module list'!E:E, \"Not found\")","v":"Mathematics at NSC level 4 (50%) pass"},"First Year",{"$f":"_xlfn.XLOOKUP(B214,'Programmes lists'!B:B,'Programmes lists'!D:D)","v":"BC735793"},{"$f":"_xlfn.XLOOKUP(B214,'Programmes lists'!B:B,'Programmes lists'!E:E, \"Not found\")","v":0},{"$f":"_xlfn.XLOOKUP(B214,'Programmes lists'!B:B,'Programmes lists'!G:G,\"Not found\")","v":"Minimum grade 12 pass in\n•\tEnglish HL 50%\n•\tAfrikaans FAL 50%\n•\tMathematics 50% "},{"$f":"_xlfn.XLOOKUP(B214,'Programmes lists'!B:B,'Programmes lists'!F:F,\"Not found\")","v":532}]
["Intermediate Phase","Specialising in Mathematics, Natural Science & Technology and English Home Language","LLST1513",{"$f":"_xlfn.XLOOKUP(C215,'RAW module list'!A:A,'RAW module list'!B:B, \"Not found\")","v":"Lifelong Learning Skills"},{"$f":"_xlfn.XLOOKUP(C215,'RAW module list'!A:A,'RAW module list'!C:C, \"Not found\")","v":5},{"$f":"_xlfn.XLOOKUP(C215,'RAW module list'!A:A,'RAW module list'!D:D, \"Not found\")","v":12},{"$f":"_xlfn.XLOOKUP(C215,'RAW module list'!A:A,'RAW module list'!E:E, \"Not found\")","v":0},"First Year",{"$f":"_xlfn.XLOOKUP(B215,'Programmes lists'!B:B,'Programmes lists'!D:D)","v":"BC735793"},{"$f":"_xlfn.XLOOKUP(B215,'Programmes lists'!B:B,'Programmes lists'!E:E, \"Not found\")","v":0},{"$f":"_xlfn.XLOOKUP(B215,'Programmes lists'!B:B,'Programmes lists'!G:G,\"Not found\")","v":"Minimum grade 12 pass in\n•\tEnglish HL 50%\n•\tAfrikaans FAL 50%\n•\tMathematics 50% "},{"$f":"_xlfn.XLOOKUP(B215,'Programmes lists'!B:B,'Programmes lists'!F:F,\"Not found\")","v":532}]
["Intermediate Phase","Specialising in Mathematics, Natural Science & Technology and English Home Language","ENGE1608",{"$f":"_xlfn.XLOOKUP(C216,'RAW module list'!A:A,'RAW module list'!B:B, \"Not found\")","v":"English Language for Education "},{"$f":"_xlfn.XLOOKUP(C216,'RAW module list'!A:A,'RAW module list'!C:C, \"Not found\")","v":6},{"$f":"_xlfn.XLOOKUP(C216,'RAW module list'!A:A,'RAW module list'!D:D, \"Not found\")","v":32},{"$f":"_xlfn.XLOOKUP(C216,'RAW module list'!A:A,'RAW module list'!E:E, \"Not found\")","v":0},"First Year",{"$f":"_xlfn.XLOOKUP(B216,'Programmes lists'!B:B,'Programmes lists'!D:D)","v":"BC735793"},{"$f":"_xlfn.XLOOKUP(B216,'Programmes lists'!B:B,'Programmes lists'!E:E, \"Not found\")","v":0},{"$f":"_xlfn.XLOOKUP(B216,'Programmes lists'!B:B,'Programmes lists'!G:G,\"Not found\")","v":"Minimum grade 12 pass in\n•\tEnglish HL 50%\n•\tAfrikaans FAL 50%\n•\tMathematics 50% "},{"$f":"_xlfn.XLOOKUP(B216,'Programmes lists'!B:B,'Programmes lists'!F:F,\"Not found\")","v":532}]
["Intermediate Phase","Specialising in Mathematics, Natural Science & Technology and English Home Language","EDUB1613",{"$f":"_xlfn.XLOOKUP(C217,'RAW module list'!A:A,'RAW module list'!B:B, \"Not found\")","v":"Education Studies 1.1 The Individual in the learning context"},{"$f":"_xlfn.XLOOKUP(C217,'RAW module list'!A:A,'RAW module list'!C:C, \"Not found\")","v":6},{"$f":"_xlfn.XLOOKUP(C217,'RAW module list'!A:A,'RAW module list'!D:D, \"Not found\")","v":12},{"$f":"_xlfn.XLOOKUP(C217,'RAW module list'!A:A,'RAW module list'!E:E, \"Not found\")","v":0},"First Year",{"$f":"_xlfn.XLOOKUP(B217,'Programmes lists'!B:B,'Programmes lists'!D:D)","v":"BC735793"},{"$f":"_xlfn.XLOOKUP(B217,'Programmes lists'!B:B,'Programmes lists'!E:E, \"Not found\")","v":0},{"$f":"_xlfn.XLOOKUP(B217,'Programmes lists'!B:B,'Programmes lists'!G:G,\"Not found\")","v":"Minimum grade 12 pass in\n•\tEnglish HL 50%\n•\tAfrikaans FAL 50%\n•\tMathematics 50% "},{"$f":"_xlfn.XLOOKUP(B217,'Programmes lists'!B:B,'Programmes lists'!F:F,\"Not found\")","v":532}]
["Intermediate Phase","Specialising in Mathematics, Natural Science & Technology and English Home Language","TPRI1502",{"$f":"_xlfn.XLOOKUP(C218,'RAW module list'!A:A,'RAW module list'!B:B, \"Not found\")","v":"Teaching Practice 1"},{"$f":"_xlfn.XLOOKUP(C218,'RAW module list'!A:A,'RAW module list'!C:C, \"Not found\")","v":5},{"$f":"_xlfn.XLOOKUP(C218,'RAW module list'!A:A,'RAW module list'!D:D, \"Not found\")","v":8},{"$f":"_xlfn.XLOOKUP(C218,'RAW module list'!A:A,'RAW module list'!E:E, \"Not found\")","v":0},"First Year",{"$f":"_xlfn.XLOOKUP(B218,'Programmes lists'!B:B,'Programmes lists'!D:D)","v":"BC735793"},{"$f":"_xlfn.XLOOKUP(B218,'Programmes lists'!B:B,'Programmes lists'!E:E, \"Not found\")","v":0},{"$f":"_xlfn.XLOOKUP(B218,'Programmes lists'!B:B,'Programmes lists'!G:G,\"Not found\")","v":"Minimum grade 12 pass in\n•\tEnglish HL 50%\n•\tAfrikaans FAL 50%\n•\tMathematics 50% "},{"$f":"_xlfn.XLOOKUP(B218,'Programmes lists'!B:B,'Programmes lists'!F:F,\"Not found\")","v":532}]
["Intermediate Phase","Specialising in Mathematics, Natural Science & Technology and English Home Language","UFSS1504",{"$f":"_xlfn.XLOOKUP(C219,'RAW module list'!A:A,'RAW module list'!B:B, \"Not found\")","v":"Undergraduate core curriculum"},{"$f":"_xlfn.XLOOKUP(C219,'RAW module list'!A:A,'RAW module list'!C:C, \"Not found\")","v":5},{"$f":"_xlfn.XLOOKUP(C219,'RAW module list'!A:A,'RAW module list'!D:D, \"Not found\")","v":-16},{"$f":"_xlfn.XLOOKUP(C219,'RAW module list'!A:A,'RAW module list'!E:E, \"Not found\")","v":0},"First Year",{"$f":"_xlfn.XLOOKUP(B219,'Programmes lists'!B:B,'Programmes lists'!D:D)","v":"BC735793"},{"$f":"_xlfn.XLOOKUP(B219,'Programmes lists'!B:B,'Programmes lists'!E:E, \"Not found\")","v":0},{"$f":"_xlfn.XLOOKUP(B219,'Programmes lists'!B:B,'Programmes lists'!G:G,\"Not found\")","v":"Minimum grade 12 pass in\n•\tEnglish HL 50%\n•\tAfrikaans FAL 50%\n•\tMathematics 50% "},{"$f":"_xlfn.XLOOKUP(B219,'Programmes lists'!B:B,'Programmes lists'!F:F,\"Not found\")","v":532}]
["Intermediate Phase","Specialising in Mathematics, Natural Science & Technology and English Home Language","EALT1508",{"$f":"_xlfn.XLOOKUP(C220,'RAW module list'!A:A,'RAW module list'!B:B, \"Not found\")","v":"English Academic Literacy for Education "},{"$f":"_xlfn.XLOOKUP(C220,'RAW module list'!A:A,'RAW module list'!C:C, \"Not found\")","v":5},{"$f":"_xlfn.XLOOKUP(C220,'RAW module list'!A:A,'RAW module list'!D:D, \"Not found\")","v":-32},{"$f":"_xlfn.XLOOKUP(C220,'RAW module list'!A:A,'RAW module list'!E:E, \"Not found\")","v":"NBT requirements not met"},"First Year",{"$f":"_xlfn.XLOOKUP(B220,'Programmes lists'!B:B,'Programmes lists'!D:D)","v":"BC735793"},{"$f":"_xlfn.XLOOKUP(B220,'Programmes lists'!B:B,'Programmes lists'!E:E, \"Not found\")","v":0},{"$f":"_xlfn.XLOOKUP(B220,'Programmes lists'!B:B,'Programmes lists'!G:G,\"Not found\")","v":"Minimum grade 12 pass in\n•\tEnglish HL 50%\n•\tAfrikaans FAL 50%\n•\tMathematics 50% "},{"$f":"_xlfn.XLOOKUP(B220,'Programmes lists'!B:B,'Programmes lists'!F:F,\"Not found\")","v":532}]
["Intermediate Phase","Specialising in Mathematics, Natural Science & Technology and English Home Language","MTHI1624",{"$f":"_xlfn.XLOOKUP(C221,'RAW module list'!A:A,'RAW module list'!B:B, \"Not found\")","v":"Mathematics: total surface area and volume"},{"$f":"_xlfn.XLOOKUP(C221,'RAW module list'!A:A,'RAW module list'!C:C, \"Not found\")","v":6},{"$f":"_xlfn.XLOOKUP(C221,'RAW module list'!A:A,'RAW module list'!D:D, \"Not found\")","v":16},{"$f":"_xlfn.XLOOKUP(C221,'RAW module list'!A:A,'RAW module list'!E:E, \"Not found\")","v":"Mathematics at NSC level 4 (50%) pass"},"First Year",{"$f":"_xlfn.XLOOKUP(B221,'Programmes lists'!B:B,'Programmes lists'!D:D)","v":"BC735793"},{"$f":"_xlfn.XLOOKUP(B221,'Programmes lists'!B:B,'Programmes lists'!E:E, \"Not found\")","v":0},{"$f":"_xlfn.XLOOKUP(B221,'Programmes lists'!B:B,'Programmes lists'!G:G,\"Not found\")","v":"Minimum grade 12 pass in\n•\tEnglish HL 50%\n•\tAfrikaans FAL 50%\n•\tMathematics 50% "},{"$f":"_xlfn.XLOOKUP(B221,'Programmes lists'!B:B,'Programmes lists'!F:F,\"Not found\")","v":532}]
["Intermediate Phase","Specialising in Mathematics, Natural Science & Technology and English Home Language","EDUB1623",{"$f":"_xlfn.XLOOKUP(C222,'RAW module list'!A:A,'RAW module list'!B:B, \"Not found\")","v":"Education Studies 1.2 What it means to educate: Theoretical perspectives and their significance for SA education"},{"$f":"_xlfn.XLOOKUP(C222,'RAW module list'!A:A,'RAW module list'!C:C, \"Not found\")","v":6},{"$f":"_xlfn.XLOOKUP(C222,'RAW module list'!A:A,'RAW module list'!D:D, \"Not found\")","v":12},{"$f":"_xlfn.XLOOKUP(C222,'RAW module list'!A:A,'RAW module list'!E:E, \"Not found\")","v":0},"First Year",{"$f":"_xlfn.XLOOKUP(B222,'Programmes lists'!B:B,'Programmes lists'!D:D)","v":"BC735793"},{"$f":"_xlfn.XLOOKUP(B222,'Programmes lists'!B:B,'Programmes lists'!E:E, \"Not found\")","v":0},{"$f":"_xlfn.XLOOKUP(B222,'Programmes lists'!B:B,'Programmes lists'!G:G,\"Not found\")","v":"Minimum grade 12 pass in\n•\tEnglish HL 50%\n•\tAfrikaans FAL 50%\n•\tMathematics 50% "},{"$f":"_xlfn.XLOOKUP(B222,'Programmes lists'!B:B,'Programmes lists'!F:F,\"Not found\")","v":532}]
["Intermediate Phase","Specialising in Mathematics, Natural Science & Technology and English Home Language","GPED1623",{"$f":"_xlfn.XLOOKUP(C223,'RAW module list'!A:A,'RAW module list'!B:B, \"Not found\")","v":"General Pedagogy 1: Managing the Curriculum"},{"$f":"_xlfn.XLOOKUP(C223,'RAW module list'!A:A,'RAW module list'!C:C, \"Not found\")","v":6},{"$f":"_xlfn.XLOOKUP(C223,'RAW module list'!A:A,'RAW module list'!D:D, \"Not found\")","v":12},{"$f":"_xlfn.XLOOKUP(C223,'RAW module list'!A:A,'RAW module list'!E:E, \"Not found\")","v":0},"First Year",{"$f":"_xlfn.XLOOKUP(B223,'Programmes lists'!B:B,'Programmes lists'!D:D)","v":"BC735793"},{"$f":"_xlfn.XLOOKUP(B223,'Programmes lists'!B:B,'Programmes lists'!E:E, \"Not found\")","v":0},{"$f":"_xlfn.XLOOKUP(B223,'Programmes lists'!B:B,'Programmes lists'!G:G,\"Not found\")","v":"Minimum grade 12 pass in\n•\tEnglish HL 50%\n•\tAfrikaans FAL 50%\n•\tMathematics 50% "},{"$f":"_xlfn.XLOOKUP(B223,'Programmes lists'!B:B,'Programmes lists'!F:F,\"Not found\")","v":532}]
["Intermediate Phase","Specialising in Mathematics, Natural Science & Technology and English Home Language","NSTC2614",{"$f":"_xlfn.XLOOKUP(C224,'RAW module list'!A:A,'RAW module list'!B:B, \"Not found\")","v":"Elementary Natural Sciences and Technology"},{"$f":"_xlfn.XLOOKUP(C224,'RAW module list'!A:A,'RAW module list'!C:C, \"Not found\")","v":6},{"$f":"_xlfn.XLOOKUP(C224,'RAW module list'!A:A,'RAW module list'!D:D, \"Not found\")","v":16},{"$f":"_xlfn.XLOOKUP(C224,'RAW module list'!A:A,'RAW module list'!E:E, \"Not found\")","v":0},"Second Year",{"$f":"_xlfn.XLOOKUP(B224,'Programmes lists'!B:B,'Programmes lists'!D:D)","v":"BC735793"},{"$f":"_xlfn.XLOOKUP(B224,'Programmes lists'!B:B,'Programmes lists'!E:E, \"Not found\")","v":0},{"$f":"_xlfn.XLOOKUP(B224,'Programmes lists'!B:B,'Programmes lists'!G:G,\"Not found\")","v":"Minimum grade 12 pass in\n•\tEnglish HL 50%\n•\tAfrikaans FAL 50%\n•\tMathematics 50% "},{"$f":"_xlfn.XLOOKUP(B224,'Programmes lists'!B:B,'Programmes lists'!F:F,\"Not found\")","v":532}]
["Intermediate Phase","Specialising in Mathematics, Natural Science & Technology and English Home Language","AFRT1514 OR AFNL1634",{"$f":"_xlfn.XLOOKUP(C225,'RAW module list'!A:A,'RAW module list'!B:B, \"Not found\")","v":"Basic Afrikaans Language OR Afrikaans and Dutch literature"},{"$f":"_xlfn.XLOOKUP(C225,'RAW module list'!A:A,'RAW module list'!C:C, \"Not found\")","v":6},{"$f":"_xlfn.XLOOKUP(C225,'RAW module list'!A:A,'RAW module list'!D:D, \"Not found\")","v":16},{"$f":"_xlfn.XLOOKUP(C225,'RAW module list'!A:A,'RAW module list'!E:E, \"Not found\")","v":"Afrikaans FAL Grade 12 > 70% OR Afrikaans Home Language Grade 12 > 55%"},"Second Year",{"$f":"_xlfn.XLOOKUP(B225,'Programmes lists'!B:B,'Programmes lists'!D:D)","v":"BC735793"},{"$f":"_xlfn.XLOOKUP(B225,'Programmes lists'!B:B,'Programmes lists'!E:E, \"Not found\")","v":0},{"$f":"_xlfn.XLOOKUP(B225,'Programmes lists'!B:B,'Programmes lists'!G:G,\"Not found\")","v":"Minimum grade 12 pass in\n•\tEnglish HL 50%\n•\tAfrikaans FAL 50%\n•\tMathematics 50% "},{"$f":"_xlfn.XLOOKUP(B225,'Programmes lists'!B:B,'Programmes lists'!F:F,\"Not found\")","v":532}]
["Intermediate Phase","Specialising in Mathematics, Natural Science & Technology and English Home Language","MTBI2503",{"$f":"_xlfn.XLOOKUP(C226,'RAW module list'!A:A,'RAW module list'!B:B, \"Not found\")","v":"Basic Mathematics "},{"$f":"_xlfn.XLOOKUP(C226,'RAW module list'!A:A,'RAW module list'!C:C, \"Not found\")","v":5},{"$f":"_xlfn.XLOOKUP(C226,'RAW module list'!A:A,'RAW module list'!D:D, \"Not found\")","v":12},{"$f":"_xlfn.XLOOKUP(C226,'RAW module list'!A:A,'RAW module list'!E:E, \"Not found\")","v":0},"Second Year",{"$f":"_xlfn.XLOOKUP(B226,'Programmes lists'!B:B,'Programmes lists'!D:D)","v":"BC735793"},{"$f":"_xlfn.XLOOKUP(B226,'Programmes lists'!B:B,'Programmes lists'!E:E, \"Not found\")","v":0},{"$f":"_xlfn.XLOOKUP(B226,'Programmes lists'!B:B,'Programmes lists'!G:G,\"Not found\")","v":"Minimum grade 12 pass in\n•\tEnglish HL 50%\n•\tAfrikaans FAL 50%\n•\tMathematics 50% "},{"$f":"_xlfn.XLOOKUP(B226,'Programmes lists'!B:B,'Programmes lists'!F:F,\"Not found\")","v":532}]
["Intermediate Phase","Specialising in Mathematics, Natural Science & Technology and English Home Language","EDUB2714",{"$f":"_xlfn.XLOOKUP(C227,'RAW module list'!A:A,'RAW module list'!B:B, \"Not found\")","v":"Education Studies 2: Teaching and Learning in Education Context"},{"$f":"_xlfn.XLOOKUP(C227,'RAW module list'!A:A,'RAW module list'!C:C, \"Not found\")","v":7},{"$f":"_xlfn.XLOOKUP(C227,'RAW module list'!A:A,'RAW module list'!D:D, \"Not found\")","v":16},{"$f":"_xlfn.XLOOKUP(C227,'RAW module list'!A:A,'RAW module list'!E:E, \"Not found\")","v":"EDUB1613 & EDUB1623"},"Second Year",{"$f":"_xlfn.XLOOKUP(B227,'Programmes lists'!B:B,'Programmes lists'!D:D)","v":"BC735793"},{"$f":"_xlfn.XLOOKUP(B227,'Programmes lists'!B:B,'Programmes lists'!E:E, \"Not found\")","v":0},{"$f":"_xlfn.XLOOKUP(B227,'Programmes lists'!B:B,'Programmes lists'!G:G,\"Not found\")","v":"Minimum grade 12 pass in\n•\tEnglish HL 50%\n•\tAfrikaans FAL 50%\n•\tMathematics 50% "},{"$f":"_xlfn.XLOOKUP(B227,'Programmes lists'!B:B,'Programmes lists'!F:F,\"Not found\")","v":532}]
["Intermediate Phase","Specialising in Mathematics, Natural Science & Technology and English Home Language","GPED2613",{"$f":"_xlfn.XLOOKUP(C228,'RAW module list'!A:A,'RAW module list'!B:B, \"Not found\")","v":"General Pedagogy 2.1"},{"$f":"_xlfn.XLOOKUP(C228,'RAW module list'!A:A,'RAW module list'!C:C, \"Not found\")","v":6},{"$f":"_xlfn.XLOOKUP(C228,'RAW module list'!A:A,'RAW module list'!D:D, \"Not found\")","v":12},{"$f":"_xlfn.XLOOKUP(C228,'RAW module list'!A:A,'RAW module list'!E:E, \"Not found\")","v":"GPED1623"},"Second Year",{"$f":"_xlfn.XLOOKUP(B228,'Programmes lists'!B:B,'Programmes lists'!D:D)","v":"BC735793"},{"$f":"_xlfn.XLOOKUP(B228,'Programmes lists'!B:B,'Programmes lists'!E:E, \"Not found\")","v":0},{"$f":"_xlfn.XLOOKUP(B228,'Programmes lists'!B:B,'Programmes lists'!G:G,\"Not found\")","v":"Minimum grade 12 pass in\n•\tEnglish HL 50%\n•\tAfrikaans FAL 50%\n•\tMathematics 50% "},{"$f":"_xlfn.XLOOKUP(B228,'Programmes lists'!B:B,'Programmes lists'!F:F,\"Not found\")","v":532}]
["Intermediate Phase","Specialising in Mathematics, Natural Science & Technology and English Home Language","TPRI2502",{"$f":"_xlfn.XLOOKUP(C229,'RAW module list'!A:A,'RAW module list'!B:B, \"Not found\")","v":"Teaching Practice 2 "},{"$f":"_xlfn.XLOOKUP(C229,'RAW module list'!A:A,'RAW module list'!C:C, \"Not found\")","v":5},{"$f":"_xlfn.XLOOKUP(C229,'RAW module list'!A:A,'RAW module list'!D:D, \"Not found\")","v":8},{"$f":"_xlfn.XLOOKUP(C229,'RAW module list'!A:A,'RAW module list'!E:E, \"Not found\")","v":"TPRI1502"},"Second Year",{"$f":"_xlfn.XLOOKUP(B229,'Programmes lists'!B:B,'Programmes lists'!D:D)","v":"BC735793"},{"$f":"_xlfn.XLOOKUP(B229,'Programmes lists'!B:B,'Programmes lists'!E:E, \"Not found\")","v":0},{"$f":"_xlfn.XLOOKUP(B229,'Programmes lists'!B:B,'Programmes lists'!G:G,\"Not found\")","v":"Minimum grade 12 pass in\n•\tEnglish HL 50%\n•\tAfrikaans FAL 50%\n•\tMathematics 50% "},{"$f":"_xlfn.XLOOKUP(B229,'Programmes lists'!B:B,'Programmes lists'!F:F,\"Not found\")","v":532}]
["Intermediate Phase","Specialising in Mathematics, Natural Science & Technology and English Home Language","NSTC2624",{"$f":"_xlfn.XLOOKUP(C230,'RAW module list'!A:A,'RAW module list'!B:B, \"Not found\")","v":"Elementary Natural Science and Technology"},{"$f":"_xlfn.XLOOKUP(C230,'RAW module list'!A:A,'RAW module list'!C:C, \"Not found\")","v":6},{"$f":"_xlfn.XLOOKUP(C230,'RAW module list'!A:A,'RAW module list'!D:D, \"Not found\")","v":16},{"$f":"_xlfn.XLOOKUP(C230,'RAW module list'!A:A,'RAW module list'!E:E, \"Not found\")","v":"NSTC2614"},"Second Year",{"$f":"_xlfn.XLOOKUP(B230,'Programmes lists'!B:B,'Programmes lists'!D:D)","v":"BC735793"},{"$f":"_xlfn.XLOOKUP(B230,'Programmes lists'!B:B,'Programmes lists'!E:E, \"Not found\")","v":0},{"$f":"_xlfn.XLOOKUP(B230,'Programmes lists'!B:B,'Programmes lists'!G:G,\"Not found\")","v":"Minimum grade 12 pass in\n•\tEnglish HL 50%\n•\tAfrikaans FAL 50%\n•\tMathematics 50% "},{"$f":"_xlfn.XLOOKUP(B230,'Programmes lists'!B:B,'Programmes lists'!F:F,\"Not found\")","v":532}]
["Intermediate Phase","Specialising in Mathematics, Natural Science & Technology and English Home Language","AFRL1624 OR AFNT1644",{"$f":"_xlfn.XLOOKUP(C231,'RAW module list'!A:A,'RAW module list'!B:B, \"Not found\")","v":"Basic Afrikaans literature OR Introduction to Afrikaans Linguistics "},{"$f":"_xlfn.XLOOKUP(C231,'RAW module list'!A:A,'RAW module list'!C:C, \"Not found\")","v":6},{"$f":"_xlfn.XLOOKUP(C231,'RAW module list'!A:A,'RAW module list'!D:D, \"Not found\")","v":16},{"$f":"_xlfn.XLOOKUP(C231,'RAW module list'!A:A,'RAW module list'!E:E, \"Not found\")","v":"AFRT1514 OR AFNL1634"},"Second Year",{"$f":"_xlfn.XLOOKUP(B231,'Programmes lists'!B:B,'Programmes lists'!D:D)","v":"BC735793"},{"$f":"_xlfn.XLOOKUP(B231,'Programmes lists'!B:B,'Programmes lists'!E:E, \"Not found\")","v":0},{"$f":"_xlfn.XLOOKUP(B231,'Programmes lists'!B:B,'Programmes lists'!G:G,\"Not found\")","v":"Minimum grade 12 pass in\n•\tEnglish HL 50%\n•\tAfrikaans FAL 50%\n•\tMathematics 50% "},{"$f":"_xlfn.XLOOKUP(B231,'Programmes lists'!B:B,'Programmes lists'!F:F,\"Not found\")","v":532}]
["Intermediate Phase","Specialising in Mathematics, Natural Science & Technology and English Home Language","EDUB2724",{"$f":"_xlfn.XLOOKUP(C232,'RAW module list'!A:A,'RAW module list'!B:B, \"Not found\")","v":"Education Studies 2: Human Relationships in Education context"},{"$f":"_xlfn.XLOOKUP(C232,'RAW module list'!A:A,'RAW module list'!C:C, \"Not found\")","v":7},{"$f":"_xlfn.XLOOKUP(C232,'RAW module list'!A:A,'RAW module list'!D:D, \"Not found\")","v":16},{"$f":"_xlfn.XLOOKUP(C232,'RAW module list'!A:A,'RAW module list'!E:E, \"Not found\")","v":"EDUB2714"},"Second Year",{"$f":"_xlfn.XLOOKUP(B232,'Programmes lists'!B:B,'Programmes lists'!D:D)","v":"BC735793"},{"$f":"_xlfn.XLOOKUP(B232,'Programmes lists'!B:B,'Programmes lists'!E:E, \"Not found\")","v":0},{"$f":"_xlfn.XLOOKUP(B232,'Programmes lists'!B:B,'Programmes lists'!G:G,\"Not found\")","v":"Minimum grade 12 pass in\n•\tEnglish HL 50%\n•\tAfrikaans FAL 50%\n•\tMathematics 50% "},{"$f":"_xlfn.XLOOKUP(B232,'Programmes lists'!B:B,'Programmes lists'!F:F,\"Not found\")","v":532}]
["Intermediate Phase","Specialising in Mathematics, Natural Science & Technology and English Home Language","GPED2623",{"$f":"_xlfn.XLOOKUP(C233,'RAW module list'!A:A,'RAW module list'!B:B, \"Not found\")","v":"General Pedagogy 2.2: Assessment"},{"$f":"_xlfn.XLOOKUP(C233,'RAW module list'!A:A,'RAW module list'!C:C, \"Not found\")","v":6},{"$f":"_xlfn.XLOOKUP(C233,'RAW module list'!A:A,'RAW module list'!D:D, \"Not found\")","v":12},{"$f":"_xlfn.XLOOKUP(C233,'RAW module list'!A:A,'RAW module list'!E:E, \"Not found\")","v":"GPED2613"},"Second Year",{"$f":"_xlfn.XLOOKUP(B233,'Programmes lists'!B:B,'Programmes lists'!D:D)","v":"BC735793"},{"$f":"_xlfn.XLOOKUP(B233,'Programmes lists'!B:B,'Programmes lists'!E:E, \"Not found\")","v":0},{"$f":"_xlfn.XLOOKUP(B233,'Programmes lists'!B:B,'Programmes lists'!G:G,\"Not found\")","v":"Minimum grade 12 pass in\n•\tEnglish HL 50%\n•\tAfrikaans FAL 50%\n•\tMathematics 50% "},{"$f":"_xlfn.XLOOKUP(B233,'Programmes lists'!B:B,'Programmes lists'!F:F,\"Not found\")","v":532}]
["Intermediate Phase","Specialising in Mathematics, Natural Science & Technology and English Home Language","NTTI3604",{"$f":"_xlfn.XLOOKUP(C234,'RAW module list'!A:A,'RAW module list'!B:B, \"Not found\")","v":"Natural Sciences and Technology Teaching 1 "},{"$f":"_xlfn.XLOOKUP(C234,'RAW module list'!A:A,'RAW module list'!C:C, \"Not found\")","v":6},{"$f":"_xlfn.XLOOKUP(C234,'RAW module list'!A:A,'RAW module list'!D:D, \"Not found\")","v":16},{"$f":"_xlfn.XLOOKUP(C234,'RAW module list'!A:A,'RAW module list'!E:E, \"Not found\")","v":"NSTC2614 & NSTC2624"},"Third Year",{"$f":"_xlfn.XLOOKUP(B234,'Programmes lists'!B:B,'Programmes lists'!D:D)","v":"BC735793"},{"$f":"_xlfn.XLOOKUP(B234,'Programmes lists'!B:B,'Programmes lists'!E:E, \"Not found\")","v":0},{"$f":"_xlfn.XLOOKUP(B234,'Programmes lists'!B:B,'Programmes lists'!G:G,\"Not found\")","v":"Minimum grade 12 pass in\n•\tEnglish HL 50%\n•\tAfrikaans FAL 50%\n•\tMathematics 50% "},{"$f":"_xlfn.XLOOKUP(B234,'Programmes lists'!B:B,'Programmes lists'!F:F,\"Not found\")","v":532}]
["Intermediate Phase","Specialising in Mathematics, Natural Science & Technology and English Home Language","MTTI3604",{"$f":"_xlfn.XLOOKUP(C235,'RAW module list'!A:A,'RAW module list'!B:B, \"Not found\")","v":"Teaching Mathematics 1"},{"$f":"_xlfn.XLOOKUP(C235,'RAW module list'!A:A,'RAW module list'!C:C, \"Not found\")","v":6},{"$f":"_xlfn.XLOOKUP(C235,'RAW module list'!A:A,'RAW module list'!D:D, \"Not found\")","v":16},{"$f":"_xlfn.XLOOKUP(C235,'RAW module list'!A:A,'RAW module list'!E:E, \"Not found\")","v":"MTHI1614 & MTHI1624"},"Third Year",{"$f":"_xlfn.XLOOKUP(B235,'Programmes lists'!B:B,'Programmes lists'!D:D)","v":"BC735793"},{"$f":"_xlfn.XLOOKUP(B235,'Programmes lists'!B:B,'Programmes lists'!E:E, \"Not found\")","v":0},{"$f":"_xlfn.XLOOKUP(B235,'Programmes lists'!B:B,'Programmes lists'!G:G,\"Not found\")","v":"Minimum grade 12 pass in\n•\tEnglish HL 50%\n•\tAfrikaans FAL 50%\n•\tMathematics 50% "},{"$f":"_xlfn.XLOOKUP(B235,'Programmes lists'!B:B,'Programmes lists'!F:F,\"Not found\")","v":532}]
["Intermediate Phase","Specialising in Mathematics, Natural Science & Technology and English Home Language","AHTI3604 OR AATI3604",{"$f":"_xlfn.XLOOKUP(C236,'RAW module list'!A:A,'RAW module list'!B:B, \"Not found\")","v":"Afrikaans Teaching  (Home Language) OR Afrikaans FAL Teaching 1"},{"$f":"_xlfn.XLOOKUP(C236,'RAW module list'!A:A,'RAW module list'!C:C, \"Not found\")","v":6},{"$f":"_xlfn.XLOOKUP(C236,'RAW module list'!A:A,'RAW module list'!D:D, \"Not found\")","v":16},{"$f":"_xlfn.XLOOKUP(C236,'RAW module list'!A:A,'RAW module list'!E:E, \"Not found\")","v":"AFNT1644 & AFNL1634  or  AFRT1514 & AFRL1624"},"Third Year",{"$f":"_xlfn.XLOOKUP(B236,'Programmes lists'!B:B,'Programmes lists'!D:D)","v":"BC735793"},{"$f":"_xlfn.XLOOKUP(B236,'Programmes lists'!B:B,'Programmes lists'!E:E, \"Not found\")","v":0},{"$f":"_xlfn.XLOOKUP(B236,'Programmes lists'!B:B,'Programmes lists'!G:G,\"Not found\")","v":"Minimum grade 12 pass in\n•\tEnglish HL 50%\n•\tAfrikaans FAL 50%\n•\tMathematics 50% "},{"$f":"_xlfn.XLOOKUP(B236,'Programmes lists'!B:B,'Programmes lists'!F:F,\"Not found\")","v":532}]
["Intermediate Phase","Specialising in Mathematics, Natural Science & Technology and English Home Language","EHTI3604",{"$f":"_xlfn.XLOOKUP(C237,'RAW module list'!A:A,'RAW module list'!B:B, \"Not found\")","v":"English Teaching 1 (Home Language)"},{"$f":"_xlfn.XLOOKUP(C237,'RAW module list'!A:A,'RAW module list'!C:C, \"Not found\")","v":6},{"$f":"_xlfn.XLOOKUP(C237,'RAW module list'!A:A,'RAW module list'!D:D, \"Not found\")","v":16},{"$f":"_xlfn.XLOOKUP(C237,'RAW module list'!A:A,'RAW module list'!E:E, \"Not found\")","v":"ENGE1608"},"Third Year",{"$f":"_xlfn.XLOOKUP(B237,'Programmes lists'!B:B,'Programmes lists'!D:D)","v":"BC735793"},{"$f":"_xlfn.XLOOKUP(B237,'Programmes lists'!B:B,'Programmes lists'!E:E, \"Not found\")","v":0},{"$f":"_xlfn.XLOOKUP(B237,'Programmes lists'!B:B,'Programmes lists'!G:G,\"Not found\")","v":"Minimum grade 12 pass in\n•\tEnglish HL 50%\n•\tAfrikaans FAL 50%\n•\tMathematics 50% "},{"$f":"_xlfn.XLOOKUP(B237,'Programmes lists'!B:B,'Programmes lists'!F:F,\"Not found\")","v":532}]
["Intermediate Phase","Specialising in Mathematics, Natural Science & Technology and English Home Language","CURM3502",{"$f":"_xlfn.XLOOKUP(C238,'RAW module list'!A:A,'RAW module list'!B:B, \"Not found\")","v":"Intermediate Phase School Curriculum 1"},{"$f":"_xlfn.XLOOKUP(C238,'RAW module list'!A:A,'RAW module list'!C:C, \"Not found\")","v":5},{"$f":"_xlfn.XLOOKUP(C238,'RAW module list'!A:A,'RAW module list'!D:D, \"Not found\")","v":8},{"$f":"_xlfn.XLOOKUP(C238,'RAW module list'!A:A,'RAW module list'!E:E, \"Not found\")","v":0},"Third Year",{"$f":"_xlfn.XLOOKUP(B238,'Programmes lists'!B:B,'Programmes lists'!D:D)","v":"BC735793"},{"$f":"_xlfn.XLOOKUP(B238,'Programmes lists'!B:B,'Programmes lists'!E:E, \"Not found\")","v":0},{"$f":"_xlfn.XLOOKUP(B238,'Programmes lists'!B:B,'Programmes lists'!G:G,\"Not found\")","v":"Minimum grade 12 pass in\n•\tEnglish HL 50%\n•\tAfrikaans FAL 50%\n•\tMathematics 50% "},{"$f":"_xlfn.XLOOKUP(B238,'Programmes lists'!B:B,'Programmes lists'!F:F,\"Not found\")","v":532}]
["Intermediate Phase","Specialising in Mathematics, Natural Science & Technology and English Home Language","EDUB3714",{"$f":"_xlfn.XLOOKUP(C239,'RAW module list'!A:A,'RAW module list'!B:B, \"Not found\")","v":"Education Studies 3.1 Education systems in global and national context"},{"$f":"_xlfn.XLOOKUP(C239,'RAW module list'!A:A,'RAW module list'!C:C, \"Not found\")","v":7},{"$f":"_xlfn.XLOOKUP(C239,'RAW module list'!A:A,'RAW module list'!D:D, \"Not found\")","v":16},{"$f":"_xlfn.XLOOKUP(C239,'RAW module list'!A:A,'RAW module list'!E:E, \"Not found\")","v":"EDUB1613 & EDUB1623& EDUB2714 & EDUB2724"},"Third Year",{"$f":"_xlfn.XLOOKUP(B239,'Programmes lists'!B:B,'Programmes lists'!D:D)","v":"BC735793"},{"$f":"_xlfn.XLOOKUP(B239,'Programmes lists'!B:B,'Programmes lists'!E:E, \"Not found\")","v":0},{"$f":"_xlfn.XLOOKUP(B239,'Programmes lists'!B:B,'Programmes lists'!G:G,\"Not found\")","v":"Minimum grade 12 pass in\n•\tEnglish HL 50%\n•\tAfrikaans FAL 50%\n•\tMathematics 50% "},{"$f":"_xlfn.XLOOKUP(B239,'Programmes lists'!B:B,'Programmes lists'!F:F,\"Not found\")","v":532}]
["Intermediate Phase","Specialising in Mathematics, Natural Science & Technology and English Home Language","SICL3512 OR SSCL3512 OR ZUCL3512",{"$f":"_xlfn.XLOOKUP(C240,'RAW module list'!A:A,'RAW module list'!B:B, \"Not found\")","v":"Conversational Sign Language OR Conversational Sesotho OR Conversational IsiZulu"},{"$f":"_xlfn.XLOOKUP(C240,'RAW module list'!A:A,'RAW module list'!C:C, \"Not found\")","v":5},{"$f":"_xlfn.XLOOKUP(C240,'RAW module list'!A:A,'RAW module list'!D:D, \"Not found\")","v":8},{"$f":"_xlfn.XLOOKUP(C240,'RAW module list'!A:A,'RAW module list'!E:E, \"Not found\")","v":"No previous exposure to the language"},"Third Year",{"$f":"_xlfn.XLOOKUP(B240,'Programmes lists'!B:B,'Programmes lists'!D:D)","v":"BC735793"},{"$f":"_xlfn.XLOOKUP(B240,'Programmes lists'!B:B,'Programmes lists'!E:E, \"Not found\")","v":0},{"$f":"_xlfn.XLOOKUP(B240,'Programmes lists'!B:B,'Programmes lists'!G:G,\"Not found\")","v":"Minimum grade 12 pass in\n•\tEnglish HL 50%\n•\tAfrikaans FAL 50%\n•\tMathematics 50% "},{"$f":"_xlfn.XLOOKUP(B240,'Programmes lists'!B:B,'Programmes lists'!F:F,\"Not found\")","v":532}]
["Intermediate Phase","Specialising in Mathematics, Natural Science & Technology and English Home Language","WILI3606",{"$f":"_xlfn.XLOOKUP(C241,'RAW module list'!A:A,'RAW module list'!B:B, \"Not found\")","v":"Teaching Practice 3"},{"$f":"_xlfn.XLOOKUP(C241,'RAW module list'!A:A,'RAW module list'!C:C, \"Not found\")","v":6},{"$f":"_xlfn.XLOOKUP(C241,'RAW module list'!A:A,'RAW module list'!D:D, \"Not found\")","v":24},{"$f":"_xlfn.XLOOKUP(C241,'RAW module list'!A:A,'RAW module list'!E:E, \"Not found\")","v":"TPRI2502"},"Third Year",{"$f":"_xlfn.XLOOKUP(B241,'Programmes lists'!B:B,'Programmes lists'!D:D)","v":"BC735793"},{"$f":"_xlfn.XLOOKUP(B241,'Programmes lists'!B:B,'Programmes lists'!E:E, \"Not found\")","v":0},{"$f":"_xlfn.XLOOKUP(B241,'Programmes lists'!B:B,'Programmes lists'!G:G,\"Not found\")","v":"Minimum grade 12 pass in\n•\tEnglish HL 50%\n•\tAfrikaans FAL 50%\n•\tMathematics 50% "},{"$f":"_xlfn.XLOOKUP(B241,'Programmes lists'!B:B,'Programmes lists'!F:F,\"Not found\")","v":532}]
["Intermediate Phase","Specialising in Mathematics, Natural Science & Technology and English Home Language","EDUB3724",{"$f":"_xlfn.XLOOKUP(C242,'RAW module list'!A:A,'RAW module list'!B:B, \"Not found\")","v":"Education Studies 3.2: Contemporary Education Theory in the current social context"},{"$f":"_xlfn.XLOOKUP(C242,'RAW module list'!A:A,'RAW module list'!C:C, \"Not found\")","v":7},{"$f":"_xlfn.XLOOKUP(C242,'RAW module list'!A:A,'RAW module list'!D:D, \"Not found\")","v":16},{"$f":"_xlfn.XLOOKUP(C242,'RAW module list'!A:A,'RAW module list'!E:E, \"Not found\")","v":"EDUB1613 & EDUB1623 & EDUB2714 & EDUB2724 & EDUB3714"},"Third Year",{"$f":"_xlfn.XLOOKUP(B242,'Programmes lists'!B:B,'Programmes lists'!D:D)","v":"BC735793"},{"$f":"_xlfn.XLOOKUP(B242,'Programmes lists'!B:B,'Programmes lists'!E:E, \"Not found\")","v":0},{"$f":"_xlfn.XLOOKUP(B242,'Programmes lists'!B:B,'Programmes lists'!G:G,\"Not found\")","v":"Minimum grade 12 pass in\n•\tEnglish HL 50%\n•\tAfrikaans FAL 50%\n•\tMathematics 50% "},{"$f":"_xlfn.XLOOKUP(B242,'Programmes lists'!B:B,'Programmes lists'!F:F,\"Not found\")","v":532}]
["Intermediate Phase","Specialising in Mathematics, Natural Science & Technology and English Home Language","SICL3522 OR SSCL3522 OR ZUCL3522",{"$f":"_xlfn.XLOOKUP(C243,'RAW module list'!A:A,'RAW module list'!B:B, \"Not found\")","v":"Conversational Sign Language OR Conversational Sesotho OR Conversational IsiZulu"},{"$f":"_xlfn.XLOOKUP(C243,'RAW module list'!A:A,'RAW module list'!C:C, \"Not found\")","v":5},{"$f":"_xlfn.XLOOKUP(C243,'RAW module list'!A:A,'RAW module list'!D:D, \"Not found\")","v":8},{"$f":"_xlfn.XLOOKUP(C243,'RAW module list'!A:A,'RAW module list'!E:E, \"Not found\")","v":"Continue with the conversational language  chosen in Semester 1"},"Third Year",{"$f":"_xlfn.XLOOKUP(B243,'Programmes lists'!B:B,'Programmes lists'!D:D)","v":"BC735793"},{"$f":"_xlfn.XLOOKUP(B243,'Programmes lists'!B:B,'Programmes lists'!E:E, \"Not found\")","v":0},{"$f":"_xlfn.XLOOKUP(B243,'Programmes lists'!B:B,'Programmes lists'!G:G,\"Not found\")","v":"Minimum grade 12 pass in\n•\tEnglish HL 50%\n•\tAfrikaans FAL 50%\n•\tMathematics 50% "},{"$f":"_xlfn.XLOOKUP(B243,'Programmes lists'!B:B,'Programmes lists'!F:F,\"Not found\")","v":532}]
["Intermediate Phase","Specialising in Mathematics, Natural Science & Technology and English Home Language","NTTI4705",{"$f":"_xlfn.XLOOKUP(C244,'RAW module list'!A:A,'RAW module list'!B:B, \"Not found\")","v":"Natural Sciences and Technology Teaching  2"},{"$f":"_xlfn.XLOOKUP(C244,'RAW module list'!A:A,'RAW module list'!C:C, \"Not found\")","v":7},{"$f":"_xlfn.XLOOKUP(C244,'RAW module list'!A:A,'RAW module list'!D:D, \"Not found\")","v":20},{"$f":"_xlfn.XLOOKUP(C244,'RAW module list'!A:A,'RAW module list'!E:E, \"Not found\")","v":"NTTI3604"},"Fourth Year",{"$f":"_xlfn.XLOOKUP(B244,'Programmes lists'!B:B,'Programmes lists'!D:D)","v":"BC735793"},{"$f":"_xlfn.XLOOKUP(B244,'Programmes lists'!B:B,'Programmes lists'!E:E, \"Not found\")","v":0},{"$f":"_xlfn.XLOOKUP(B244,'Programmes lists'!B:B,'Programmes lists'!G:G,\"Not found\")","v":"Minimum grade 12 pass in\n•\tEnglish HL 50%\n•\tAfrikaans FAL 50%\n•\tMathematics 50% "},{"$f":"_xlfn.XLOOKUP(B244,'Programmes lists'!B:B,'Programmes lists'!F:F,\"Not found\")","v":532}]
["Intermediate Phase","Specialising in Mathematics, Natural Science & Technology and English Home Language","MTTI4705",{"$f":"_xlfn.XLOOKUP(C245,'RAW module list'!A:A,'RAW module list'!B:B, \"Not found\")","v":"Mathematics teaching 2"},{"$f":"_xlfn.XLOOKUP(C245,'RAW module list'!A:A,'RAW module list'!C:C, \"Not found\")","v":7},{"$f":"_xlfn.XLOOKUP(C245,'RAW module list'!A:A,'RAW module list'!D:D, \"Not found\")","v":20},{"$f":"_xlfn.XLOOKUP(C245,'RAW module list'!A:A,'RAW module list'!E:E, \"Not found\")","v":"MTTI3604"},"Fourth Year",{"$f":"_xlfn.XLOOKUP(B245,'Programmes lists'!B:B,'Programmes lists'!D:D)","v":"BC735793"},{"$f":"_xlfn.XLOOKUP(B245,'Programmes lists'!B:B,'Programmes lists'!E:E, \"Not found\")","v":0},{"$f":"_xlfn.XLOOKUP(B245,'Programmes lists'!B:B,'Programmes lists'!G:G,\"Not found\")","v":"Minimum grade 12 pass in\n•\tEnglish HL 50%\n•\tAfrikaans FAL 50%\n•\tMathematics 50% "},{"$f":"_xlfn.XLOOKUP(B245,'Programmes lists'!B:B,'Programmes lists'!F:F,\"Not found\")","v":532}]
["Intermediate Phase","Specialising in Mathematics, Natural Science & Technology and English Home Language","AHTI4705 OR AATI4705",{"$f":"_xlfn.XLOOKUP(C246,'RAW module list'!A:A,'RAW module list'!B:B, \"Not found\")","v":"Afrikaans Teaching 1 (Home Language) OR Afrikaans Teaching 2: (First Additional Language "},{"$f":"_xlfn.XLOOKUP(C246,'RAW module list'!A:A,'RAW module list'!C:C, \"Not found\")","v":7},{"$f":"_xlfn.XLOOKUP(C246,'RAW module list'!A:A,'RAW module list'!D:D, \"Not found\")","v":20},{"$f":"_xlfn.XLOOKUP(C246,'RAW module list'!A:A,'RAW module list'!E:E, \"Not found\")","v":"AHTI3604 OR AATI3604"},"Fourth Year",{"$f":"_xlfn.XLOOKUP(B246,'Programmes lists'!B:B,'Programmes lists'!D:D)","v":"BC735793"},{"$f":"_xlfn.XLOOKUP(B246,'Programmes lists'!B:B,'Programmes lists'!E:E, \"Not found\")","v":0},{"$f":"_xlfn.XLOOKUP(B246,'Programmes lists'!B:B,'Programmes lists'!G:G,\"Not found\")","v":"Minimum grade 12 pass in\n•\tEnglish HL 50%\n•\tAfrikaans FAL 50%\n•\tMathematics 50% "},{"$f":"_xlfn.XLOOKUP(B246,'Programmes lists'!B:B,'Programmes lists'!F:F,\"Not found\")","v":532}]
["Intermediate Phase","Specialising in Mathematics, Natural Science & Technology and English Home Language","EHTI4705",{"$f":"_xlfn.XLOOKUP(C247,'RAW module list'!A:A,'RAW module list'!B:B, \"Not found\")","v":"English Teaching 2 (Home Language)"},{"$f":"_xlfn.XLOOKUP(C247,'RAW module list'!A:A,'RAW module list'!C:C, \"Not found\")","v":7},{"$f":"_xlfn.XLOOKUP(C247,'RAW module list'!A:A,'RAW module list'!D:D, \"Not found\")","v":20},{"$f":"_xlfn.XLOOKUP(C247,'RAW module list'!A:A,'RAW module list'!E:E, \"Not found\")","v":"EHTI3604"},"Fourth Year",{"$f":"_xlfn.XLOOKUP(B247,'Programmes lists'!B:B,'Programmes lists'!D:D)","v":"BC735793"},{"$f":"_xlfn.XLOOKUP(B247,'Programmes lists'!B:B,'Programmes lists'!E:E, \"Not found\")","v":0},{"$f":"_xlfn.XLOOKUP(B247,'Programmes lists'!B:B,'Programmes lists'!G:G,\"Not found\")","v":"Minimum grade 12 pass in\n•\tEnglish HL 50%\n•\tAfrikaans FAL 50%\n•\tMathematics 50% "},{"$f":"_xlfn.XLOOKUP(B247,'Programmes lists'!B:B,'Programmes lists'!F:F,\"Not found\")","v":532}]
["Intermediate Phase","Specialising in Mathematics, Natural Science & Technology and English Home Language","CURM4502",{"$f":"_xlfn.XLOOKUP(C248,'RAW module list'!A:A,'RAW module list'!B:B, \"Not found\")","v":"Intermediate Phase School Curriculum 2"},{"$f":"_xlfn.XLOOKUP(C248,'RAW module list'!A:A,'RAW module list'!C:C, \"Not found\")","v":5},{"$f":"_xlfn.XLOOKUP(C248,'RAW module list'!A:A,'RAW module list'!D:D, \"Not found\")","v":8},{"$f":"_xlfn.XLOOKUP(C248,'RAW module list'!A:A,'RAW module list'!E:E, \"Not found\")","v":"CURM3502"},"Fourth Year",{"$f":"_xlfn.XLOOKUP(B248,'Programmes lists'!B:B,'Programmes lists'!D:D)","v":"BC735793"},{"$f":"_xlfn.XLOOKUP(B248,'Programmes lists'!B:B,'Programmes lists'!E:E, \"Not found\")","v":0},{"$f":"_xlfn.XLOOKUP(B248,'Programmes lists'!B:B,'Programmes lists'!G:G,\"Not found\")","v":"Minimum grade 12 pass in\n•\tEnglish HL 50%\n•\tAfrikaans FAL 50%\n•\tMathematics 50% "},{"$f":"_xlfn.XLOOKUP(B248,'Programmes lists'!B:B,'Programmes lists'!F:F,\"Not found\")","v":532}]
["Intermediate Phase","Specialising in Mathematics, Natural Science & Technology and English Home Language","WILI4700",{"$f":"_xlfn.XLOOKUP(C249,'RAW module list'!A:A,'RAW module list'!B:B, \"Not found\")","v":"Teaching Practice 4"},{"$f":"_xlfn.XLOOKUP(C249,'RAW module list'!A:A,'RAW module list'!C:C, \"Not found\")","v":7},{"$f":"_xlfn.XLOOKUP(C249,'RAW module list'!A:A,'RAW module list'!D:D, \"Not found\")","v":40},{"$f":"_xlfn.XLOOKUP(C249,'RAW module list'!A:A,'RAW module list'!E:E, \"Not found\")","v":"WILI3606"},"Fourth Year",{"$f":"_xlfn.XLOOKUP(B249,'Programmes lists'!B:B,'Programmes lists'!D:D)","v":"BC735793"},{"$f":"_xlfn.XLOOKUP(B249,'Programmes lists'!B:B,'Programmes lists'!E:E, \"Not found\")","v":0},{"$f":"_xlfn.XLOOKUP(B249,'Programmes lists'!B:B,'Programmes lists'!G:G,\"Not found\")","v":"Minimum grade 12 pass in\n•\tEnglish HL 50%\n•\tAfrikaans FAL 50%\n•\tMathematics 50% "},{"$f":"_xlfn.XLOOKUP(B249,'Programmes lists'!B:B,'Programmes lists'!F:F,\"Not found\")","v":532}]
["Intermediate Phase","Specialising in Mathematics, Natural Science & Technology and isiZulu Home Language","MTHI1614",{"$f":"_xlfn.XLOOKUP(C250,'RAW module list'!A:A,'RAW module list'!B:B, \"Not found\")","v":"Mathematics: Numbers, algebra and functions "},{"$f":"_xlfn.XLOOKUP(C250,'RAW module list'!A:A,'RAW module list'!C:C, \"Not found\")","v":6},{"$f":"_xlfn.XLOOKUP(C250,'RAW module list'!A:A,'RAW module list'!D:D, \"Not found\")","v":16},{"$f":"_xlfn.XLOOKUP(C250,'RAW module list'!A:A,'RAW module list'!E:E, \"Not found\")","v":"Mathematics at NSC level 4 (50%) pass"},"First Year",{"$f":"_xlfn.XLOOKUP(B250,'Programmes lists'!B:B,'Programmes lists'!D:D)","v":0},{"$f":"_xlfn.XLOOKUP(B250,'Programmes lists'!B:B,'Programmes lists'!E:E, \"Not found\")","v":"QC735794"},{"$f":"_xlfn.XLOOKUP(B250,'Programmes lists'!B:B,'Programmes lists'!G:G,\"Not found\")","v":"Minimum grade 12 pass in\n•\tIsiZulu HL 50% \n•\tEnglish FAL 50%\n•\tMathematics 50%"},{"$f":"_xlfn.XLOOKUP(B250,'Programmes lists'!B:B,'Programmes lists'!F:F,\"Not found\")","v":532}]
["Intermediate Phase","Specialising in Mathematics, Natural Science & Technology and isiZulu Home Language","LLST1513",{"$f":"_xlfn.XLOOKUP(C251,'RAW module list'!A:A,'RAW module list'!B:B, \"Not found\")","v":"Lifelong Learning Skills"},{"$f":"_xlfn.XLOOKUP(C251,'RAW module list'!A:A,'RAW module list'!C:C, \"Not found\")","v":5},{"$f":"_xlfn.XLOOKUP(C251,'RAW module list'!A:A,'RAW module list'!D:D, \"Not found\")","v":12},{"$f":"_xlfn.XLOOKUP(C251,'RAW module list'!A:A,'RAW module list'!E:E, \"Not found\")","v":0},"First Year",{"$f":"_xlfn.XLOOKUP(B251,'Programmes lists'!B:B,'Programmes lists'!D:D)","v":0},{"$f":"_xlfn.XLOOKUP(B251,'Programmes lists'!B:B,'Programmes lists'!E:E, \"Not found\")","v":"QC735794"},{"$f":"_xlfn.XLOOKUP(B251,'Programmes lists'!B:B,'Programmes lists'!G:G,\"Not found\")","v":"Minimum grade 12 pass in\n•\tIsiZulu HL 50% \n•\tEnglish FAL 50%\n•\tMathematics 50%"},{"$f":"_xlfn.XLOOKUP(B251,'Programmes lists'!B:B,'Programmes lists'!F:F,\"Not found\")","v":532}]
["Intermediate Phase","Specialising in Mathematics, Natural Science & Technology and isiZulu Home Language","ENGE1608",{"$f":"_xlfn.XLOOKUP(C252,'RAW module list'!A:A,'RAW module list'!B:B, \"Not found\")","v":"English Language for Education "},{"$f":"_xlfn.XLOOKUP(C252,'RAW module list'!A:A,'RAW module list'!C:C, \"Not found\")","v":6},{"$f":"_xlfn.XLOOKUP(C252,'RAW module list'!A:A,'RAW module list'!D:D, \"Not found\")","v":32},{"$f":"_xlfn.XLOOKUP(C252,'RAW module list'!A:A,'RAW module list'!E:E, \"Not found\")","v":0},"First Year",{"$f":"_xlfn.XLOOKUP(B252,'Programmes lists'!B:B,'Programmes lists'!D:D)","v":0},{"$f":"_xlfn.XLOOKUP(B252,'Programmes lists'!B:B,'Programmes lists'!E:E, \"Not found\")","v":"QC735794"},{"$f":"_xlfn.XLOOKUP(B252,'Programmes lists'!B:B,'Programmes lists'!G:G,\"Not found\")","v":"Minimum grade 12 pass in\n•\tIsiZulu HL 50% \n•\tEnglish FAL 50%\n•\tMathematics 50%"},{"$f":"_xlfn.XLOOKUP(B252,'Programmes lists'!B:B,'Programmes lists'!F:F,\"Not found\")","v":532}]
["Intermediate Phase","Specialising in Mathematics, Natural Science & Technology and isiZulu Home Language","EDUB1613",{"$f":"_xlfn.XLOOKUP(C253,'RAW module list'!A:A,'RAW module list'!B:B, \"Not found\")","v":"Education Studies 1.1 The Individual in the learning context"},{"$f":"_xlfn.XLOOKUP(C253,'RAW module list'!A:A,'RAW module list'!C:C, \"Not found\")","v":6},{"$f":"_xlfn.XLOOKUP(C253,'RAW module list'!A:A,'RAW module list'!D:D, \"Not found\")","v":12},{"$f":"_xlfn.XLOOKUP(C253,'RAW module list'!A:A,'RAW module list'!E:E, \"Not found\")","v":0},"First Year",{"$f":"_xlfn.XLOOKUP(B253,'Programmes lists'!B:B,'Programmes lists'!D:D)","v":0},{"$f":"_xlfn.XLOOKUP(B253,'Programmes lists'!B:B,'Programmes lists'!E:E, \"Not found\")","v":"QC735794"},{"$f":"_xlfn.XLOOKUP(B253,'Programmes lists'!B:B,'Programmes lists'!G:G,\"Not found\")","v":"Minimum grade 12 pass in\n•\tIsiZulu HL 50% \n•\tEnglish FAL 50%\n•\tMathematics 50%"},{"$f":"_xlfn.XLOOKUP(B253,'Programmes lists'!B:B,'Programmes lists'!F:F,\"Not found\")","v":532}]
["Intermediate Phase","Specialising in Mathematics, Natural Science & Technology and isiZulu Home Language","TPRI1502",{"$f":"_xlfn.XLOOKUP(C254,'RAW module list'!A:A,'RAW module list'!B:B, \"Not found\")","v":"Teaching Practice 1"},{"$f":"_xlfn.XLOOKUP(C254,'RAW module list'!A:A,'RAW module list'!C:C, \"Not found\")","v":5},{"$f":"_xlfn.XLOOKUP(C254,'RAW module list'!A:A,'RAW module list'!D:D, \"Not found\")","v":8},{"$f":"_xlfn.XLOOKUP(C254,'RAW module list'!A:A,'RAW module list'!E:E, \"Not found\")","v":0},"First Year",{"$f":"_xlfn.XLOOKUP(B254,'Programmes lists'!B:B,'Programmes lists'!D:D)","v":0},{"$f":"_xlfn.XLOOKUP(B254,'Programmes lists'!B:B,'Programmes lists'!E:E, \"Not found\")","v":"QC735794"},{"$f":"_xlfn.XLOOKUP(B254,'Programmes lists'!B:B,'Programmes lists'!G:G,\"Not found\")","v":"Minimum grade 12 pass in\n•\tIsiZulu HL 50% \n•\tEnglish FAL 50%\n•\tMathematics 50%"},{"$f":"_xlfn.XLOOKUP(B254,'Programmes lists'!B:B,'Programmes lists'!F:F,\"Not found\")","v":532}]
["Intermediate Phase","Specialising in Mathematics, Natural Science & Technology and isiZulu Home Language","UFSS1504",{"$f":"_xlfn.XLOOKUP(C255,'RAW module list'!A:A,'RAW module list'!B:B, \"Not found\")","v":"Undergraduate core curriculum"},{"$f":"_xlfn.XLOOKUP(C255,'RAW module list'!A:A,'RAW module list'!C:C, \"Not found\")","v":5},{"$f":"_xlfn.XLOOKUP(C255,'RAW module list'!A:A,'RAW module list'!D:D, \"Not found\")","v":-16},{"$f":"_xlfn.XLOOKUP(C255,'RAW module list'!A:A,'RAW module list'!E:E, \"Not found\")","v":0},"First Year",{"$f":"_xlfn.XLOOKUP(B255,'Programmes lists'!B:B,'Programmes lists'!D:D)","v":0},{"$f":"_xlfn.XLOOKUP(B255,'Programmes lists'!B:B,'Programmes lists'!E:E, \"Not found\")","v":"QC735794"},{"$f":"_xlfn.XLOOKUP(B255,'Programmes lists'!B:B,'Programmes lists'!G:G,\"Not found\")","v":"Minimum grade 12 pass in\n•\tIsiZulu HL 50% \n•\tEnglish FAL 50%\n•\tMathematics 50%"},{"$f":"_xlfn.XLOOKUP(B255,'Programmes lists'!B:B,'Programmes lists'!F:F,\"Not found\")","v":532}]
["Intermediate Phase","Specialising in Mathematics, Natural Science & Technology and isiZulu Home Language","EALT1508",{"$f":"_xlfn.XLOOKUP(C256,'RAW module list'!A:A,'RAW module list'!B:B, \"Not found\")","v":"English Academic Literacy for Education "},{"$f":"_xlfn.XLOOKUP(C256,'RAW module list'!A:A,'RAW module list'!C:C, \"Not found\")","v":5},{"$f":"_xlfn.XLOOKUP(C256,'RAW module list'!A:A,'RAW module list'!D:D, \"Not found\")","v":-32},{"$f":"_xlfn.XLOOKUP(C256,'RAW module list'!A:A,'RAW module list'!E:E, \"Not found\")","v":"NBT requirements not met"},"First Year",{"$f":"_xlfn.XLOOKUP(B256,'Programmes lists'!B:B,'Programmes lists'!D:D)","v":0},{"$f":"_xlfn.XLOOKUP(B256,'Programmes lists'!B:B,'Programmes lists'!E:E, \"Not found\")","v":"QC735794"},{"$f":"_xlfn.XLOOKUP(B256,'Programmes lists'!B:B,'Programmes lists'!G:G,\"Not found\")","v":"Minimum grade 12 pass in\n•\tIsiZulu HL 50% \n•\tEnglish FAL 50%\n•\tMathematics 50%"},{"$f":"_xlfn.XLOOKUP(B256,'Programmes lists'!B:B,'Programmes lists'!F:F,\"Not found\")","v":532}]
["Intermediate Phase","Specialising in Mathematics, Natural Science & Technology and isiZulu Home Language","MTHI1624",{"$f":"_xlfn.XLOOKUP(C257,'RAW module list'!A:A,'RAW module list'!B:B, \"Not found\")","v":"Mathematics: total surface area and volume"},{"$f":"_xlfn.XLOOKUP(C257,'RAW module list'!A:A,'RAW module list'!C:C, \"Not found\")","v":6},{"$f":"_xlfn.XLOOKUP(C257,'RAW module list'!A:A,'RAW module list'!D:D, \"Not found\")","v":16},{"$f":"_xlfn.XLOOKUP(C257,'RAW module list'!A:A,'RAW module list'!E:E, \"Not found\")","v":"Mathematics at NSC level 4 (50%) pass"},"First Year",{"$f":"_xlfn.XLOOKUP(B257,'Programmes lists'!B:B,'Programmes lists'!D:D)","v":0},{"$f":"_xlfn.XLOOKUP(B257,'Programmes lists'!B:B,'Programmes lists'!E:E, \"Not found\")","v":"QC735794"},{"$f":"_xlfn.XLOOKUP(B257,'Programmes lists'!B:B,'Programmes lists'!G:G,\"Not found\")","v":"Minimum grade 12 pass in\n•\tIsiZulu HL 50% \n•\tEnglish FAL 50%\n•\tMathematics 50%"},{"$f":"_xlfn.XLOOKUP(B257,'Programmes lists'!B:B,'Programmes lists'!F:F,\"Not found\")","v":532}]
["Intermediate Phase","Specialising in Mathematics, Natural Science & Technology and isiZulu Home Language","EDUB1623",{"$f":"_xlfn.XLOOKUP(C258,'RAW module list'!A:A,'RAW module list'!B:B, \"Not found\")","v":"Education Studies 1.2 What it means to educate: Theoretical perspectives and their significance for SA education"},{"$f":"_xlfn.XLOOKUP(C258,'RAW module list'!A:A,'RAW module list'!C:C, \"Not found\")","v":6},{"$f":"_xlfn.XLOOKUP(C258,'RAW module list'!A:A,'RAW module list'!D:D, \"Not found\")","v":12},{"$f":"_xlfn.XLOOKUP(C258,'RAW module list'!A:A,'RAW module list'!E:E, \"Not found\")","v":0},"First Year",{"$f":"_xlfn.XLOOKUP(B258,'Programmes lists'!B:B,'Programmes lists'!D:D)","v":0},{"$f":"_xlfn.XLOOKUP(B258,'Programmes lists'!B:B,'Programmes lists'!E:E, \"Not found\")","v":"QC735794"},{"$f":"_xlfn.XLOOKUP(B258,'Programmes lists'!B:B,'Programmes lists'!G:G,\"Not found\")","v":"Minimum grade 12 pass in\n•\tIsiZulu HL 50% \n•\tEnglish FAL 50%\n•\tMathematics 50%"},{"$f":"_xlfn.XLOOKUP(B258,'Programmes lists'!B:B,'Programmes lists'!F:F,\"Not found\")","v":532}]
["Intermediate Phase","Specialising in Mathematics, Natural Science & Technology and isiZulu Home Language","GPED1623",{"$f":"_xlfn.XLOOKUP(C259,'RAW module list'!A:A,'RAW module list'!B:B, \"Not found\")","v":"General Pedagogy 1: Managing the Curriculum"},{"$f":"_xlfn.XLOOKUP(C259,'RAW module list'!A:A,'RAW module list'!C:C, \"Not found\")","v":6},{"$f":"_xlfn.XLOOKUP(C259,'RAW module list'!A:A,'RAW module list'!D:D, \"Not found\")","v":12},{"$f":"_xlfn.XLOOKUP(C259,'RAW module list'!A:A,'RAW module list'!E:E, \"Not found\")","v":0},"First Year",{"$f":"_xlfn.XLOOKUP(B259,'Programmes lists'!B:B,'Programmes lists'!D:D)","v":0},{"$f":"_xlfn.XLOOKUP(B259,'Programmes lists'!B:B,'Programmes lists'!E:E, \"Not found\")","v":"QC735794"},{"$f":"_xlfn.XLOOKUP(B259,'Programmes lists'!B:B,'Programmes lists'!G:G,\"Not found\")","v":"Minimum grade 12 pass in\n•\tIsiZulu HL 50% \n•\tEnglish FAL 50%\n•\tMathematics 50%"},{"$f":"_xlfn.XLOOKUP(B259,'Programmes lists'!B:B,'Programmes lists'!F:F,\"Not found\")","v":532}]
["Intermediate Phase","Specialising in Mathematics, Natural Science & Technology and isiZulu Home Language","NSTC2614",{"$f":"_xlfn.XLOOKUP(C260,'RAW module list'!A:A,'RAW module list'!B:B, \"Not found\")","v":"Elementary Natural Sciences and Technology"},{"$f":"_xlfn.XLOOKUP(C260,'RAW module list'!A:A,'RAW module list'!C:C, \"Not found\")","v":6},{"$f":"_xlfn.XLOOKUP(C260,'RAW module list'!A:A,'RAW module list'!D:D, \"Not found\")","v":16},{"$f":"_xlfn.XLOOKUP(C260,'RAW module list'!A:A,'RAW module list'!E:E, \"Not found\")","v":0},"Second Year",{"$f":"_xlfn.XLOOKUP(B260,'Programmes lists'!B:B,'Programmes lists'!D:D)","v":0},{"$f":"_xlfn.XLOOKUP(B260,'Programmes lists'!B:B,'Programmes lists'!E:E, \"Not found\")","v":"QC735794"},{"$f":"_xlfn.XLOOKUP(B260,'Programmes lists'!B:B,'Programmes lists'!G:G,\"Not found\")","v":"Minimum grade 12 pass in\n•\tIsiZulu HL 50% \n•\tEnglish FAL 50%\n•\tMathematics 50%"},{"$f":"_xlfn.XLOOKUP(B260,'Programmes lists'!B:B,'Programmes lists'!F:F,\"Not found\")","v":532}]
["Intermediate Phase","Specialising in Mathematics, Natural Science & Technology and isiZulu Home Language","ZULL1514",{"$f":"_xlfn.XLOOKUP(C261,'RAW module list'!A:A,'RAW module list'!B:B, \"Not found\")","v":"IsiZulu: Introduction to Linguistics"},{"$f":"_xlfn.XLOOKUP(C261,'RAW module list'!A:A,'RAW module list'!C:C, \"Not found\")","v":5},{"$f":"_xlfn.XLOOKUP(C261,'RAW module list'!A:A,'RAW module list'!D:D, \"Not found\")","v":16},{"$f":"_xlfn.XLOOKUP(C261,'RAW module list'!A:A,'RAW module list'!E:E, \"Not found\")","v":0},"Second Year",{"$f":"_xlfn.XLOOKUP(B261,'Programmes lists'!B:B,'Programmes lists'!D:D)","v":0},{"$f":"_xlfn.XLOOKUP(B261,'Programmes lists'!B:B,'Programmes lists'!E:E, \"Not found\")","v":"QC735794"},{"$f":"_xlfn.XLOOKUP(B261,'Programmes lists'!B:B,'Programmes lists'!G:G,\"Not found\")","v":"Minimum grade 12 pass in\n•\tIsiZulu HL 50% \n•\tEnglish FAL 50%\n•\tMathematics 50%"},{"$f":"_xlfn.XLOOKUP(B261,'Programmes lists'!B:B,'Programmes lists'!F:F,\"Not found\")","v":532}]
["Intermediate Phase","Specialising in Mathematics, Natural Science & Technology and isiZulu Home Language","MTBI2503",{"$f":"_xlfn.XLOOKUP(C262,'RAW module list'!A:A,'RAW module list'!B:B, \"Not found\")","v":"Basic Mathematics "},{"$f":"_xlfn.XLOOKUP(C262,'RAW module list'!A:A,'RAW module list'!C:C, \"Not found\")","v":5},{"$f":"_xlfn.XLOOKUP(C262,'RAW module list'!A:A,'RAW module list'!D:D, \"Not found\")","v":12},{"$f":"_xlfn.XLOOKUP(C262,'RAW module list'!A:A,'RAW module list'!E:E, \"Not found\")","v":0},"Second Year",{"$f":"_xlfn.XLOOKUP(B262,'Programmes lists'!B:B,'Programmes lists'!D:D)","v":0},{"$f":"_xlfn.XLOOKUP(B262,'Programmes lists'!B:B,'Programmes lists'!E:E, \"Not found\")","v":"QC735794"},{"$f":"_xlfn.XLOOKUP(B262,'Programmes lists'!B:B,'Programmes lists'!G:G,\"Not found\")","v":"Minimum grade 12 pass in\n•\tIsiZulu HL 50% \n•\tEnglish FAL 50%\n•\tMathematics 50%"},{"$f":"_xlfn.XLOOKUP(B262,'Programmes lists'!B:B,'Programmes lists'!F:F,\"Not found\")","v":532}]
["Intermediate Phase","Specialising in Mathematics, Natural Science & Technology and isiZulu Home Language","EDUB2714",{"$f":"_xlfn.XLOOKUP(C263,'RAW module list'!A:A,'RAW module list'!B:B, \"Not found\")","v":"Education Studies 2: Teaching and Learning in Education Context"},{"$f":"_xlfn.XLOOKUP(C263,'RAW module list'!A:A,'RAW module list'!C:C, \"Not found\")","v":7},{"$f":"_xlfn.XLOOKUP(C263,'RAW module list'!A:A,'RAW module list'!D:D, \"Not found\")","v":16},{"$f":"_xlfn.XLOOKUP(C263,'RAW module list'!A:A,'RAW module list'!E:E, \"Not found\")","v":"EDUB1613 & EDUB1623"},"Second Year",{"$f":"_xlfn.XLOOKUP(B263,'Programmes lists'!B:B,'Programmes lists'!D:D)","v":0},{"$f":"_xlfn.XLOOKUP(B263,'Programmes lists'!B:B,'Programmes lists'!E:E, \"Not found\")","v":"QC735794"},{"$f":"_xlfn.XLOOKUP(B263,'Programmes lists'!B:B,'Programmes lists'!G:G,\"Not found\")","v":"Minimum grade 12 pass in\n•\tIsiZulu HL 50% \n•\tEnglish FAL 50%\n•\tMathematics 50%"},{"$f":"_xlfn.XLOOKUP(B263,'Programmes lists'!B:B,'Programmes lists'!F:F,\"Not found\")","v":532}]
["Intermediate Phase","Specialising in Mathematics, Natural Science & Technology and isiZulu Home Language","GPED2613",{"$f":"_xlfn.XLOOKUP(C264,'RAW module list'!A:A,'RAW module list'!B:B, \"Not found\")","v":"General Pedagogy 2.1"},{"$f":"_xlfn.XLOOKUP(C264,'RAW module list'!A:A,'RAW module list'!C:C, \"Not found\")","v":6},{"$f":"_xlfn.XLOOKUP(C264,'RAW module list'!A:A,'RAW module list'!D:D, \"Not found\")","v":12},{"$f":"_xlfn.XLOOKUP(C264,'RAW module list'!A:A,'RAW module list'!E:E, \"Not found\")","v":"GPED1623"},"Second Year",{"$f":"_xlfn.XLOOKUP(B264,'Programmes lists'!B:B,'Programmes lists'!D:D)","v":0},{"$f":"_xlfn.XLOOKUP(B264,'Programmes lists'!B:B,'Programmes lists'!E:E, \"Not found\")","v":"QC735794"},{"$f":"_xlfn.XLOOKUP(B264,'Programmes lists'!B:B,'Programmes lists'!G:G,\"Not found\")","v":"Minimum grade 12 pass in\n•\tIsiZulu HL 50% \n•\tEnglish FAL 50%\n•\tMathematics 50%"},{"$f":"_xlfn.XLOOKUP(B264,'Programmes lists'!B:B,'Programmes lists'!F:F,\"Not found\")","v":532}]
["Intermediate Phase","Specialising in Mathematics, Natural Science & Technology and isiZulu Home Language","TPRI2502",{"$f":"_xlfn.XLOOKUP(C265,'RAW module list'!A:A,'RAW module list'!B:B, \"Not found\")","v":"Teaching Practice 2 "},{"$f":"_xlfn.XLOOKUP(C265,'RAW module list'!A:A,'RAW module list'!C:C, \"Not found\")","v":5},{"$f":"_xlfn.XLOOKUP(C265,'RAW module list'!A:A,'RAW module list'!D:D, \"Not found\")","v":8},{"$f":"_xlfn.XLOOKUP(C265,'RAW module list'!A:A,'RAW module list'!E:E, \"Not found\")","v":"TPRI1502"},"Second Year",{"$f":"_xlfn.XLOOKUP(B265,'Programmes lists'!B:B,'Programmes lists'!D:D)","v":0},{"$f":"_xlfn.XLOOKUP(B265,'Programmes lists'!B:B,'Programmes lists'!E:E, \"Not found\")","v":"QC735794"},{"$f":"_xlfn.XLOOKUP(B265,'Programmes lists'!B:B,'Programmes lists'!G:G,\"Not found\")","v":"Minimum grade 12 pass in\n•\tIsiZulu HL 50% \n•\tEnglish FAL 50%\n•\tMathematics 50%"},{"$f":"_xlfn.XLOOKUP(B265,'Programmes lists'!B:B,'Programmes lists'!F:F,\"Not found\")","v":532}]
["Intermediate Phase","Specialising in Mathematics, Natural Science & Technology and isiZulu Home Language","NSTC2624",{"$f":"_xlfn.XLOOKUP(C266,'RAW module list'!A:A,'RAW module list'!B:B, \"Not found\")","v":"Elementary Natural Science and Technology"},{"$f":"_xlfn.XLOOKUP(C266,'RAW module list'!A:A,'RAW module list'!C:C, \"Not found\")","v":6},{"$f":"_xlfn.XLOOKUP(C266,'RAW module list'!A:A,'RAW module list'!D:D, \"Not found\")","v":16},{"$f":"_xlfn.XLOOKUP(C266,'RAW module list'!A:A,'RAW module list'!E:E, \"Not found\")","v":"NSTC2614"},"Second Year",{"$f":"_xlfn.XLOOKUP(B266,'Programmes lists'!B:B,'Programmes lists'!D:D)","v":0},{"$f":"_xlfn.XLOOKUP(B266,'Programmes lists'!B:B,'Programmes lists'!E:E, \"Not found\")","v":"QC735794"},{"$f":"_xlfn.XLOOKUP(B266,'Programmes lists'!B:B,'Programmes lists'!G:G,\"Not found\")","v":"Minimum grade 12 pass in\n•\tIsiZulu HL 50% \n•\tEnglish FAL 50%\n•\tMathematics 50%"},{"$f":"_xlfn.XLOOKUP(B266,'Programmes lists'!B:B,'Programmes lists'!F:F,\"Not found\")","v":532}]
["Intermediate Phase","Specialising in Mathematics, Natural Science & Technology and isiZulu Home Language","ZULT1524",{"$f":"_xlfn.XLOOKUP(C267,'RAW module list'!A:A,'RAW module list'!B:B, \"Not found\")","v":"IsiZulu: Introduction to Literature"},{"$f":"_xlfn.XLOOKUP(C267,'RAW module list'!A:A,'RAW module list'!C:C, \"Not found\")","v":6},{"$f":"_xlfn.XLOOKUP(C267,'RAW module list'!A:A,'RAW module list'!D:D, \"Not found\")","v":16},{"$f":"_xlfn.XLOOKUP(C267,'RAW module list'!A:A,'RAW module list'!E:E, \"Not found\")","v":"ZULL1514"},"Second Year",{"$f":"_xlfn.XLOOKUP(B267,'Programmes lists'!B:B,'Programmes lists'!D:D)","v":0},{"$f":"_xlfn.XLOOKUP(B267,'Programmes lists'!B:B,'Programmes lists'!E:E, \"Not found\")","v":"QC735794"},{"$f":"_xlfn.XLOOKUP(B267,'Programmes lists'!B:B,'Programmes lists'!G:G,\"Not found\")","v":"Minimum grade 12 pass in\n•\tIsiZulu HL 50% \n•\tEnglish FAL 50%\n•\tMathematics 50%"},{"$f":"_xlfn.XLOOKUP(B267,'Programmes lists'!B:B,'Programmes lists'!F:F,\"Not found\")","v":532}]
["Intermediate Phase","Specialising in Mathematics, Natural Science & Technology and isiZulu Home Language","EDUB2724",{"$f":"_xlfn.XLOOKUP(C268,'RAW module list'!A:A,'RAW module list'!B:B, \"Not found\")","v":"Education Studies 2: Human Relationships in Education context"},{"$f":"_xlfn.XLOOKUP(C268,'RAW module list'!A:A,'RAW module list'!C:C, \"Not found\")","v":7},{"$f":"_xlfn.XLOOKUP(C268,'RAW module list'!A:A,'RAW module list'!D:D, \"Not found\")","v":16},{"$f":"_xlfn.XLOOKUP(C268,'RAW module list'!A:A,'RAW module list'!E:E, \"Not found\")","v":"EDUB2714"},"Second Year",{"$f":"_xlfn.XLOOKUP(B268,'Programmes lists'!B:B,'Programmes lists'!D:D)","v":0},{"$f":"_xlfn.XLOOKUP(B268,'Programmes lists'!B:B,'Programmes lists'!E:E, \"Not found\")","v":"QC735794"},{"$f":"_xlfn.XLOOKUP(B268,'Programmes lists'!B:B,'Programmes lists'!G:G,\"Not found\")","v":"Minimum grade 12 pass in\n•\tIsiZulu HL 50% \n•\tEnglish FAL 50%\n•\tMathematics 50%"},{"$f":"_xlfn.XLOOKUP(B268,'Programmes lists'!B:B,'Programmes lists'!F:F,\"Not found\")","v":532}]
["Intermediate Phase","Specialising in Mathematics, Natural Science & Technology and isiZulu Home Language","GPED2623",{"$f":"_xlfn.XLOOKUP(C269,'RAW module list'!A:A,'RAW module list'!B:B, \"Not found\")","v":"General Pedagogy 2.2: Assessment"},{"$f":"_xlfn.XLOOKUP(C269,'RAW module list'!A:A,'RAW module list'!C:C, \"Not found\")","v":6},{"$f":"_xlfn.XLOOKUP(C269,'RAW module list'!A:A,'RAW module list'!D:D, \"Not found\")","v":12},{"$f":"_xlfn.XLOOKUP(C269,'RAW module list'!A:A,'RAW module list'!E:E, \"Not found\")","v":"GPED2613"},"Second Year",{"$f":"_xlfn.XLOOKUP(B269,'Programmes lists'!B:B,'Programmes lists'!D:D)","v":0},{"$f":"_xlfn.XLOOKUP(B269,'Programmes lists'!B:B,'Programmes lists'!E:E, \"Not found\")","v":"QC735794"},{"$f":"_xlfn.XLOOKUP(B269,'Programmes lists'!B:B,'Programmes lists'!G:G,\"Not found\")","v":"Minimum grade 12 pass in\n•\tIsiZulu HL 50% \n•\tEnglish FAL 50%\n•\tMathematics 50%"},{"$f":"_xlfn.XLOOKUP(B269,'Programmes lists'!B:B,'Programmes lists'!F:F,\"Not found\")","v":532}]
["Intermediate Phase","Specialising in Mathematics, Natural Science & Technology and isiZulu Home Language","NTTI3604",{"$f":"_xlfn.XLOOKUP(C270,'RAW module list'!A:A,'RAW module list'!B:B, \"Not found\")","v":"Natural Sciences and Technology Teaching 1 "},{"$f":"_xlfn.XLOOKUP(C270,'RAW module list'!A:A,'RAW module list'!C:C, \"Not found\")","v":6},{"$f":"_xlfn.XLOOKUP(C270,'RAW module list'!A:A,'RAW module list'!D:D, \"Not found\")","v":16},{"$f":"_xlfn.XLOOKUP(C270,'RAW module list'!A:A,'RAW module list'!E:E, \"Not found\")","v":"NSTC2614 & NSTC2624"},"Third Year",{"$f":"_xlfn.XLOOKUP(B270,'Programmes lists'!B:B,'Programmes lists'!D:D)","v":0},{"$f":"_xlfn.XLOOKUP(B270,'Programmes lists'!B:B,'Programmes lists'!E:E, \"Not found\")","v":"QC735794"},{"$f":"_xlfn.XLOOKUP(B270,'Programmes lists'!B:B,'Programmes lists'!G:G,\"Not found\")","v":"Minimum grade 12 pass in\n•\tIsiZulu HL 50% \n•\tEnglish FAL 50%\n•\tMathematics 50%"},{"$f":"_xlfn.XLOOKUP(B270,'Programmes lists'!B:B,'Programmes lists'!F:F,\"Not found\")","v":532}]
["Intermediate Phase","Specialising in Mathematics, Natural Science & Technology and isiZulu Home Language","MTTI3604",{"$f":"_xlfn.XLOOKUP(C271,'RAW module list'!A:A,'RAW module list'!B:B, \"Not found\")","v":"Teaching Mathematics 1"},{"$f":"_xlfn.XLOOKUP(C271,'RAW module list'!A:A,'RAW module list'!C:C, \"Not found\")","v":6},{"$f":"_xlfn.XLOOKUP(C271,'RAW module list'!A:A,'RAW module list'!D:D, \"Not found\")","v":16},{"$f":"_xlfn.XLOOKUP(C271,'RAW module list'!A:A,'RAW module list'!E:E, \"Not found\")","v":"MTHI1614 & MTHI1624"},"Third Year",{"$f":"_xlfn.XLOOKUP(B271,'Programmes lists'!B:B,'Programmes lists'!D:D)","v":0},{"$f":"_xlfn.XLOOKUP(B271,'Programmes lists'!B:B,'Programmes lists'!E:E, \"Not found\")","v":"QC735794"},{"$f":"_xlfn.XLOOKUP(B271,'Programmes lists'!B:B,'Programmes lists'!G:G,\"Not found\")","v":"Minimum grade 12 pass in\n•\tIsiZulu HL 50% \n•\tEnglish FAL 50%\n•\tMathematics 50%"},{"$f":"_xlfn.XLOOKUP(B271,'Programmes lists'!B:B,'Programmes lists'!F:F,\"Not found\")","v":532}]
["Intermediate Phase","Specialising in Mathematics, Natural Science & Technology and isiZulu Home Language","ZHTI3604",{"$f":"_xlfn.XLOOKUP(C272,'RAW module list'!A:A,'RAW module list'!B:B, \"Not found\")","v":"IsiZulu Teaching 1 Home Language"},{"$f":"_xlfn.XLOOKUP(C272,'RAW module list'!A:A,'RAW module list'!C:C, \"Not found\")","v":6},{"$f":"_xlfn.XLOOKUP(C272,'RAW module list'!A:A,'RAW module list'!D:D, \"Not found\")","v":16},{"$f":"_xlfn.XLOOKUP(C272,'RAW module list'!A:A,'RAW module list'!E:E, \"Not found\")","v":"ZULL1514 & ZULT1524"},"Third Year",{"$f":"_xlfn.XLOOKUP(B272,'Programmes lists'!B:B,'Programmes lists'!D:D)","v":0},{"$f":"_xlfn.XLOOKUP(B272,'Programmes lists'!B:B,'Programmes lists'!E:E, \"Not found\")","v":"QC735794"},{"$f":"_xlfn.XLOOKUP(B272,'Programmes lists'!B:B,'Programmes lists'!G:G,\"Not found\")","v":"Minimum grade 12 pass in\n•\tIsiZulu HL 50% \n•\tEnglish FAL 50%\n•\tMathematics 50%"},{"$f":"_xlfn.XLOOKUP(B272,'Programmes lists'!B:B,'Programmes lists'!F:F,\"Not found\")","v":532}]
["Intermediate Phase","Specialising in Mathematics, Natural Science & Technology and isiZulu Home Language","EATI3604",{"$f":"_xlfn.XLOOKUP(C273,'RAW module list'!A:A,'RAW module list'!B:B, \"Not found\")","v":"English additional language teaching 1"},{"$f":"_xlfn.XLOOKUP(C273,'RAW module list'!A:A,'RAW module list'!C:C, \"Not found\")","v":6},{"$f":"_xlfn.XLOOKUP(C273,'RAW module list'!A:A,'RAW module list'!D:D, \"Not found\")","v":16},{"$f":"_xlfn.XLOOKUP(C273,'RAW module list'!A:A,'RAW module list'!E:E, \"Not found\")","v":"ENGE1608"},"Third Year",{"$f":"_xlfn.XLOOKUP(B273,'Programmes lists'!B:B,'Programmes lists'!D:D)","v":0},{"$f":"_xlfn.XLOOKUP(B273,'Programmes lists'!B:B,'Programmes lists'!E:E, \"Not found\")","v":"QC735794"},{"$f":"_xlfn.XLOOKUP(B273,'Programmes lists'!B:B,'Programmes lists'!G:G,\"Not found\")","v":"Minimum grade 12 pass in\n•\tIsiZulu HL 50% \n•\tEnglish FAL 50%\n•\tMathematics 50%"},{"$f":"_xlfn.XLOOKUP(B273,'Programmes lists'!B:B,'Programmes lists'!F:F,\"Not found\")","v":532}]
["Intermediate Phase","Specialising in Mathematics, Natural Science & Technology and isiZulu Home Language","CURM3502",{"$f":"_xlfn.XLOOKUP(C274,'RAW module list'!A:A,'RAW module list'!B:B, \"Not found\")","v":"Intermediate Phase School Curriculum 1"},{"$f":"_xlfn.XLOOKUP(C274,'RAW module list'!A:A,'RAW module list'!C:C, \"Not found\")","v":5},{"$f":"_xlfn.XLOOKUP(C274,'RAW module list'!A:A,'RAW module list'!D:D, \"Not found\")","v":8},{"$f":"_xlfn.XLOOKUP(C274,'RAW module list'!A:A,'RAW module list'!E:E, \"Not found\")","v":0},"Third Year",{"$f":"_xlfn.XLOOKUP(B274,'Programmes lists'!B:B,'Programmes lists'!D:D)","v":0},{"$f":"_xlfn.XLOOKUP(B274,'Programmes lists'!B:B,'Programmes lists'!E:E, \"Not found\")","v":"QC735794"},{"$f":"_xlfn.XLOOKUP(B274,'Programmes lists'!B:B,'Programmes lists'!G:G,\"Not found\")","v":"Minimum grade 12 pass in\n•\tIsiZulu HL 50% \n•\tEnglish FAL 50%\n•\tMathematics 50%"},{"$f":"_xlfn.XLOOKUP(B274,'Programmes lists'!B:B,'Programmes lists'!F:F,\"Not found\")","v":532}]
["Intermediate Phase","Specialising in Mathematics, Natural Science & Technology and isiZulu Home Language","EDUB3714",{"$f":"_xlfn.XLOOKUP(C275,'RAW module list'!A:A,'RAW module list'!B:B, \"Not found\")","v":"Education Studies 3.1 Education systems in global and national context"},{"$f":"_xlfn.XLOOKUP(C275,'RAW module list'!A:A,'RAW module list'!C:C, \"Not found\")","v":7},{"$f":"_xlfn.XLOOKUP(C275,'RAW module list'!A:A,'RAW module list'!D:D, \"Not found\")","v":16},{"$f":"_xlfn.XLOOKUP(C275,'RAW module list'!A:A,'RAW module list'!E:E, \"Not found\")","v":"EDUB1613 & EDUB1623& EDUB2714 & EDUB2724"},"Third Year",{"$f":"_xlfn.XLOOKUP(B275,'Programmes lists'!B:B,'Programmes lists'!D:D)","v":0},{"$f":"_xlfn.XLOOKUP(B275,'Programmes lists'!B:B,'Programmes lists'!E:E, \"Not found\")","v":"QC735794"},{"$f":"_xlfn.XLOOKUP(B275,'Programmes lists'!B:B,'Programmes lists'!G:G,\"Not found\")","v":"Minimum grade 12 pass in\n•\tIsiZulu HL 50% \n•\tEnglish FAL 50%\n•\tMathematics 50%"},{"$f":"_xlfn.XLOOKUP(B275,'Programmes lists'!B:B,'Programmes lists'!F:F,\"Not found\")","v":532}]
["Intermediate Phase","Specialising in Mathematics, Natural Science & Technology and isiZulu Home Language","SICL3512 OR SSCL3512 OR GAFR3512",{"$f":"_xlfn.XLOOKUP(C276,'RAW module list'!A:A,'RAW module list'!B:B, \"Not found\")","v":"Conversational Sign Language OR Conversational Sesotho OR Conversational Afrikaans"},{"$f":"_xlfn.XLOOKUP(C276,'RAW module list'!A:A,'RAW module list'!C:C, \"Not found\")","v":5},{"$f":"_xlfn.XLOOKUP(C276,'RAW module list'!A:A,'RAW module list'!D:D, \"Not found\")","v":8},{"$f":"_xlfn.XLOOKUP(C276,'RAW module list'!A:A,'RAW module list'!E:E, \"Not found\")","v":"No previous exposure to the language"},"Third Year",{"$f":"_xlfn.XLOOKUP(B276,'Programmes lists'!B:B,'Programmes lists'!D:D)","v":0},{"$f":"_xlfn.XLOOKUP(B276,'Programmes lists'!B:B,'Programmes lists'!E:E, \"Not found\")","v":"QC735794"},{"$f":"_xlfn.XLOOKUP(B276,'Programmes lists'!B:B,'Programmes lists'!G:G,\"Not found\")","v":"Minimum grade 12 pass in\n•\tIsiZulu HL 50% \n•\tEnglish FAL 50%\n•\tMathematics 50%"},{"$f":"_xlfn.XLOOKUP(B276,'Programmes lists'!B:B,'Programmes lists'!F:F,\"Not found\")","v":532}]
["Intermediate Phase","Specialising in Mathematics, Natural Science & Technology and isiZulu Home Language","WILI3606",{"$f":"_xlfn.XLOOKUP(C277,'RAW module list'!A:A,'RAW module list'!B:B, \"Not found\")","v":"Teaching Practice 3"},{"$f":"_xlfn.XLOOKUP(C277,'RAW module list'!A:A,'RAW module list'!C:C, \"Not found\")","v":6},{"$f":"_xlfn.XLOOKUP(C277,'RAW module list'!A:A,'RAW module list'!D:D, \"Not found\")","v":24},{"$f":"_xlfn.XLOOKUP(C277,'RAW module list'!A:A,'RAW module list'!E:E, \"Not found\")","v":"TPRI2502"},"Third Year",{"$f":"_xlfn.XLOOKUP(B277,'Programmes lists'!B:B,'Programmes lists'!D:D)","v":0},{"$f":"_xlfn.XLOOKUP(B277,'Programmes lists'!B:B,'Programmes lists'!E:E, \"Not found\")","v":"QC735794"},{"$f":"_xlfn.XLOOKUP(B277,'Programmes lists'!B:B,'Programmes lists'!G:G,\"Not found\")","v":"Minimum grade 12 pass in\n•\tIsiZulu HL 50% \n•\tEnglish FAL 50%\n•\tMathematics 50%"},{"$f":"_xlfn.XLOOKUP(B277,'Programmes lists'!B:B,'Programmes lists'!F:F,\"Not found\")","v":532}]
["Intermediate Phase","Specialising in Mathematics, Natural Science & Technology and isiZulu Home Language","EDUB3724",{"$f":"_xlfn.XLOOKUP(C278,'RAW module list'!A:A,'RAW module list'!B:B, \"Not found\")","v":"Education Studies 3.2: Contemporary Education Theory in the current social context"},{"$f":"_xlfn.XLOOKUP(C278,'RAW module list'!A:A,'RAW module list'!C:C, \"Not found\")","v":7},{"$f":"_xlfn.XLOOKUP(C278,'RAW module list'!A:A,'RAW module list'!D:D, \"Not found\")","v":16},{"$f":"_xlfn.XLOOKUP(C278,'RAW module list'!A:A,'RAW module list'!E:E, \"Not found\")","v":"EDUB1613 & EDUB1623 & EDUB2714 & EDUB2724 & EDUB3714"},"Third Year",{"$f":"_xlfn.XLOOKUP(B278,'Programmes lists'!B:B,'Programmes lists'!D:D)","v":0},{"$f":"_xlfn.XLOOKUP(B278,'Programmes lists'!B:B,'Programmes lists'!E:E, \"Not found\")","v":"QC735794"},{"$f":"_xlfn.XLOOKUP(B278,'Programmes lists'!B:B,'Programmes lists'!G:G,\"Not found\")","v":"Minimum grade 12 pass in\n•\tIsiZulu HL 50% \n•\tEnglish FAL 50%\n•\tMathematics 50%"},{"$f":"_xlfn.XLOOKUP(B278,'Programmes lists'!B:B,'Programmes lists'!F:F,\"Not found\")","v":532}]
["Intermediate Phase","Specialising in Mathematics, Natural Science & Technology and isiZulu Home Language","SICL3522 OR SCCL3522 OR GAFR3522",{"$f":"_xlfn.XLOOKUP(C279,'RAW module list'!A:A,'RAW module list'!B:B, \"Not found\")","v":"Conversational Sign Language OR Conversational Sesotho OR Conversational Afrikaans"},{"$f":"_xlfn.XLOOKUP(C279,'RAW module list'!A:A,'RAW module list'!C:C, \"Not found\")","v":5},{"$f":"_xlfn.XLOOKUP(C279,'RAW module list'!A:A,'RAW module list'!D:D, \"Not found\")","v":8},{"$f":"_xlfn.XLOOKUP(C279,'RAW module list'!A:A,'RAW module list'!E:E, \"Not found\")","v":"Continue with the conversational language chosen in Semester 1"},"Third Year",{"$f":"_xlfn.XLOOKUP(B279,'Programmes lists'!B:B,'Programmes lists'!D:D)","v":0},{"$f":"_xlfn.XLOOKUP(B279,'Programmes lists'!B:B,'Programmes lists'!E:E, \"Not found\")","v":"QC735794"},{"$f":"_xlfn.XLOOKUP(B279,'Programmes lists'!B:B,'Programmes lists'!G:G,\"Not found\")","v":"Minimum grade 12 pass in\n•\tIsiZulu HL 50% \n•\tEnglish FAL 50%\n•\tMathematics 50%"},{"$f":"_xlfn.XLOOKUP(B279,'Programmes lists'!B:B,'Programmes lists'!F:F,\"Not found\")","v":532}]
["Intermediate Phase","Specialising in Mathematics, Natural Science & Technology and isiZulu Home Language","NTTI4705",{"$f":"_xlfn.XLOOKUP(C280,'RAW module list'!A:A,'RAW module list'!B:B, \"Not found\")","v":"Natural Sciences and Technology Teaching  2"},{"$f":"_xlfn.XLOOKUP(C280,'RAW module list'!A:A,'RAW module list'!C:C, \"Not found\")","v":7},{"$f":"_xlfn.XLOOKUP(C280,'RAW module list'!A:A,'RAW module list'!D:D, \"Not found\")","v":20},{"$f":"_xlfn.XLOOKUP(C280,'RAW module list'!A:A,'RAW module list'!E:E, \"Not found\")","v":"NTTI3604"},"Fourth Year",{"$f":"_xlfn.XLOOKUP(B280,'Programmes lists'!B:B,'Programmes lists'!D:D)","v":0},{"$f":"_xlfn.XLOOKUP(B280,'Programmes lists'!B:B,'Programmes lists'!E:E, \"Not found\")","v":"QC735794"},{"$f":"_xlfn.XLOOKUP(B280,'Programmes lists'!B:B,'Programmes lists'!G:G,\"Not found\")","v":"Minimum grade 12 pass in\n•\tIsiZulu HL 50% \n•\tEnglish FAL 50%\n•\tMathematics 50%"},{"$f":"_xlfn.XLOOKUP(B280,'Programmes lists'!B:B,'Programmes lists'!F:F,\"Not found\")","v":532}]
["Intermediate Phase","Specialising in Mathematics, Natural Science & Technology and isiZulu Home Language","MTTI4705",{"$f":"_xlfn.XLOOKUP(C281,'RAW module list'!A:A,'RAW module list'!B:B, \"Not found\")","v":"Mathematics teaching 2"},{"$f":"_xlfn.XLOOKUP(C281,'RAW module list'!A:A,'RAW module list'!C:C, \"Not found\")","v":7},{"$f":"_xlfn.XLOOKUP(C281,'RAW module list'!A:A,'RAW module list'!D:D, \"Not found\")","v":20},{"$f":"_xlfn.XLOOKUP(C281,'RAW module list'!A:A,'RAW module list'!E:E, \"Not found\")","v":"MTTI3604"},"Fourth Year",{"$f":"_xlfn.XLOOKUP(B281,'Programmes lists'!B:B,'Programmes lists'!D:D)","v":0},{"$f":"_xlfn.XLOOKUP(B281,'Programmes lists'!B:B,'Programmes lists'!E:E, \"Not found\")","v":"QC735794"},{"$f":"_xlfn.XLOOKUP(B281,'Programmes lists'!B:B,'Programmes lists'!G:G,\"Not found\")","v":"Minimum grade 12 pass in\n•\tIsiZulu HL 50% \n•\tEnglish FAL 50%\n•\tMathematics 50%"},{"$f":"_xlfn.XLOOKUP(B281,'Programmes lists'!B:B,'Programmes lists'!F:F,\"Not found\")","v":532}]
["Intermediate Phase","Specialising in Mathematics, Natural Science & Technology and isiZulu Home Language","ZHTI4705",{"$f":"_xlfn.XLOOKUP(C282,'RAW module list'!A:A,'RAW module list'!B:B, \"Not found\")","v":"IsiZulu Teaching 2 (Home Language)"},{"$f":"_xlfn.XLOOKUP(C282,'RAW module list'!A:A,'RAW module list'!C:C, \"Not found\")","v":7},{"$f":"_xlfn.XLOOKUP(C282,'RAW module list'!A:A,'RAW module list'!D:D, \"Not found\")","v":20},{"$f":"_xlfn.XLOOKUP(C282,'RAW module list'!A:A,'RAW module list'!E:E, \"Not found\")","v":"ZHTI3604"},"Fourth Year",{"$f":"_xlfn.XLOOKUP(B282,'Programmes lists'!B:B,'Programmes lists'!D:D)","v":0},{"$f":"_xlfn.XLOOKUP(B282,'Programmes lists'!B:B,'Programmes lists'!E:E, \"Not found\")","v":"QC735794"},{"$f":"_xlfn.XLOOKUP(B282,'Programmes lists'!B:B,'Programmes lists'!G:G,\"Not found\")","v":"Minimum grade 12 pass in\n•\tIsiZulu HL 50% \n•\tEnglish FAL 50%\n•\tMathematics 50%"},{"$f":"_xlfn.XLOOKUP(B282,'Programmes lists'!B:B,'Programmes lists'!F:F,\"Not found\")","v":532}]
["Intermediate Phase","Specialising in Mathematics, Natural Science & Technology and isiZulu Home Language","EATI4705",{"$f":"_xlfn.XLOOKUP(C283,'RAW module list'!A:A,'RAW module list'!B:B, \"Not found\")","v":"English additional language teaching 2"},{"$f":"_xlfn.XLOOKUP(C283,'RAW module list'!A:A,'RAW module list'!C:C, \"Not found\")","v":7},{"$f":"_xlfn.XLOOKUP(C283,'RAW module list'!A:A,'RAW module list'!D:D, \"Not found\")","v":20},{"$f":"_xlfn.XLOOKUP(C283,'RAW module list'!A:A,'RAW module list'!E:E, \"Not found\")","v":"EATI3604"},"Fourth Year",{"$f":"_xlfn.XLOOKUP(B283,'Programmes lists'!B:B,'Programmes lists'!D:D)","v":0},{"$f":"_xlfn.XLOOKUP(B283,'Programmes lists'!B:B,'Programmes lists'!E:E, \"Not found\")","v":"QC735794"},{"$f":"_xlfn.XLOOKUP(B283,'Programmes lists'!B:B,'Programmes lists'!G:G,\"Not found\")","v":"Minimum grade 12 pass in\n•\tIsiZulu HL 50% \n•\tEnglish FAL 50%\n•\tMathematics 50%"},{"$f":"_xlfn.XLOOKUP(B283,'Programmes lists'!B:B,'Programmes lists'!F:F,\"Not found\")","v":532}]
["Intermediate Phase","Specialising in Mathematics, Natural Science & Technology and isiZulu Home Language","CURM4502",{"$f":"_xlfn.XLOOKUP(C284,'RAW module list'!A:A,'RAW module list'!B:B, \"Not found\")","v":"Intermediate Phase School Curriculum 2"},{"$f":"_xlfn.XLOOKUP(C284,'RAW module list'!A:A,'RAW module list'!C:C, \"Not found\")","v":5},{"$f":"_xlfn.XLOOKUP(C284,'RAW module list'!A:A,'RAW module list'!D:D, \"Not found\")","v":8},{"$f":"_xlfn.XLOOKUP(C284,'RAW module list'!A:A,'RAW module list'!E:E, \"Not found\")","v":"CURM3502"},"Fourth Year",{"$f":"_xlfn.XLOOKUP(B284,'Programmes lists'!B:B,'Programmes lists'!D:D)","v":0},{"$f":"_xlfn.XLOOKUP(B284,'Programmes lists'!B:B,'Programmes lists'!E:E, \"Not found\")","v":"QC735794"},{"$f":"_xlfn.XLOOKUP(B284,'Programmes lists'!B:B,'Programmes lists'!G:G,\"Not found\")","v":"Minimum grade 12 pass in\n•\tIsiZulu HL 50% \n•\tEnglish FAL 50%\n•\tMathematics 50%"},{"$f":"_xlfn.XLOOKUP(B284,'Programmes lists'!B:B,'Programmes lists'!F:F,\"Not found\")","v":532}]
["Intermediate Phase","Specialising in Mathematics, Natural Science & Technology and isiZulu Home Language","WILI4700",{"$f":"_xlfn.XLOOKUP(C285,'RAW module list'!A:A,'RAW module list'!B:B, \"Not found\")","v":"Teaching Practice 4"},{"$f":"_xlfn.XLOOKUP(C285,'RAW module list'!A:A,'RAW module list'!C:C, \"Not found\")","v":7},{"$f":"_xlfn.XLOOKUP(C285,'RAW module list'!A:A,'RAW module list'!D:D, \"Not found\")","v":40},{"$f":"_xlfn.XLOOKUP(C285,'RAW module list'!A:A,'RAW module list'!E:E, \"Not found\")","v":"WILI3606"},"Fourth Year",{"$f":"_xlfn.XLOOKUP(B285,'Programmes lists'!B:B,'Programmes lists'!D:D)","v":0},{"$f":"_xlfn.XLOOKUP(B285,'Programmes lists'!B:B,'Programmes lists'!E:E, \"Not found\")","v":"QC735794"},{"$f":"_xlfn.XLOOKUP(B285,'Programmes lists'!B:B,'Programmes lists'!G:G,\"Not found\")","v":"Minimum grade 12 pass in\n•\tIsiZulu HL 50% \n•\tEnglish FAL 50%\n•\tMathematics 50%"},{"$f":"_xlfn.XLOOKUP(B285,'Programmes lists'!B:B,'Programmes lists'!F:F,\"Not found\")","v":532}]
["Intermediate Phase","Specialising in Life Skills, Social Sciences & Afrikaans Home Language","LSCI1614",{"$f":"_xlfn.XLOOKUP(C286,'RAW module list'!A:A,'RAW module list'!B:B, \"Not found\")","v":"Life Skills "},{"$f":"_xlfn.XLOOKUP(C286,'RAW module list'!A:A,'RAW module list'!C:C, \"Not found\")","v":6},{"$f":"_xlfn.XLOOKUP(C286,'RAW module list'!A:A,'RAW module list'!D:D, \"Not found\")","v":16},{"$f":"_xlfn.XLOOKUP(C286,'RAW module list'!A:A,'RAW module list'!E:E, \"Not found\")","v":0},"First Year",{"$f":"_xlfn.XLOOKUP(B286,'Programmes lists'!B:B,'Programmes lists'!D:D)","v":"BC735784"},{"$f":"_xlfn.XLOOKUP(B286,'Programmes lists'!B:B,'Programmes lists'!E:E, \"Not found\")","v":0},{"$f":"_xlfn.XLOOKUP(B286,'Programmes lists'!B:B,'Programmes lists'!G:G,\"Not found\")","v":"Minimum grade 12 pass in\n•\tAfrikaans HL 55% \n•\tEnglish 50%"},{"$f":"_xlfn.XLOOKUP(B286,'Programmes lists'!B:B,'Programmes lists'!F:F,\"Not found\")","v":532}]
["Intermediate Phase","Specialising in Life Skills, Social Sciences & Afrikaans Home Language","LLST1513",{"$f":"_xlfn.XLOOKUP(C287,'RAW module list'!A:A,'RAW module list'!B:B, \"Not found\")","v":"Lifelong Learning Skills"},{"$f":"_xlfn.XLOOKUP(C287,'RAW module list'!A:A,'RAW module list'!C:C, \"Not found\")","v":5},{"$f":"_xlfn.XLOOKUP(C287,'RAW module list'!A:A,'RAW module list'!D:D, \"Not found\")","v":12},{"$f":"_xlfn.XLOOKUP(C287,'RAW module list'!A:A,'RAW module list'!E:E, \"Not found\")","v":0},"First Year",{"$f":"_xlfn.XLOOKUP(B287,'Programmes lists'!B:B,'Programmes lists'!D:D)","v":"BC735784"},{"$f":"_xlfn.XLOOKUP(B287,'Programmes lists'!B:B,'Programmes lists'!E:E, \"Not found\")","v":0},{"$f":"_xlfn.XLOOKUP(B287,'Programmes lists'!B:B,'Programmes lists'!G:G,\"Not found\")","v":"Minimum grade 12 pass in\n•\tAfrikaans HL 55% \n•\tEnglish 50%"},{"$f":"_xlfn.XLOOKUP(B287,'Programmes lists'!B:B,'Programmes lists'!F:F,\"Not found\")","v":532}]
["Intermediate Phase","Specialising in Life Skills, Social Sciences & Afrikaans Home Language","ENGE1608",{"$f":"_xlfn.XLOOKUP(C288,'RAW module list'!A:A,'RAW module list'!B:B, \"Not found\")","v":"English Language for Education "},{"$f":"_xlfn.XLOOKUP(C288,'RAW module list'!A:A,'RAW module list'!C:C, \"Not found\")","v":6},{"$f":"_xlfn.XLOOKUP(C288,'RAW module list'!A:A,'RAW module list'!D:D, \"Not found\")","v":32},{"$f":"_xlfn.XLOOKUP(C288,'RAW module list'!A:A,'RAW module list'!E:E, \"Not found\")","v":0},"First Year",{"$f":"_xlfn.XLOOKUP(B288,'Programmes lists'!B:B,'Programmes lists'!D:D)","v":"BC735784"},{"$f":"_xlfn.XLOOKUP(B288,'Programmes lists'!B:B,'Programmes lists'!E:E, \"Not found\")","v":0},{"$f":"_xlfn.XLOOKUP(B288,'Programmes lists'!B:B,'Programmes lists'!G:G,\"Not found\")","v":"Minimum grade 12 pass in\n•\tAfrikaans HL 55% \n•\tEnglish 50%"},{"$f":"_xlfn.XLOOKUP(B288,'Programmes lists'!B:B,'Programmes lists'!F:F,\"Not found\")","v":532}]
["Intermediate Phase","Specialising in Life Skills, Social Sciences & Afrikaans Home Language","EDUB1613",{"$f":"_xlfn.XLOOKUP(C289,'RAW module list'!A:A,'RAW module list'!B:B, \"Not found\")","v":"Education Studies 1.1 The Individual in the learning context"},{"$f":"_xlfn.XLOOKUP(C289,'RAW module list'!A:A,'RAW module list'!C:C, \"Not found\")","v":6},{"$f":"_xlfn.XLOOKUP(C289,'RAW module list'!A:A,'RAW module list'!D:D, \"Not found\")","v":12},{"$f":"_xlfn.XLOOKUP(C289,'RAW module list'!A:A,'RAW module list'!E:E, \"Not found\")","v":0},"First Year",{"$f":"_xlfn.XLOOKUP(B289,'Programmes lists'!B:B,'Programmes lists'!D:D)","v":"BC735784"},{"$f":"_xlfn.XLOOKUP(B289,'Programmes lists'!B:B,'Programmes lists'!E:E, \"Not found\")","v":0},{"$f":"_xlfn.XLOOKUP(B289,'Programmes lists'!B:B,'Programmes lists'!G:G,\"Not found\")","v":"Minimum grade 12 pass in\n•\tAfrikaans HL 55% \n•\tEnglish 50%"},{"$f":"_xlfn.XLOOKUP(B289,'Programmes lists'!B:B,'Programmes lists'!F:F,\"Not found\")","v":532}]
["Intermediate Phase","Specialising in Life Skills, Social Sciences & Afrikaans Home Language","TPRI1502",{"$f":"_xlfn.XLOOKUP(C290,'RAW module list'!A:A,'RAW module list'!B:B, \"Not found\")","v":"Teaching Practice 1"},{"$f":"_xlfn.XLOOKUP(C290,'RAW module list'!A:A,'RAW module list'!C:C, \"Not found\")","v":5},{"$f":"_xlfn.XLOOKUP(C290,'RAW module list'!A:A,'RAW module list'!D:D, \"Not found\")","v":8},{"$f":"_xlfn.XLOOKUP(C290,'RAW module list'!A:A,'RAW module list'!E:E, \"Not found\")","v":0},"First Year",{"$f":"_xlfn.XLOOKUP(B290,'Programmes lists'!B:B,'Programmes lists'!D:D)","v":"BC735784"},{"$f":"_xlfn.XLOOKUP(B290,'Programmes lists'!B:B,'Programmes lists'!E:E, \"Not found\")","v":0},{"$f":"_xlfn.XLOOKUP(B290,'Programmes lists'!B:B,'Programmes lists'!G:G,\"Not found\")","v":"Minimum grade 12 pass in\n•\tAfrikaans HL 55% \n•\tEnglish 50%"},{"$f":"_xlfn.XLOOKUP(B290,'Programmes lists'!B:B,'Programmes lists'!F:F,\"Not found\")","v":532}]
["Intermediate Phase","Specialising in Life Skills, Social Sciences & Afrikaans Home Language","UFSS1504",{"$f":"_xlfn.XLOOKUP(C291,'RAW module list'!A:A,'RAW module list'!B:B, \"Not found\")","v":"Undergraduate core curriculum"},{"$f":"_xlfn.XLOOKUP(C291,'RAW module list'!A:A,'RAW module list'!C:C, \"Not found\")","v":5},{"$f":"_xlfn.XLOOKUP(C291,'RAW module list'!A:A,'RAW module list'!D:D, \"Not found\")","v":-16},{"$f":"_xlfn.XLOOKUP(C291,'RAW module list'!A:A,'RAW module list'!E:E, \"Not found\")","v":0},"First Year",{"$f":"_xlfn.XLOOKUP(B291,'Programmes lists'!B:B,'Programmes lists'!D:D)","v":"BC735784"},{"$f":"_xlfn.XLOOKUP(B291,'Programmes lists'!B:B,'Programmes lists'!E:E, \"Not found\")","v":0},{"$f":"_xlfn.XLOOKUP(B291,'Programmes lists'!B:B,'Programmes lists'!G:G,\"Not found\")","v":"Minimum grade 12 pass in\n•\tAfrikaans HL 55% \n•\tEnglish 50%"},{"$f":"_xlfn.XLOOKUP(B291,'Programmes lists'!B:B,'Programmes lists'!F:F,\"Not found\")","v":532}]
["Intermediate Phase","Specialising in Life Skills, Social Sciences & Afrikaans Home Language","AGAE1508",{"$f":"_xlfn.XLOOKUP(C292,'RAW module list'!A:A,'RAW module list'!B:B, \"Not found\")","v":"Academic Literacy in Afrikaans"},{"$f":"_xlfn.XLOOKUP(C292,'RAW module list'!A:A,'RAW module list'!C:C, \"Not found\")","v":5},{"$f":"_xlfn.XLOOKUP(C292,'RAW module list'!A:A,'RAW module list'!D:D, \"Not found\")","v":-32},{"$f":"_xlfn.XLOOKUP(C292,'RAW module list'!A:A,'RAW module list'!E:E, \"Not found\")","v":"NBT requirements not met"},"First Year",{"$f":"_xlfn.XLOOKUP(B292,'Programmes lists'!B:B,'Programmes lists'!D:D)","v":"BC735784"},{"$f":"_xlfn.XLOOKUP(B292,'Programmes lists'!B:B,'Programmes lists'!E:E, \"Not found\")","v":0},{"$f":"_xlfn.XLOOKUP(B292,'Programmes lists'!B:B,'Programmes lists'!G:G,\"Not found\")","v":"Minimum grade 12 pass in\n•\tAfrikaans HL 55% \n•\tEnglish 50%"},{"$f":"_xlfn.XLOOKUP(B292,'Programmes lists'!B:B,'Programmes lists'!F:F,\"Not found\")","v":532}]
["Intermediate Phase","Specialising in Life Skills, Social Sciences & Afrikaans Home Language","LSCI1624",{"$f":"_xlfn.XLOOKUP(C293,'RAW module list'!A:A,'RAW module list'!B:B, \"Not found\")","v":"Life Skills 1"},{"$f":"_xlfn.XLOOKUP(C293,'RAW module list'!A:A,'RAW module list'!C:C, \"Not found\")","v":6},{"$f":"_xlfn.XLOOKUP(C293,'RAW module list'!A:A,'RAW module list'!D:D, \"Not found\")","v":16},{"$f":"_xlfn.XLOOKUP(C293,'RAW module list'!A:A,'RAW module list'!E:E, \"Not found\")","v":0},"First Year",{"$f":"_xlfn.XLOOKUP(B293,'Programmes lists'!B:B,'Programmes lists'!D:D)","v":"BC735784"},{"$f":"_xlfn.XLOOKUP(B293,'Programmes lists'!B:B,'Programmes lists'!E:E, \"Not found\")","v":0},{"$f":"_xlfn.XLOOKUP(B293,'Programmes lists'!B:B,'Programmes lists'!G:G,\"Not found\")","v":"Minimum grade 12 pass in\n•\tAfrikaans HL 55% \n•\tEnglish 50%"},{"$f":"_xlfn.XLOOKUP(B293,'Programmes lists'!B:B,'Programmes lists'!F:F,\"Not found\")","v":532}]
["Intermediate Phase","Specialising in Life Skills, Social Sciences & Afrikaans Home Language","EDUB1623",{"$f":"_xlfn.XLOOKUP(C294,'RAW module list'!A:A,'RAW module list'!B:B, \"Not found\")","v":"Education Studies 1.2 What it means to educate: Theoretical perspectives and their significance for SA education"},{"$f":"_xlfn.XLOOKUP(C294,'RAW module list'!A:A,'RAW module list'!C:C, \"Not found\")","v":6},{"$f":"_xlfn.XLOOKUP(C294,'RAW module list'!A:A,'RAW module list'!D:D, \"Not found\")","v":12},{"$f":"_xlfn.XLOOKUP(C294,'RAW module list'!A:A,'RAW module list'!E:E, \"Not found\")","v":0},"First Year",{"$f":"_xlfn.XLOOKUP(B294,'Programmes lists'!B:B,'Programmes lists'!D:D)","v":"BC735784"},{"$f":"_xlfn.XLOOKUP(B294,'Programmes lists'!B:B,'Programmes lists'!E:E, \"Not found\")","v":0},{"$f":"_xlfn.XLOOKUP(B294,'Programmes lists'!B:B,'Programmes lists'!G:G,\"Not found\")","v":"Minimum grade 12 pass in\n•\tAfrikaans HL 55% \n•\tEnglish 50%"},{"$f":"_xlfn.XLOOKUP(B294,'Programmes lists'!B:B,'Programmes lists'!F:F,\"Not found\")","v":532}]
["Intermediate Phase","Specialising in Life Skills, Social Sciences & Afrikaans Home Language","GPED1623",{"$f":"_xlfn.XLOOKUP(C295,'RAW module list'!A:A,'RAW module list'!B:B, \"Not found\")","v":"General Pedagogy 1: Managing the Curriculum"},{"$f":"_xlfn.XLOOKUP(C295,'RAW module list'!A:A,'RAW module list'!C:C, \"Not found\")","v":6},{"$f":"_xlfn.XLOOKUP(C295,'RAW module list'!A:A,'RAW module list'!D:D, \"Not found\")","v":12},{"$f":"_xlfn.XLOOKUP(C295,'RAW module list'!A:A,'RAW module list'!E:E, \"Not found\")","v":0},"First Year",{"$f":"_xlfn.XLOOKUP(B295,'Programmes lists'!B:B,'Programmes lists'!D:D)","v":"BC735784"},{"$f":"_xlfn.XLOOKUP(B295,'Programmes lists'!B:B,'Programmes lists'!E:E, \"Not found\")","v":0},{"$f":"_xlfn.XLOOKUP(B295,'Programmes lists'!B:B,'Programmes lists'!G:G,\"Not found\")","v":"Minimum grade 12 pass in\n•\tAfrikaans HL 55% \n•\tEnglish 50%"},{"$f":"_xlfn.XLOOKUP(B295,'Programmes lists'!B:B,'Programmes lists'!F:F,\"Not found\")","v":532}]
["Intermediate Phase","Specialising in Life Skills, Social Sciences & Afrikaans Home Language","SSCI2614",{"$f":"_xlfn.XLOOKUP(C296,'RAW module list'!A:A,'RAW module list'!B:B, \"Not found\")","v":"Social Science History"},{"$f":"_xlfn.XLOOKUP(C296,'RAW module list'!A:A,'RAW module list'!C:C, \"Not found\")","v":6},{"$f":"_xlfn.XLOOKUP(C296,'RAW module list'!A:A,'RAW module list'!D:D, \"Not found\")","v":16},{"$f":"_xlfn.XLOOKUP(C296,'RAW module list'!A:A,'RAW module list'!E:E, \"Not found\")","v":0},"Second Year",{"$f":"_xlfn.XLOOKUP(B296,'Programmes lists'!B:B,'Programmes lists'!D:D)","v":"BC735784"},{"$f":"_xlfn.XLOOKUP(B296,'Programmes lists'!B:B,'Programmes lists'!E:E, \"Not found\")","v":0},{"$f":"_xlfn.XLOOKUP(B296,'Programmes lists'!B:B,'Programmes lists'!G:G,\"Not found\")","v":"Minimum grade 12 pass in\n•\tAfrikaans HL 55% \n•\tEnglish 50%"},{"$f":"_xlfn.XLOOKUP(B296,'Programmes lists'!B:B,'Programmes lists'!F:F,\"Not found\")","v":532}]
["Intermediate Phase","Specialising in Life Skills, Social Sciences & Afrikaans Home Language","AFNL1634",{"$f":"_xlfn.XLOOKUP(C297,'RAW module list'!A:A,'RAW module list'!B:B, \"Not found\")","v":"Introduction to Afrikaans and Dutch literature"},{"$f":"_xlfn.XLOOKUP(C297,'RAW module list'!A:A,'RAW module list'!C:C, \"Not found\")","v":6},{"$f":"_xlfn.XLOOKUP(C297,'RAW module list'!A:A,'RAW module list'!D:D, \"Not found\")","v":16},{"$f":"_xlfn.XLOOKUP(C297,'RAW module list'!A:A,'RAW module list'!E:E, \"Not found\")","v":"Grade 12 Afrikaans HL >55% or Afrikaans FAL in grade 12 >70%"},"Second Year",{"$f":"_xlfn.XLOOKUP(B297,'Programmes lists'!B:B,'Programmes lists'!D:D)","v":"BC735784"},{"$f":"_xlfn.XLOOKUP(B297,'Programmes lists'!B:B,'Programmes lists'!E:E, \"Not found\")","v":0},{"$f":"_xlfn.XLOOKUP(B297,'Programmes lists'!B:B,'Programmes lists'!G:G,\"Not found\")","v":"Minimum grade 12 pass in\n•\tAfrikaans HL 55% \n•\tEnglish 50%"},{"$f":"_xlfn.XLOOKUP(B297,'Programmes lists'!B:B,'Programmes lists'!F:F,\"Not found\")","v":532}]
["Intermediate Phase","Specialising in Life Skills, Social Sciences & Afrikaans Home Language","MTBI2503",{"$f":"_xlfn.XLOOKUP(C298,'RAW module list'!A:A,'RAW module list'!B:B, \"Not found\")","v":"Basic Mathematics "},{"$f":"_xlfn.XLOOKUP(C298,'RAW module list'!A:A,'RAW module list'!C:C, \"Not found\")","v":5},{"$f":"_xlfn.XLOOKUP(C298,'RAW module list'!A:A,'RAW module list'!D:D, \"Not found\")","v":12},{"$f":"_xlfn.XLOOKUP(C298,'RAW module list'!A:A,'RAW module list'!E:E, \"Not found\")","v":0},"Second Year",{"$f":"_xlfn.XLOOKUP(B298,'Programmes lists'!B:B,'Programmes lists'!D:D)","v":"BC735784"},{"$f":"_xlfn.XLOOKUP(B298,'Programmes lists'!B:B,'Programmes lists'!E:E, \"Not found\")","v":0},{"$f":"_xlfn.XLOOKUP(B298,'Programmes lists'!B:B,'Programmes lists'!G:G,\"Not found\")","v":"Minimum grade 12 pass in\n•\tAfrikaans HL 55% \n•\tEnglish 50%"},{"$f":"_xlfn.XLOOKUP(B298,'Programmes lists'!B:B,'Programmes lists'!F:F,\"Not found\")","v":532}]
["Intermediate Phase","Specialising in Life Skills, Social Sciences & Afrikaans Home Language","EDUB2714",{"$f":"_xlfn.XLOOKUP(C299,'RAW module list'!A:A,'RAW module list'!B:B, \"Not found\")","v":"Education Studies 2: Teaching and Learning in Education Context"},{"$f":"_xlfn.XLOOKUP(C299,'RAW module list'!A:A,'RAW module list'!C:C, \"Not found\")","v":7},{"$f":"_xlfn.XLOOKUP(C299,'RAW module list'!A:A,'RAW module list'!D:D, \"Not found\")","v":16},{"$f":"_xlfn.XLOOKUP(C299,'RAW module list'!A:A,'RAW module list'!E:E, \"Not found\")","v":"EDUB1613 & EDUB1623"},"Second Year",{"$f":"_xlfn.XLOOKUP(B299,'Programmes lists'!B:B,'Programmes lists'!D:D)","v":"BC735784"},{"$f":"_xlfn.XLOOKUP(B299,'Programmes lists'!B:B,'Programmes lists'!E:E, \"Not found\")","v":0},{"$f":"_xlfn.XLOOKUP(B299,'Programmes lists'!B:B,'Programmes lists'!G:G,\"Not found\")","v":"Minimum grade 12 pass in\n•\tAfrikaans HL 55% \n•\tEnglish 50%"},{"$f":"_xlfn.XLOOKUP(B299,'Programmes lists'!B:B,'Programmes lists'!F:F,\"Not found\")","v":532}]
["Intermediate Phase","Specialising in Life Skills, Social Sciences & Afrikaans Home Language","GPED2613",{"$f":"_xlfn.XLOOKUP(C300,'RAW module list'!A:A,'RAW module list'!B:B, \"Not found\")","v":"General Pedagogy 2.1"},{"$f":"_xlfn.XLOOKUP(C300,'RAW module list'!A:A,'RAW module list'!C:C, \"Not found\")","v":6},{"$f":"_xlfn.XLOOKUP(C300,'RAW module list'!A:A,'RAW module list'!D:D, \"Not found\")","v":12},{"$f":"_xlfn.XLOOKUP(C300,'RAW module list'!A:A,'RAW module list'!E:E, \"Not found\")","v":"GPED1623"},"Second Year",{"$f":"_xlfn.XLOOKUP(B300,'Programmes lists'!B:B,'Programmes lists'!D:D)","v":"BC735784"},{"$f":"_xlfn.XLOOKUP(B300,'Programmes lists'!B:B,'Programmes lists'!E:E, \"Not found\")","v":0},{"$f":"_xlfn.XLOOKUP(B300,'Programmes lists'!B:B,'Programmes lists'!G:G,\"Not found\")","v":"Minimum grade 12 pass in\n•\tAfrikaans HL 55% \n•\tEnglish 50%"},{"$f":"_xlfn.XLOOKUP(B300,'Programmes lists'!B:B,'Programmes lists'!F:F,\"Not found\")","v":532}]
["Intermediate Phase","Specialising in Life Skills, Social Sciences & Afrikaans Home Language","TPRI2502",{"$f":"_xlfn.XLOOKUP(C301,'RAW module list'!A:A,'RAW module list'!B:B, \"Not found\")","v":"Teaching Practice 2 "},{"$f":"_xlfn.XLOOKUP(C301,'RAW module list'!A:A,'RAW module list'!C:C, \"Not found\")","v":5},{"$f":"_xlfn.XLOOKUP(C301,'RAW module list'!A:A,'RAW module list'!D:D, \"Not found\")","v":8},{"$f":"_xlfn.XLOOKUP(C301,'RAW module list'!A:A,'RAW module list'!E:E, \"Not found\")","v":"TPRI1502"},"Second Year",{"$f":"_xlfn.XLOOKUP(B301,'Programmes lists'!B:B,'Programmes lists'!D:D)","v":"BC735784"},{"$f":"_xlfn.XLOOKUP(B301,'Programmes lists'!B:B,'Programmes lists'!E:E, \"Not found\")","v":0},{"$f":"_xlfn.XLOOKUP(B301,'Programmes lists'!B:B,'Programmes lists'!G:G,\"Not found\")","v":"Minimum grade 12 pass in\n•\tAfrikaans HL 55% \n•\tEnglish 50%"},{"$f":"_xlfn.XLOOKUP(B301,'Programmes lists'!B:B,'Programmes lists'!F:F,\"Not found\")","v":532}]
["Intermediate Phase","Specialising in Life Skills, Social Sciences & Afrikaans Home Language","SSCI2624",{"$f":"_xlfn.XLOOKUP(C302,'RAW module list'!A:A,'RAW module list'!B:B, \"Not found\")","v":"Social Sciences 2: Geography"},{"$f":"_xlfn.XLOOKUP(C302,'RAW module list'!A:A,'RAW module list'!C:C, \"Not found\")","v":6},{"$f":"_xlfn.XLOOKUP(C302,'RAW module list'!A:A,'RAW module list'!D:D, \"Not found\")","v":16},{"$f":"_xlfn.XLOOKUP(C302,'RAW module list'!A:A,'RAW module list'!E:E, \"Not found\")","v":0},"Second Year",{"$f":"_xlfn.XLOOKUP(B302,'Programmes lists'!B:B,'Programmes lists'!D:D)","v":"BC735784"},{"$f":"_xlfn.XLOOKUP(B302,'Programmes lists'!B:B,'Programmes lists'!E:E, \"Not found\")","v":0},{"$f":"_xlfn.XLOOKUP(B302,'Programmes lists'!B:B,'Programmes lists'!G:G,\"Not found\")","v":"Minimum grade 12 pass in\n•\tAfrikaans HL 55% \n•\tEnglish 50%"},{"$f":"_xlfn.XLOOKUP(B302,'Programmes lists'!B:B,'Programmes lists'!F:F,\"Not found\")","v":532}]
["Intermediate Phase","Specialising in Life Skills, Social Sciences & Afrikaans Home Language","AFNT1644",{"$f":"_xlfn.XLOOKUP(C303,'RAW module list'!A:A,'RAW module list'!B:B, \"Not found\")","v":"Introduction to Afrikaans Linguistics"},{"$f":"_xlfn.XLOOKUP(C303,'RAW module list'!A:A,'RAW module list'!C:C, \"Not found\")","v":6},{"$f":"_xlfn.XLOOKUP(C303,'RAW module list'!A:A,'RAW module list'!D:D, \"Not found\")","v":16},{"$f":"_xlfn.XLOOKUP(C303,'RAW module list'!A:A,'RAW module list'!E:E, \"Not found\")","v":"AFNL1634"},"Second Year",{"$f":"_xlfn.XLOOKUP(B303,'Programmes lists'!B:B,'Programmes lists'!D:D)","v":"BC735784"},{"$f":"_xlfn.XLOOKUP(B303,'Programmes lists'!B:B,'Programmes lists'!E:E, \"Not found\")","v":0},{"$f":"_xlfn.XLOOKUP(B303,'Programmes lists'!B:B,'Programmes lists'!G:G,\"Not found\")","v":"Minimum grade 12 pass in\n•\tAfrikaans HL 55% \n•\tEnglish 50%"},{"$f":"_xlfn.XLOOKUP(B303,'Programmes lists'!B:B,'Programmes lists'!F:F,\"Not found\")","v":532}]
["Intermediate Phase","Specialising in Life Skills, Social Sciences & Afrikaans Home Language","EDUB2724",{"$f":"_xlfn.XLOOKUP(C304,'RAW module list'!A:A,'RAW module list'!B:B, \"Not found\")","v":"Education Studies 2: Human Relationships in Education context"},{"$f":"_xlfn.XLOOKUP(C304,'RAW module list'!A:A,'RAW module list'!C:C, \"Not found\")","v":7},{"$f":"_xlfn.XLOOKUP(C304,'RAW module list'!A:A,'RAW module list'!D:D, \"Not found\")","v":16},{"$f":"_xlfn.XLOOKUP(C304,'RAW module list'!A:A,'RAW module list'!E:E, \"Not found\")","v":"EDUB2714"},"Second Year",{"$f":"_xlfn.XLOOKUP(B304,'Programmes lists'!B:B,'Programmes lists'!D:D)","v":"BC735784"},{"$f":"_xlfn.XLOOKUP(B304,'Programmes lists'!B:B,'Programmes lists'!E:E, \"Not found\")","v":0},{"$f":"_xlfn.XLOOKUP(B304,'Programmes lists'!B:B,'Programmes lists'!G:G,\"Not found\")","v":"Minimum grade 12 pass in\n•\tAfrikaans HL 55% \n•\tEnglish 50%"},{"$f":"_xlfn.XLOOKUP(B304,'Programmes lists'!B:B,'Programmes lists'!F:F,\"Not found\")","v":532}]
["Intermediate Phase","Specialising in Life Skills, Social Sciences & Afrikaans Home Language","GPED2623",{"$f":"_xlfn.XLOOKUP(C305,'RAW module list'!A:A,'RAW module list'!B:B, \"Not found\")","v":"General Pedagogy 2.2: Assessment"},{"$f":"_xlfn.XLOOKUP(C305,'RAW module list'!A:A,'RAW module list'!C:C, \"Not found\")","v":6},{"$f":"_xlfn.XLOOKUP(C305,'RAW module list'!A:A,'RAW module list'!D:D, \"Not found\")","v":12},{"$f":"_xlfn.XLOOKUP(C305,'RAW module list'!A:A,'RAW module list'!E:E, \"Not found\")","v":"GPED2613"},"Second Year",{"$f":"_xlfn.XLOOKUP(B305,'Programmes lists'!B:B,'Programmes lists'!D:D)","v":"BC735784"},{"$f":"_xlfn.XLOOKUP(B305,'Programmes lists'!B:B,'Programmes lists'!E:E, \"Not found\")","v":0},{"$f":"_xlfn.XLOOKUP(B305,'Programmes lists'!B:B,'Programmes lists'!G:G,\"Not found\")","v":"Minimum grade 12 pass in\n•\tAfrikaans HL 55% \n•\tEnglish 50%"},{"$f":"_xlfn.XLOOKUP(B305,'Programmes lists'!B:B,'Programmes lists'!F:F,\"Not found\")","v":532}]
["Intermediate Phase","Specialising in Life Skills, Social Sciences & Afrikaans Home Language","LSTI3604",{"$f":"_xlfn.XLOOKUP(C306,'RAW module list'!A:A,'RAW module list'!B:B, \"Not found\")","v":"Teaching of Life Skills 1 "},{"$f":"_xlfn.XLOOKUP(C306,'RAW module list'!A:A,'RAW module list'!C:C, \"Not found\")","v":6},{"$f":"_xlfn.XLOOKUP(C306,'RAW module list'!A:A,'RAW module list'!D:D, \"Not found\")","v":16},{"$f":"_xlfn.XLOOKUP(C306,'RAW module list'!A:A,'RAW module list'!E:E, \"Not found\")","v":"LSCI614 & LSCI2624"},"Third Year",{"$f":"_xlfn.XLOOKUP(B306,'Programmes lists'!B:B,'Programmes lists'!D:D)","v":"BC735784"},{"$f":"_xlfn.XLOOKUP(B306,'Programmes lists'!B:B,'Programmes lists'!E:E, \"Not found\")","v":0},{"$f":"_xlfn.XLOOKUP(B306,'Programmes lists'!B:B,'Programmes lists'!G:G,\"Not found\")","v":"Minimum grade 12 pass in\n•\tAfrikaans HL 55% \n•\tEnglish 50%"},{"$f":"_xlfn.XLOOKUP(B306,'Programmes lists'!B:B,'Programmes lists'!F:F,\"Not found\")","v":532}]
["Intermediate Phase","Specialising in Life Skills, Social Sciences & Afrikaans Home Language","SSTI3604",{"$f":"_xlfn.XLOOKUP(C307,'RAW module list'!A:A,'RAW module list'!B:B, \"Not found\")","v":"Teaching Social Sciences 1"},{"$f":"_xlfn.XLOOKUP(C307,'RAW module list'!A:A,'RAW module list'!C:C, \"Not found\")","v":6},{"$f":"_xlfn.XLOOKUP(C307,'RAW module list'!A:A,'RAW module list'!D:D, \"Not found\")","v":16},{"$f":"_xlfn.XLOOKUP(C307,'RAW module list'!A:A,'RAW module list'!E:E, \"Not found\")","v":"SSCI2614 & SSCI2624"},"Third Year",{"$f":"_xlfn.XLOOKUP(B307,'Programmes lists'!B:B,'Programmes lists'!D:D)","v":"BC735784"},{"$f":"_xlfn.XLOOKUP(B307,'Programmes lists'!B:B,'Programmes lists'!E:E, \"Not found\")","v":0},{"$f":"_xlfn.XLOOKUP(B307,'Programmes lists'!B:B,'Programmes lists'!G:G,\"Not found\")","v":"Minimum grade 12 pass in\n•\tAfrikaans HL 55% \n•\tEnglish 50%"},{"$f":"_xlfn.XLOOKUP(B307,'Programmes lists'!B:B,'Programmes lists'!F:F,\"Not found\")","v":532}]
["Intermediate Phase","Specialising in Life Skills, Social Sciences & Afrikaans Home Language","AHTI3604",{"$f":"_xlfn.XLOOKUP(C308,'RAW module list'!A:A,'RAW module list'!B:B, \"Not found\")","v":"Afrikaans Teaching 1 (Home Language)"},{"$f":"_xlfn.XLOOKUP(C308,'RAW module list'!A:A,'RAW module list'!C:C, \"Not found\")","v":6},{"$f":"_xlfn.XLOOKUP(C308,'RAW module list'!A:A,'RAW module list'!D:D, \"Not found\")","v":16},{"$f":"_xlfn.XLOOKUP(C308,'RAW module list'!A:A,'RAW module list'!E:E, \"Not found\")","v":"AFNT1644 & AFNL1634"},"Third Year",{"$f":"_xlfn.XLOOKUP(B308,'Programmes lists'!B:B,'Programmes lists'!D:D)","v":"BC735784"},{"$f":"_xlfn.XLOOKUP(B308,'Programmes lists'!B:B,'Programmes lists'!E:E, \"Not found\")","v":0},{"$f":"_xlfn.XLOOKUP(B308,'Programmes lists'!B:B,'Programmes lists'!G:G,\"Not found\")","v":"Minimum grade 12 pass in\n•\tAfrikaans HL 55% \n•\tEnglish 50%"},{"$f":"_xlfn.XLOOKUP(B308,'Programmes lists'!B:B,'Programmes lists'!F:F,\"Not found\")","v":532}]
["Intermediate Phase","Specialising in Life Skills, Social Sciences & Afrikaans Home Language","EATI3604",{"$f":"_xlfn.XLOOKUP(C309,'RAW module list'!A:A,'RAW module list'!B:B, \"Not found\")","v":"English additional language teaching 1"},{"$f":"_xlfn.XLOOKUP(C309,'RAW module list'!A:A,'RAW module list'!C:C, \"Not found\")","v":6},{"$f":"_xlfn.XLOOKUP(C309,'RAW module list'!A:A,'RAW module list'!D:D, \"Not found\")","v":16},{"$f":"_xlfn.XLOOKUP(C309,'RAW module list'!A:A,'RAW module list'!E:E, \"Not found\")","v":"ENGE1608"},"Third Year",{"$f":"_xlfn.XLOOKUP(B309,'Programmes lists'!B:B,'Programmes lists'!D:D)","v":"BC735784"},{"$f":"_xlfn.XLOOKUP(B309,'Programmes lists'!B:B,'Programmes lists'!E:E, \"Not found\")","v":0},{"$f":"_xlfn.XLOOKUP(B309,'Programmes lists'!B:B,'Programmes lists'!G:G,\"Not found\")","v":"Minimum grade 12 pass in\n•\tAfrikaans HL 55% \n•\tEnglish 50%"},{"$f":"_xlfn.XLOOKUP(B309,'Programmes lists'!B:B,'Programmes lists'!F:F,\"Not found\")","v":532}]
["Intermediate Phase","Specialising in Life Skills, Social Sciences & Afrikaans Home Language","CURS3502",{"$f":"_xlfn.XLOOKUP(C310,'RAW module list'!A:A,'RAW module list'!B:B, \"Not found\")","v":"Intermediate Phase School Curriculum"},{"$f":"_xlfn.XLOOKUP(C310,'RAW module list'!A:A,'RAW module list'!C:C, \"Not found\")","v":5},{"$f":"_xlfn.XLOOKUP(C310,'RAW module list'!A:A,'RAW module list'!D:D, \"Not found\")","v":8},{"$f":"_xlfn.XLOOKUP(C310,'RAW module list'!A:A,'RAW module list'!E:E, \"Not found\")","v":0},"Third Year",{"$f":"_xlfn.XLOOKUP(B310,'Programmes lists'!B:B,'Programmes lists'!D:D)","v":"BC735784"},{"$f":"_xlfn.XLOOKUP(B310,'Programmes lists'!B:B,'Programmes lists'!E:E, \"Not found\")","v":0},{"$f":"_xlfn.XLOOKUP(B310,'Programmes lists'!B:B,'Programmes lists'!G:G,\"Not found\")","v":"Minimum grade 12 pass in\n•\tAfrikaans HL 55% \n•\tEnglish 50%"},{"$f":"_xlfn.XLOOKUP(B310,'Programmes lists'!B:B,'Programmes lists'!F:F,\"Not found\")","v":532}]
["Intermediate Phase","Specialising in Life Skills, Social Sciences & Afrikaans Home Language","EDUB3714",{"$f":"_xlfn.XLOOKUP(C311,'RAW module list'!A:A,'RAW module list'!B:B, \"Not found\")","v":"Education Studies 3.1 Education systems in global and national context"},{"$f":"_xlfn.XLOOKUP(C311,'RAW module list'!A:A,'RAW module list'!C:C, \"Not found\")","v":7},{"$f":"_xlfn.XLOOKUP(C311,'RAW module list'!A:A,'RAW module list'!D:D, \"Not found\")","v":16},{"$f":"_xlfn.XLOOKUP(C311,'RAW module list'!A:A,'RAW module list'!E:E, \"Not found\")","v":"EDUB1613 & EDUB1623& EDUB2714 & EDUB2724"},"Third Year",{"$f":"_xlfn.XLOOKUP(B311,'Programmes lists'!B:B,'Programmes lists'!D:D)","v":"BC735784"},{"$f":"_xlfn.XLOOKUP(B311,'Programmes lists'!B:B,'Programmes lists'!E:E, \"Not found\")","v":0},{"$f":"_xlfn.XLOOKUP(B311,'Programmes lists'!B:B,'Programmes lists'!G:G,\"Not found\")","v":"Minimum grade 12 pass in\n•\tAfrikaans HL 55% \n•\tEnglish 50%"},{"$f":"_xlfn.XLOOKUP(B311,'Programmes lists'!B:B,'Programmes lists'!F:F,\"Not found\")","v":532}]
["Intermediate Phase","Specialising in Life Skills, Social Sciences & Afrikaans Home Language","SICL3512 OR SSCL3512 OR ZUCL3522",{"$f":"_xlfn.XLOOKUP(C312,'RAW module list'!A:A,'RAW module list'!B:B, \"Not found\")","v":"Conversational Sign Language OR Conversational Sesotho OR Conversational IsiZulu"},{"$f":"_xlfn.XLOOKUP(C312,'RAW module list'!A:A,'RAW module list'!C:C, \"Not found\")","v":5},{"$f":"_xlfn.XLOOKUP(C312,'RAW module list'!A:A,'RAW module list'!D:D, \"Not found\")","v":8},{"$f":"_xlfn.XLOOKUP(C312,'RAW module list'!A:A,'RAW module list'!E:E, \"Not found\")","v":"Continue with the conversational language chosen in Semester 1"},"Third Year",{"$f":"_xlfn.XLOOKUP(B312,'Programmes lists'!B:B,'Programmes lists'!D:D)","v":"BC735784"},{"$f":"_xlfn.XLOOKUP(B312,'Programmes lists'!B:B,'Programmes lists'!E:E, \"Not found\")","v":0},{"$f":"_xlfn.XLOOKUP(B312,'Programmes lists'!B:B,'Programmes lists'!G:G,\"Not found\")","v":"Minimum grade 12 pass in\n•\tAfrikaans HL 55% \n•\tEnglish 50%"},{"$f":"_xlfn.XLOOKUP(B312,'Programmes lists'!B:B,'Programmes lists'!F:F,\"Not found\")","v":532}]
["Intermediate Phase","Specialising in Life Skills, Social Sciences & Afrikaans Home Language","WILI3606",{"$f":"_xlfn.XLOOKUP(C313,'RAW module list'!A:A,'RAW module list'!B:B, \"Not found\")","v":"Teaching Practice 3"},{"$f":"_xlfn.XLOOKUP(C313,'RAW module list'!A:A,'RAW module list'!C:C, \"Not found\")","v":6},{"$f":"_xlfn.XLOOKUP(C313,'RAW module list'!A:A,'RAW module list'!D:D, \"Not found\")","v":24},{"$f":"_xlfn.XLOOKUP(C313,'RAW module list'!A:A,'RAW module list'!E:E, \"Not found\")","v":"TPRI2502"},"Third Year",{"$f":"_xlfn.XLOOKUP(B313,'Programmes lists'!B:B,'Programmes lists'!D:D)","v":"BC735784"},{"$f":"_xlfn.XLOOKUP(B313,'Programmes lists'!B:B,'Programmes lists'!E:E, \"Not found\")","v":0},{"$f":"_xlfn.XLOOKUP(B313,'Programmes lists'!B:B,'Programmes lists'!G:G,\"Not found\")","v":"Minimum grade 12 pass in\n•\tAfrikaans HL 55% \n•\tEnglish 50%"},{"$f":"_xlfn.XLOOKUP(B313,'Programmes lists'!B:B,'Programmes lists'!F:F,\"Not found\")","v":532}]
["Intermediate Phase","Specialising in Life Skills, Social Sciences & Afrikaans Home Language","EDUB3724",{"$f":"_xlfn.XLOOKUP(C314,'RAW module list'!A:A,'RAW module list'!B:B, \"Not found\")","v":"Education Studies 3.2: Contemporary Education Theory in the current social context"},{"$f":"_xlfn.XLOOKUP(C314,'RAW module list'!A:A,'RAW module list'!C:C, \"Not found\")","v":7},{"$f":"_xlfn.XLOOKUP(C314,'RAW module list'!A:A,'RAW module list'!D:D, \"Not found\")","v":16},{"$f":"_xlfn.XLOOKUP(C314,'RAW module list'!A:A,'RAW module list'!E:E, \"Not found\")","v":"EDUB1613 & EDUB1623 & EDUB2714 & EDUB2724 & EDUB3714"},"Third Year",{"$f":"_xlfn.XLOOKUP(B314,'Programmes lists'!B:B,'Programmes lists'!D:D)","v":"BC735784"},{"$f":"_xlfn.XLOOKUP(B314,'Programmes lists'!B:B,'Programmes lists'!E:E, \"Not found\")","v":0},{"$f":"_xlfn.XLOOKUP(B314,'Programmes lists'!B:B,'Programmes lists'!G:G,\"Not found\")","v":"Minimum grade 12 pass in\n•\tAfrikaans HL 55% \n•\tEnglish 50%"},{"$f":"_xlfn.XLOOKUP(B314,'Programmes lists'!B:B,'Programmes lists'!F:F,\"Not found\")","v":532}]
["Intermediate Phase","Specialising in Life Skills, Social Sciences & Afrikaans Home Language","SICL3522 OR SSCL3522 OR ZUCL3522",{"$f":"_xlfn.XLOOKUP(C315,'RAW module list'!A:A,'RAW module list'!B:B, \"Not found\")","v":"Conversational Sign Language OR Conversational Sesotho OR Conversational IsiZulu"},{"$f":"_xlfn.XLOOKUP(C315,'RAW module list'!A:A,'RAW module list'!C:C, \"Not found\")","v":5},{"$f":"_xlfn.XLOOKUP(C315,'RAW module list'!A:A,'RAW module list'!D:D, \"Not found\")","v":8},{"$f":"_xlfn.XLOOKUP(C315,'RAW module list'!A:A,'RAW module list'!E:E, \"Not found\")","v":"Continue with the conversational language  chosen in Semester 1"},"Third Year",{"$f":"_xlfn.XLOOKUP(B315,'Programmes lists'!B:B,'Programmes lists'!D:D)","v":"BC735784"},{"$f":"_xlfn.XLOOKUP(B315,'Programmes lists'!B:B,'Programmes lists'!E:E, \"Not found\")","v":0},{"$f":"_xlfn.XLOOKUP(B315,'Programmes lists'!B:B,'Programmes lists'!G:G,\"Not found\")","v":"Minimum grade 12 pass in\n•\tAfrikaans HL 55% \n•\tEnglish 50%"},{"$f":"_xlfn.XLOOKUP(B315,'Programmes lists'!B:B,'Programmes lists'!F:F,\"Not found\")","v":532}]
["Intermediate Phase","Specialising in Life Skills, Social Sciences & Afrikaans Home Language","LSTI4705",{"$f":"_xlfn.XLOOKUP(C316,'RAW module list'!A:A,'RAW module list'!B:B, \"Not found\")","v":"Teaching of Life Skills 2"},{"$f":"_xlfn.XLOOKUP(C316,'RAW module list'!A:A,'RAW module list'!C:C, \"Not found\")","v":7},{"$f":"_xlfn.XLOOKUP(C316,'RAW module list'!A:A,'RAW module list'!D:D, \"Not found\")","v":20},{"$f":"_xlfn.XLOOKUP(C316,'RAW module list'!A:A,'RAW module list'!E:E, \"Not found\")","v":"LSTI3604"},"Fourth Year",{"$f":"_xlfn.XLOOKUP(B316,'Programmes lists'!B:B,'Programmes lists'!D:D)","v":"BC735784"},{"$f":"_xlfn.XLOOKUP(B316,'Programmes lists'!B:B,'Programmes lists'!E:E, \"Not found\")","v":0},{"$f":"_xlfn.XLOOKUP(B316,'Programmes lists'!B:B,'Programmes lists'!G:G,\"Not found\")","v":"Minimum grade 12 pass in\n•\tAfrikaans HL 55% \n•\tEnglish 50%"},{"$f":"_xlfn.XLOOKUP(B316,'Programmes lists'!B:B,'Programmes lists'!F:F,\"Not found\")","v":532}]
["Intermediate Phase","Specialising in Life Skills, Social Sciences & Afrikaans Home Language","SSTI4705",{"$f":"_xlfn.XLOOKUP(C317,'RAW module list'!A:A,'RAW module list'!B:B, \"Not found\")","v":"Teaching of Social Sciences 2"},{"$f":"_xlfn.XLOOKUP(C317,'RAW module list'!A:A,'RAW module list'!C:C, \"Not found\")","v":7},{"$f":"_xlfn.XLOOKUP(C317,'RAW module list'!A:A,'RAW module list'!D:D, \"Not found\")","v":20},{"$f":"_xlfn.XLOOKUP(C317,'RAW module list'!A:A,'RAW module list'!E:E, \"Not found\")","v":"SSTI3604"},"Fourth Year",{"$f":"_xlfn.XLOOKUP(B317,'Programmes lists'!B:B,'Programmes lists'!D:D)","v":"BC735784"},{"$f":"_xlfn.XLOOKUP(B317,'Programmes lists'!B:B,'Programmes lists'!E:E, \"Not found\")","v":0},{"$f":"_xlfn.XLOOKUP(B317,'Programmes lists'!B:B,'Programmes lists'!G:G,\"Not found\")","v":"Minimum grade 12 pass in\n•\tAfrikaans HL 55% \n•\tEnglish 50%"},{"$f":"_xlfn.XLOOKUP(B317,'Programmes lists'!B:B,'Programmes lists'!F:F,\"Not found\")","v":532}]
["Intermediate Phase","Specialising in Life Skills, Social Sciences & Afrikaans Home Language","AHTI4705",{"$f":"_xlfn.XLOOKUP(C318,'RAW module list'!A:A,'RAW module list'!B:B, \"Not found\")","v":"Afrikaans Teaching 2 (Home Language)"},{"$f":"_xlfn.XLOOKUP(C318,'RAW module list'!A:A,'RAW module list'!C:C, \"Not found\")","v":7},{"$f":"_xlfn.XLOOKUP(C318,'RAW module list'!A:A,'RAW module list'!D:D, \"Not found\")","v":20},{"$f":"_xlfn.XLOOKUP(C318,'RAW module list'!A:A,'RAW module list'!E:E, \"Not found\")","v":"AHTI3604"},"Fourth Year",{"$f":"_xlfn.XLOOKUP(B318,'Programmes lists'!B:B,'Programmes lists'!D:D)","v":"BC735784"},{"$f":"_xlfn.XLOOKUP(B318,'Programmes lists'!B:B,'Programmes lists'!E:E, \"Not found\")","v":0},{"$f":"_xlfn.XLOOKUP(B318,'Programmes lists'!B:B,'Programmes lists'!G:G,\"Not found\")","v":"Minimum grade 12 pass in\n•\tAfrikaans HL 55% \n•\tEnglish 50%"},{"$f":"_xlfn.XLOOKUP(B318,'Programmes lists'!B:B,'Programmes lists'!F:F,\"Not found\")","v":532}]
["Intermediate Phase","Specialising in Life Skills, Social Sciences & Afrikaans Home Language","EATI4705",{"$f":"_xlfn.XLOOKUP(C319,'RAW module list'!A:A,'RAW module list'!B:B, \"Not found\")","v":"English additional language teaching 2"},{"$f":"_xlfn.XLOOKUP(C319,'RAW module list'!A:A,'RAW module list'!C:C, \"Not found\")","v":7},{"$f":"_xlfn.XLOOKUP(C319,'RAW module list'!A:A,'RAW module list'!D:D, \"Not found\")","v":20},{"$f":"_xlfn.XLOOKUP(C319,'RAW module list'!A:A,'RAW module list'!E:E, \"Not found\")","v":"EATI3604"},"Fourth Year",{"$f":"_xlfn.XLOOKUP(B319,'Programmes lists'!B:B,'Programmes lists'!D:D)","v":"BC735784"},{"$f":"_xlfn.XLOOKUP(B319,'Programmes lists'!B:B,'Programmes lists'!E:E, \"Not found\")","v":0},{"$f":"_xlfn.XLOOKUP(B319,'Programmes lists'!B:B,'Programmes lists'!G:G,\"Not found\")","v":"Minimum grade 12 pass in\n•\tAfrikaans HL 55% \n•\tEnglish 50%"},{"$f":"_xlfn.XLOOKUP(B319,'Programmes lists'!B:B,'Programmes lists'!F:F,\"Not found\")","v":532}]
["Intermediate Phase","Specialising in Life Skills, Social Sciences & Afrikaans Home Language","CURS4502",{"$f":"_xlfn.XLOOKUP(C320,'RAW module list'!A:A,'RAW module list'!B:B, \"Not found\")","v":"Intermediate Phase School Curriculum"},{"$f":"_xlfn.XLOOKUP(C320,'RAW module list'!A:A,'RAW module list'!C:C, \"Not found\")","v":5},{"$f":"_xlfn.XLOOKUP(C320,'RAW module list'!A:A,'RAW module list'!D:D, \"Not found\")","v":8},{"$f":"_xlfn.XLOOKUP(C320,'RAW module list'!A:A,'RAW module list'!E:E, \"Not found\")","v":"CURS3502"},"Fourth Year",{"$f":"_xlfn.XLOOKUP(B320,'Programmes lists'!B:B,'Programmes lists'!D:D)","v":"BC735784"},{"$f":"_xlfn.XLOOKUP(B320,'Programmes lists'!B:B,'Programmes lists'!E:E, \"Not found\")","v":0},{"$f":"_xlfn.XLOOKUP(B320,'Programmes lists'!B:B,'Programmes lists'!G:G,\"Not found\")","v":"Minimum grade 12 pass in\n•\tAfrikaans HL 55% \n•\tEnglish 50%"},{"$f":"_xlfn.XLOOKUP(B320,'Programmes lists'!B:B,'Programmes lists'!F:F,\"Not found\")","v":532}]
["Intermediate Phase","Specialising in Life Skills, Social Sciences & Afrikaans Home Language","WILI4700",{"$f":"_xlfn.XLOOKUP(C321,'RAW module list'!A:A,'RAW module list'!B:B, \"Not found\")","v":"Teaching Practice 4"},{"$f":"_xlfn.XLOOKUP(C321,'RAW module list'!A:A,'RAW module list'!C:C, \"Not found\")","v":7},{"$f":"_xlfn.XLOOKUP(C321,'RAW module list'!A:A,'RAW module list'!D:D, \"Not found\")","v":40},{"$f":"_xlfn.XLOOKUP(C321,'RAW module list'!A:A,'RAW module list'!E:E, \"Not found\")","v":"WILI3606"},"Fourth Year",{"$f":"_xlfn.XLOOKUP(B321,'Programmes lists'!B:B,'Programmes lists'!D:D)","v":"BC735784"},{"$f":"_xlfn.XLOOKUP(B321,'Programmes lists'!B:B,'Programmes lists'!E:E, \"Not found\")","v":0},{"$f":"_xlfn.XLOOKUP(B321,'Programmes lists'!B:B,'Programmes lists'!G:G,\"Not found\")","v":"Minimum grade 12 pass in\n•\tAfrikaans HL 55% \n•\tEnglish 50%"},{"$f":"_xlfn.XLOOKUP(B321,'Programmes lists'!B:B,'Programmes lists'!F:F,\"Not found\")","v":532}]
["Intermediate Phase","Specialising in Life Skills, Social Sciences & Sesotho Home Language","LSCI1614",{"$f":"_xlfn.XLOOKUP(C322,'RAW module list'!A:A,'RAW module list'!B:B, \"Not found\")","v":"Life Skills "},{"$f":"_xlfn.XLOOKUP(C322,'RAW module list'!A:A,'RAW module list'!C:C, \"Not found\")","v":6},{"$f":"_xlfn.XLOOKUP(C322,'RAW module list'!A:A,'RAW module list'!D:D, \"Not found\")","v":16},{"$f":"_xlfn.XLOOKUP(C322,'RAW module list'!A:A,'RAW module list'!E:E, \"Not found\")","v":0},"First Year",{"$f":"_xlfn.XLOOKUP(B322,'Programmes lists'!B:B,'Programmes lists'!D:D)","v":"BC735782"},{"$f":"_xlfn.XLOOKUP(B322,'Programmes lists'!B:B,'Programmes lists'!E:E, \"Not found\")","v":"QC735782"},{"$f":"_xlfn.XLOOKUP(B322,'Programmes lists'!B:B,'Programmes lists'!G:G,\"Not found\")","v":"Minimum grade 12 pass in\n•\tSesotho HL 50% \n•\tEnglish 50%"},{"$f":"_xlfn.XLOOKUP(B322,'Programmes lists'!B:B,'Programmes lists'!F:F,\"Not found\")","v":532}]
["Intermediate Phase","Specialising in Life Skills, Social Sciences & Sesotho Home Language","LLST1513",{"$f":"_xlfn.XLOOKUP(C323,'RAW module list'!A:A,'RAW module list'!B:B, \"Not found\")","v":"Lifelong Learning Skills"},{"$f":"_xlfn.XLOOKUP(C323,'RAW module list'!A:A,'RAW module list'!C:C, \"Not found\")","v":5},{"$f":"_xlfn.XLOOKUP(C323,'RAW module list'!A:A,'RAW module list'!D:D, \"Not found\")","v":12},{"$f":"_xlfn.XLOOKUP(C323,'RAW module list'!A:A,'RAW module list'!E:E, \"Not found\")","v":0},"First Year",{"$f":"_xlfn.XLOOKUP(B323,'Programmes lists'!B:B,'Programmes lists'!D:D)","v":"BC735782"},{"$f":"_xlfn.XLOOKUP(B323,'Programmes lists'!B:B,'Programmes lists'!E:E, \"Not found\")","v":"QC735782"},{"$f":"_xlfn.XLOOKUP(B323,'Programmes lists'!B:B,'Programmes lists'!G:G,\"Not found\")","v":"Minimum grade 12 pass in\n•\tSesotho HL 50% \n•\tEnglish 50%"},{"$f":"_xlfn.XLOOKUP(B323,'Programmes lists'!B:B,'Programmes lists'!F:F,\"Not found\")","v":532}]
["Intermediate Phase","Specialising in Life Skills, Social Sciences & Sesotho Home Language","ENGE1608",{"$f":"_xlfn.XLOOKUP(C324,'RAW module list'!A:A,'RAW module list'!B:B, \"Not found\")","v":"English Language for Education "},{"$f":"_xlfn.XLOOKUP(C324,'RAW module list'!A:A,'RAW module list'!C:C, \"Not found\")","v":6},{"$f":"_xlfn.XLOOKUP(C324,'RAW module list'!A:A,'RAW module list'!D:D, \"Not found\")","v":32},{"$f":"_xlfn.XLOOKUP(C324,'RAW module list'!A:A,'RAW module list'!E:E, \"Not found\")","v":0},"First Year",{"$f":"_xlfn.XLOOKUP(B324,'Programmes lists'!B:B,'Programmes lists'!D:D)","v":"BC735782"},{"$f":"_xlfn.XLOOKUP(B324,'Programmes lists'!B:B,'Programmes lists'!E:E, \"Not found\")","v":"QC735782"},{"$f":"_xlfn.XLOOKUP(B324,'Programmes lists'!B:B,'Programmes lists'!G:G,\"Not found\")","v":"Minimum grade 12 pass in\n•\tSesotho HL 50% \n•\tEnglish 50%"},{"$f":"_xlfn.XLOOKUP(B324,'Programmes lists'!B:B,'Programmes lists'!F:F,\"Not found\")","v":532}]
["Intermediate Phase","Specialising in Life Skills, Social Sciences & Sesotho Home Language","EDUB1613",{"$f":"_xlfn.XLOOKUP(C325,'RAW module list'!A:A,'RAW module list'!B:B, \"Not found\")","v":"Education Studies 1.1 The Individual in the learning context"},{"$f":"_xlfn.XLOOKUP(C325,'RAW module list'!A:A,'RAW module list'!C:C, \"Not found\")","v":6},{"$f":"_xlfn.XLOOKUP(C325,'RAW module list'!A:A,'RAW module list'!D:D, \"Not found\")","v":12},{"$f":"_xlfn.XLOOKUP(C325,'RAW module list'!A:A,'RAW module list'!E:E, \"Not found\")","v":0},"First Year",{"$f":"_xlfn.XLOOKUP(B325,'Programmes lists'!B:B,'Programmes lists'!D:D)","v":"BC735782"},{"$f":"_xlfn.XLOOKUP(B325,'Programmes lists'!B:B,'Programmes lists'!E:E, \"Not found\")","v":"QC735782"},{"$f":"_xlfn.XLOOKUP(B325,'Programmes lists'!B:B,'Programmes lists'!G:G,\"Not found\")","v":"Minimum grade 12 pass in\n•\tSesotho HL 50% \n•\tEnglish 50%"},{"$f":"_xlfn.XLOOKUP(B325,'Programmes lists'!B:B,'Programmes lists'!F:F,\"Not found\")","v":532}]
["Intermediate Phase","Specialising in Life Skills, Social Sciences & Sesotho Home Language","TPRI1502",{"$f":"_xlfn.XLOOKUP(C326,'RAW module list'!A:A,'RAW module list'!B:B, \"Not found\")","v":"Teaching Practice 1"},{"$f":"_xlfn.XLOOKUP(C326,'RAW module list'!A:A,'RAW module list'!C:C, \"Not found\")","v":5},{"$f":"_xlfn.XLOOKUP(C326,'RAW module list'!A:A,'RAW module list'!D:D, \"Not found\")","v":8},{"$f":"_xlfn.XLOOKUP(C326,'RAW module list'!A:A,'RAW module list'!E:E, \"Not found\")","v":0},"First Year",{"$f":"_xlfn.XLOOKUP(B326,'Programmes lists'!B:B,'Programmes lists'!D:D)","v":"BC735782"},{"$f":"_xlfn.XLOOKUP(B326,'Programmes lists'!B:B,'Programmes lists'!E:E, \"Not found\")","v":"QC735782"},{"$f":"_xlfn.XLOOKUP(B326,'Programmes lists'!B:B,'Programmes lists'!G:G,\"Not found\")","v":"Minimum grade 12 pass in\n•\tSesotho HL 50% \n•\tEnglish 50%"},{"$f":"_xlfn.XLOOKUP(B326,'Programmes lists'!B:B,'Programmes lists'!F:F,\"Not found\")","v":532}]
["Intermediate Phase","Specialising in Life Skills, Social Sciences & Sesotho Home Language","UFSS1504",{"$f":"_xlfn.XLOOKUP(C327,'RAW module list'!A:A,'RAW module list'!B:B, \"Not found\")","v":"Undergraduate core curriculum"},{"$f":"_xlfn.XLOOKUP(C327,'RAW module list'!A:A,'RAW module list'!C:C, \"Not found\")","v":5},{"$f":"_xlfn.XLOOKUP(C327,'RAW module list'!A:A,'RAW module list'!D:D, \"Not found\")","v":-16},{"$f":"_xlfn.XLOOKUP(C327,'RAW module list'!A:A,'RAW module list'!E:E, \"Not found\")","v":0},"First Year",{"$f":"_xlfn.XLOOKUP(B327,'Programmes lists'!B:B,'Programmes lists'!D:D)","v":"BC735782"},{"$f":"_xlfn.XLOOKUP(B327,'Programmes lists'!B:B,'Programmes lists'!E:E, \"Not found\")","v":"QC735782"},{"$f":"_xlfn.XLOOKUP(B327,'Programmes lists'!B:B,'Programmes lists'!G:G,\"Not found\")","v":"Minimum grade 12 pass in\n•\tSesotho HL 50% \n•\tEnglish 50%"},{"$f":"_xlfn.XLOOKUP(B327,'Programmes lists'!B:B,'Programmes lists'!F:F,\"Not found\")","v":532}]
["Intermediate Phase","Specialising in Life Skills, Social Sciences & Sesotho Home Language","EALT1508",{"$f":"_xlfn.XLOOKUP(C328,'RAW module list'!A:A,'RAW module list'!B:B, \"Not found\")","v":"English Academic Literacy for Education "},{"$f":"_xlfn.XLOOKUP(C328,'RAW module list'!A:A,'RAW module list'!C:C, \"Not found\")","v":5},{"$f":"_xlfn.XLOOKUP(C328,'RAW module list'!A:A,'RAW module list'!D:D, \"Not found\")","v":-32},{"$f":"_xlfn.XLOOKUP(C328,'RAW module list'!A:A,'RAW module list'!E:E, \"Not found\")","v":"NBT requirements not met"},"First Year",{"$f":"_xlfn.XLOOKUP(B328,'Programmes lists'!B:B,'Programmes lists'!D:D)","v":"BC735782"},{"$f":"_xlfn.XLOOKUP(B328,'Programmes lists'!B:B,'Programmes lists'!E:E, \"Not found\")","v":"QC735782"},{"$f":"_xlfn.XLOOKUP(B328,'Programmes lists'!B:B,'Programmes lists'!G:G,\"Not found\")","v":"Minimum grade 12 pass in\n•\tSesotho HL 50% \n•\tEnglish 50%"},{"$f":"_xlfn.XLOOKUP(B328,'Programmes lists'!B:B,'Programmes lists'!F:F,\"Not found\")","v":532}]
["Intermediate Phase","Specialising in Life Skills, Social Sciences & Sesotho Home Language","LSCI1624",{"$f":"_xlfn.XLOOKUP(C329,'RAW module list'!A:A,'RAW module list'!B:B, \"Not found\")","v":"Life Skills 1"},{"$f":"_xlfn.XLOOKUP(C329,'RAW module list'!A:A,'RAW module list'!C:C, \"Not found\")","v":6},{"$f":"_xlfn.XLOOKUP(C329,'RAW module list'!A:A,'RAW module list'!D:D, \"Not found\")","v":16},{"$f":"_xlfn.XLOOKUP(C329,'RAW module list'!A:A,'RAW module list'!E:E, \"Not found\")","v":0},"First Year",{"$f":"_xlfn.XLOOKUP(B329,'Programmes lists'!B:B,'Programmes lists'!D:D)","v":"BC735782"},{"$f":"_xlfn.XLOOKUP(B329,'Programmes lists'!B:B,'Programmes lists'!E:E, \"Not found\")","v":"QC735782"},{"$f":"_xlfn.XLOOKUP(B329,'Programmes lists'!B:B,'Programmes lists'!G:G,\"Not found\")","v":"Minimum grade 12 pass in\n•\tSesotho HL 50% \n•\tEnglish 50%"},{"$f":"_xlfn.XLOOKUP(B329,'Programmes lists'!B:B,'Programmes lists'!F:F,\"Not found\")","v":532}]
["Intermediate Phase","Specialising in Life Skills, Social Sciences & Sesotho Home Language","EDUB1623",{"$f":"_xlfn.XLOOKUP(C330,'RAW module list'!A:A,'RAW module list'!B:B, \"Not found\")","v":"Education Studies 1.2 What it means to educate: Theoretical perspectives and their significance for SA education"},{"$f":"_xlfn.XLOOKUP(C330,'RAW module list'!A:A,'RAW module list'!C:C, \"Not found\")","v":6},{"$f":"_xlfn.XLOOKUP(C330,'RAW module list'!A:A,'RAW module list'!D:D, \"Not found\")","v":12},{"$f":"_xlfn.XLOOKUP(C330,'RAW module list'!A:A,'RAW module list'!E:E, \"Not found\")","v":0},"First Year",{"$f":"_xlfn.XLOOKUP(B330,'Programmes lists'!B:B,'Programmes lists'!D:D)","v":"BC735782"},{"$f":"_xlfn.XLOOKUP(B330,'Programmes lists'!B:B,'Programmes lists'!E:E, \"Not found\")","v":"QC735782"},{"$f":"_xlfn.XLOOKUP(B330,'Programmes lists'!B:B,'Programmes lists'!G:G,\"Not found\")","v":"Minimum grade 12 pass in\n•\tSesotho HL 50% \n•\tEnglish 50%"},{"$f":"_xlfn.XLOOKUP(B330,'Programmes lists'!B:B,'Programmes lists'!F:F,\"Not found\")","v":532}]
["Intermediate Phase","Specialising in Life Skills, Social Sciences & Sesotho Home Language","GPED1623",{"$f":"_xlfn.XLOOKUP(C331,'RAW module list'!A:A,'RAW module list'!B:B, \"Not found\")","v":"General Pedagogy 1: Managing the Curriculum"},{"$f":"_xlfn.XLOOKUP(C331,'RAW module list'!A:A,'RAW module list'!C:C, \"Not found\")","v":6},{"$f":"_xlfn.XLOOKUP(C331,'RAW module list'!A:A,'RAW module list'!D:D, \"Not found\")","v":12},{"$f":"_xlfn.XLOOKUP(C331,'RAW module list'!A:A,'RAW module list'!E:E, \"Not found\")","v":0},"First Year",{"$f":"_xlfn.XLOOKUP(B331,'Programmes lists'!B:B,'Programmes lists'!D:D)","v":"BC735782"},{"$f":"_xlfn.XLOOKUP(B331,'Programmes lists'!B:B,'Programmes lists'!E:E, \"Not found\")","v":"QC735782"},{"$f":"_xlfn.XLOOKUP(B331,'Programmes lists'!B:B,'Programmes lists'!G:G,\"Not found\")","v":"Minimum grade 12 pass in\n•\tSesotho HL 50% \n•\tEnglish 50%"},{"$f":"_xlfn.XLOOKUP(B331,'Programmes lists'!B:B,'Programmes lists'!F:F,\"Not found\")","v":532}]
["Intermediate Phase","Specialising in Life Skills, Social Sciences & Sesotho Home Language","SSCI2614",{"$f":"_xlfn.XLOOKUP(C332,'RAW module list'!A:A,'RAW module list'!B:B, \"Not found\")","v":"Social Science History"},{"$f":"_xlfn.XLOOKUP(C332,'RAW module list'!A:A,'RAW module list'!C:C, \"Not found\")","v":6},{"$f":"_xlfn.XLOOKUP(C332,'RAW module list'!A:A,'RAW module list'!D:D, \"Not found\")","v":16},{"$f":"_xlfn.XLOOKUP(C332,'RAW module list'!A:A,'RAW module list'!E:E, \"Not found\")","v":0},"Second Year",{"$f":"_xlfn.XLOOKUP(B332,'Programmes lists'!B:B,'Programmes lists'!D:D)","v":"BC735782"},{"$f":"_xlfn.XLOOKUP(B332,'Programmes lists'!B:B,'Programmes lists'!E:E, \"Not found\")","v":"QC735782"},{"$f":"_xlfn.XLOOKUP(B332,'Programmes lists'!B:B,'Programmes lists'!G:G,\"Not found\")","v":"Minimum grade 12 pass in\n•\tSesotho HL 50% \n•\tEnglish 50%"},{"$f":"_xlfn.XLOOKUP(B332,'Programmes lists'!B:B,'Programmes lists'!F:F,\"Not found\")","v":532}]
["Intermediate Phase","Specialising in Life Skills, Social Sciences & Sesotho Home Language","SSML1514",{"$f":"_xlfn.XLOOKUP(C333,'RAW module list'!A:A,'RAW module list'!B:B, \"Not found\")","v":"Sesotho language structure "},{"$f":"_xlfn.XLOOKUP(C333,'RAW module list'!A:A,'RAW module list'!C:C, \"Not found\")","v":5},{"$f":"_xlfn.XLOOKUP(C333,'RAW module list'!A:A,'RAW module list'!D:D, \"Not found\")","v":16},{"$f":"_xlfn.XLOOKUP(C333,'RAW module list'!A:A,'RAW module list'!E:E, \"Not found\")","v":0},"Second Year",{"$f":"_xlfn.XLOOKUP(B333,'Programmes lists'!B:B,'Programmes lists'!D:D)","v":"BC735782"},{"$f":"_xlfn.XLOOKUP(B333,'Programmes lists'!B:B,'Programmes lists'!E:E, \"Not found\")","v":"QC735782"},{"$f":"_xlfn.XLOOKUP(B333,'Programmes lists'!B:B,'Programmes lists'!G:G,\"Not found\")","v":"Minimum grade 12 pass in\n•\tSesotho HL 50% \n•\tEnglish 50%"},{"$f":"_xlfn.XLOOKUP(B333,'Programmes lists'!B:B,'Programmes lists'!F:F,\"Not found\")","v":532}]
["Intermediate Phase","Specialising in Life Skills, Social Sciences & Sesotho Home Language","MTBI2503",{"$f":"_xlfn.XLOOKUP(C334,'RAW module list'!A:A,'RAW module list'!B:B, \"Not found\")","v":"Basic Mathematics "},{"$f":"_xlfn.XLOOKUP(C334,'RAW module list'!A:A,'RAW module list'!C:C, \"Not found\")","v":5},{"$f":"_xlfn.XLOOKUP(C334,'RAW module list'!A:A,'RAW module list'!D:D, \"Not found\")","v":12},{"$f":"_xlfn.XLOOKUP(C334,'RAW module list'!A:A,'RAW module list'!E:E, \"Not found\")","v":0},"Second Year",{"$f":"_xlfn.XLOOKUP(B334,'Programmes lists'!B:B,'Programmes lists'!D:D)","v":"BC735782"},{"$f":"_xlfn.XLOOKUP(B334,'Programmes lists'!B:B,'Programmes lists'!E:E, \"Not found\")","v":"QC735782"},{"$f":"_xlfn.XLOOKUP(B334,'Programmes lists'!B:B,'Programmes lists'!G:G,\"Not found\")","v":"Minimum grade 12 pass in\n•\tSesotho HL 50% \n•\tEnglish 50%"},{"$f":"_xlfn.XLOOKUP(B334,'Programmes lists'!B:B,'Programmes lists'!F:F,\"Not found\")","v":532}]
["Intermediate Phase","Specialising in Life Skills, Social Sciences & Sesotho Home Language","EDUB2714",{"$f":"_xlfn.XLOOKUP(C335,'RAW module list'!A:A,'RAW module list'!B:B, \"Not found\")","v":"Education Studies 2: Teaching and Learning in Education Context"},{"$f":"_xlfn.XLOOKUP(C335,'RAW module list'!A:A,'RAW module list'!C:C, \"Not found\")","v":7},{"$f":"_xlfn.XLOOKUP(C335,'RAW module list'!A:A,'RAW module list'!D:D, \"Not found\")","v":16},{"$f":"_xlfn.XLOOKUP(C335,'RAW module list'!A:A,'RAW module list'!E:E, \"Not found\")","v":"EDUB1613 & EDUB1623"},"Second Year",{"$f":"_xlfn.XLOOKUP(B335,'Programmes lists'!B:B,'Programmes lists'!D:D)","v":"BC735782"},{"$f":"_xlfn.XLOOKUP(B335,'Programmes lists'!B:B,'Programmes lists'!E:E, \"Not found\")","v":"QC735782"},{"$f":"_xlfn.XLOOKUP(B335,'Programmes lists'!B:B,'Programmes lists'!G:G,\"Not found\")","v":"Minimum grade 12 pass in\n•\tSesotho HL 50% \n•\tEnglish 50%"},{"$f":"_xlfn.XLOOKUP(B335,'Programmes lists'!B:B,'Programmes lists'!F:F,\"Not found\")","v":532}]
["Intermediate Phase","Specialising in Life Skills, Social Sciences & Sesotho Home Language","GPED2613",{"$f":"_xlfn.XLOOKUP(C336,'RAW module list'!A:A,'RAW module list'!B:B, \"Not found\")","v":"General Pedagogy 2.1"},{"$f":"_xlfn.XLOOKUP(C336,'RAW module list'!A:A,'RAW module list'!C:C, \"Not found\")","v":6},{"$f":"_xlfn.XLOOKUP(C336,'RAW module list'!A:A,'RAW module list'!D:D, \"Not found\")","v":12},{"$f":"_xlfn.XLOOKUP(C336,'RAW module list'!A:A,'RAW module list'!E:E, \"Not found\")","v":"GPED1623"},"Second Year",{"$f":"_xlfn.XLOOKUP(B336,'Programmes lists'!B:B,'Programmes lists'!D:D)","v":"BC735782"},{"$f":"_xlfn.XLOOKUP(B336,'Programmes lists'!B:B,'Programmes lists'!E:E, \"Not found\")","v":"QC735782"},{"$f":"_xlfn.XLOOKUP(B336,'Programmes lists'!B:B,'Programmes lists'!G:G,\"Not found\")","v":"Minimum grade 12 pass in\n•\tSesotho HL 50% \n•\tEnglish 50%"},{"$f":"_xlfn.XLOOKUP(B336,'Programmes lists'!B:B,'Programmes lists'!F:F,\"Not found\")","v":532}]
["Intermediate Phase","Specialising in Life Skills, Social Sciences & Sesotho Home Language","TPRI2502",{"$f":"_xlfn.XLOOKUP(C337,'RAW module list'!A:A,'RAW module list'!B:B, \"Not found\")","v":"Teaching Practice 2 "},{"$f":"_xlfn.XLOOKUP(C337,'RAW module list'!A:A,'RAW module list'!C:C, \"Not found\")","v":5},{"$f":"_xlfn.XLOOKUP(C337,'RAW module list'!A:A,'RAW module list'!D:D, \"Not found\")","v":8},{"$f":"_xlfn.XLOOKUP(C337,'RAW module list'!A:A,'RAW module list'!E:E, \"Not found\")","v":"TPRI1502"},"Second Year",{"$f":"_xlfn.XLOOKUP(B337,'Programmes lists'!B:B,'Programmes lists'!D:D)","v":"BC735782"},{"$f":"_xlfn.XLOOKUP(B337,'Programmes lists'!B:B,'Programmes lists'!E:E, \"Not found\")","v":"QC735782"},{"$f":"_xlfn.XLOOKUP(B337,'Programmes lists'!B:B,'Programmes lists'!G:G,\"Not found\")","v":"Minimum grade 12 pass in\n•\tSesotho HL 50% \n•\tEnglish 50%"},{"$f":"_xlfn.XLOOKUP(B337,'Programmes lists'!B:B,'Programmes lists'!F:F,\"Not found\")","v":532}]
["Intermediate Phase","Specialising in Life Skills, Social Sciences & Sesotho Home Language","SSCI2624",{"$f":"_xlfn.XLOOKUP(C338,'RAW module list'!A:A,'RAW module list'!B:B, \"Not found\")","v":"Social Sciences 2: Geography"},{"$f":"_xlfn.XLOOKUP(C338,'RAW module list'!A:A,'RAW module list'!C:C, \"Not found\")","v":6},{"$f":"_xlfn.XLOOKUP(C338,'RAW module list'!A:A,'RAW module list'!D:D, \"Not found\")","v":16},{"$f":"_xlfn.XLOOKUP(C338,'RAW module list'!A:A,'RAW module list'!E:E, \"Not found\")","v":0},"Second Year",{"$f":"_xlfn.XLOOKUP(B338,'Programmes lists'!B:B,'Programmes lists'!D:D)","v":"BC735782"},{"$f":"_xlfn.XLOOKUP(B338,'Programmes lists'!B:B,'Programmes lists'!E:E, \"Not found\")","v":"QC735782"},{"$f":"_xlfn.XLOOKUP(B338,'Programmes lists'!B:B,'Programmes lists'!G:G,\"Not found\")","v":"Minimum grade 12 pass in\n•\tSesotho HL 50% \n•\tEnglish 50%"},{"$f":"_xlfn.XLOOKUP(B338,'Programmes lists'!B:B,'Programmes lists'!F:F,\"Not found\")","v":532}]
["Intermediate Phase","Specialising in Life Skills, Social Sciences & Sesotho Home Language","SSMT1524",{"$f":"_xlfn.XLOOKUP(C339,'RAW module list'!A:A,'RAW module list'!B:B, \"Not found\")","v":"Prose fiction in Sesotho"},{"$f":"_xlfn.XLOOKUP(C339,'RAW module list'!A:A,'RAW module list'!C:C, \"Not found\")","v":5},{"$f":"_xlfn.XLOOKUP(C339,'RAW module list'!A:A,'RAW module list'!D:D, \"Not found\")","v":16},{"$f":"_xlfn.XLOOKUP(C339,'RAW module list'!A:A,'RAW module list'!E:E, \"Not found\")","v":"SSML1514"},"Second Year",{"$f":"_xlfn.XLOOKUP(B339,'Programmes lists'!B:B,'Programmes lists'!D:D)","v":"BC735782"},{"$f":"_xlfn.XLOOKUP(B339,'Programmes lists'!B:B,'Programmes lists'!E:E, \"Not found\")","v":"QC735782"},{"$f":"_xlfn.XLOOKUP(B339,'Programmes lists'!B:B,'Programmes lists'!G:G,\"Not found\")","v":"Minimum grade 12 pass in\n•\tSesotho HL 50% \n•\tEnglish 50%"},{"$f":"_xlfn.XLOOKUP(B339,'Programmes lists'!B:B,'Programmes lists'!F:F,\"Not found\")","v":532}]
["Intermediate Phase","Specialising in Life Skills, Social Sciences & Sesotho Home Language","EDUB2724",{"$f":"_xlfn.XLOOKUP(C340,'RAW module list'!A:A,'RAW module list'!B:B, \"Not found\")","v":"Education Studies 2: Human Relationships in Education context"},{"$f":"_xlfn.XLOOKUP(C340,'RAW module list'!A:A,'RAW module list'!C:C, \"Not found\")","v":7},{"$f":"_xlfn.XLOOKUP(C340,'RAW module list'!A:A,'RAW module list'!D:D, \"Not found\")","v":16},{"$f":"_xlfn.XLOOKUP(C340,'RAW module list'!A:A,'RAW module list'!E:E, \"Not found\")","v":"EDUB2714"},"Second Year",{"$f":"_xlfn.XLOOKUP(B340,'Programmes lists'!B:B,'Programmes lists'!D:D)","v":"BC735782"},{"$f":"_xlfn.XLOOKUP(B340,'Programmes lists'!B:B,'Programmes lists'!E:E, \"Not found\")","v":"QC735782"},{"$f":"_xlfn.XLOOKUP(B340,'Programmes lists'!B:B,'Programmes lists'!G:G,\"Not found\")","v":"Minimum grade 12 pass in\n•\tSesotho HL 50% \n•\tEnglish 50%"},{"$f":"_xlfn.XLOOKUP(B340,'Programmes lists'!B:B,'Programmes lists'!F:F,\"Not found\")","v":532}]
["Intermediate Phase","Specialising in Life Skills, Social Sciences & Sesotho Home Language","GPED2623",{"$f":"_xlfn.XLOOKUP(C341,'RAW module list'!A:A,'RAW module list'!B:B, \"Not found\")","v":"General Pedagogy 2.2: Assessment"},{"$f":"_xlfn.XLOOKUP(C341,'RAW module list'!A:A,'RAW module list'!C:C, \"Not found\")","v":6},{"$f":"_xlfn.XLOOKUP(C341,'RAW module list'!A:A,'RAW module list'!D:D, \"Not found\")","v":12},{"$f":"_xlfn.XLOOKUP(C341,'RAW module list'!A:A,'RAW module list'!E:E, \"Not found\")","v":"GPED2613"},"Second Year",{"$f":"_xlfn.XLOOKUP(B341,'Programmes lists'!B:B,'Programmes lists'!D:D)","v":"BC735782"},{"$f":"_xlfn.XLOOKUP(B341,'Programmes lists'!B:B,'Programmes lists'!E:E, \"Not found\")","v":"QC735782"},{"$f":"_xlfn.XLOOKUP(B341,'Programmes lists'!B:B,'Programmes lists'!G:G,\"Not found\")","v":"Minimum grade 12 pass in\n•\tSesotho HL 50% \n•\tEnglish 50%"},{"$f":"_xlfn.XLOOKUP(B341,'Programmes lists'!B:B,'Programmes lists'!F:F,\"Not found\")","v":532}]
["Intermediate Phase","Specialising in Life Skills, Social Sciences & Sesotho Home Language","LSTI3604",{"$f":"_xlfn.XLOOKUP(C342,'RAW module list'!A:A,'RAW module list'!B:B, \"Not found\")","v":"Teaching of Life Skills 1 "},{"$f":"_xlfn.XLOOKUP(C342,'RAW module list'!A:A,'RAW module list'!C:C, \"Not found\")","v":6},{"$f":"_xlfn.XLOOKUP(C342,'RAW module list'!A:A,'RAW module list'!D:D, \"Not found\")","v":16},{"$f":"_xlfn.XLOOKUP(C342,'RAW module list'!A:A,'RAW module list'!E:E, \"Not found\")","v":"LSCI614 & LSCI2624"},"Third Year",{"$f":"_xlfn.XLOOKUP(B342,'Programmes lists'!B:B,'Programmes lists'!D:D)","v":"BC735782"},{"$f":"_xlfn.XLOOKUP(B342,'Programmes lists'!B:B,'Programmes lists'!E:E, \"Not found\")","v":"QC735782"},{"$f":"_xlfn.XLOOKUP(B342,'Programmes lists'!B:B,'Programmes lists'!G:G,\"Not found\")","v":"Minimum grade 12 pass in\n•\tSesotho HL 50% \n•\tEnglish 50%"},{"$f":"_xlfn.XLOOKUP(B342,'Programmes lists'!B:B,'Programmes lists'!F:F,\"Not found\")","v":532}]
["Intermediate Phase","Specialising in Life Skills, Social Sciences & Sesotho Home Language","SSTI3604",{"$f":"_xlfn.XLOOKUP(C343,'RAW module list'!A:A,'RAW module list'!B:B, \"Not found\")","v":"Teaching Social Sciences 1"},{"$f":"_xlfn.XLOOKUP(C343,'RAW module list'!A:A,'RAW module list'!C:C, \"Not found\")","v":6},{"$f":"_xlfn.XLOOKUP(C343,'RAW module list'!A:A,'RAW module list'!D:D, \"Not found\")","v":16},{"$f":"_xlfn.XLOOKUP(C343,'RAW module list'!A:A,'RAW module list'!E:E, \"Not found\")","v":"SSCI2614 & SSCI2624"},"Third Year",{"$f":"_xlfn.XLOOKUP(B343,'Programmes lists'!B:B,'Programmes lists'!D:D)","v":"BC735782"},{"$f":"_xlfn.XLOOKUP(B343,'Programmes lists'!B:B,'Programmes lists'!E:E, \"Not found\")","v":"QC735782"},{"$f":"_xlfn.XLOOKUP(B343,'Programmes lists'!B:B,'Programmes lists'!G:G,\"Not found\")","v":"Minimum grade 12 pass in\n•\tSesotho HL 50% \n•\tEnglish 50%"},{"$f":"_xlfn.XLOOKUP(B343,'Programmes lists'!B:B,'Programmes lists'!F:F,\"Not found\")","v":532}]
["Intermediate Phase","Specialising in Life Skills, Social Sciences & Sesotho Home Language","SHTI3604",{"$f":"_xlfn.XLOOKUP(C344,'RAW module list'!A:A,'RAW module list'!B:B, \"Not found\")","v":"Sesotho Teaching 1: Home Language"},{"$f":"_xlfn.XLOOKUP(C344,'RAW module list'!A:A,'RAW module list'!C:C, \"Not found\")","v":6},{"$f":"_xlfn.XLOOKUP(C344,'RAW module list'!A:A,'RAW module list'!D:D, \"Not found\")","v":16},{"$f":"_xlfn.XLOOKUP(C344,'RAW module list'!A:A,'RAW module list'!E:E, \"Not found\")","v":"SSML1514 & SSMT1524"},"Third Year",{"$f":"_xlfn.XLOOKUP(B344,'Programmes lists'!B:B,'Programmes lists'!D:D)","v":"BC735782"},{"$f":"_xlfn.XLOOKUP(B344,'Programmes lists'!B:B,'Programmes lists'!E:E, \"Not found\")","v":"QC735782"},{"$f":"_xlfn.XLOOKUP(B344,'Programmes lists'!B:B,'Programmes lists'!G:G,\"Not found\")","v":"Minimum grade 12 pass in\n•\tSesotho HL 50% \n•\tEnglish 50%"},{"$f":"_xlfn.XLOOKUP(B344,'Programmes lists'!B:B,'Programmes lists'!F:F,\"Not found\")","v":532}]
["Intermediate Phase","Specialising in Life Skills, Social Sciences & Sesotho Home Language","EATI3604",{"$f":"_xlfn.XLOOKUP(C345,'RAW module list'!A:A,'RAW module list'!B:B, \"Not found\")","v":"English additional language teaching 1"},{"$f":"_xlfn.XLOOKUP(C345,'RAW module list'!A:A,'RAW module list'!C:C, \"Not found\")","v":6},{"$f":"_xlfn.XLOOKUP(C345,'RAW module list'!A:A,'RAW module list'!D:D, \"Not found\")","v":16},{"$f":"_xlfn.XLOOKUP(C345,'RAW module list'!A:A,'RAW module list'!E:E, \"Not found\")","v":"ENGE1608"},"Third Year",{"$f":"_xlfn.XLOOKUP(B345,'Programmes lists'!B:B,'Programmes lists'!D:D)","v":"BC735782"},{"$f":"_xlfn.XLOOKUP(B345,'Programmes lists'!B:B,'Programmes lists'!E:E, \"Not found\")","v":"QC735782"},{"$f":"_xlfn.XLOOKUP(B345,'Programmes lists'!B:B,'Programmes lists'!G:G,\"Not found\")","v":"Minimum grade 12 pass in\n•\tSesotho HL 50% \n•\tEnglish 50%"},{"$f":"_xlfn.XLOOKUP(B345,'Programmes lists'!B:B,'Programmes lists'!F:F,\"Not found\")","v":532}]
["Intermediate Phase","Specialising in Life Skills, Social Sciences & Sesotho Home Language","CURS3502",{"$f":"_xlfn.XLOOKUP(C346,'RAW module list'!A:A,'RAW module list'!B:B, \"Not found\")","v":"Intermediate Phase School Curriculum"},{"$f":"_xlfn.XLOOKUP(C346,'RAW module list'!A:A,'RAW module list'!C:C, \"Not found\")","v":5},{"$f":"_xlfn.XLOOKUP(C346,'RAW module list'!A:A,'RAW module list'!D:D, \"Not found\")","v":8},{"$f":"_xlfn.XLOOKUP(C346,'RAW module list'!A:A,'RAW module list'!E:E, \"Not found\")","v":0},"Third Year",{"$f":"_xlfn.XLOOKUP(B346,'Programmes lists'!B:B,'Programmes lists'!D:D)","v":"BC735782"},{"$f":"_xlfn.XLOOKUP(B346,'Programmes lists'!B:B,'Programmes lists'!E:E, \"Not found\")","v":"QC735782"},{"$f":"_xlfn.XLOOKUP(B346,'Programmes lists'!B:B,'Programmes lists'!G:G,\"Not found\")","v":"Minimum grade 12 pass in\n•\tSesotho HL 50% \n•\tEnglish 50%"},{"$f":"_xlfn.XLOOKUP(B346,'Programmes lists'!B:B,'Programmes lists'!F:F,\"Not found\")","v":532}]
["Intermediate Phase","Specialising in Life Skills, Social Sciences & Sesotho Home Language","EDUB3714",{"$f":"_xlfn.XLOOKUP(C347,'RAW module list'!A:A,'RAW module list'!B:B, \"Not found\")","v":"Education Studies 3.1 Education systems in global and national context"},{"$f":"_xlfn.XLOOKUP(C347,'RAW module list'!A:A,'RAW module list'!C:C, \"Not found\")","v":7},{"$f":"_xlfn.XLOOKUP(C347,'RAW module list'!A:A,'RAW module list'!D:D, \"Not found\")","v":16},{"$f":"_xlfn.XLOOKUP(C347,'RAW module list'!A:A,'RAW module list'!E:E, \"Not found\")","v":"EDUB1613 & EDUB1623& EDUB2714 & EDUB2724"},"Third Year",{"$f":"_xlfn.XLOOKUP(B347,'Programmes lists'!B:B,'Programmes lists'!D:D)","v":"BC735782"},{"$f":"_xlfn.XLOOKUP(B347,'Programmes lists'!B:B,'Programmes lists'!E:E, \"Not found\")","v":"QC735782"},{"$f":"_xlfn.XLOOKUP(B347,'Programmes lists'!B:B,'Programmes lists'!G:G,\"Not found\")","v":"Minimum grade 12 pass in\n•\tSesotho HL 50% \n•\tEnglish 50%"},{"$f":"_xlfn.XLOOKUP(B347,'Programmes lists'!B:B,'Programmes lists'!F:F,\"Not found\")","v":532}]
["Intermediate Phase","Specialising in Life Skills, Social Sciences & Sesotho Home Language","SICL3512 OR GAFR3512 OR ZUCL3512",{"$f":"_xlfn.XLOOKUP(C348,'RAW module list'!A:A,'RAW module list'!B:B, \"Not found\")","v":"Conversational Language: Sesotho OR Conversational Afrikaans OR Conversational IsiZulu"},{"$f":"_xlfn.XLOOKUP(C348,'RAW module list'!A:A,'RAW module list'!C:C, \"Not found\")","v":5},{"$f":"_xlfn.XLOOKUP(C348,'RAW module list'!A:A,'RAW module list'!D:D, \"Not found\")","v":8},{"$f":"_xlfn.XLOOKUP(C348,'RAW module list'!A:A,'RAW module list'!E:E, \"Not found\")","v":"No previous exposure to the language"},"Third Year",{"$f":"_xlfn.XLOOKUP(B348,'Programmes lists'!B:B,'Programmes lists'!D:D)","v":"BC735782"},{"$f":"_xlfn.XLOOKUP(B348,'Programmes lists'!B:B,'Programmes lists'!E:E, \"Not found\")","v":"QC735782"},{"$f":"_xlfn.XLOOKUP(B348,'Programmes lists'!B:B,'Programmes lists'!G:G,\"Not found\")","v":"Minimum grade 12 pass in\n•\tSesotho HL 50% \n•\tEnglish 50%"},{"$f":"_xlfn.XLOOKUP(B348,'Programmes lists'!B:B,'Programmes lists'!F:F,\"Not found\")","v":532}]
["Intermediate Phase","Specialising in Life Skills, Social Sciences & Sesotho Home Language","WILI3606",{"$f":"_xlfn.XLOOKUP(C349,'RAW module list'!A:A,'RAW module list'!B:B, \"Not found\")","v":"Teaching Practice 3"},{"$f":"_xlfn.XLOOKUP(C349,'RAW module list'!A:A,'RAW module list'!C:C, \"Not found\")","v":6},{"$f":"_xlfn.XLOOKUP(C349,'RAW module list'!A:A,'RAW module list'!D:D, \"Not found\")","v":24},{"$f":"_xlfn.XLOOKUP(C349,'RAW module list'!A:A,'RAW module list'!E:E, \"Not found\")","v":"TPRI2502"},"Third Year",{"$f":"_xlfn.XLOOKUP(B349,'Programmes lists'!B:B,'Programmes lists'!D:D)","v":"BC735782"},{"$f":"_xlfn.XLOOKUP(B349,'Programmes lists'!B:B,'Programmes lists'!E:E, \"Not found\")","v":"QC735782"},{"$f":"_xlfn.XLOOKUP(B349,'Programmes lists'!B:B,'Programmes lists'!G:G,\"Not found\")","v":"Minimum grade 12 pass in\n•\tSesotho HL 50% \n•\tEnglish 50%"},{"$f":"_xlfn.XLOOKUP(B349,'Programmes lists'!B:B,'Programmes lists'!F:F,\"Not found\")","v":532}]
["Intermediate Phase","Specialising in Life Skills, Social Sciences & Sesotho Home Language","EDUB3724",{"$f":"_xlfn.XLOOKUP(C350,'RAW module list'!A:A,'RAW module list'!B:B, \"Not found\")","v":"Education Studies 3.2: Contemporary Education Theory in the current social context"},{"$f":"_xlfn.XLOOKUP(C350,'RAW module list'!A:A,'RAW module list'!C:C, \"Not found\")","v":7},{"$f":"_xlfn.XLOOKUP(C350,'RAW module list'!A:A,'RAW module list'!D:D, \"Not found\")","v":16},{"$f":"_xlfn.XLOOKUP(C350,'RAW module list'!A:A,'RAW module list'!E:E, \"Not found\")","v":"EDUB1613 & EDUB1623 & EDUB2714 & EDUB2724 & EDUB3714"},"Third Year",{"$f":"_xlfn.XLOOKUP(B350,'Programmes lists'!B:B,'Programmes lists'!D:D)","v":"BC735782"},{"$f":"_xlfn.XLOOKUP(B350,'Programmes lists'!B:B,'Programmes lists'!E:E, \"Not found\")","v":"QC735782"},{"$f":"_xlfn.XLOOKUP(B350,'Programmes lists'!B:B,'Programmes lists'!G:G,\"Not found\")","v":"Minimum grade 12 pass in\n•\tSesotho HL 50% \n•\tEnglish 50%"},{"$f":"_xlfn.XLOOKUP(B350,'Programmes lists'!B:B,'Programmes lists'!F:F,\"Not found\")","v":532}]
["Intermediate Phase","Specialising in Life Skills, Social Sciences & Sesotho Home Language","SICL3522 OR GAFR3522 OR ZUCL3522",{"$f":"_xlfn.XLOOKUP(C351,'RAW module list'!A:A,'RAW module list'!B:B, \"Not found\")","v":"Conversational Language: Sesotho OR Conversational Afrikaans OR Conversational IsiZulu"},{"$f":"_xlfn.XLOOKUP(C351,'RAW module list'!A:A,'RAW module list'!C:C, \"Not found\")","v":5},{"$f":"_xlfn.XLOOKUP(C351,'RAW module list'!A:A,'RAW module list'!D:D, \"Not found\")","v":8},{"$f":"_xlfn.XLOOKUP(C351,'RAW module list'!A:A,'RAW module list'!E:E, \"Not found\")","v":"Continue with the conversational language chosen in Semester 1"},"Third Year",{"$f":"_xlfn.XLOOKUP(B351,'Programmes lists'!B:B,'Programmes lists'!D:D)","v":"BC735782"},{"$f":"_xlfn.XLOOKUP(B351,'Programmes lists'!B:B,'Programmes lists'!E:E, \"Not found\")","v":"QC735782"},{"$f":"_xlfn.XLOOKUP(B351,'Programmes lists'!B:B,'Programmes lists'!G:G,\"Not found\")","v":"Minimum grade 12 pass in\n•\tSesotho HL 50% \n•\tEnglish 50%"},{"$f":"_xlfn.XLOOKUP(B351,'Programmes lists'!B:B,'Programmes lists'!F:F,\"Not found\")","v":532}]
["Intermediate Phase","Specialising in Life Skills, Social Sciences & Sesotho Home Language","LSTI4705",{"$f":"_xlfn.XLOOKUP(C352,'RAW module list'!A:A,'RAW module list'!B:B, \"Not found\")","v":"Teaching of Life Skills 2"},{"$f":"_xlfn.XLOOKUP(C352,'RAW module list'!A:A,'RAW module list'!C:C, \"Not found\")","v":7},{"$f":"_xlfn.XLOOKUP(C352,'RAW module list'!A:A,'RAW module list'!D:D, \"Not found\")","v":20},{"$f":"_xlfn.XLOOKUP(C352,'RAW module list'!A:A,'RAW module list'!E:E, \"Not found\")","v":"LSTI3604"},"Fourth Year",{"$f":"_xlfn.XLOOKUP(B352,'Programmes lists'!B:B,'Programmes lists'!D:D)","v":"BC735782"},{"$f":"_xlfn.XLOOKUP(B352,'Programmes lists'!B:B,'Programmes lists'!E:E, \"Not found\")","v":"QC735782"},{"$f":"_xlfn.XLOOKUP(B352,'Programmes lists'!B:B,'Programmes lists'!G:G,\"Not found\")","v":"Minimum grade 12 pass in\n•\tSesotho HL 50% \n•\tEnglish 50%"},{"$f":"_xlfn.XLOOKUP(B352,'Programmes lists'!B:B,'Programmes lists'!F:F,\"Not found\")","v":532}]
["Intermediate Phase","Specialising in Life Skills, Social Sciences & Sesotho Home Language","SSTI4705",{"$f":"_xlfn.XLOOKUP(C353,'RAW module list'!A:A,'RAW module list'!B:B, \"Not found\")","v":"Teaching of Social Sciences 2"},{"$f":"_xlfn.XLOOKUP(C353,'RAW module list'!A:A,'RAW module list'!C:C, \"Not found\")","v":7},{"$f":"_xlfn.XLOOKUP(C353,'RAW module list'!A:A,'RAW module list'!D:D, \"Not found\")","v":20},{"$f":"_xlfn.XLOOKUP(C353,'RAW module list'!A:A,'RAW module list'!E:E, \"Not found\")","v":"SSTI3604"},"Fourth Year",{"$f":"_xlfn.XLOOKUP(B353,'Programmes lists'!B:B,'Programmes lists'!D:D)","v":"BC735782"},{"$f":"_xlfn.XLOOKUP(B353,'Programmes lists'!B:B,'Programmes lists'!E:E, \"Not found\")","v":"QC735782"},{"$f":"_xlfn.XLOOKUP(B353,'Programmes lists'!B:B,'Programmes lists'!G:G,\"Not found\")","v":"Minimum grade 12 pass in\n•\tSesotho HL 50% \n•\tEnglish 50%"},{"$f":"_xlfn.XLOOKUP(B353,'Programmes lists'!B:B,'Programmes lists'!F:F,\"Not found\")","v":532}]
["Intermediate Phase","Specialising in Life Skills, Social Sciences & Sesotho Home Language","SHTI4705",{"$f":"_xlfn.XLOOKUP(C354,'RAW module list'!A:A,'RAW module list'!B:B, \"Not found\")","v":"Sesotho Teaching 1 (Home Language)"},{"$f":"_xlfn.XLOOKUP(C354,'RAW module list'!A:A,'RAW module list'!C:C, \"Not found\")","v":7},{"$f":"_xlfn.XLOOKUP(C354,'RAW module list'!A:A,'RAW module list'!D:D, \"Not found\")","v":20},{"$f":"_xlfn.XLOOKUP(C354,'RAW module list'!A:A,'RAW module list'!E:E, \"Not found\")","v":"SHTI3604"},"Fourth Year",{"$f":"_xlfn.XLOOKUP(B354,'Programmes lists'!B:B,'Programmes lists'!D:D)","v":"BC735782"},{"$f":"_xlfn.XLOOKUP(B354,'Programmes lists'!B:B,'Programmes lists'!E:E, \"Not found\")","v":"QC735782"},{"$f":"_xlfn.XLOOKUP(B354,'Programmes lists'!B:B,'Programmes lists'!G:G,\"Not found\")","v":"Minimum grade 12 pass in\n•\tSesotho HL 50% \n•\tEnglish 50%"},{"$f":"_xlfn.XLOOKUP(B354,'Programmes lists'!B:B,'Programmes lists'!F:F,\"Not found\")","v":532}]
["Intermediate Phase","Specialising in Life Skills, Social Sciences & Sesotho Home Language","EATI4705",{"$f":"_xlfn.XLOOKUP(C355,'RAW module list'!A:A,'RAW module list'!B:B, \"Not found\")","v":"English additional language teaching 2"},{"$f":"_xlfn.XLOOKUP(C355,'RAW module list'!A:A,'RAW module list'!C:C, \"Not found\")","v":7},{"$f":"_xlfn.XLOOKUP(C355,'RAW module list'!A:A,'RAW module list'!D:D, \"Not found\")","v":20},{"$f":"_xlfn.XLOOKUP(C355,'RAW module list'!A:A,'RAW module list'!E:E, \"Not found\")","v":"EATI3604"},"Fourth Year",{"$f":"_xlfn.XLOOKUP(B355,'Programmes lists'!B:B,'Programmes lists'!D:D)","v":"BC735782"},{"$f":"_xlfn.XLOOKUP(B355,'Programmes lists'!B:B,'Programmes lists'!E:E, \"Not found\")","v":"QC735782"},{"$f":"_xlfn.XLOOKUP(B355,'Programmes lists'!B:B,'Programmes lists'!G:G,\"Not found\")","v":"Minimum grade 12 pass in\n•\tSesotho HL 50% \n•\tEnglish 50%"},{"$f":"_xlfn.XLOOKUP(B355,'Programmes lists'!B:B,'Programmes lists'!F:F,\"Not found\")","v":532}]
["Intermediate Phase","Specialising in Life Skills, Social Sciences & Sesotho Home Language","CURS4502",{"$f":"_xlfn.XLOOKUP(C356,'RAW module list'!A:A,'RAW module list'!B:B, \"Not found\")","v":"Intermediate Phase School Curriculum"},{"$f":"_xlfn.XLOOKUP(C356,'RAW module list'!A:A,'RAW module list'!C:C, \"Not found\")","v":5},{"$f":"_xlfn.XLOOKUP(C356,'RAW module list'!A:A,'RAW module list'!D:D, \"Not found\")","v":8},{"$f":"_xlfn.XLOOKUP(C356,'RAW module list'!A:A,'RAW module list'!E:E, \"Not found\")","v":"CURS3502"},"Fourth Year",{"$f":"_xlfn.XLOOKUP(B356,'Programmes lists'!B:B,'Programmes lists'!D:D)","v":"BC735782"},{"$f":"_xlfn.XLOOKUP(B356,'Programmes lists'!B:B,'Programmes lists'!E:E, \"Not found\")","v":"QC735782"},{"$f":"_xlfn.XLOOKUP(B356,'Programmes lists'!B:B,'Programmes lists'!G:G,\"Not found\")","v":"Minimum grade 12 pass in\n•\tSesotho HL 50% \n•\tEnglish 50%"},{"$f":"_xlfn.XLOOKUP(B356,'Programmes lists'!B:B,'Programmes lists'!F:F,\"Not found\")","v":532}]
["Intermediate Phase","Specialising in Life Skills, Social Sciences & Sesotho Home Language","WILI4700",{"$f":"_xlfn.XLOOKUP(C357,'RAW module list'!A:A,'RAW module list'!B:B, \"Not found\")","v":"Teaching Practice 4"},{"$f":"_xlfn.XLOOKUP(C357,'RAW module list'!A:A,'RAW module list'!C:C, \"Not found\")","v":7},{"$f":"_xlfn.XLOOKUP(C357,'RAW module list'!A:A,'RAW module list'!D:D, \"Not found\")","v":40},{"$f":"_xlfn.XLOOKUP(C357,'RAW module list'!A:A,'RAW module list'!E:E, \"Not found\")","v":"WILI3606"},"Fourth Year",{"$f":"_xlfn.XLOOKUP(B357,'Programmes lists'!B:B,'Programmes lists'!D:D)","v":"BC735782"},{"$f":"_xlfn.XLOOKUP(B357,'Programmes lists'!B:B,'Programmes lists'!E:E, \"Not found\")","v":"QC735782"},{"$f":"_xlfn.XLOOKUP(B357,'Programmes lists'!B:B,'Programmes lists'!G:G,\"Not found\")","v":"Minimum grade 12 pass in\n•\tSesotho HL 50% \n•\tEnglish 50%"},{"$f":"_xlfn.XLOOKUP(B357,'Programmes lists'!B:B,'Programmes lists'!F:F,\"Not found\")","v":532}]
["Intermediate Phase","Specialising in Life Skills, Social Sciences, & English Home Language","LSCI1614",{"$f":"_xlfn.XLOOKUP(C358,'RAW module list'!A:A,'RAW module list'!B:B, \"Not found\")","v":"Life Skills "},{"$f":"_xlfn.XLOOKUP(C358,'RAW module list'!A:A,'RAW module list'!C:C, \"Not found\")","v":6},{"$f":"_xlfn.XLOOKUP(C358,'RAW module list'!A:A,'RAW module list'!D:D, \"Not found\")","v":16},{"$f":"_xlfn.XLOOKUP(C358,'RAW module list'!A:A,'RAW module list'!E:E, \"Not found\")","v":0},"First Year",{"$f":"_xlfn.XLOOKUP(B358,'Programmes lists'!B:B,'Programmes lists'!D:D)","v":"BC735787        "},{"$f":"_xlfn.XLOOKUP(B358,'Programmes lists'!B:B,'Programmes lists'!E:E, \"Not found\")","v":0},{"$f":"_xlfn.XLOOKUP(B358,'Programmes lists'!B:B,'Programmes lists'!G:G,\"Not found\")","v":"Minimum grade 12 pass in\n•\tEnglish HL 50% \n•\tAfrikaans FAL 55%"},{"$f":"_xlfn.XLOOKUP(B358,'Programmes lists'!B:B,'Programmes lists'!F:F,\"Not found\")","v":532}]
["Intermediate Phase","Specialising in Life Skills, Social Sciences, & English Home Language","LLST1513",{"$f":"_xlfn.XLOOKUP(C359,'RAW module list'!A:A,'RAW module list'!B:B, \"Not found\")","v":"Lifelong Learning Skills"},{"$f":"_xlfn.XLOOKUP(C359,'RAW module list'!A:A,'RAW module list'!C:C, \"Not found\")","v":5},{"$f":"_xlfn.XLOOKUP(C359,'RAW module list'!A:A,'RAW module list'!D:D, \"Not found\")","v":12},{"$f":"_xlfn.XLOOKUP(C359,'RAW module list'!A:A,'RAW module list'!E:E, \"Not found\")","v":0},"First Year",{"$f":"_xlfn.XLOOKUP(B359,'Programmes lists'!B:B,'Programmes lists'!D:D)","v":"BC735787        "},{"$f":"_xlfn.XLOOKUP(B359,'Programmes lists'!B:B,'Programmes lists'!E:E, \"Not found\")","v":0},{"$f":"_xlfn.XLOOKUP(B359,'Programmes lists'!B:B,'Programmes lists'!G:G,\"Not found\")","v":"Minimum grade 12 pass in\n•\tEnglish HL 50% \n•\tAfrikaans FAL 55%"},{"$f":"_xlfn.XLOOKUP(B359,'Programmes lists'!B:B,'Programmes lists'!F:F,\"Not found\")","v":532}]
["Intermediate Phase","Specialising in Life Skills, Social Sciences, & English Home Language","ENGE1608",{"$f":"_xlfn.XLOOKUP(C360,'RAW module list'!A:A,'RAW module list'!B:B, \"Not found\")","v":"English Language for Education "},{"$f":"_xlfn.XLOOKUP(C360,'RAW module list'!A:A,'RAW module list'!C:C, \"Not found\")","v":6},{"$f":"_xlfn.XLOOKUP(C360,'RAW module list'!A:A,'RAW module list'!D:D, \"Not found\")","v":32},{"$f":"_xlfn.XLOOKUP(C360,'RAW module list'!A:A,'RAW module list'!E:E, \"Not found\")","v":0},"First Year",{"$f":"_xlfn.XLOOKUP(B360,'Programmes lists'!B:B,'Programmes lists'!D:D)","v":"BC735787        "},{"$f":"_xlfn.XLOOKUP(B360,'Programmes lists'!B:B,'Programmes lists'!E:E, \"Not found\")","v":0},{"$f":"_xlfn.XLOOKUP(B360,'Programmes lists'!B:B,'Programmes lists'!G:G,\"Not found\")","v":"Minimum grade 12 pass in\n•\tEnglish HL 50% \n•\tAfrikaans FAL 55%"},{"$f":"_xlfn.XLOOKUP(B360,'Programmes lists'!B:B,'Programmes lists'!F:F,\"Not found\")","v":532}]
["Intermediate Phase","Specialising in Life Skills, Social Sciences, & English Home Language","EDUB1613",{"$f":"_xlfn.XLOOKUP(C361,'RAW module list'!A:A,'RAW module list'!B:B, \"Not found\")","v":"Education Studies 1.1 The Individual in the learning context"},{"$f":"_xlfn.XLOOKUP(C361,'RAW module list'!A:A,'RAW module list'!C:C, \"Not found\")","v":6},{"$f":"_xlfn.XLOOKUP(C361,'RAW module list'!A:A,'RAW module list'!D:D, \"Not found\")","v":12},{"$f":"_xlfn.XLOOKUP(C361,'RAW module list'!A:A,'RAW module list'!E:E, \"Not found\")","v":0},"First Year",{"$f":"_xlfn.XLOOKUP(B361,'Programmes lists'!B:B,'Programmes lists'!D:D)","v":"BC735787        "},{"$f":"_xlfn.XLOOKUP(B361,'Programmes lists'!B:B,'Programmes lists'!E:E, \"Not found\")","v":0},{"$f":"_xlfn.XLOOKUP(B361,'Programmes lists'!B:B,'Programmes lists'!G:G,\"Not found\")","v":"Minimum grade 12 pass in\n•\tEnglish HL 50% \n•\tAfrikaans FAL 55%"},{"$f":"_xlfn.XLOOKUP(B361,'Programmes lists'!B:B,'Programmes lists'!F:F,\"Not found\")","v":532}]
["Intermediate Phase","Specialising in Life Skills, Social Sciences, & English Home Language","TPRI1502",{"$f":"_xlfn.XLOOKUP(C362,'RAW module list'!A:A,'RAW module list'!B:B, \"Not found\")","v":"Teaching Practice 1"},{"$f":"_xlfn.XLOOKUP(C362,'RAW module list'!A:A,'RAW module list'!C:C, \"Not found\")","v":5},{"$f":"_xlfn.XLOOKUP(C362,'RAW module list'!A:A,'RAW module list'!D:D, \"Not found\")","v":8},{"$f":"_xlfn.XLOOKUP(C362,'RAW module list'!A:A,'RAW module list'!E:E, \"Not found\")","v":0},"First Year",{"$f":"_xlfn.XLOOKUP(B362,'Programmes lists'!B:B,'Programmes lists'!D:D)","v":"BC735787        "},{"$f":"_xlfn.XLOOKUP(B362,'Programmes lists'!B:B,'Programmes lists'!E:E, \"Not found\")","v":0},{"$f":"_xlfn.XLOOKUP(B362,'Programmes lists'!B:B,'Programmes lists'!G:G,\"Not found\")","v":"Minimum grade 12 pass in\n•\tEnglish HL 50% \n•\tAfrikaans FAL 55%"},{"$f":"_xlfn.XLOOKUP(B362,'Programmes lists'!B:B,'Programmes lists'!F:F,\"Not found\")","v":532}]
["Intermediate Phase","Specialising in Life Skills, Social Sciences, & English Home Language","UFSS1504",{"$f":"_xlfn.XLOOKUP(C363,'RAW module list'!A:A,'RAW module list'!B:B, \"Not found\")","v":"Undergraduate core curriculum"},{"$f":"_xlfn.XLOOKUP(C363,'RAW module list'!A:A,'RAW module list'!C:C, \"Not found\")","v":5},{"$f":"_xlfn.XLOOKUP(C363,'RAW module list'!A:A,'RAW module list'!D:D, \"Not found\")","v":-16},{"$f":"_xlfn.XLOOKUP(C363,'RAW module list'!A:A,'RAW module list'!E:E, \"Not found\")","v":0},"First Year",{"$f":"_xlfn.XLOOKUP(B363,'Programmes lists'!B:B,'Programmes lists'!D:D)","v":"BC735787        "},{"$f":"_xlfn.XLOOKUP(B363,'Programmes lists'!B:B,'Programmes lists'!E:E, \"Not found\")","v":0},{"$f":"_xlfn.XLOOKUP(B363,'Programmes lists'!B:B,'Programmes lists'!G:G,\"Not found\")","v":"Minimum grade 12 pass in\n•\tEnglish HL 50% \n•\tAfrikaans FAL 55%"},{"$f":"_xlfn.XLOOKUP(B363,'Programmes lists'!B:B,'Programmes lists'!F:F,\"Not found\")","v":532}]
["Intermediate Phase","Specialising in Life Skills, Social Sciences, & English Home Language","EALT1508",{"$f":"_xlfn.XLOOKUP(C364,'RAW module list'!A:A,'RAW module list'!B:B, \"Not found\")","v":"English Academic Literacy for Education "},{"$f":"_xlfn.XLOOKUP(C364,'RAW module list'!A:A,'RAW module list'!C:C, \"Not found\")","v":5},{"$f":"_xlfn.XLOOKUP(C364,'RAW module list'!A:A,'RAW module list'!D:D, \"Not found\")","v":-32},{"$f":"_xlfn.XLOOKUP(C364,'RAW module list'!A:A,'RAW module list'!E:E, \"Not found\")","v":"NBT requirements not met"},"First Year",{"$f":"_xlfn.XLOOKUP(B364,'Programmes lists'!B:B,'Programmes lists'!D:D)","v":"BC735787        "},{"$f":"_xlfn.XLOOKUP(B364,'Programmes lists'!B:B,'Programmes lists'!E:E, \"Not found\")","v":0},{"$f":"_xlfn.XLOOKUP(B364,'Programmes lists'!B:B,'Programmes lists'!G:G,\"Not found\")","v":"Minimum grade 12 pass in\n•\tEnglish HL 50% \n•\tAfrikaans FAL 55%"},{"$f":"_xlfn.XLOOKUP(B364,'Programmes lists'!B:B,'Programmes lists'!F:F,\"Not found\")","v":532}]
["Intermediate Phase","Specialising in Life Skills, Social Sciences, & English Home Language","LSCI1624",{"$f":"_xlfn.XLOOKUP(C365,'RAW module list'!A:A,'RAW module list'!B:B, \"Not found\")","v":"Life Skills 1"},{"$f":"_xlfn.XLOOKUP(C365,'RAW module list'!A:A,'RAW module list'!C:C, \"Not found\")","v":6},{"$f":"_xlfn.XLOOKUP(C365,'RAW module list'!A:A,'RAW module list'!D:D, \"Not found\")","v":16},{"$f":"_xlfn.XLOOKUP(C365,'RAW module list'!A:A,'RAW module list'!E:E, \"Not found\")","v":0},"First Year",{"$f":"_xlfn.XLOOKUP(B365,'Programmes lists'!B:B,'Programmes lists'!D:D)","v":"BC735787        "},{"$f":"_xlfn.XLOOKUP(B365,'Programmes lists'!B:B,'Programmes lists'!E:E, \"Not found\")","v":0},{"$f":"_xlfn.XLOOKUP(B365,'Programmes lists'!B:B,'Programmes lists'!G:G,\"Not found\")","v":"Minimum grade 12 pass in\n•\tEnglish HL 50% \n•\tAfrikaans FAL 55%"},{"$f":"_xlfn.XLOOKUP(B365,'Programmes lists'!B:B,'Programmes lists'!F:F,\"Not found\")","v":532}]
["Intermediate Phase","Specialising in Life Skills, Social Sciences, & English Home Language","EDUB1623",{"$f":"_xlfn.XLOOKUP(C366,'RAW module list'!A:A,'RAW module list'!B:B, \"Not found\")","v":"Education Studies 1.2 What it means to educate: Theoretical perspectives and their significance for SA education"},{"$f":"_xlfn.XLOOKUP(C366,'RAW module list'!A:A,'RAW module list'!C:C, \"Not found\")","v":6},{"$f":"_xlfn.XLOOKUP(C366,'RAW module list'!A:A,'RAW module list'!D:D, \"Not found\")","v":12},{"$f":"_xlfn.XLOOKUP(C366,'RAW module list'!A:A,'RAW module list'!E:E, \"Not found\")","v":0},"First Year",{"$f":"_xlfn.XLOOKUP(B366,'Programmes lists'!B:B,'Programmes lists'!D:D)","v":"BC735787        "},{"$f":"_xlfn.XLOOKUP(B366,'Programmes lists'!B:B,'Programmes lists'!E:E, \"Not found\")","v":0},{"$f":"_xlfn.XLOOKUP(B366,'Programmes lists'!B:B,'Programmes lists'!G:G,\"Not found\")","v":"Minimum grade 12 pass in\n•\tEnglish HL 50% \n•\tAfrikaans FAL 55%"},{"$f":"_xlfn.XLOOKUP(B366,'Programmes lists'!B:B,'Programmes lists'!F:F,\"Not found\")","v":532}]
["Intermediate Phase","Specialising in Life Skills, Social Sciences, & English Home Language","GPED1623",{"$f":"_xlfn.XLOOKUP(C367,'RAW module list'!A:A,'RAW module list'!B:B, \"Not found\")","v":"General Pedagogy 1: Managing the Curriculum"},{"$f":"_xlfn.XLOOKUP(C367,'RAW module list'!A:A,'RAW module list'!C:C, \"Not found\")","v":6},{"$f":"_xlfn.XLOOKUP(C367,'RAW module list'!A:A,'RAW module list'!D:D, \"Not found\")","v":12},{"$f":"_xlfn.XLOOKUP(C367,'RAW module list'!A:A,'RAW module list'!E:E, \"Not found\")","v":0},"First Year",{"$f":"_xlfn.XLOOKUP(B367,'Programmes lists'!B:B,'Programmes lists'!D:D)","v":"BC735787        "},{"$f":"_xlfn.XLOOKUP(B367,'Programmes lists'!B:B,'Programmes lists'!E:E, \"Not found\")","v":0},{"$f":"_xlfn.XLOOKUP(B367,'Programmes lists'!B:B,'Programmes lists'!G:G,\"Not found\")","v":"Minimum grade 12 pass in\n•\tEnglish HL 50% \n•\tAfrikaans FAL 55%"},{"$f":"_xlfn.XLOOKUP(B367,'Programmes lists'!B:B,'Programmes lists'!F:F,\"Not found\")","v":532}]
["Intermediate Phase","Specialising in Life Skills, Social Sciences, & English Home Language","SSCI2614",{"$f":"_xlfn.XLOOKUP(C368,'RAW module list'!A:A,'RAW module list'!B:B, \"Not found\")","v":"Social Science History"},{"$f":"_xlfn.XLOOKUP(C368,'RAW module list'!A:A,'RAW module list'!C:C, \"Not found\")","v":6},{"$f":"_xlfn.XLOOKUP(C368,'RAW module list'!A:A,'RAW module list'!D:D, \"Not found\")","v":16},{"$f":"_xlfn.XLOOKUP(C368,'RAW module list'!A:A,'RAW module list'!E:E, \"Not found\")","v":0},"Second Year",{"$f":"_xlfn.XLOOKUP(B368,'Programmes lists'!B:B,'Programmes lists'!D:D)","v":"BC735787        "},{"$f":"_xlfn.XLOOKUP(B368,'Programmes lists'!B:B,'Programmes lists'!E:E, \"Not found\")","v":0},{"$f":"_xlfn.XLOOKUP(B368,'Programmes lists'!B:B,'Programmes lists'!G:G,\"Not found\")","v":"Minimum grade 12 pass in\n•\tEnglish HL 50% \n•\tAfrikaans FAL 55%"},{"$f":"_xlfn.XLOOKUP(B368,'Programmes lists'!B:B,'Programmes lists'!F:F,\"Not found\")","v":532}]
["Intermediate Phase","Specialising in Life Skills, Social Sciences, & English Home Language","AFNL1634 OR AFRT1514",{"$f":"_xlfn.XLOOKUP(C369,'RAW module list'!A:A,'RAW module list'!B:B, \"Not found\")","v":"Introduction to Afrikaans and Dutch literature OR Basic Afrikaans Language"},{"$f":"_xlfn.XLOOKUP(C369,'RAW module list'!A:A,'RAW module list'!C:C, \"Not found\")","v":6},{"$f":"_xlfn.XLOOKUP(C369,'RAW module list'!A:A,'RAW module list'!D:D, \"Not found\")","v":16},{"$f":"_xlfn.XLOOKUP(C369,'RAW module list'!A:A,'RAW module list'!E:E, \"Not found\")","v":"Afrikaans HL Grade 12 pass at >55% Or Afr FAL Grade 12 pass at >55%/Afrikaans HL Grade 12 pass at <55% or Afr. FAL Grade 12 pass at <70%"},"Second Year",{"$f":"_xlfn.XLOOKUP(B369,'Programmes lists'!B:B,'Programmes lists'!D:D)","v":"BC735787        "},{"$f":"_xlfn.XLOOKUP(B369,'Programmes lists'!B:B,'Programmes lists'!E:E, \"Not found\")","v":0},{"$f":"_xlfn.XLOOKUP(B369,'Programmes lists'!B:B,'Programmes lists'!G:G,\"Not found\")","v":"Minimum grade 12 pass in\n•\tEnglish HL 50% \n•\tAfrikaans FAL 55%"},{"$f":"_xlfn.XLOOKUP(B369,'Programmes lists'!B:B,'Programmes lists'!F:F,\"Not found\")","v":532}]
["Intermediate Phase","Specialising in Life Skills, Social Sciences, & English Home Language","MTBI2503",{"$f":"_xlfn.XLOOKUP(C370,'RAW module list'!A:A,'RAW module list'!B:B, \"Not found\")","v":"Basic Mathematics "},{"$f":"_xlfn.XLOOKUP(C370,'RAW module list'!A:A,'RAW module list'!C:C, \"Not found\")","v":5},{"$f":"_xlfn.XLOOKUP(C370,'RAW module list'!A:A,'RAW module list'!D:D, \"Not found\")","v":12},{"$f":"_xlfn.XLOOKUP(C370,'RAW module list'!A:A,'RAW module list'!E:E, \"Not found\")","v":0},"Second Year",{"$f":"_xlfn.XLOOKUP(B370,'Programmes lists'!B:B,'Programmes lists'!D:D)","v":"BC735787        "},{"$f":"_xlfn.XLOOKUP(B370,'Programmes lists'!B:B,'Programmes lists'!E:E, \"Not found\")","v":0},{"$f":"_xlfn.XLOOKUP(B370,'Programmes lists'!B:B,'Programmes lists'!G:G,\"Not found\")","v":"Minimum grade 12 pass in\n•\tEnglish HL 50% \n•\tAfrikaans FAL 55%"},{"$f":"_xlfn.XLOOKUP(B370,'Programmes lists'!B:B,'Programmes lists'!F:F,\"Not found\")","v":532}]
["Intermediate Phase","Specialising in Life Skills, Social Sciences, & English Home Language","EDUB2714",{"$f":"_xlfn.XLOOKUP(C371,'RAW module list'!A:A,'RAW module list'!B:B, \"Not found\")","v":"Education Studies 2: Teaching and Learning in Education Context"},{"$f":"_xlfn.XLOOKUP(C371,'RAW module list'!A:A,'RAW module list'!C:C, \"Not found\")","v":7},{"$f":"_xlfn.XLOOKUP(C371,'RAW module list'!A:A,'RAW module list'!D:D, \"Not found\")","v":16},{"$f":"_xlfn.XLOOKUP(C371,'RAW module list'!A:A,'RAW module list'!E:E, \"Not found\")","v":"EDUB1613 & EDUB1623"},"Second Year",{"$f":"_xlfn.XLOOKUP(B371,'Programmes lists'!B:B,'Programmes lists'!D:D)","v":"BC735787        "},{"$f":"_xlfn.XLOOKUP(B371,'Programmes lists'!B:B,'Programmes lists'!E:E, \"Not found\")","v":0},{"$f":"_xlfn.XLOOKUP(B371,'Programmes lists'!B:B,'Programmes lists'!G:G,\"Not found\")","v":"Minimum grade 12 pass in\n•\tEnglish HL 50% \n•\tAfrikaans FAL 55%"},{"$f":"_xlfn.XLOOKUP(B371,'Programmes lists'!B:B,'Programmes lists'!F:F,\"Not found\")","v":532}]
["Intermediate Phase","Specialising in Life Skills, Social Sciences, & English Home Language","GPED2613",{"$f":"_xlfn.XLOOKUP(C372,'RAW module list'!A:A,'RAW module list'!B:B, \"Not found\")","v":"General Pedagogy 2.1"},{"$f":"_xlfn.XLOOKUP(C372,'RAW module list'!A:A,'RAW module list'!C:C, \"Not found\")","v":6},{"$f":"_xlfn.XLOOKUP(C372,'RAW module list'!A:A,'RAW module list'!D:D, \"Not found\")","v":12},{"$f":"_xlfn.XLOOKUP(C372,'RAW module list'!A:A,'RAW module list'!E:E, \"Not found\")","v":"GPED1623"},"Second Year",{"$f":"_xlfn.XLOOKUP(B372,'Programmes lists'!B:B,'Programmes lists'!D:D)","v":"BC735787        "},{"$f":"_xlfn.XLOOKUP(B372,'Programmes lists'!B:B,'Programmes lists'!E:E, \"Not found\")","v":0},{"$f":"_xlfn.XLOOKUP(B372,'Programmes lists'!B:B,'Programmes lists'!G:G,\"Not found\")","v":"Minimum grade 12 pass in\n•\tEnglish HL 50% \n•\tAfrikaans FAL 55%"},{"$f":"_xlfn.XLOOKUP(B372,'Programmes lists'!B:B,'Programmes lists'!F:F,\"Not found\")","v":532}]
["Intermediate Phase","Specialising in Life Skills, Social Sciences, & English Home Language","TPRI2502",{"$f":"_xlfn.XLOOKUP(C373,'RAW module list'!A:A,'RAW module list'!B:B, \"Not found\")","v":"Teaching Practice 2 "},{"$f":"_xlfn.XLOOKUP(C373,'RAW module list'!A:A,'RAW module list'!C:C, \"Not found\")","v":5},{"$f":"_xlfn.XLOOKUP(C373,'RAW module list'!A:A,'RAW module list'!D:D, \"Not found\")","v":8},{"$f":"_xlfn.XLOOKUP(C373,'RAW module list'!A:A,'RAW module list'!E:E, \"Not found\")","v":"TPRI1502"},"Second Year",{"$f":"_xlfn.XLOOKUP(B373,'Programmes lists'!B:B,'Programmes lists'!D:D)","v":"BC735787        "},{"$f":"_xlfn.XLOOKUP(B373,'Programmes lists'!B:B,'Programmes lists'!E:E, \"Not found\")","v":0},{"$f":"_xlfn.XLOOKUP(B373,'Programmes lists'!B:B,'Programmes lists'!G:G,\"Not found\")","v":"Minimum grade 12 pass in\n•\tEnglish HL 50% \n•\tAfrikaans FAL 55%"},{"$f":"_xlfn.XLOOKUP(B373,'Programmes lists'!B:B,'Programmes lists'!F:F,\"Not found\")","v":532}]
["Intermediate Phase","Specialising in Life Skills, Social Sciences, & English Home Language","SSCI2624",{"$f":"_xlfn.XLOOKUP(C374,'RAW module list'!A:A,'RAW module list'!B:B, \"Not found\")","v":"Social Sciences 2: Geography"},{"$f":"_xlfn.XLOOKUP(C374,'RAW module list'!A:A,'RAW module list'!C:C, \"Not found\")","v":6},{"$f":"_xlfn.XLOOKUP(C374,'RAW module list'!A:A,'RAW module list'!D:D, \"Not found\")","v":16},{"$f":"_xlfn.XLOOKUP(C374,'RAW module list'!A:A,'RAW module list'!E:E, \"Not found\")","v":0},"Second Year",{"$f":"_xlfn.XLOOKUP(B374,'Programmes lists'!B:B,'Programmes lists'!D:D)","v":"BC735787        "},{"$f":"_xlfn.XLOOKUP(B374,'Programmes lists'!B:B,'Programmes lists'!E:E, \"Not found\")","v":0},{"$f":"_xlfn.XLOOKUP(B374,'Programmes lists'!B:B,'Programmes lists'!G:G,\"Not found\")","v":"Minimum grade 12 pass in\n•\tEnglish HL 50% \n•\tAfrikaans FAL 55%"},{"$f":"_xlfn.XLOOKUP(B374,'Programmes lists'!B:B,'Programmes lists'!F:F,\"Not found\")","v":532}]
["Intermediate Phase","Specialising in Life Skills, Social Sciences, & English Home Language","AFNT1644 OR AFRL1624",{"$f":"_xlfn.XLOOKUP(C375,'RAW module list'!A:A,'RAW module list'!B:B, \"Not found\")","v":"Introduction to Afrikaans Linguistics OR Basic Afrikaans literature"},{"$f":"_xlfn.XLOOKUP(C375,'RAW module list'!A:A,'RAW module list'!C:C, \"Not found\")","v":6},{"$f":"_xlfn.XLOOKUP(C375,'RAW module list'!A:A,'RAW module list'!D:D, \"Not found\")","v":16},{"$f":"_xlfn.XLOOKUP(C375,'RAW module list'!A:A,'RAW module list'!E:E, \"Not found\")","v":"AFNL1634\nor\nAFRT1514"},"Second Year",{"$f":"_xlfn.XLOOKUP(B375,'Programmes lists'!B:B,'Programmes lists'!D:D)","v":"BC735787        "},{"$f":"_xlfn.XLOOKUP(B375,'Programmes lists'!B:B,'Programmes lists'!E:E, \"Not found\")","v":0},{"$f":"_xlfn.XLOOKUP(B375,'Programmes lists'!B:B,'Programmes lists'!G:G,\"Not found\")","v":"Minimum grade 12 pass in\n•\tEnglish HL 50% \n•\tAfrikaans FAL 55%"},{"$f":"_xlfn.XLOOKUP(B375,'Programmes lists'!B:B,'Programmes lists'!F:F,\"Not found\")","v":532}]
["Intermediate Phase","Specialising in Life Skills, Social Sciences, & English Home Language","EDUB2724",{"$f":"_xlfn.XLOOKUP(C376,'RAW module list'!A:A,'RAW module list'!B:B, \"Not found\")","v":"Education Studies 2: Human Relationships in Education context"},{"$f":"_xlfn.XLOOKUP(C376,'RAW module list'!A:A,'RAW module list'!C:C, \"Not found\")","v":7},{"$f":"_xlfn.XLOOKUP(C376,'RAW module list'!A:A,'RAW module list'!D:D, \"Not found\")","v":16},{"$f":"_xlfn.XLOOKUP(C376,'RAW module list'!A:A,'RAW module list'!E:E, \"Not found\")","v":"EDUB2714"},"Second Year",{"$f":"_xlfn.XLOOKUP(B376,'Programmes lists'!B:B,'Programmes lists'!D:D)","v":"BC735787        "},{"$f":"_xlfn.XLOOKUP(B376,'Programmes lists'!B:B,'Programmes lists'!E:E, \"Not found\")","v":0},{"$f":"_xlfn.XLOOKUP(B376,'Programmes lists'!B:B,'Programmes lists'!G:G,\"Not found\")","v":"Minimum grade 12 pass in\n•\tEnglish HL 50% \n•\tAfrikaans FAL 55%"},{"$f":"_xlfn.XLOOKUP(B376,'Programmes lists'!B:B,'Programmes lists'!F:F,\"Not found\")","v":532}]
["Intermediate Phase","Specialising in Life Skills, Social Sciences, & English Home Language","GPED2623",{"$f":"_xlfn.XLOOKUP(C377,'RAW module list'!A:A,'RAW module list'!B:B, \"Not found\")","v":"General Pedagogy 2.2: Assessment"},{"$f":"_xlfn.XLOOKUP(C377,'RAW module list'!A:A,'RAW module list'!C:C, \"Not found\")","v":6},{"$f":"_xlfn.XLOOKUP(C377,'RAW module list'!A:A,'RAW module list'!D:D, \"Not found\")","v":12},{"$f":"_xlfn.XLOOKUP(C377,'RAW module list'!A:A,'RAW module list'!E:E, \"Not found\")","v":"GPED2613"},"Second Year",{"$f":"_xlfn.XLOOKUP(B377,'Programmes lists'!B:B,'Programmes lists'!D:D)","v":"BC735787        "},{"$f":"_xlfn.XLOOKUP(B377,'Programmes lists'!B:B,'Programmes lists'!E:E, \"Not found\")","v":0},{"$f":"_xlfn.XLOOKUP(B377,'Programmes lists'!B:B,'Programmes lists'!G:G,\"Not found\")","v":"Minimum grade 12 pass in\n•\tEnglish HL 50% \n•\tAfrikaans FAL 55%"},{"$f":"_xlfn.XLOOKUP(B377,'Programmes lists'!B:B,'Programmes lists'!F:F,\"Not found\")","v":532}]
["Intermediate Phase","Specialising in Life Skills, Social Sciences, & English Home Language","LSTI3604",{"$f":"_xlfn.XLOOKUP(C378,'RAW module list'!A:A,'RAW module list'!B:B, \"Not found\")","v":"Teaching of Life Skills 1 "},{"$f":"_xlfn.XLOOKUP(C378,'RAW module list'!A:A,'RAW module list'!C:C, \"Not found\")","v":6},{"$f":"_xlfn.XLOOKUP(C378,'RAW module list'!A:A,'RAW module list'!D:D, \"Not found\")","v":16},{"$f":"_xlfn.XLOOKUP(C378,'RAW module list'!A:A,'RAW module list'!E:E, \"Not found\")","v":"LSCI614 & LSCI2624"},"Third Year",{"$f":"_xlfn.XLOOKUP(B378,'Programmes lists'!B:B,'Programmes lists'!D:D)","v":"BC735787        "},{"$f":"_xlfn.XLOOKUP(B378,'Programmes lists'!B:B,'Programmes lists'!E:E, \"Not found\")","v":0},{"$f":"_xlfn.XLOOKUP(B378,'Programmes lists'!B:B,'Programmes lists'!G:G,\"Not found\")","v":"Minimum grade 12 pass in\n•\tEnglish HL 50% \n•\tAfrikaans FAL 55%"},{"$f":"_xlfn.XLOOKUP(B378,'Programmes lists'!B:B,'Programmes lists'!F:F,\"Not found\")","v":532}]
["Intermediate Phase","Specialising in Life Skills, Social Sciences, & English Home Language","SSTI3604",{"$f":"_xlfn.XLOOKUP(C379,'RAW module list'!A:A,'RAW module list'!B:B, \"Not found\")","v":"Teaching Social Sciences 1"},{"$f":"_xlfn.XLOOKUP(C379,'RAW module list'!A:A,'RAW module list'!C:C, \"Not found\")","v":6},{"$f":"_xlfn.XLOOKUP(C379,'RAW module list'!A:A,'RAW module list'!D:D, \"Not found\")","v":16},{"$f":"_xlfn.XLOOKUP(C379,'RAW module list'!A:A,'RAW module list'!E:E, \"Not found\")","v":"SSCI2614 & SSCI2624"},"Third Year",{"$f":"_xlfn.XLOOKUP(B379,'Programmes lists'!B:B,'Programmes lists'!D:D)","v":"BC735787        "},{"$f":"_xlfn.XLOOKUP(B379,'Programmes lists'!B:B,'Programmes lists'!E:E, \"Not found\")","v":0},{"$f":"_xlfn.XLOOKUP(B379,'Programmes lists'!B:B,'Programmes lists'!G:G,\"Not found\")","v":"Minimum grade 12 pass in\n•\tEnglish HL 50% \n•\tAfrikaans FAL 55%"},{"$f":"_xlfn.XLOOKUP(B379,'Programmes lists'!B:B,'Programmes lists'!F:F,\"Not found\")","v":532}]
["Intermediate Phase","Specialising in Life Skills, Social Sciences, & English Home Language","AHTI3604",{"$f":"_xlfn.XLOOKUP(C380,'RAW module list'!A:A,'RAW module list'!B:B, \"Not found\")","v":"Afrikaans Teaching 1 (Home Language)"},{"$f":"_xlfn.XLOOKUP(C380,'RAW module list'!A:A,'RAW module list'!C:C, \"Not found\")","v":6},{"$f":"_xlfn.XLOOKUP(C380,'RAW module list'!A:A,'RAW module list'!D:D, \"Not found\")","v":16},{"$f":"_xlfn.XLOOKUP(C380,'RAW module list'!A:A,'RAW module list'!E:E, \"Not found\")","v":"AFNT1644 & AFNL1634"},"Third Year",{"$f":"_xlfn.XLOOKUP(B380,'Programmes lists'!B:B,'Programmes lists'!D:D)","v":"BC735787        "},{"$f":"_xlfn.XLOOKUP(B380,'Programmes lists'!B:B,'Programmes lists'!E:E, \"Not found\")","v":0},{"$f":"_xlfn.XLOOKUP(B380,'Programmes lists'!B:B,'Programmes lists'!G:G,\"Not found\")","v":"Minimum grade 12 pass in\n•\tEnglish HL 50% \n•\tAfrikaans FAL 55%"},{"$f":"_xlfn.XLOOKUP(B380,'Programmes lists'!B:B,'Programmes lists'!F:F,\"Not found\")","v":532}]
["Intermediate Phase","Specialising in Life Skills, Social Sciences, & English Home Language","EATI3604",{"$f":"_xlfn.XLOOKUP(C381,'RAW module list'!A:A,'RAW module list'!B:B, \"Not found\")","v":"English additional language teaching 1"},{"$f":"_xlfn.XLOOKUP(C381,'RAW module list'!A:A,'RAW module list'!C:C, \"Not found\")","v":6},{"$f":"_xlfn.XLOOKUP(C381,'RAW module list'!A:A,'RAW module list'!D:D, \"Not found\")","v":16},{"$f":"_xlfn.XLOOKUP(C381,'RAW module list'!A:A,'RAW module list'!E:E, \"Not found\")","v":"ENGE1608"},"Third Year",{"$f":"_xlfn.XLOOKUP(B381,'Programmes lists'!B:B,'Programmes lists'!D:D)","v":"BC735787        "},{"$f":"_xlfn.XLOOKUP(B381,'Programmes lists'!B:B,'Programmes lists'!E:E, \"Not found\")","v":0},{"$f":"_xlfn.XLOOKUP(B381,'Programmes lists'!B:B,'Programmes lists'!G:G,\"Not found\")","v":"Minimum grade 12 pass in\n•\tEnglish HL 50% \n•\tAfrikaans FAL 55%"},{"$f":"_xlfn.XLOOKUP(B381,'Programmes lists'!B:B,'Programmes lists'!F:F,\"Not found\")","v":532}]
["Intermediate Phase","Specialising in Life Skills, Social Sciences, & English Home Language","CURS3502",{"$f":"_xlfn.XLOOKUP(C382,'RAW module list'!A:A,'RAW module list'!B:B, \"Not found\")","v":"Intermediate Phase School Curriculum"},{"$f":"_xlfn.XLOOKUP(C382,'RAW module list'!A:A,'RAW module list'!C:C, \"Not found\")","v":5},{"$f":"_xlfn.XLOOKUP(C382,'RAW module list'!A:A,'RAW module list'!D:D, \"Not found\")","v":8},{"$f":"_xlfn.XLOOKUP(C382,'RAW module list'!A:A,'RAW module list'!E:E, \"Not found\")","v":0},"Third Year",{"$f":"_xlfn.XLOOKUP(B382,'Programmes lists'!B:B,'Programmes lists'!D:D)","v":"BC735787        "},{"$f":"_xlfn.XLOOKUP(B382,'Programmes lists'!B:B,'Programmes lists'!E:E, \"Not found\")","v":0},{"$f":"_xlfn.XLOOKUP(B382,'Programmes lists'!B:B,'Programmes lists'!G:G,\"Not found\")","v":"Minimum grade 12 pass in\n•\tEnglish HL 50% \n•\tAfrikaans FAL 55%"},{"$f":"_xlfn.XLOOKUP(B382,'Programmes lists'!B:B,'Programmes lists'!F:F,\"Not found\")","v":532}]
["Intermediate Phase","Specialising in Life Skills, Social Sciences, & English Home Language","EDUB3714",{"$f":"_xlfn.XLOOKUP(C383,'RAW module list'!A:A,'RAW module list'!B:B, \"Not found\")","v":"Education Studies 3.1 Education systems in global and national context"},{"$f":"_xlfn.XLOOKUP(C383,'RAW module list'!A:A,'RAW module list'!C:C, \"Not found\")","v":7},{"$f":"_xlfn.XLOOKUP(C383,'RAW module list'!A:A,'RAW module list'!D:D, \"Not found\")","v":16},{"$f":"_xlfn.XLOOKUP(C383,'RAW module list'!A:A,'RAW module list'!E:E, \"Not found\")","v":"EDUB1613 & EDUB1623& EDUB2714 & EDUB2724"},"Third Year",{"$f":"_xlfn.XLOOKUP(B383,'Programmes lists'!B:B,'Programmes lists'!D:D)","v":"BC735787        "},{"$f":"_xlfn.XLOOKUP(B383,'Programmes lists'!B:B,'Programmes lists'!E:E, \"Not found\")","v":0},{"$f":"_xlfn.XLOOKUP(B383,'Programmes lists'!B:B,'Programmes lists'!G:G,\"Not found\")","v":"Minimum grade 12 pass in\n•\tEnglish HL 50% \n•\tAfrikaans FAL 55%"},{"$f":"_xlfn.XLOOKUP(B383,'Programmes lists'!B:B,'Programmes lists'!F:F,\"Not found\")","v":532}]
["Intermediate Phase","Specialising in Life Skills, Social Sciences, & English Home Language","SICL3512 OR SSCL3512 OR ZUCL3512",{"$f":"_xlfn.XLOOKUP(C384,'RAW module list'!A:A,'RAW module list'!B:B, \"Not found\")","v":"Conversational Sign Language OR Conversational Sesotho OR Conversational IsiZulu"},{"$f":"_xlfn.XLOOKUP(C384,'RAW module list'!A:A,'RAW module list'!C:C, \"Not found\")","v":5},{"$f":"_xlfn.XLOOKUP(C384,'RAW module list'!A:A,'RAW module list'!D:D, \"Not found\")","v":8},{"$f":"_xlfn.XLOOKUP(C384,'RAW module list'!A:A,'RAW module list'!E:E, \"Not found\")","v":"No previous exposure to the language"},"Third Year",{"$f":"_xlfn.XLOOKUP(B384,'Programmes lists'!B:B,'Programmes lists'!D:D)","v":"BC735787        "},{"$f":"_xlfn.XLOOKUP(B384,'Programmes lists'!B:B,'Programmes lists'!E:E, \"Not found\")","v":0},{"$f":"_xlfn.XLOOKUP(B384,'Programmes lists'!B:B,'Programmes lists'!G:G,\"Not found\")","v":"Minimum grade 12 pass in\n•\tEnglish HL 50% \n•\tAfrikaans FAL 55%"},{"$f":"_xlfn.XLOOKUP(B384,'Programmes lists'!B:B,'Programmes lists'!F:F,\"Not found\")","v":532}]
["Intermediate Phase","Specialising in Life Skills, Social Sciences, & English Home Language","EDUB3724",{"$f":"_xlfn.XLOOKUP(C385,'RAW module list'!A:A,'RAW module list'!B:B, \"Not found\")","v":"Education Studies 3.2: Contemporary Education Theory in the current social context"},{"$f":"_xlfn.XLOOKUP(C385,'RAW module list'!A:A,'RAW module list'!C:C, \"Not found\")","v":7},{"$f":"_xlfn.XLOOKUP(C385,'RAW module list'!A:A,'RAW module list'!D:D, \"Not found\")","v":16},{"$f":"_xlfn.XLOOKUP(C385,'RAW module list'!A:A,'RAW module list'!E:E, \"Not found\")","v":"EDUB1613 & EDUB1623 & EDUB2714 & EDUB2724 & EDUB3714"},"Third Year",{"$f":"_xlfn.XLOOKUP(B385,'Programmes lists'!B:B,'Programmes lists'!D:D)","v":"BC735787        "},{"$f":"_xlfn.XLOOKUP(B385,'Programmes lists'!B:B,'Programmes lists'!E:E, \"Not found\")","v":0},{"$f":"_xlfn.XLOOKUP(B385,'Programmes lists'!B:B,'Programmes lists'!G:G,\"Not found\")","v":"Minimum grade 12 pass in\n•\tEnglish HL 50% \n•\tAfrikaans FAL 55%"},{"$f":"_xlfn.XLOOKUP(B385,'Programmes lists'!B:B,'Programmes lists'!F:F,\"Not found\")","v":532}]
["Intermediate Phase","Specialising in Life Skills, Social Sciences, & English Home Language","SICL3522 OR SSCL3522 OR ZUCL3522",{"$f":"_xlfn.XLOOKUP(C386,'RAW module list'!A:A,'RAW module list'!B:B, \"Not found\")","v":"Conversational Sign Language OR Conversational Sesotho OR Conversational IsiZulu"},{"$f":"_xlfn.XLOOKUP(C386,'RAW module list'!A:A,'RAW module list'!C:C, \"Not found\")","v":5},{"$f":"_xlfn.XLOOKUP(C386,'RAW module list'!A:A,'RAW module list'!D:D, \"Not found\")","v":8},{"$f":"_xlfn.XLOOKUP(C386,'RAW module list'!A:A,'RAW module list'!E:E, \"Not found\")","v":"Continue with the conversational language  chosen in Semester 1"},"Third Year",{"$f":"_xlfn.XLOOKUP(B386,'Programmes lists'!B:B,'Programmes lists'!D:D)","v":"BC735787        "},{"$f":"_xlfn.XLOOKUP(B386,'Programmes lists'!B:B,'Programmes lists'!E:E, \"Not found\")","v":0},{"$f":"_xlfn.XLOOKUP(B386,'Programmes lists'!B:B,'Programmes lists'!G:G,\"Not found\")","v":"Minimum grade 12 pass in\n•\tEnglish HL 50% \n•\tAfrikaans FAL 55%"},{"$f":"_xlfn.XLOOKUP(B386,'Programmes lists'!B:B,'Programmes lists'!F:F,\"Not found\")","v":532}]
["Intermediate Phase","Specialising in Life Skills, Social Sciences, & English Home Language","WILI3606",{"$f":"_xlfn.XLOOKUP(C387,'RAW module list'!A:A,'RAW module list'!B:B, \"Not found\")","v":"Teaching Practice 3"},{"$f":"_xlfn.XLOOKUP(C387,'RAW module list'!A:A,'RAW module list'!C:C, \"Not found\")","v":6},{"$f":"_xlfn.XLOOKUP(C387,'RAW module list'!A:A,'RAW module list'!D:D, \"Not found\")","v":24},{"$f":"_xlfn.XLOOKUP(C387,'RAW module list'!A:A,'RAW module list'!E:E, \"Not found\")","v":"TPRI2502"},"Third Year",{"$f":"_xlfn.XLOOKUP(B387,'Programmes lists'!B:B,'Programmes lists'!D:D)","v":"BC735787        "},{"$f":"_xlfn.XLOOKUP(B387,'Programmes lists'!B:B,'Programmes lists'!E:E, \"Not found\")","v":0},{"$f":"_xlfn.XLOOKUP(B387,'Programmes lists'!B:B,'Programmes lists'!G:G,\"Not found\")","v":"Minimum grade 12 pass in\n•\tEnglish HL 50% \n•\tAfrikaans FAL 55%"},{"$f":"_xlfn.XLOOKUP(B387,'Programmes lists'!B:B,'Programmes lists'!F:F,\"Not found\")","v":532}]
["Intermediate Phase","Specialising in Life Skills, Social Sciences, & English Home Language","LSTI4705",{"$f":"_xlfn.XLOOKUP(C388,'RAW module list'!A:A,'RAW module list'!B:B, \"Not found\")","v":"Teaching of Life Skills 2"},{"$f":"_xlfn.XLOOKUP(C388,'RAW module list'!A:A,'RAW module list'!C:C, \"Not found\")","v":7},{"$f":"_xlfn.XLOOKUP(C388,'RAW module list'!A:A,'RAW module list'!D:D, \"Not found\")","v":20},{"$f":"_xlfn.XLOOKUP(C388,'RAW module list'!A:A,'RAW module list'!E:E, \"Not found\")","v":"LSTI3604"},"Fourth Year",{"$f":"_xlfn.XLOOKUP(B388,'Programmes lists'!B:B,'Programmes lists'!D:D)","v":"BC735787        "},{"$f":"_xlfn.XLOOKUP(B388,'Programmes lists'!B:B,'Programmes lists'!E:E, \"Not found\")","v":0},{"$f":"_xlfn.XLOOKUP(B388,'Programmes lists'!B:B,'Programmes lists'!G:G,\"Not found\")","v":"Minimum grade 12 pass in\n•\tEnglish HL 50% \n•\tAfrikaans FAL 55%"},{"$f":"_xlfn.XLOOKUP(B388,'Programmes lists'!B:B,'Programmes lists'!F:F,\"Not found\")","v":532}]
["Intermediate Phase","Specialising in Life Skills, Social Sciences, & English Home Language","SSTI4705",{"$f":"_xlfn.XLOOKUP(C389,'RAW module list'!A:A,'RAW module list'!B:B, \"Not found\")","v":"Teaching of Social Sciences 2"},{"$f":"_xlfn.XLOOKUP(C389,'RAW module list'!A:A,'RAW module list'!C:C, \"Not found\")","v":7},{"$f":"_xlfn.XLOOKUP(C389,'RAW module list'!A:A,'RAW module list'!D:D, \"Not found\")","v":20},{"$f":"_xlfn.XLOOKUP(C389,'RAW module list'!A:A,'RAW module list'!E:E, \"Not found\")","v":"SSTI3604"},"Fourth Year",{"$f":"_xlfn.XLOOKUP(B389,'Programmes lists'!B:B,'Programmes lists'!D:D)","v":"BC735787        "},{"$f":"_xlfn.XLOOKUP(B389,'Programmes lists'!B:B,'Programmes lists'!E:E, \"Not found\")","v":0},{"$f":"_xlfn.XLOOKUP(B389,'Programmes lists'!B:B,'Programmes lists'!G:G,\"Not found\")","v":"Minimum grade 12 pass in\n•\tEnglish HL 50% \n•\tAfrikaans FAL 55%"},{"$f":"_xlfn.XLOOKUP(B389,'Programmes lists'!B:B,'Programmes lists'!F:F,\"Not found\")","v":532}]
["Intermediate Phase","Specialising in Life Skills, Social Sciences, & English Home Language","AHTI4705",{"$f":"_xlfn.XLOOKUP(C390,'RAW module list'!A:A,'RAW module list'!B:B, \"Not found\")","v":"Afrikaans Teaching 2 (Home Language)"},{"$f":"_xlfn.XLOOKUP(C390,'RAW module list'!A:A,'RAW module list'!C:C, \"Not found\")","v":7},{"$f":"_xlfn.XLOOKUP(C390,'RAW module list'!A:A,'RAW module list'!D:D, \"Not found\")","v":20},{"$f":"_xlfn.XLOOKUP(C390,'RAW module list'!A:A,'RAW module list'!E:E, \"Not found\")","v":"AHTI3604"},"Fourth Year",{"$f":"_xlfn.XLOOKUP(B390,'Programmes lists'!B:B,'Programmes lists'!D:D)","v":"BC735787        "},{"$f":"_xlfn.XLOOKUP(B390,'Programmes lists'!B:B,'Programmes lists'!E:E, \"Not found\")","v":0},{"$f":"_xlfn.XLOOKUP(B390,'Programmes lists'!B:B,'Programmes lists'!G:G,\"Not found\")","v":"Minimum grade 12 pass in\n•\tEnglish HL 50% \n•\tAfrikaans FAL 55%"},{"$f":"_xlfn.XLOOKUP(B390,'Programmes lists'!B:B,'Programmes lists'!F:F,\"Not found\")","v":532}]
["Intermediate Phase","Specialising in Life Skills, Social Sciences, & English Home Language","EATI4705",{"$f":"_xlfn.XLOOKUP(C391,'RAW module list'!A:A,'RAW module list'!B:B, \"Not found\")","v":"English additional language teaching 2"},{"$f":"_xlfn.XLOOKUP(C391,'RAW module list'!A:A,'RAW module list'!C:C, \"Not found\")","v":7},{"$f":"_xlfn.XLOOKUP(C391,'RAW module list'!A:A,'RAW module list'!D:D, \"Not found\")","v":20},{"$f":"_xlfn.XLOOKUP(C391,'RAW module list'!A:A,'RAW module list'!E:E, \"Not found\")","v":"EATI3604"},"Fourth Year",{"$f":"_xlfn.XLOOKUP(B391,'Programmes lists'!B:B,'Programmes lists'!D:D)","v":"BC735787        "},{"$f":"_xlfn.XLOOKUP(B391,'Programmes lists'!B:B,'Programmes lists'!E:E, \"Not found\")","v":0},{"$f":"_xlfn.XLOOKUP(B391,'Programmes lists'!B:B,'Programmes lists'!G:G,\"Not found\")","v":"Minimum grade 12 pass in\n•\tEnglish HL 50% \n•\tAfrikaans FAL 55%"},{"$f":"_xlfn.XLOOKUP(B391,'Programmes lists'!B:B,'Programmes lists'!F:F,\"Not found\")","v":532}]
["Intermediate Phase","Specialising in Life Skills, Social Sciences, & English Home Language","CURS4502",{"$f":"_xlfn.XLOOKUP(C392,'RAW module list'!A:A,'RAW module list'!B:B, \"Not found\")","v":"Intermediate Phase School Curriculum"},{"$f":"_xlfn.XLOOKUP(C392,'RAW module list'!A:A,'RAW module list'!C:C, \"Not found\")","v":5},{"$f":"_xlfn.XLOOKUP(C392,'RAW module list'!A:A,'RAW module list'!D:D, \"Not found\")","v":8},{"$f":"_xlfn.XLOOKUP(C392,'RAW module list'!A:A,'RAW module list'!E:E, \"Not found\")","v":"CURS3502"},"Fourth Year",{"$f":"_xlfn.XLOOKUP(B392,'Programmes lists'!B:B,'Programmes lists'!D:D)","v":"BC735787        "},{"$f":"_xlfn.XLOOKUP(B392,'Programmes lists'!B:B,'Programmes lists'!E:E, \"Not found\")","v":0},{"$f":"_xlfn.XLOOKUP(B392,'Programmes lists'!B:B,'Programmes lists'!G:G,\"Not found\")","v":"Minimum grade 12 pass in\n•\tEnglish HL 50% \n•\tAfrikaans FAL 55%"},{"$f":"_xlfn.XLOOKUP(B392,'Programmes lists'!B:B,'Programmes lists'!F:F,\"Not found\")","v":532}]
["Intermediate Phase","Specialising in Life Skills, Social Sciences, & English Home Language","WILI4700",{"$f":"_xlfn.XLOOKUP(C393,'RAW module list'!A:A,'RAW module list'!B:B, \"Not found\")","v":"Teaching Practice 4"},{"$f":"_xlfn.XLOOKUP(C393,'RAW module list'!A:A,'RAW module list'!C:C, \"Not found\")","v":7},{"$f":"_xlfn.XLOOKUP(C393,'RAW module list'!A:A,'RAW module list'!D:D, \"Not found\")","v":40},{"$f":"_xlfn.XLOOKUP(C393,'RAW module list'!A:A,'RAW module list'!E:E, \"Not found\")","v":"WILI3606"},"Fourth Year",{"$f":"_xlfn.XLOOKUP(B393,'Programmes lists'!B:B,'Programmes lists'!D:D)","v":"BC735787        "},{"$f":"_xlfn.XLOOKUP(B393,'Programmes lists'!B:B,'Programmes lists'!E:E, \"Not found\")","v":0},{"$f":"_xlfn.XLOOKUP(B393,'Programmes lists'!B:B,'Programmes lists'!G:G,\"Not found\")","v":"Minimum grade 12 pass in\n•\tEnglish HL 50% \n•\tAfrikaans FAL 55%"},{"$f":"_xlfn.XLOOKUP(B393,'Programmes lists'!B:B,'Programmes lists'!F:F,\"Not found\")","v":532}]
["Intermediate Phase","Specialising in Life Skills, Social Sciences & IsiZulu Home Language","LSCI1614",{"$f":"_xlfn.XLOOKUP(C394,'RAW module list'!A:A,'RAW module list'!B:B, \"Not found\")","v":"Life Skills "},{"$f":"_xlfn.XLOOKUP(C394,'RAW module list'!A:A,'RAW module list'!C:C, \"Not found\")","v":6},{"$f":"_xlfn.XLOOKUP(C394,'RAW module list'!A:A,'RAW module list'!D:D, \"Not found\")","v":16},{"$f":"_xlfn.XLOOKUP(C394,'RAW module list'!A:A,'RAW module list'!E:E, \"Not found\")","v":0},"First Year",{"$f":"_xlfn.XLOOKUP(B394,'Programmes lists'!B:B,'Programmes lists'!D:D)","v":0},{"$f":"_xlfn.XLOOKUP(B394,'Programmes lists'!B:B,'Programmes lists'!E:E, \"Not found\")","v":"QC735788        "},{"$f":"_xlfn.XLOOKUP(B394,'Programmes lists'!B:B,'Programmes lists'!G:G,\"Not found\")","v":"Minimum grade 12 pass in\n•\tIsiZulu HL 50% \n•\tEnglish FAL 50%"},{"$f":"_xlfn.XLOOKUP(B394,'Programmes lists'!B:B,'Programmes lists'!F:F,\"Not found\")","v":532}]
["Intermediate Phase","Specialising in Life Skills, Social Sciences & IsiZulu Home Language","LLST1513",{"$f":"_xlfn.XLOOKUP(C395,'RAW module list'!A:A,'RAW module list'!B:B, \"Not found\")","v":"Lifelong Learning Skills"},{"$f":"_xlfn.XLOOKUP(C395,'RAW module list'!A:A,'RAW module list'!C:C, \"Not found\")","v":5},{"$f":"_xlfn.XLOOKUP(C395,'RAW module list'!A:A,'RAW module list'!D:D, \"Not found\")","v":12},{"$f":"_xlfn.XLOOKUP(C395,'RAW module list'!A:A,'RAW module list'!E:E, \"Not found\")","v":0},"First Year",{"$f":"_xlfn.XLOOKUP(B395,'Programmes lists'!B:B,'Programmes lists'!D:D)","v":0},{"$f":"_xlfn.XLOOKUP(B395,'Programmes lists'!B:B,'Programmes lists'!E:E, \"Not found\")","v":"QC735788        "},{"$f":"_xlfn.XLOOKUP(B395,'Programmes lists'!B:B,'Programmes lists'!G:G,\"Not found\")","v":"Minimum grade 12 pass in\n•\tIsiZulu HL 50% \n•\tEnglish FAL 50%"},{"$f":"_xlfn.XLOOKUP(B395,'Programmes lists'!B:B,'Programmes lists'!F:F,\"Not found\")","v":532}]
["Intermediate Phase","Specialising in Life Skills, Social Sciences & IsiZulu Home Language","ENGE1608",{"$f":"_xlfn.XLOOKUP(C396,'RAW module list'!A:A,'RAW module list'!B:B, \"Not found\")","v":"English Language for Education "},{"$f":"_xlfn.XLOOKUP(C396,'RAW module list'!A:A,'RAW module list'!C:C, \"Not found\")","v":6},{"$f":"_xlfn.XLOOKUP(C396,'RAW module list'!A:A,'RAW module list'!D:D, \"Not found\")","v":32},{"$f":"_xlfn.XLOOKUP(C396,'RAW module list'!A:A,'RAW module list'!E:E, \"Not found\")","v":0},"First Year",{"$f":"_xlfn.XLOOKUP(B396,'Programmes lists'!B:B,'Programmes lists'!D:D)","v":0},{"$f":"_xlfn.XLOOKUP(B396,'Programmes lists'!B:B,'Programmes lists'!E:E, \"Not found\")","v":"QC735788        "},{"$f":"_xlfn.XLOOKUP(B396,'Programmes lists'!B:B,'Programmes lists'!G:G,\"Not found\")","v":"Minimum grade 12 pass in\n•\tIsiZulu HL 50% \n•\tEnglish FAL 50%"},{"$f":"_xlfn.XLOOKUP(B396,'Programmes lists'!B:B,'Programmes lists'!F:F,\"Not found\")","v":532}]
["Intermediate Phase","Specialising in Life Skills, Social Sciences & IsiZulu Home Language","EDUB1613",{"$f":"_xlfn.XLOOKUP(C397,'RAW module list'!A:A,'RAW module list'!B:B, \"Not found\")","v":"Education Studies 1.1 The Individual in the learning context"},{"$f":"_xlfn.XLOOKUP(C397,'RAW module list'!A:A,'RAW module list'!C:C, \"Not found\")","v":6},{"$f":"_xlfn.XLOOKUP(C397,'RAW module list'!A:A,'RAW module list'!D:D, \"Not found\")","v":12},{"$f":"_xlfn.XLOOKUP(C397,'RAW module list'!A:A,'RAW module list'!E:E, \"Not found\")","v":0},"First Year",{"$f":"_xlfn.XLOOKUP(B397,'Programmes lists'!B:B,'Programmes lists'!D:D)","v":0},{"$f":"_xlfn.XLOOKUP(B397,'Programmes lists'!B:B,'Programmes lists'!E:E, \"Not found\")","v":"QC735788        "},{"$f":"_xlfn.XLOOKUP(B397,'Programmes lists'!B:B,'Programmes lists'!G:G,\"Not found\")","v":"Minimum grade 12 pass in\n•\tIsiZulu HL 50% \n•\tEnglish FAL 50%"},{"$f":"_xlfn.XLOOKUP(B397,'Programmes lists'!B:B,'Programmes lists'!F:F,\"Not found\")","v":532}]
["Intermediate Phase","Specialising in Life Skills, Social Sciences & IsiZulu Home Language","TPRI1502",{"$f":"_xlfn.XLOOKUP(C398,'RAW module list'!A:A,'RAW module list'!B:B, \"Not found\")","v":"Teaching Practice 1"},{"$f":"_xlfn.XLOOKUP(C398,'RAW module list'!A:A,'RAW module list'!C:C, \"Not found\")","v":5},{"$f":"_xlfn.XLOOKUP(C398,'RAW module list'!A:A,'RAW module list'!D:D, \"Not found\")","v":8},{"$f":"_xlfn.XLOOKUP(C398,'RAW module list'!A:A,'RAW module list'!E:E, \"Not found\")","v":0},"First Year",{"$f":"_xlfn.XLOOKUP(B398,'Programmes lists'!B:B,'Programmes lists'!D:D)","v":0},{"$f":"_xlfn.XLOOKUP(B398,'Programmes lists'!B:B,'Programmes lists'!E:E, \"Not found\")","v":"QC735788        "},{"$f":"_xlfn.XLOOKUP(B398,'Programmes lists'!B:B,'Programmes lists'!G:G,\"Not found\")","v":"Minimum grade 12 pass in\n•\tIsiZulu HL 50% \n•\tEnglish FAL 50%"},{"$f":"_xlfn.XLOOKUP(B398,'Programmes lists'!B:B,'Programmes lists'!F:F,\"Not found\")","v":532}]
["Intermediate Phase","Specialising in Life Skills, Social Sciences & IsiZulu Home Language","UFSS1504",{"$f":"_xlfn.XLOOKUP(C399,'RAW module list'!A:A,'RAW module list'!B:B, \"Not found\")","v":"Undergraduate core curriculum"},{"$f":"_xlfn.XLOOKUP(C399,'RAW module list'!A:A,'RAW module list'!C:C, \"Not found\")","v":5},{"$f":"_xlfn.XLOOKUP(C399,'RAW module list'!A:A,'RAW module list'!D:D, \"Not found\")","v":-16},{"$f":"_xlfn.XLOOKUP(C399,'RAW module list'!A:A,'RAW module list'!E:E, \"Not found\")","v":0},"First Year",{"$f":"_xlfn.XLOOKUP(B399,'Programmes lists'!B:B,'Programmes lists'!D:D)","v":0},{"$f":"_xlfn.XLOOKUP(B399,'Programmes lists'!B:B,'Programmes lists'!E:E, \"Not found\")","v":"QC735788        "},{"$f":"_xlfn.XLOOKUP(B399,'Programmes lists'!B:B,'Programmes lists'!G:G,\"Not found\")","v":"Minimum grade 12 pass in\n•\tIsiZulu HL 50% \n•\tEnglish FAL 50%"},{"$f":"_xlfn.XLOOKUP(B399,'Programmes lists'!B:B,'Programmes lists'!F:F,\"Not found\")","v":532}]
["Intermediate Phase","Specialising in Life Skills, Social Sciences & IsiZulu Home Language","EALT1508",{"$f":"_xlfn.XLOOKUP(C400,'RAW module list'!A:A,'RAW module list'!B:B, \"Not found\")","v":"English Academic Literacy for Education "},{"$f":"_xlfn.XLOOKUP(C400,'RAW module list'!A:A,'RAW module list'!C:C, \"Not found\")","v":5},{"$f":"_xlfn.XLOOKUP(C400,'RAW module list'!A:A,'RAW module list'!D:D, \"Not found\")","v":-32},{"$f":"_xlfn.XLOOKUP(C400,'RAW module list'!A:A,'RAW module list'!E:E, \"Not found\")","v":"NBT requirements not met"},"First Year",{"$f":"_xlfn.XLOOKUP(B400,'Programmes lists'!B:B,'Programmes lists'!D:D)","v":0},{"$f":"_xlfn.XLOOKUP(B400,'Programmes lists'!B:B,'Programmes lists'!E:E, \"Not found\")","v":"QC735788        "},{"$f":"_xlfn.XLOOKUP(B400,'Programmes lists'!B:B,'Programmes lists'!G:G,\"Not found\")","v":"Minimum grade 12 pass in\n•\tIsiZulu HL 50% \n•\tEnglish FAL 50%"},{"$f":"_xlfn.XLOOKUP(B400,'Programmes lists'!B:B,'Programmes lists'!F:F,\"Not found\")","v":532}]
["Intermediate Phase","Specialising in Life Skills, Social Sciences & IsiZulu Home Language","LSCI1624",{"$f":"_xlfn.XLOOKUP(C401,'RAW module list'!A:A,'RAW module list'!B:B, \"Not found\")","v":"Life Skills 1"},{"$f":"_xlfn.XLOOKUP(C401,'RAW module list'!A:A,'RAW module list'!C:C, \"Not found\")","v":6},{"$f":"_xlfn.XLOOKUP(C401,'RAW module list'!A:A,'RAW module list'!D:D, \"Not found\")","v":16},{"$f":"_xlfn.XLOOKUP(C401,'RAW module list'!A:A,'RAW module list'!E:E, \"Not found\")","v":0},"First Year",{"$f":"_xlfn.XLOOKUP(B401,'Programmes lists'!B:B,'Programmes lists'!D:D)","v":0},{"$f":"_xlfn.XLOOKUP(B401,'Programmes lists'!B:B,'Programmes lists'!E:E, \"Not found\")","v":"QC735788        "},{"$f":"_xlfn.XLOOKUP(B401,'Programmes lists'!B:B,'Programmes lists'!G:G,\"Not found\")","v":"Minimum grade 12 pass in\n•\tIsiZulu HL 50% \n•\tEnglish FAL 50%"},{"$f":"_xlfn.XLOOKUP(B401,'Programmes lists'!B:B,'Programmes lists'!F:F,\"Not found\")","v":532}]
["Intermediate Phase","Specialising in Life Skills, Social Sciences & IsiZulu Home Language","EDUB1623",{"$f":"_xlfn.XLOOKUP(C402,'RAW module list'!A:A,'RAW module list'!B:B, \"Not found\")","v":"Education Studies 1.2 What it means to educate: Theoretical perspectives and their significance for SA education"},{"$f":"_xlfn.XLOOKUP(C402,'RAW module list'!A:A,'RAW module list'!C:C, \"Not found\")","v":6},{"$f":"_xlfn.XLOOKUP(C402,'RAW module list'!A:A,'RAW module list'!D:D, \"Not found\")","v":12},{"$f":"_xlfn.XLOOKUP(C402,'RAW module list'!A:A,'RAW module list'!E:E, \"Not found\")","v":0},"First Year",{"$f":"_xlfn.XLOOKUP(B402,'Programmes lists'!B:B,'Programmes lists'!D:D)","v":0},{"$f":"_xlfn.XLOOKUP(B402,'Programmes lists'!B:B,'Programmes lists'!E:E, \"Not found\")","v":"QC735788        "},{"$f":"_xlfn.XLOOKUP(B402,'Programmes lists'!B:B,'Programmes lists'!G:G,\"Not found\")","v":"Minimum grade 12 pass in\n•\tIsiZulu HL 50% \n•\tEnglish FAL 50%"},{"$f":"_xlfn.XLOOKUP(B402,'Programmes lists'!B:B,'Programmes lists'!F:F,\"Not found\")","v":532}]
["Intermediate Phase","Specialising in Life Skills, Social Sciences & IsiZulu Home Language","GPED1623",{"$f":"_xlfn.XLOOKUP(C403,'RAW module list'!A:A,'RAW module list'!B:B, \"Not found\")","v":"General Pedagogy 1: Managing the Curriculum"},{"$f":"_xlfn.XLOOKUP(C403,'RAW module list'!A:A,'RAW module list'!C:C, \"Not found\")","v":6},{"$f":"_xlfn.XLOOKUP(C403,'RAW module list'!A:A,'RAW module list'!D:D, \"Not found\")","v":12},{"$f":"_xlfn.XLOOKUP(C403,'RAW module list'!A:A,'RAW module list'!E:E, \"Not found\")","v":0},"First Year",{"$f":"_xlfn.XLOOKUP(B403,'Programmes lists'!B:B,'Programmes lists'!D:D)","v":0},{"$f":"_xlfn.XLOOKUP(B403,'Programmes lists'!B:B,'Programmes lists'!E:E, \"Not found\")","v":"QC735788        "},{"$f":"_xlfn.XLOOKUP(B403,'Programmes lists'!B:B,'Programmes lists'!G:G,\"Not found\")","v":"Minimum grade 12 pass in\n•\tIsiZulu HL 50% \n•\tEnglish FAL 50%"},{"$f":"_xlfn.XLOOKUP(B403,'Programmes lists'!B:B,'Programmes lists'!F:F,\"Not found\")","v":532}]
["Intermediate Phase","Specialising in Life Skills, Social Sciences & IsiZulu Home Language","SSCI2614",{"$f":"_xlfn.XLOOKUP(C404,'RAW module list'!A:A,'RAW module list'!B:B, \"Not found\")","v":"Social Science History"},{"$f":"_xlfn.XLOOKUP(C404,'RAW module list'!A:A,'RAW module list'!C:C, \"Not found\")","v":6},{"$f":"_xlfn.XLOOKUP(C404,'RAW module list'!A:A,'RAW module list'!D:D, \"Not found\")","v":16},{"$f":"_xlfn.XLOOKUP(C404,'RAW module list'!A:A,'RAW module list'!E:E, \"Not found\")","v":0},"Second Year",{"$f":"_xlfn.XLOOKUP(B404,'Programmes lists'!B:B,'Programmes lists'!D:D)","v":0},{"$f":"_xlfn.XLOOKUP(B404,'Programmes lists'!B:B,'Programmes lists'!E:E, \"Not found\")","v":"QC735788        "},{"$f":"_xlfn.XLOOKUP(B404,'Programmes lists'!B:B,'Programmes lists'!G:G,\"Not found\")","v":"Minimum grade 12 pass in\n•\tIsiZulu HL 50% \n•\tEnglish FAL 50%"},{"$f":"_xlfn.XLOOKUP(B404,'Programmes lists'!B:B,'Programmes lists'!F:F,\"Not found\")","v":532}]
["Intermediate Phase","Specialising in Life Skills, Social Sciences & IsiZulu Home Language","ZULL1514",{"$f":"_xlfn.XLOOKUP(C405,'RAW module list'!A:A,'RAW module list'!B:B, \"Not found\")","v":"IsiZulu: Introduction to Linguistics"},{"$f":"_xlfn.XLOOKUP(C405,'RAW module list'!A:A,'RAW module list'!C:C, \"Not found\")","v":5},{"$f":"_xlfn.XLOOKUP(C405,'RAW module list'!A:A,'RAW module list'!D:D, \"Not found\")","v":16},{"$f":"_xlfn.XLOOKUP(C405,'RAW module list'!A:A,'RAW module list'!E:E, \"Not found\")","v":0},"Second Year",{"$f":"_xlfn.XLOOKUP(B405,'Programmes lists'!B:B,'Programmes lists'!D:D)","v":0},{"$f":"_xlfn.XLOOKUP(B405,'Programmes lists'!B:B,'Programmes lists'!E:E, \"Not found\")","v":"QC735788        "},{"$f":"_xlfn.XLOOKUP(B405,'Programmes lists'!B:B,'Programmes lists'!G:G,\"Not found\")","v":"Minimum grade 12 pass in\n•\tIsiZulu HL 50% \n•\tEnglish FAL 50%"},{"$f":"_xlfn.XLOOKUP(B405,'Programmes lists'!B:B,'Programmes lists'!F:F,\"Not found\")","v":532}]
["Intermediate Phase","Specialising in Life Skills, Social Sciences & IsiZulu Home Language","MTBI2503",{"$f":"_xlfn.XLOOKUP(C406,'RAW module list'!A:A,'RAW module list'!B:B, \"Not found\")","v":"Basic Mathematics "},{"$f":"_xlfn.XLOOKUP(C406,'RAW module list'!A:A,'RAW module list'!C:C, \"Not found\")","v":5},{"$f":"_xlfn.XLOOKUP(C406,'RAW module list'!A:A,'RAW module list'!D:D, \"Not found\")","v":12},{"$f":"_xlfn.XLOOKUP(C406,'RAW module list'!A:A,'RAW module list'!E:E, \"Not found\")","v":0},"Second Year",{"$f":"_xlfn.XLOOKUP(B406,'Programmes lists'!B:B,'Programmes lists'!D:D)","v":0},{"$f":"_xlfn.XLOOKUP(B406,'Programmes lists'!B:B,'Programmes lists'!E:E, \"Not found\")","v":"QC735788        "},{"$f":"_xlfn.XLOOKUP(B406,'Programmes lists'!B:B,'Programmes lists'!G:G,\"Not found\")","v":"Minimum grade 12 pass in\n•\tIsiZulu HL 50% \n•\tEnglish FAL 50%"},{"$f":"_xlfn.XLOOKUP(B406,'Programmes lists'!B:B,'Programmes lists'!F:F,\"Not found\")","v":532}]
["Intermediate Phase","Specialising in Life Skills, Social Sciences & IsiZulu Home Language","EDUB2714",{"$f":"_xlfn.XLOOKUP(C407,'RAW module list'!A:A,'RAW module list'!B:B, \"Not found\")","v":"Education Studies 2: Teaching and Learning in Education Context"},{"$f":"_xlfn.XLOOKUP(C407,'RAW module list'!A:A,'RAW module list'!C:C, \"Not found\")","v":7},{"$f":"_xlfn.XLOOKUP(C407,'RAW module list'!A:A,'RAW module list'!D:D, \"Not found\")","v":16},{"$f":"_xlfn.XLOOKUP(C407,'RAW module list'!A:A,'RAW module list'!E:E, \"Not found\")","v":"EDUB1613 & EDUB1623"},"Second Year",{"$f":"_xlfn.XLOOKUP(B407,'Programmes lists'!B:B,'Programmes lists'!D:D)","v":0},{"$f":"_xlfn.XLOOKUP(B407,'Programmes lists'!B:B,'Programmes lists'!E:E, \"Not found\")","v":"QC735788        "},{"$f":"_xlfn.XLOOKUP(B407,'Programmes lists'!B:B,'Programmes lists'!G:G,\"Not found\")","v":"Minimum grade 12 pass in\n•\tIsiZulu HL 50% \n•\tEnglish FAL 50%"},{"$f":"_xlfn.XLOOKUP(B407,'Programmes lists'!B:B,'Programmes lists'!F:F,\"Not found\")","v":532}]
["Intermediate Phase","Specialising in Life Skills, Social Sciences & IsiZulu Home Language","GPED2613",{"$f":"_xlfn.XLOOKUP(C408,'RAW module list'!A:A,'RAW module list'!B:B, \"Not found\")","v":"General Pedagogy 2.1"},{"$f":"_xlfn.XLOOKUP(C408,'RAW module list'!A:A,'RAW module list'!C:C, \"Not found\")","v":6},{"$f":"_xlfn.XLOOKUP(C408,'RAW module list'!A:A,'RAW module list'!D:D, \"Not found\")","v":12},{"$f":"_xlfn.XLOOKUP(C408,'RAW module list'!A:A,'RAW module list'!E:E, \"Not found\")","v":"GPED1623"},"Second Year",{"$f":"_xlfn.XLOOKUP(B408,'Programmes lists'!B:B,'Programmes lists'!D:D)","v":0},{"$f":"_xlfn.XLOOKUP(B408,'Programmes lists'!B:B,'Programmes lists'!E:E, \"Not found\")","v":"QC735788        "},{"$f":"_xlfn.XLOOKUP(B408,'Programmes lists'!B:B,'Programmes lists'!G:G,\"Not found\")","v":"Minimum grade 12 pass in\n•\tIsiZulu HL 50% \n•\tEnglish FAL 50%"},{"$f":"_xlfn.XLOOKUP(B408,'Programmes lists'!B:B,'Programmes lists'!F:F,\"Not found\")","v":532}]
["Intermediate Phase","Specialising in Life Skills, Social Sciences & IsiZulu Home Language","TPRI2502",{"$f":"_xlfn.XLOOKUP(C409,'RAW module list'!A:A,'RAW module list'!B:B, \"Not found\")","v":"Teaching Practice 2 "},{"$f":"_xlfn.XLOOKUP(C409,'RAW module list'!A:A,'RAW module list'!C:C, \"Not found\")","v":5},{"$f":"_xlfn.XLOOKUP(C409,'RAW module list'!A:A,'RAW module list'!D:D, \"Not found\")","v":8},{"$f":"_xlfn.XLOOKUP(C409,'RAW module list'!A:A,'RAW module list'!E:E, \"Not found\")","v":"TPRI1502"},"Second Year",{"$f":"_xlfn.XLOOKUP(B409,'Programmes lists'!B:B,'Programmes lists'!D:D)","v":0},{"$f":"_xlfn.XLOOKUP(B409,'Programmes lists'!B:B,'Programmes lists'!E:E, \"Not found\")","v":"QC735788        "},{"$f":"_xlfn.XLOOKUP(B409,'Programmes lists'!B:B,'Programmes lists'!G:G,\"Not found\")","v":"Minimum grade 12 pass in\n•\tIsiZulu HL 50% \n•\tEnglish FAL 50%"},{"$f":"_xlfn.XLOOKUP(B409,'Programmes lists'!B:B,'Programmes lists'!F:F,\"Not found\")","v":532}]
["Intermediate Phase","Specialising in Life Skills, Social Sciences & IsiZulu Home Language","SSCI2624",{"$f":"_xlfn.XLOOKUP(C410,'RAW module list'!A:A,'RAW module list'!B:B, \"Not found\")","v":"Social Sciences 2: Geography"},{"$f":"_xlfn.XLOOKUP(C410,'RAW module list'!A:A,'RAW module list'!C:C, \"Not found\")","v":6},{"$f":"_xlfn.XLOOKUP(C410,'RAW module list'!A:A,'RAW module list'!D:D, \"Not found\")","v":16},{"$f":"_xlfn.XLOOKUP(C410,'RAW module list'!A:A,'RAW module list'!E:E, \"Not found\")","v":0},"Second Year",{"$f":"_xlfn.XLOOKUP(B410,'Programmes lists'!B:B,'Programmes lists'!D:D)","v":0},{"$f":"_xlfn.XLOOKUP(B410,'Programmes lists'!B:B,'Programmes lists'!E:E, \"Not found\")","v":"QC735788        "},{"$f":"_xlfn.XLOOKUP(B410,'Programmes lists'!B:B,'Programmes lists'!G:G,\"Not found\")","v":"Minimum grade 12 pass in\n•\tIsiZulu HL 50% \n•\tEnglish FAL 50%"},{"$f":"_xlfn.XLOOKUP(B410,'Programmes lists'!B:B,'Programmes lists'!F:F,\"Not found\")","v":532}]
["Intermediate Phase","Specialising in Life Skills, Social Sciences & IsiZulu Home Language","ZULT1524",{"$f":"_xlfn.XLOOKUP(C411,'RAW module list'!A:A,'RAW module list'!B:B, \"Not found\")","v":"IsiZulu: Introduction to Literature"},{"$f":"_xlfn.XLOOKUP(C411,'RAW module list'!A:A,'RAW module list'!C:C, \"Not found\")","v":6},{"$f":"_xlfn.XLOOKUP(C411,'RAW module list'!A:A,'RAW module list'!D:D, \"Not found\")","v":16},{"$f":"_xlfn.XLOOKUP(C411,'RAW module list'!A:A,'RAW module list'!E:E, \"Not found\")","v":"ZULL1514"},"Second Year",{"$f":"_xlfn.XLOOKUP(B411,'Programmes lists'!B:B,'Programmes lists'!D:D)","v":0},{"$f":"_xlfn.XLOOKUP(B411,'Programmes lists'!B:B,'Programmes lists'!E:E, \"Not found\")","v":"QC735788        "},{"$f":"_xlfn.XLOOKUP(B411,'Programmes lists'!B:B,'Programmes lists'!G:G,\"Not found\")","v":"Minimum grade 12 pass in\n•\tIsiZulu HL 50% \n•\tEnglish FAL 50%"},{"$f":"_xlfn.XLOOKUP(B411,'Programmes lists'!B:B,'Programmes lists'!F:F,\"Not found\")","v":532}]
["Intermediate Phase","Specialising in Life Skills, Social Sciences & IsiZulu Home Language","EDUB2724",{"$f":"_xlfn.XLOOKUP(C412,'RAW module list'!A:A,'RAW module list'!B:B, \"Not found\")","v":"Education Studies 2: Human Relationships in Education context"},{"$f":"_xlfn.XLOOKUP(C412,'RAW module list'!A:A,'RAW module list'!C:C, \"Not found\")","v":7},{"$f":"_xlfn.XLOOKUP(C412,'RAW module list'!A:A,'RAW module list'!D:D, \"Not found\")","v":16},{"$f":"_xlfn.XLOOKUP(C412,'RAW module list'!A:A,'RAW module list'!E:E, \"Not found\")","v":"EDUB2714"},"Second Year",{"$f":"_xlfn.XLOOKUP(B412,'Programmes lists'!B:B,'Programmes lists'!D:D)","v":0},{"$f":"_xlfn.XLOOKUP(B412,'Programmes lists'!B:B,'Programmes lists'!E:E, \"Not found\")","v":"QC735788        "},{"$f":"_xlfn.XLOOKUP(B412,'Programmes lists'!B:B,'Programmes lists'!G:G,\"Not found\")","v":"Minimum grade 12 pass in\n•\tIsiZulu HL 50% \n•\tEnglish FAL 50%"},{"$f":"_xlfn.XLOOKUP(B412,'Programmes lists'!B:B,'Programmes lists'!F:F,\"Not found\")","v":532}]
["Intermediate Phase","Specialising in Life Skills, Social Sciences & IsiZulu Home Language","GPED2623",{"$f":"_xlfn.XLOOKUP(C413,'RAW module list'!A:A,'RAW module list'!B:B, \"Not found\")","v":"General Pedagogy 2.2: Assessment"},{"$f":"_xlfn.XLOOKUP(C413,'RAW module list'!A:A,'RAW module list'!C:C, \"Not found\")","v":6},{"$f":"_xlfn.XLOOKUP(C413,'RAW module list'!A:A,'RAW module list'!D:D, \"Not found\")","v":12},{"$f":"_xlfn.XLOOKUP(C413,'RAW module list'!A:A,'RAW module list'!E:E, \"Not found\")","v":"GPED2613"},"Second Year",{"$f":"_xlfn.XLOOKUP(B413,'Programmes lists'!B:B,'Programmes lists'!D:D)","v":0},{"$f":"_xlfn.XLOOKUP(B413,'Programmes lists'!B:B,'Programmes lists'!E:E, \"Not found\")","v":"QC735788        "},{"$f":"_xlfn.XLOOKUP(B413,'Programmes lists'!B:B,'Programmes lists'!G:G,\"Not found\")","v":"Minimum grade 12 pass in\n•\tIsiZulu HL 50% \n•\tEnglish FAL 50%"},{"$f":"_xlfn.XLOOKUP(B413,'Programmes lists'!B:B,'Programmes lists'!F:F,\"Not found\")","v":532}]
["Intermediate Phase","Specialising in Life Skills, Social Sciences & IsiZulu Home Language","LSTI3604",{"$f":"_xlfn.XLOOKUP(C414,'RAW module list'!A:A,'RAW module list'!B:B, \"Not found\")","v":"Teaching of Life Skills 1 "},{"$f":"_xlfn.XLOOKUP(C414,'RAW module list'!A:A,'RAW module list'!C:C, \"Not found\")","v":6},{"$f":"_xlfn.XLOOKUP(C414,'RAW module list'!A:A,'RAW module list'!D:D, \"Not found\")","v":16},{"$f":"_xlfn.XLOOKUP(C414,'RAW module list'!A:A,'RAW module list'!E:E, \"Not found\")","v":"LSCI614 & LSCI2624"},"Third Year",{"$f":"_xlfn.XLOOKUP(B414,'Programmes lists'!B:B,'Programmes lists'!D:D)","v":0},{"$f":"_xlfn.XLOOKUP(B414,'Programmes lists'!B:B,'Programmes lists'!E:E, \"Not found\")","v":"QC735788        "},{"$f":"_xlfn.XLOOKUP(B414,'Programmes lists'!B:B,'Programmes lists'!G:G,\"Not found\")","v":"Minimum grade 12 pass in\n•\tIsiZulu HL 50% \n•\tEnglish FAL 50%"},{"$f":"_xlfn.XLOOKUP(B414,'Programmes lists'!B:B,'Programmes lists'!F:F,\"Not found\")","v":532}]
["Intermediate Phase","Specialising in Life Skills, Social Sciences & IsiZulu Home Language","SSTI3604",{"$f":"_xlfn.XLOOKUP(C415,'RAW module list'!A:A,'RAW module list'!B:B, \"Not found\")","v":"Teaching Social Sciences 1"},{"$f":"_xlfn.XLOOKUP(C415,'RAW module list'!A:A,'RAW module list'!C:C, \"Not found\")","v":6},{"$f":"_xlfn.XLOOKUP(C415,'RAW module list'!A:A,'RAW module list'!D:D, \"Not found\")","v":16},{"$f":"_xlfn.XLOOKUP(C415,'RAW module list'!A:A,'RAW module list'!E:E, \"Not found\")","v":"SSCI2614 & SSCI2624"},"Third Year",{"$f":"_xlfn.XLOOKUP(B415,'Programmes lists'!B:B,'Programmes lists'!D:D)","v":0},{"$f":"_xlfn.XLOOKUP(B415,'Programmes lists'!B:B,'Programmes lists'!E:E, \"Not found\")","v":"QC735788        "},{"$f":"_xlfn.XLOOKUP(B415,'Programmes lists'!B:B,'Programmes lists'!G:G,\"Not found\")","v":"Minimum grade 12 pass in\n•\tIsiZulu HL 50% \n•\tEnglish FAL 50%"},{"$f":"_xlfn.XLOOKUP(B415,'Programmes lists'!B:B,'Programmes lists'!F:F,\"Not found\")","v":532}]
["Intermediate Phase","Specialising in Life Skills, Social Sciences & IsiZulu Home Language","ZHTI3604",{"$f":"_xlfn.XLOOKUP(C416,'RAW module list'!A:A,'RAW module list'!B:B, \"Not found\")","v":"IsiZulu Teaching 1 Home Language"},{"$f":"_xlfn.XLOOKUP(C416,'RAW module list'!A:A,'RAW module list'!C:C, \"Not found\")","v":6},{"$f":"_xlfn.XLOOKUP(C416,'RAW module list'!A:A,'RAW module list'!D:D, \"Not found\")","v":16},{"$f":"_xlfn.XLOOKUP(C416,'RAW module list'!A:A,'RAW module list'!E:E, \"Not found\")","v":"ZULL1514 & ZULT1524"},"Third Year",{"$f":"_xlfn.XLOOKUP(B416,'Programmes lists'!B:B,'Programmes lists'!D:D)","v":0},{"$f":"_xlfn.XLOOKUP(B416,'Programmes lists'!B:B,'Programmes lists'!E:E, \"Not found\")","v":"QC735788        "},{"$f":"_xlfn.XLOOKUP(B416,'Programmes lists'!B:B,'Programmes lists'!G:G,\"Not found\")","v":"Minimum grade 12 pass in\n•\tIsiZulu HL 50% \n•\tEnglish FAL 50%"},{"$f":"_xlfn.XLOOKUP(B416,'Programmes lists'!B:B,'Programmes lists'!F:F,\"Not found\")","v":532}]
["Intermediate Phase","Specialising in Life Skills, Social Sciences & IsiZulu Home Language","CURS3502",{"$f":"_xlfn.XLOOKUP(C417,'RAW module list'!A:A,'RAW module list'!B:B, \"Not found\")","v":"Intermediate Phase School Curriculum"},{"$f":"_xlfn.XLOOKUP(C417,'RAW module list'!A:A,'RAW module list'!C:C, \"Not found\")","v":5},{"$f":"_xlfn.XLOOKUP(C417,'RAW module list'!A:A,'RAW module list'!D:D, \"Not found\")","v":8},{"$f":"_xlfn.XLOOKUP(C417,'RAW module list'!A:A,'RAW module list'!E:E, \"Not found\")","v":0},"Third Year",{"$f":"_xlfn.XLOOKUP(B417,'Programmes lists'!B:B,'Programmes lists'!D:D)","v":0},{"$f":"_xlfn.XLOOKUP(B417,'Programmes lists'!B:B,'Programmes lists'!E:E, \"Not found\")","v":"QC735788        "},{"$f":"_xlfn.XLOOKUP(B417,'Programmes lists'!B:B,'Programmes lists'!G:G,\"Not found\")","v":"Minimum grade 12 pass in\n•\tIsiZulu HL 50% \n•\tEnglish FAL 50%"},{"$f":"_xlfn.XLOOKUP(B417,'Programmes lists'!B:B,'Programmes lists'!F:F,\"Not found\")","v":532}]
["Intermediate Phase","Specialising in Life Skills, Social Sciences & IsiZulu Home Language","EDUB3714",{"$f":"_xlfn.XLOOKUP(C418,'RAW module list'!A:A,'RAW module list'!B:B, \"Not found\")","v":"Education Studies 3.1 Education systems in global and national context"},{"$f":"_xlfn.XLOOKUP(C418,'RAW module list'!A:A,'RAW module list'!C:C, \"Not found\")","v":7},{"$f":"_xlfn.XLOOKUP(C418,'RAW module list'!A:A,'RAW module list'!D:D, \"Not found\")","v":16},{"$f":"_xlfn.XLOOKUP(C418,'RAW module list'!A:A,'RAW module list'!E:E, \"Not found\")","v":"EDUB1613 & EDUB1623& EDUB2714 & EDUB2724"},"Third Year",{"$f":"_xlfn.XLOOKUP(B418,'Programmes lists'!B:B,'Programmes lists'!D:D)","v":0},{"$f":"_xlfn.XLOOKUP(B418,'Programmes lists'!B:B,'Programmes lists'!E:E, \"Not found\")","v":"QC735788        "},{"$f":"_xlfn.XLOOKUP(B418,'Programmes lists'!B:B,'Programmes lists'!G:G,\"Not found\")","v":"Minimum grade 12 pass in\n•\tIsiZulu HL 50% \n•\tEnglish FAL 50%"},{"$f":"_xlfn.XLOOKUP(B418,'Programmes lists'!B:B,'Programmes lists'!F:F,\"Not found\")","v":532}]
["Intermediate Phase","Specialising in Life Skills, Social Sciences & IsiZulu Home Language","EATI3604",{"$f":"_xlfn.XLOOKUP(C419,'RAW module list'!A:A,'RAW module list'!B:B, \"Not found\")","v":"English additional language teaching 1"},{"$f":"_xlfn.XLOOKUP(C419,'RAW module list'!A:A,'RAW module list'!C:C, \"Not found\")","v":6},{"$f":"_xlfn.XLOOKUP(C419,'RAW module list'!A:A,'RAW module list'!D:D, \"Not found\")","v":16},{"$f":"_xlfn.XLOOKUP(C419,'RAW module list'!A:A,'RAW module list'!E:E, \"Not found\")","v":"ENGE1608"},"Third Year",{"$f":"_xlfn.XLOOKUP(B419,'Programmes lists'!B:B,'Programmes lists'!D:D)","v":0},{"$f":"_xlfn.XLOOKUP(B419,'Programmes lists'!B:B,'Programmes lists'!E:E, \"Not found\")","v":"QC735788        "},{"$f":"_xlfn.XLOOKUP(B419,'Programmes lists'!B:B,'Programmes lists'!G:G,\"Not found\")","v":"Minimum grade 12 pass in\n•\tIsiZulu HL 50% \n•\tEnglish FAL 50%"},{"$f":"_xlfn.XLOOKUP(B419,'Programmes lists'!B:B,'Programmes lists'!F:F,\"Not found\")","v":532}]
["Intermediate Phase","Specialising in Life Skills, Social Sciences & IsiZulu Home Language","SICL3512 OR SSCL3512 OR GAFR3512",{"$f":"_xlfn.XLOOKUP(C420,'RAW module list'!A:A,'RAW module list'!B:B, \"Not found\")","v":"Conversational Sign Language OR Conversational Sesotho OR Conversational Afrikaans"},{"$f":"_xlfn.XLOOKUP(C420,'RAW module list'!A:A,'RAW module list'!C:C, \"Not found\")","v":5},{"$f":"_xlfn.XLOOKUP(C420,'RAW module list'!A:A,'RAW module list'!D:D, \"Not found\")","v":8},{"$f":"_xlfn.XLOOKUP(C420,'RAW module list'!A:A,'RAW module list'!E:E, \"Not found\")","v":"No previous exposure to the language"},"Third Year",{"$f":"_xlfn.XLOOKUP(B420,'Programmes lists'!B:B,'Programmes lists'!D:D)","v":0},{"$f":"_xlfn.XLOOKUP(B420,'Programmes lists'!B:B,'Programmes lists'!E:E, \"Not found\")","v":"QC735788        "},{"$f":"_xlfn.XLOOKUP(B420,'Programmes lists'!B:B,'Programmes lists'!G:G,\"Not found\")","v":"Minimum grade 12 pass in\n•\tIsiZulu HL 50% \n•\tEnglish FAL 50%"},{"$f":"_xlfn.XLOOKUP(B420,'Programmes lists'!B:B,'Programmes lists'!F:F,\"Not found\")","v":532}]
["Intermediate Phase","Specialising in Life Skills, Social Sciences & IsiZulu Home Language","WILI3606",{"$f":"_xlfn.XLOOKUP(C421,'RAW module list'!A:A,'RAW module list'!B:B, \"Not found\")","v":"Teaching Practice 3"},{"$f":"_xlfn.XLOOKUP(C421,'RAW module list'!A:A,'RAW module list'!C:C, \"Not found\")","v":6},{"$f":"_xlfn.XLOOKUP(C421,'RAW module list'!A:A,'RAW module list'!D:D, \"Not found\")","v":24},{"$f":"_xlfn.XLOOKUP(C421,'RAW module list'!A:A,'RAW module list'!E:E, \"Not found\")","v":"TPRI2502"},"Third Year",{"$f":"_xlfn.XLOOKUP(B421,'Programmes lists'!B:B,'Programmes lists'!D:D)","v":0},{"$f":"_xlfn.XLOOKUP(B421,'Programmes lists'!B:B,'Programmes lists'!E:E, \"Not found\")","v":"QC735788        "},{"$f":"_xlfn.XLOOKUP(B421,'Programmes lists'!B:B,'Programmes lists'!G:G,\"Not found\")","v":"Minimum grade 12 pass in\n•\tIsiZulu HL 50% \n•\tEnglish FAL 50%"},{"$f":"_xlfn.XLOOKUP(B421,'Programmes lists'!B:B,'Programmes lists'!F:F,\"Not found\")","v":532}]
["Intermediate Phase","Specialising in Life Skills, Social Sciences & IsiZulu Home Language","EDUB3724",{"$f":"_xlfn.XLOOKUP(C422,'RAW module list'!A:A,'RAW module list'!B:B, \"Not found\")","v":"Education Studies 3.2: Contemporary Education Theory in the current social context"},{"$f":"_xlfn.XLOOKUP(C422,'RAW module list'!A:A,'RAW module list'!C:C, \"Not found\")","v":7},{"$f":"_xlfn.XLOOKUP(C422,'RAW module list'!A:A,'RAW module list'!D:D, \"Not found\")","v":16},{"$f":"_xlfn.XLOOKUP(C422,'RAW module list'!A:A,'RAW module list'!E:E, \"Not found\")","v":"EDUB1613 & EDUB1623 & EDUB2714 & EDUB2724 & EDUB3714"},"Third Year",{"$f":"_xlfn.XLOOKUP(B422,'Programmes lists'!B:B,'Programmes lists'!D:D)","v":0},{"$f":"_xlfn.XLOOKUP(B422,'Programmes lists'!B:B,'Programmes lists'!E:E, \"Not found\")","v":"QC735788        "},{"$f":"_xlfn.XLOOKUP(B422,'Programmes lists'!B:B,'Programmes lists'!G:G,\"Not found\")","v":"Minimum grade 12 pass in\n•\tIsiZulu HL 50% \n•\tEnglish FAL 50%"},{"$f":"_xlfn.XLOOKUP(B422,'Programmes lists'!B:B,'Programmes lists'!F:F,\"Not found\")","v":532}]
["Intermediate Phase","Specialising in Life Skills, Social Sciences & IsiZulu Home Language","SICL3522 OR SSCL3522 OR GAFR3522",{"$f":"_xlfn.XLOOKUP(C423,'RAW module list'!A:A,'RAW module list'!B:B, \"Not found\")","v":"Conversational Sesotho OR Conversational Sign Language OR Conversational Afrikaans"},{"$f":"_xlfn.XLOOKUP(C423,'RAW module list'!A:A,'RAW module list'!C:C, \"Not found\")","v":5},{"$f":"_xlfn.XLOOKUP(C423,'RAW module list'!A:A,'RAW module list'!D:D, \"Not found\")","v":8},{"$f":"_xlfn.XLOOKUP(C423,'RAW module list'!A:A,'RAW module list'!E:E, \"Not found\")","v":"Continue with the conversational language chosen in Semester 1"},"Third Year",{"$f":"_xlfn.XLOOKUP(B423,'Programmes lists'!B:B,'Programmes lists'!D:D)","v":0},{"$f":"_xlfn.XLOOKUP(B423,'Programmes lists'!B:B,'Programmes lists'!E:E, \"Not found\")","v":"QC735788        "},{"$f":"_xlfn.XLOOKUP(B423,'Programmes lists'!B:B,'Programmes lists'!G:G,\"Not found\")","v":"Minimum grade 12 pass in\n•\tIsiZulu HL 50% \n•\tEnglish FAL 50%"},{"$f":"_xlfn.XLOOKUP(B423,'Programmes lists'!B:B,'Programmes lists'!F:F,\"Not found\")","v":532}]
["Intermediate Phase","Specialising in Life Skills, Social Sciences & IsiZulu Home Language","LSTI4705",{"$f":"_xlfn.XLOOKUP(C424,'RAW module list'!A:A,'RAW module list'!B:B, \"Not found\")","v":"Teaching of Life Skills 2"},{"$f":"_xlfn.XLOOKUP(C424,'RAW module list'!A:A,'RAW module list'!C:C, \"Not found\")","v":7},{"$f":"_xlfn.XLOOKUP(C424,'RAW module list'!A:A,'RAW module list'!D:D, \"Not found\")","v":20},{"$f":"_xlfn.XLOOKUP(C424,'RAW module list'!A:A,'RAW module list'!E:E, \"Not found\")","v":"LSTI3604"},"Fourth Year",{"$f":"_xlfn.XLOOKUP(B424,'Programmes lists'!B:B,'Programmes lists'!D:D)","v":0},{"$f":"_xlfn.XLOOKUP(B424,'Programmes lists'!B:B,'Programmes lists'!E:E, \"Not found\")","v":"QC735788        "},{"$f":"_xlfn.XLOOKUP(B424,'Programmes lists'!B:B,'Programmes lists'!G:G,\"Not found\")","v":"Minimum grade 12 pass in\n•\tIsiZulu HL 50% \n•\tEnglish FAL 50%"},{"$f":"_xlfn.XLOOKUP(B424,'Programmes lists'!B:B,'Programmes lists'!F:F,\"Not found\")","v":532}]
["Intermediate Phase","Specialising in Life Skills, Social Sciences & IsiZulu Home Language","SSTI4705",{"$f":"_xlfn.XLOOKUP(C425,'RAW module list'!A:A,'RAW module list'!B:B, \"Not found\")","v":"Teaching of Social Sciences 2"},{"$f":"_xlfn.XLOOKUP(C425,'RAW module list'!A:A,'RAW module list'!C:C, \"Not found\")","v":7},{"$f":"_xlfn.XLOOKUP(C425,'RAW module list'!A:A,'RAW module list'!D:D, \"Not found\")","v":20},{"$f":"_xlfn.XLOOKUP(C425,'RAW module list'!A:A,'RAW module list'!E:E, \"Not found\")","v":"SSTI3604"},"Fourth Year",{"$f":"_xlfn.XLOOKUP(B425,'Programmes lists'!B:B,'Programmes lists'!D:D)","v":0},{"$f":"_xlfn.XLOOKUP(B425,'Programmes lists'!B:B,'Programmes lists'!E:E, \"Not found\")","v":"QC735788        "},{"$f":"_xlfn.XLOOKUP(B425,'Programmes lists'!B:B,'Programmes lists'!G:G,\"Not found\")","v":"Minimum grade 12 pass in\n•\tIsiZulu HL 50% \n•\tEnglish FAL 50%"},{"$f":"_xlfn.XLOOKUP(B425,'Programmes lists'!B:B,'Programmes lists'!F:F,\"Not found\")","v":532}]
["Intermediate Phase","Specialising in Life Skills, Social Sciences & IsiZulu Home Language","ZHTI4705",{"$f":"_xlfn.XLOOKUP(C426,'RAW module list'!A:A,'RAW module list'!B:B, \"Not found\")","v":"IsiZulu Teaching 2 (Home Language)"},{"$f":"_xlfn.XLOOKUP(C426,'RAW module list'!A:A,'RAW module list'!C:C, \"Not found\")","v":7},{"$f":"_xlfn.XLOOKUP(C426,'RAW module list'!A:A,'RAW module list'!D:D, \"Not found\")","v":20},{"$f":"_xlfn.XLOOKUP(C426,'RAW module list'!A:A,'RAW module list'!E:E, \"Not found\")","v":"ZHTI3604"},"Fourth Year",{"$f":"_xlfn.XLOOKUP(B426,'Programmes lists'!B:B,'Programmes lists'!D:D)","v":0},{"$f":"_xlfn.XLOOKUP(B426,'Programmes lists'!B:B,'Programmes lists'!E:E, \"Not found\")","v":"QC735788        "},{"$f":"_xlfn.XLOOKUP(B426,'Programmes lists'!B:B,'Programmes lists'!G:G,\"Not found\")","v":"Minimum grade 12 pass in\n•\tIsiZulu HL 50% \n•\tEnglish FAL 50%"},{"$f":"_xlfn.XLOOKUP(B426,'Programmes lists'!B:B,'Programmes lists'!F:F,\"Not found\")","v":532}]
["Intermediate Phase","Specialising in Life Skills, Social Sciences & IsiZulu Home Language","EATI4705",{"$f":"_xlfn.XLOOKUP(C427,'RAW module list'!A:A,'RAW module list'!B:B, \"Not found\")","v":"English additional language teaching 2"},{"$f":"_xlfn.XLOOKUP(C427,'RAW module list'!A:A,'RAW module list'!C:C, \"Not found\")","v":7},{"$f":"_xlfn.XLOOKUP(C427,'RAW module list'!A:A,'RAW module list'!D:D, \"Not found\")","v":20},{"$f":"_xlfn.XLOOKUP(C427,'RAW module list'!A:A,'RAW module list'!E:E, \"Not found\")","v":"EATI3604"},"Fourth Year",{"$f":"_xlfn.XLOOKUP(B427,'Programmes lists'!B:B,'Programmes lists'!D:D)","v":0},{"$f":"_xlfn.XLOOKUP(B427,'Programmes lists'!B:B,'Programmes lists'!E:E, \"Not found\")","v":"QC735788        "},{"$f":"_xlfn.XLOOKUP(B427,'Programmes lists'!B:B,'Programmes lists'!G:G,\"Not found\")","v":"Minimum grade 12 pass in\n•\tIsiZulu HL 50% \n•\tEnglish FAL 50%"},{"$f":"_xlfn.XLOOKUP(B427,'Programmes lists'!B:B,'Programmes lists'!F:F,\"Not found\")","v":532}]
["Intermediate Phase","Specialising in Life Skills, Social Sciences & IsiZulu Home Language","CURS4705",{"$f":"_xlfn.XLOOKUP(C428,'RAW module list'!A:A,'RAW module list'!B:B, \"Not found\")","v":"Intermediate Phase School Curriculum"},{"$f":"_xlfn.XLOOKUP(C428,'RAW module list'!A:A,'RAW module list'!C:C, \"Not found\")","v":5},{"$f":"_xlfn.XLOOKUP(C428,'RAW module list'!A:A,'RAW module list'!D:D, \"Not found\")","v":8},{"$f":"_xlfn.XLOOKUP(C428,'RAW module list'!A:A,'RAW module list'!E:E, \"Not found\")","v":"CURS3502"},"Fourth Year",{"$f":"_xlfn.XLOOKUP(B428,'Programmes lists'!B:B,'Programmes lists'!D:D)","v":0},{"$f":"_xlfn.XLOOKUP(B428,'Programmes lists'!B:B,'Programmes lists'!E:E, \"Not found\")","v":"QC735788        "},{"$f":"_xlfn.XLOOKUP(B428,'Programmes lists'!B:B,'Programmes lists'!G:G,\"Not found\")","v":"Minimum grade 12 pass in\n•\tIsiZulu HL 50% \n•\tEnglish FAL 50%"},{"$f":"_xlfn.XLOOKUP(B428,'Programmes lists'!B:B,'Programmes lists'!F:F,\"Not found\")","v":532}]
["Intermediate Phase","Specialising in Life Skills, Social Sciences & IsiZulu Home Language","WILI4700",{"$f":"_xlfn.XLOOKUP(C429,'RAW module list'!A:A,'RAW module list'!B:B, \"Not found\")","v":"Teaching Practice 4"},{"$f":"_xlfn.XLOOKUP(C429,'RAW module list'!A:A,'RAW module list'!C:C, \"Not found\")","v":7},{"$f":"_xlfn.XLOOKUP(C429,'RAW module list'!A:A,'RAW module list'!D:D, \"Not found\")","v":40},{"$f":"_xlfn.XLOOKUP(C429,'RAW module list'!A:A,'RAW module list'!E:E, \"Not found\")","v":"WILI3606"},"Fourth Year",{"$f":"_xlfn.XLOOKUP(B429,'Programmes lists'!B:B,'Programmes lists'!D:D)","v":0},{"$f":"_xlfn.XLOOKUP(B429,'Programmes lists'!B:B,'Programmes lists'!E:E, \"Not found\")","v":"QC735788        "},{"$f":"_xlfn.XLOOKUP(B429,'Programmes lists'!B:B,'Programmes lists'!G:G,\"Not found\")","v":"Minimum grade 12 pass in\n•\tIsiZulu HL 50% \n•\tEnglish FAL 50%"},{"$f":"_xlfn.XLOOKUP(B429,'Programmes lists'!B:B,'Programmes lists'!F:F,\"Not found\")","v":532}]
["Intermediate Phase Extended Progamme","EXT - Specialising in Mathematics, Natural Science & Technology and Afrikaans Home Language","AGAE1508",{"$f":"_xlfn.XLOOKUP(C430,'RAW module list'!A:A,'RAW module list'!B:B, \"Not found\")","v":"Academic Literacy in Afrikaans"},{"$f":"_xlfn.XLOOKUP(C430,'RAW module list'!A:A,'RAW module list'!C:C, \"Not found\")","v":5},{"$f":"_xlfn.XLOOKUP(C430,'RAW module list'!A:A,'RAW module list'!D:D, \"Not found\")","v":-32},{"$f":"_xlfn.XLOOKUP(C430,'RAW module list'!A:A,'RAW module list'!E:E, \"Not found\")","v":"NBT requirements not met"},"First Year",{"$f":"_xlfn.XLOOKUP(B430,'Programmes lists'!B:B,'Programmes lists'!D:D)","v":"BC7357E2"},{"$f":"_xlfn.XLOOKUP(B430,'Programmes lists'!B:B,'Programmes lists'!E:E, \"Not found\")","v":0},{"$f":"_xlfn.XLOOKUP(B430,'Programmes lists'!B:B,'Programmes lists'!G:G,\"Not found\")","v":"Minimum grade 12 pass in\n•\tAfrikaans HL 55% \n•\tEnglish FAL 50%\n•\tMathematics 50%"},{"$f":"_xlfn.XLOOKUP(B430,'Programmes lists'!B:B,'Programmes lists'!F:F,\"Not found\")","v":660}]
["Intermediate Phase Extended Progamme","EXT - Specialising in Mathematics, Natural Science & Technology and Afrikaans Home Language","SCLL1508",{"$f":"_xlfn.XLOOKUP(C431,'RAW module list'!A:A,'RAW module list'!B:B, \"Not found\")","v":"Skills and competencies for lifelong learning"},{"$f":"_xlfn.XLOOKUP(C431,'RAW module list'!A:A,'RAW module list'!C:C, \"Not found\")","v":6},{"$f":"_xlfn.XLOOKUP(C431,'RAW module list'!A:A,'RAW module list'!D:D, \"Not found\")","v":32},{"$f":"_xlfn.XLOOKUP(C431,'RAW module list'!A:A,'RAW module list'!E:E, \"Not found\")","v":0},"First Year",{"$f":"_xlfn.XLOOKUP(B431,'Programmes lists'!B:B,'Programmes lists'!D:D)","v":"BC7357E2"},{"$f":"_xlfn.XLOOKUP(B431,'Programmes lists'!B:B,'Programmes lists'!E:E, \"Not found\")","v":0},{"$f":"_xlfn.XLOOKUP(B431,'Programmes lists'!B:B,'Programmes lists'!G:G,\"Not found\")","v":"Minimum grade 12 pass in\n•\tAfrikaans HL 55% \n•\tEnglish FAL 50%\n•\tMathematics 50%"},{"$f":"_xlfn.XLOOKUP(B431,'Programmes lists'!B:B,'Programmes lists'!F:F,\"Not found\")","v":660}]
["Intermediate Phase Extended Progamme","EXT - Specialising in Mathematics, Natural Science & Technology and Afrikaans Home Language","LLST1513",{"$f":"_xlfn.XLOOKUP(C432,'RAW module list'!A:A,'RAW module list'!B:B, \"Not found\")","v":"Lifelong Learning Skills"},{"$f":"_xlfn.XLOOKUP(C432,'RAW module list'!A:A,'RAW module list'!C:C, \"Not found\")","v":5},{"$f":"_xlfn.XLOOKUP(C432,'RAW module list'!A:A,'RAW module list'!D:D, \"Not found\")","v":12},{"$f":"_xlfn.XLOOKUP(C432,'RAW module list'!A:A,'RAW module list'!E:E, \"Not found\")","v":0},"First Year",{"$f":"_xlfn.XLOOKUP(B432,'Programmes lists'!B:B,'Programmes lists'!D:D)","v":"BC7357E2"},{"$f":"_xlfn.XLOOKUP(B432,'Programmes lists'!B:B,'Programmes lists'!E:E, \"Not found\")","v":0},{"$f":"_xlfn.XLOOKUP(B432,'Programmes lists'!B:B,'Programmes lists'!G:G,\"Not found\")","v":"Minimum grade 12 pass in\n•\tAfrikaans HL 55% \n•\tEnglish FAL 50%\n•\tMathematics 50%"},{"$f":"_xlfn.XLOOKUP(B432,'Programmes lists'!B:B,'Programmes lists'!F:F,\"Not found\")","v":660}]
["Intermediate Phase Extended Progamme","EXT - Specialising in Mathematics, Natural Science & Technology and Afrikaans Home Language","EDUB1613",{"$f":"_xlfn.XLOOKUP(C433,'RAW module list'!A:A,'RAW module list'!B:B, \"Not found\")","v":"Education Studies 1.1 The Individual in the learning context"},{"$f":"_xlfn.XLOOKUP(C433,'RAW module list'!A:A,'RAW module list'!C:C, \"Not found\")","v":6},{"$f":"_xlfn.XLOOKUP(C433,'RAW module list'!A:A,'RAW module list'!D:D, \"Not found\")","v":12},{"$f":"_xlfn.XLOOKUP(C433,'RAW module list'!A:A,'RAW module list'!E:E, \"Not found\")","v":0},"First Year",{"$f":"_xlfn.XLOOKUP(B433,'Programmes lists'!B:B,'Programmes lists'!D:D)","v":"BC7357E2"},{"$f":"_xlfn.XLOOKUP(B433,'Programmes lists'!B:B,'Programmes lists'!E:E, \"Not found\")","v":0},{"$f":"_xlfn.XLOOKUP(B433,'Programmes lists'!B:B,'Programmes lists'!G:G,\"Not found\")","v":"Minimum grade 12 pass in\n•\tAfrikaans HL 55% \n•\tEnglish FAL 50%\n•\tMathematics 50%"},{"$f":"_xlfn.XLOOKUP(B433,'Programmes lists'!B:B,'Programmes lists'!F:F,\"Not found\")","v":660}]
["Intermediate Phase Extended Progamme","EXT - Specialising in Mathematics, Natural Science & Technology and Afrikaans Home Language","EDUB1623",{"$f":"_xlfn.XLOOKUP(C434,'RAW module list'!A:A,'RAW module list'!B:B, \"Not found\")","v":"Education Studies 1.2 What it means to educate: Theoretical perspectives and their significance for SA education"},{"$f":"_xlfn.XLOOKUP(C434,'RAW module list'!A:A,'RAW module list'!C:C, \"Not found\")","v":6},{"$f":"_xlfn.XLOOKUP(C434,'RAW module list'!A:A,'RAW module list'!D:D, \"Not found\")","v":12},{"$f":"_xlfn.XLOOKUP(C434,'RAW module list'!A:A,'RAW module list'!E:E, \"Not found\")","v":0},"First Year",{"$f":"_xlfn.XLOOKUP(B434,'Programmes lists'!B:B,'Programmes lists'!D:D)","v":"BC7357E2"},{"$f":"_xlfn.XLOOKUP(B434,'Programmes lists'!B:B,'Programmes lists'!E:E, \"Not found\")","v":0},{"$f":"_xlfn.XLOOKUP(B434,'Programmes lists'!B:B,'Programmes lists'!G:G,\"Not found\")","v":"Minimum grade 12 pass in\n•\tAfrikaans HL 55% \n•\tEnglish FAL 50%\n•\tMathematics 50%"},{"$f":"_xlfn.XLOOKUP(B434,'Programmes lists'!B:B,'Programmes lists'!F:F,\"Not found\")","v":660}]
["Intermediate Phase Extended Progamme","EXT - Specialising in Mathematics, Natural Science & Technology and Afrikaans Home Language","GPED1623",{"$f":"_xlfn.XLOOKUP(C435,'RAW module list'!A:A,'RAW module list'!B:B, \"Not found\")","v":"General Pedagogy 1: Managing the Curriculum"},{"$f":"_xlfn.XLOOKUP(C435,'RAW module list'!A:A,'RAW module list'!C:C, \"Not found\")","v":6},{"$f":"_xlfn.XLOOKUP(C435,'RAW module list'!A:A,'RAW module list'!D:D, \"Not found\")","v":12},{"$f":"_xlfn.XLOOKUP(C435,'RAW module list'!A:A,'RAW module list'!E:E, \"Not found\")","v":0},"First Year",{"$f":"_xlfn.XLOOKUP(B435,'Programmes lists'!B:B,'Programmes lists'!D:D)","v":"BC7357E2"},{"$f":"_xlfn.XLOOKUP(B435,'Programmes lists'!B:B,'Programmes lists'!E:E, \"Not found\")","v":0},{"$f":"_xlfn.XLOOKUP(B435,'Programmes lists'!B:B,'Programmes lists'!G:G,\"Not found\")","v":"Minimum grade 12 pass in\n•\tAfrikaans HL 55% \n•\tEnglish FAL 50%\n•\tMathematics 50%"},{"$f":"_xlfn.XLOOKUP(B435,'Programmes lists'!B:B,'Programmes lists'!F:F,\"Not found\")","v":660}]
["Intermediate Phase Extended Progamme","EXT - Specialising in Mathematics, Natural Science & Technology and Afrikaans Home Language","EALH2508",{"$f":"_xlfn.XLOOKUP(C436,'RAW module list'!A:A,'RAW module list'!B:B, \"Not found\")","v":"Academic Literacy for extended programmes 2"},{"$f":"_xlfn.XLOOKUP(C436,'RAW module list'!A:A,'RAW module list'!C:C, \"Not found\")","v":5},{"$f":"_xlfn.XLOOKUP(C436,'RAW module list'!A:A,'RAW module list'!D:D, \"Not found\")","v":32},{"$f":"_xlfn.XLOOKUP(C436,'RAW module list'!A:A,'RAW module list'!E:E, \"Not found\")","v":"AGAE1508 or EALT1508"},"Second Year",{"$f":"_xlfn.XLOOKUP(B436,'Programmes lists'!B:B,'Programmes lists'!D:D)","v":"BC7357E2"},{"$f":"_xlfn.XLOOKUP(B436,'Programmes lists'!B:B,'Programmes lists'!E:E, \"Not found\")","v":0},{"$f":"_xlfn.XLOOKUP(B436,'Programmes lists'!B:B,'Programmes lists'!G:G,\"Not found\")","v":"Minimum grade 12 pass in\n•\tAfrikaans HL 55% \n•\tEnglish FAL 50%\n•\tMathematics 50%"},{"$f":"_xlfn.XLOOKUP(B436,'Programmes lists'!B:B,'Programmes lists'!F:F,\"Not found\")","v":660}]
["Intermediate Phase Extended Progamme","EXT - Specialising in Mathematics, Natural Science & Technology and Afrikaans Home Language","ENGE1608",{"$f":"_xlfn.XLOOKUP(C437,'RAW module list'!A:A,'RAW module list'!B:B, \"Not found\")","v":"English Language for Education "},{"$f":"_xlfn.XLOOKUP(C437,'RAW module list'!A:A,'RAW module list'!C:C, \"Not found\")","v":6},{"$f":"_xlfn.XLOOKUP(C437,'RAW module list'!A:A,'RAW module list'!D:D, \"Not found\")","v":32},{"$f":"_xlfn.XLOOKUP(C437,'RAW module list'!A:A,'RAW module list'!E:E, \"Not found\")","v":0},"Second Year",{"$f":"_xlfn.XLOOKUP(B437,'Programmes lists'!B:B,'Programmes lists'!D:D)","v":"BC7357E2"},{"$f":"_xlfn.XLOOKUP(B437,'Programmes lists'!B:B,'Programmes lists'!E:E, \"Not found\")","v":0},{"$f":"_xlfn.XLOOKUP(B437,'Programmes lists'!B:B,'Programmes lists'!G:G,\"Not found\")","v":"Minimum grade 12 pass in\n•\tAfrikaans HL 55% \n•\tEnglish FAL 50%\n•\tMathematics 50%"},{"$f":"_xlfn.XLOOKUP(B437,'Programmes lists'!B:B,'Programmes lists'!F:F,\"Not found\")","v":660}]
["Intermediate Phase Extended Progamme","EXT - Specialising in Mathematics, Natural Science & Technology and Afrikaans Home Language","MTHI1614",{"$f":"_xlfn.XLOOKUP(C438,'RAW module list'!A:A,'RAW module list'!B:B, \"Not found\")","v":"Mathematics: Numbers, algebra and functions "},{"$f":"_xlfn.XLOOKUP(C438,'RAW module list'!A:A,'RAW module list'!C:C, \"Not found\")","v":6},{"$f":"_xlfn.XLOOKUP(C438,'RAW module list'!A:A,'RAW module list'!D:D, \"Not found\")","v":16},{"$f":"_xlfn.XLOOKUP(C438,'RAW module list'!A:A,'RAW module list'!E:E, \"Not found\")","v":"Mathematics at NSC level 4 (50%) pass"},"Second Year",{"$f":"_xlfn.XLOOKUP(B438,'Programmes lists'!B:B,'Programmes lists'!D:D)","v":"BC7357E2"},{"$f":"_xlfn.XLOOKUP(B438,'Programmes lists'!B:B,'Programmes lists'!E:E, \"Not found\")","v":0},{"$f":"_xlfn.XLOOKUP(B438,'Programmes lists'!B:B,'Programmes lists'!G:G,\"Not found\")","v":"Minimum grade 12 pass in\n•\tAfrikaans HL 55% \n•\tEnglish FAL 50%\n•\tMathematics 50%"},{"$f":"_xlfn.XLOOKUP(B438,'Programmes lists'!B:B,'Programmes lists'!F:F,\"Not found\")","v":660}]
["Intermediate Phase Extended Progamme","EXT - Specialising in Mathematics, Natural Science & Technology and Afrikaans Home Language","MTDH1508",{"$f":"_xlfn.XLOOKUP(C439,'RAW module list'!A:A,'RAW module list'!B:B, \"Not found\")","v":"Mathematical Literacy"},{"$f":"_xlfn.XLOOKUP(C439,'RAW module list'!A:A,'RAW module list'!C:C, \"Not found\")","v":5},{"$f":"_xlfn.XLOOKUP(C439,'RAW module list'!A:A,'RAW module list'!D:D, \"Not found\")","v":32},{"$f":"_xlfn.XLOOKUP(C439,'RAW module list'!A:A,'RAW module list'!E:E, \"Not found\")","v":0},"Second Year",{"$f":"_xlfn.XLOOKUP(B439,'Programmes lists'!B:B,'Programmes lists'!D:D)","v":"BC7357E2"},{"$f":"_xlfn.XLOOKUP(B439,'Programmes lists'!B:B,'Programmes lists'!E:E, \"Not found\")","v":0},{"$f":"_xlfn.XLOOKUP(B439,'Programmes lists'!B:B,'Programmes lists'!G:G,\"Not found\")","v":"Minimum grade 12 pass in\n•\tAfrikaans HL 55% \n•\tEnglish FAL 50%\n•\tMathematics 50%"},{"$f":"_xlfn.XLOOKUP(B439,'Programmes lists'!B:B,'Programmes lists'!F:F,\"Not found\")","v":660}]
["Intermediate Phase Extended Progamme","EXT - Specialising in Mathematics, Natural Science & Technology and Afrikaans Home Language","TPRI1502",{"$f":"_xlfn.XLOOKUP(C440,'RAW module list'!A:A,'RAW module list'!B:B, \"Not found\")","v":"Teaching Practice 1"},{"$f":"_xlfn.XLOOKUP(C440,'RAW module list'!A:A,'RAW module list'!C:C, \"Not found\")","v":5},{"$f":"_xlfn.XLOOKUP(C440,'RAW module list'!A:A,'RAW module list'!D:D, \"Not found\")","v":8},{"$f":"_xlfn.XLOOKUP(C440,'RAW module list'!A:A,'RAW module list'!E:E, \"Not found\")","v":0},"Second Year",{"$f":"_xlfn.XLOOKUP(B440,'Programmes lists'!B:B,'Programmes lists'!D:D)","v":"BC7357E2"},{"$f":"_xlfn.XLOOKUP(B440,'Programmes lists'!B:B,'Programmes lists'!E:E, \"Not found\")","v":0},{"$f":"_xlfn.XLOOKUP(B440,'Programmes lists'!B:B,'Programmes lists'!G:G,\"Not found\")","v":"Minimum grade 12 pass in\n•\tAfrikaans HL 55% \n•\tEnglish FAL 50%\n•\tMathematics 50%"},{"$f":"_xlfn.XLOOKUP(B440,'Programmes lists'!B:B,'Programmes lists'!F:F,\"Not found\")","v":660}]
["Intermediate Phase Extended Progamme","EXT - Specialising in Mathematics, Natural Science & Technology and Afrikaans Home Language","MTHI1624",{"$f":"_xlfn.XLOOKUP(C441,'RAW module list'!A:A,'RAW module list'!B:B, \"Not found\")","v":"Mathematics: total surface area and volume"},{"$f":"_xlfn.XLOOKUP(C441,'RAW module list'!A:A,'RAW module list'!C:C, \"Not found\")","v":6},{"$f":"_xlfn.XLOOKUP(C441,'RAW module list'!A:A,'RAW module list'!D:D, \"Not found\")","v":16},{"$f":"_xlfn.XLOOKUP(C441,'RAW module list'!A:A,'RAW module list'!E:E, \"Not found\")","v":"Mathematics at NSC level 4 (50%) pass"},"Second Year",{"$f":"_xlfn.XLOOKUP(B441,'Programmes lists'!B:B,'Programmes lists'!D:D)","v":"BC7357E2"},{"$f":"_xlfn.XLOOKUP(B441,'Programmes lists'!B:B,'Programmes lists'!E:E, \"Not found\")","v":0},{"$f":"_xlfn.XLOOKUP(B441,'Programmes lists'!B:B,'Programmes lists'!G:G,\"Not found\")","v":"Minimum grade 12 pass in\n•\tAfrikaans HL 55% \n•\tEnglish FAL 50%\n•\tMathematics 50%"},{"$f":"_xlfn.XLOOKUP(B441,'Programmes lists'!B:B,'Programmes lists'!F:F,\"Not found\")","v":660}]
["Intermediate Phase Extended Progamme","EXT - Specialising in Mathematics, Natural Science & Technology and Afrikaans Home Language","UFSS1522",{"$f":"_xlfn.XLOOKUP(C442,'RAW module list'!A:A,'RAW module list'!B:B, \"Not found\")","v":"Institutional module"},{"$f":"_xlfn.XLOOKUP(C442,'RAW module list'!A:A,'RAW module list'!C:C, \"Not found\")","v":5},{"$f":"_xlfn.XLOOKUP(C442,'RAW module list'!A:A,'RAW module list'!D:D, \"Not found\")","v":-8},{"$f":"_xlfn.XLOOKUP(C442,'RAW module list'!A:A,'RAW module list'!E:E, \"Not found\")","v":0},"Second Year",{"$f":"_xlfn.XLOOKUP(B442,'Programmes lists'!B:B,'Programmes lists'!D:D)","v":"BC7357E2"},{"$f":"_xlfn.XLOOKUP(B442,'Programmes lists'!B:B,'Programmes lists'!E:E, \"Not found\")","v":0},{"$f":"_xlfn.XLOOKUP(B442,'Programmes lists'!B:B,'Programmes lists'!G:G,\"Not found\")","v":"Minimum grade 12 pass in\n•\tAfrikaans HL 55% \n•\tEnglish FAL 50%\n•\tMathematics 50%"},{"$f":"_xlfn.XLOOKUP(B442,'Programmes lists'!B:B,'Programmes lists'!F:F,\"Not found\")","v":660}]
["Intermediate Phase Extended Progamme","EXT - Specialising in Mathematics, Natural Science & Technology and Afrikaans Home Language","NSTC2614",{"$f":"_xlfn.XLOOKUP(C443,'RAW module list'!A:A,'RAW module list'!B:B, \"Not found\")","v":"Elementary Natural Sciences and Technology"},{"$f":"_xlfn.XLOOKUP(C443,'RAW module list'!A:A,'RAW module list'!C:C, \"Not found\")","v":6},{"$f":"_xlfn.XLOOKUP(C443,'RAW module list'!A:A,'RAW module list'!D:D, \"Not found\")","v":16},{"$f":"_xlfn.XLOOKUP(C443,'RAW module list'!A:A,'RAW module list'!E:E, \"Not found\")","v":0},"Third Year",{"$f":"_xlfn.XLOOKUP(B443,'Programmes lists'!B:B,'Programmes lists'!D:D)","v":"BC7357E2"},{"$f":"_xlfn.XLOOKUP(B443,'Programmes lists'!B:B,'Programmes lists'!E:E, \"Not found\")","v":0},{"$f":"_xlfn.XLOOKUP(B443,'Programmes lists'!B:B,'Programmes lists'!G:G,\"Not found\")","v":"Minimum grade 12 pass in\n•\tAfrikaans HL 55% \n•\tEnglish FAL 50%\n•\tMathematics 50%"},{"$f":"_xlfn.XLOOKUP(B443,'Programmes lists'!B:B,'Programmes lists'!F:F,\"Not found\")","v":660}]
["Intermediate Phase Extended Progamme","EXT - Specialising in Mathematics, Natural Science & Technology and Afrikaans Home Language","AFNL1634",{"$f":"_xlfn.XLOOKUP(C444,'RAW module list'!A:A,'RAW module list'!B:B, \"Not found\")","v":"Introduction to Afrikaans and Dutch literature"},{"$f":"_xlfn.XLOOKUP(C444,'RAW module list'!A:A,'RAW module list'!C:C, \"Not found\")","v":6},{"$f":"_xlfn.XLOOKUP(C444,'RAW module list'!A:A,'RAW module list'!D:D, \"Not found\")","v":16},{"$f":"_xlfn.XLOOKUP(C444,'RAW module list'!A:A,'RAW module list'!E:E, \"Not found\")","v":"Grade 12 Afrikaans HL >55% or Afrikaans FAL in grade 12 >70%"},"Third Year",{"$f":"_xlfn.XLOOKUP(B444,'Programmes lists'!B:B,'Programmes lists'!D:D)","v":"BC7357E2"},{"$f":"_xlfn.XLOOKUP(B444,'Programmes lists'!B:B,'Programmes lists'!E:E, \"Not found\")","v":0},{"$f":"_xlfn.XLOOKUP(B444,'Programmes lists'!B:B,'Programmes lists'!G:G,\"Not found\")","v":"Minimum grade 12 pass in\n•\tAfrikaans HL 55% \n•\tEnglish FAL 50%\n•\tMathematics 50%"},{"$f":"_xlfn.XLOOKUP(B444,'Programmes lists'!B:B,'Programmes lists'!F:F,\"Not found\")","v":660}]
["Intermediate Phase Extended Progamme","EXT - Specialising in Mathematics, Natural Science & Technology and Afrikaans Home Language","MTBI2503",{"$f":"_xlfn.XLOOKUP(C445,'RAW module list'!A:A,'RAW module list'!B:B, \"Not found\")","v":"Basic Mathematics "},{"$f":"_xlfn.XLOOKUP(C445,'RAW module list'!A:A,'RAW module list'!C:C, \"Not found\")","v":5},{"$f":"_xlfn.XLOOKUP(C445,'RAW module list'!A:A,'RAW module list'!D:D, \"Not found\")","v":12},{"$f":"_xlfn.XLOOKUP(C445,'RAW module list'!A:A,'RAW module list'!E:E, \"Not found\")","v":0},"Third Year",{"$f":"_xlfn.XLOOKUP(B445,'Programmes lists'!B:B,'Programmes lists'!D:D)","v":"BC7357E2"},{"$f":"_xlfn.XLOOKUP(B445,'Programmes lists'!B:B,'Programmes lists'!E:E, \"Not found\")","v":0},{"$f":"_xlfn.XLOOKUP(B445,'Programmes lists'!B:B,'Programmes lists'!G:G,\"Not found\")","v":"Minimum grade 12 pass in\n•\tAfrikaans HL 55% \n•\tEnglish FAL 50%\n•\tMathematics 50%"},{"$f":"_xlfn.XLOOKUP(B445,'Programmes lists'!B:B,'Programmes lists'!F:F,\"Not found\")","v":660}]
["Intermediate Phase Extended Progamme","EXT - Specialising in Mathematics, Natural Science & Technology and Afrikaans Home Language","EDUB2714",{"$f":"_xlfn.XLOOKUP(C446,'RAW module list'!A:A,'RAW module list'!B:B, \"Not found\")","v":"Education Studies 2: Teaching and Learning in Education Context"},{"$f":"_xlfn.XLOOKUP(C446,'RAW module list'!A:A,'RAW module list'!C:C, \"Not found\")","v":7},{"$f":"_xlfn.XLOOKUP(C446,'RAW module list'!A:A,'RAW module list'!D:D, \"Not found\")","v":16},{"$f":"_xlfn.XLOOKUP(C446,'RAW module list'!A:A,'RAW module list'!E:E, \"Not found\")","v":"EDUB1613 & EDUB1623"},"Third Year",{"$f":"_xlfn.XLOOKUP(B446,'Programmes lists'!B:B,'Programmes lists'!D:D)","v":"BC7357E2"},{"$f":"_xlfn.XLOOKUP(B446,'Programmes lists'!B:B,'Programmes lists'!E:E, \"Not found\")","v":0},{"$f":"_xlfn.XLOOKUP(B446,'Programmes lists'!B:B,'Programmes lists'!G:G,\"Not found\")","v":"Minimum grade 12 pass in\n•\tAfrikaans HL 55% \n•\tEnglish FAL 50%\n•\tMathematics 50%"},{"$f":"_xlfn.XLOOKUP(B446,'Programmes lists'!B:B,'Programmes lists'!F:F,\"Not found\")","v":660}]
["Intermediate Phase Extended Progamme","EXT - Specialising in Mathematics, Natural Science & Technology and Afrikaans Home Language","GPED2613",{"$f":"_xlfn.XLOOKUP(C447,'RAW module list'!A:A,'RAW module list'!B:B, \"Not found\")","v":"General Pedagogy 2.1"},{"$f":"_xlfn.XLOOKUP(C447,'RAW module list'!A:A,'RAW module list'!C:C, \"Not found\")","v":6},{"$f":"_xlfn.XLOOKUP(C447,'RAW module list'!A:A,'RAW module list'!D:D, \"Not found\")","v":12},{"$f":"_xlfn.XLOOKUP(C447,'RAW module list'!A:A,'RAW module list'!E:E, \"Not found\")","v":"GPED1623"},"Third Year",{"$f":"_xlfn.XLOOKUP(B447,'Programmes lists'!B:B,'Programmes lists'!D:D)","v":"BC7357E2"},{"$f":"_xlfn.XLOOKUP(B447,'Programmes lists'!B:B,'Programmes lists'!E:E, \"Not found\")","v":0},{"$f":"_xlfn.XLOOKUP(B447,'Programmes lists'!B:B,'Programmes lists'!G:G,\"Not found\")","v":"Minimum grade 12 pass in\n•\tAfrikaans HL 55% \n•\tEnglish FAL 50%\n•\tMathematics 50%"},{"$f":"_xlfn.XLOOKUP(B447,'Programmes lists'!B:B,'Programmes lists'!F:F,\"Not found\")","v":660}]
["Intermediate Phase Extended Progamme","EXT - Specialising in Mathematics, Natural Science & Technology and Afrikaans Home Language","TPRI2502",{"$f":"_xlfn.XLOOKUP(C448,'RAW module list'!A:A,'RAW module list'!B:B, \"Not found\")","v":"Teaching Practice 2 "},{"$f":"_xlfn.XLOOKUP(C448,'RAW module list'!A:A,'RAW module list'!C:C, \"Not found\")","v":5},{"$f":"_xlfn.XLOOKUP(C448,'RAW module list'!A:A,'RAW module list'!D:D, \"Not found\")","v":8},{"$f":"_xlfn.XLOOKUP(C448,'RAW module list'!A:A,'RAW module list'!E:E, \"Not found\")","v":"TPRI1502"},"Third Year",{"$f":"_xlfn.XLOOKUP(B448,'Programmes lists'!B:B,'Programmes lists'!D:D)","v":"BC7357E2"},{"$f":"_xlfn.XLOOKUP(B448,'Programmes lists'!B:B,'Programmes lists'!E:E, \"Not found\")","v":0},{"$f":"_xlfn.XLOOKUP(B448,'Programmes lists'!B:B,'Programmes lists'!G:G,\"Not found\")","v":"Minimum grade 12 pass in\n•\tAfrikaans HL 55% \n•\tEnglish FAL 50%\n•\tMathematics 50%"},{"$f":"_xlfn.XLOOKUP(B448,'Programmes lists'!B:B,'Programmes lists'!F:F,\"Not found\")","v":660}]
["Intermediate Phase Extended Progamme","EXT - Specialising in Mathematics, Natural Science & Technology and Afrikaans Home Language","NSTC2624",{"$f":"_xlfn.XLOOKUP(C449,'RAW module list'!A:A,'RAW module list'!B:B, \"Not found\")","v":"Elementary Natural Science and Technology"},{"$f":"_xlfn.XLOOKUP(C449,'RAW module list'!A:A,'RAW module list'!C:C, \"Not found\")","v":6},{"$f":"_xlfn.XLOOKUP(C449,'RAW module list'!A:A,'RAW module list'!D:D, \"Not found\")","v":16},{"$f":"_xlfn.XLOOKUP(C449,'RAW module list'!A:A,'RAW module list'!E:E, \"Not found\")","v":"NSTC2614"},"Third Year",{"$f":"_xlfn.XLOOKUP(B449,'Programmes lists'!B:B,'Programmes lists'!D:D)","v":"BC7357E2"},{"$f":"_xlfn.XLOOKUP(B449,'Programmes lists'!B:B,'Programmes lists'!E:E, \"Not found\")","v":0},{"$f":"_xlfn.XLOOKUP(B449,'Programmes lists'!B:B,'Programmes lists'!G:G,\"Not found\")","v":"Minimum grade 12 pass in\n•\tAfrikaans HL 55% \n•\tEnglish FAL 50%\n•\tMathematics 50%"},{"$f":"_xlfn.XLOOKUP(B449,'Programmes lists'!B:B,'Programmes lists'!F:F,\"Not found\")","v":660}]
["Intermediate Phase Extended Progamme","EXT - Specialising in Mathematics, Natural Science & Technology and Afrikaans Home Language","AFNT1644",{"$f":"_xlfn.XLOOKUP(C450,'RAW module list'!A:A,'RAW module list'!B:B, \"Not found\")","v":"Introduction to Afrikaans Linguistics"},{"$f":"_xlfn.XLOOKUP(C450,'RAW module list'!A:A,'RAW module list'!C:C, \"Not found\")","v":6},{"$f":"_xlfn.XLOOKUP(C450,'RAW module list'!A:A,'RAW module list'!D:D, \"Not found\")","v":16},{"$f":"_xlfn.XLOOKUP(C450,'RAW module list'!A:A,'RAW module list'!E:E, \"Not found\")","v":"AFNL1634"},"Third Year",{"$f":"_xlfn.XLOOKUP(B450,'Programmes lists'!B:B,'Programmes lists'!D:D)","v":"BC7357E2"},{"$f":"_xlfn.XLOOKUP(B450,'Programmes lists'!B:B,'Programmes lists'!E:E, \"Not found\")","v":0},{"$f":"_xlfn.XLOOKUP(B450,'Programmes lists'!B:B,'Programmes lists'!G:G,\"Not found\")","v":"Minimum grade 12 pass in\n•\tAfrikaans HL 55% \n•\tEnglish FAL 50%\n•\tMathematics 50%"},{"$f":"_xlfn.XLOOKUP(B450,'Programmes lists'!B:B,'Programmes lists'!F:F,\"Not found\")","v":660}]
["Intermediate Phase Extended Progamme","EXT - Specialising in Mathematics, Natural Science & Technology and Afrikaans Home Language","EDUB2724",{"$f":"_xlfn.XLOOKUP(C451,'RAW module list'!A:A,'RAW module list'!B:B, \"Not found\")","v":"Education Studies 2: Human Relationships in Education context"},{"$f":"_xlfn.XLOOKUP(C451,'RAW module list'!A:A,'RAW module list'!C:C, \"Not found\")","v":7},{"$f":"_xlfn.XLOOKUP(C451,'RAW module list'!A:A,'RAW module list'!D:D, \"Not found\")","v":16},{"$f":"_xlfn.XLOOKUP(C451,'RAW module list'!A:A,'RAW module list'!E:E, \"Not found\")","v":"EDUB2714"},"Third Year",{"$f":"_xlfn.XLOOKUP(B451,'Programmes lists'!B:B,'Programmes lists'!D:D)","v":"BC7357E2"},{"$f":"_xlfn.XLOOKUP(B451,'Programmes lists'!B:B,'Programmes lists'!E:E, \"Not found\")","v":0},{"$f":"_xlfn.XLOOKUP(B451,'Programmes lists'!B:B,'Programmes lists'!G:G,\"Not found\")","v":"Minimum grade 12 pass in\n•\tAfrikaans HL 55% \n•\tEnglish FAL 50%\n•\tMathematics 50%"},{"$f":"_xlfn.XLOOKUP(B451,'Programmes lists'!B:B,'Programmes lists'!F:F,\"Not found\")","v":660}]
["Intermediate Phase Extended Progamme","EXT - Specialising in Mathematics, Natural Science & Technology and Afrikaans Home Language","GPED2623",{"$f":"_xlfn.XLOOKUP(C452,'RAW module list'!A:A,'RAW module list'!B:B, \"Not found\")","v":"General Pedagogy 2.2: Assessment"},{"$f":"_xlfn.XLOOKUP(C452,'RAW module list'!A:A,'RAW module list'!C:C, \"Not found\")","v":6},{"$f":"_xlfn.XLOOKUP(C452,'RAW module list'!A:A,'RAW module list'!D:D, \"Not found\")","v":12},{"$f":"_xlfn.XLOOKUP(C452,'RAW module list'!A:A,'RAW module list'!E:E, \"Not found\")","v":"GPED2613"},"Third Year",{"$f":"_xlfn.XLOOKUP(B452,'Programmes lists'!B:B,'Programmes lists'!D:D)","v":"BC7357E2"},{"$f":"_xlfn.XLOOKUP(B452,'Programmes lists'!B:B,'Programmes lists'!E:E, \"Not found\")","v":0},{"$f":"_xlfn.XLOOKUP(B452,'Programmes lists'!B:B,'Programmes lists'!G:G,\"Not found\")","v":"Minimum grade 12 pass in\n•\tAfrikaans HL 55% \n•\tEnglish FAL 50%\n•\tMathematics 50%"},{"$f":"_xlfn.XLOOKUP(B452,'Programmes lists'!B:B,'Programmes lists'!F:F,\"Not found\")","v":660}]
["Intermediate Phase Extended Progamme","EXT - Specialising in Mathematics, Natural Science & Technology and Afrikaans Home Language","NTTI3604",{"$f":"_xlfn.XLOOKUP(C453,'RAW module list'!A:A,'RAW module list'!B:B, \"Not found\")","v":"Natural Sciences and Technology Teaching 1 "},{"$f":"_xlfn.XLOOKUP(C453,'RAW module list'!A:A,'RAW module list'!C:C, \"Not found\")","v":6},{"$f":"_xlfn.XLOOKUP(C453,'RAW module list'!A:A,'RAW module list'!D:D, \"Not found\")","v":16},{"$f":"_xlfn.XLOOKUP(C453,'RAW module list'!A:A,'RAW module list'!E:E, \"Not found\")","v":"NSTC2614 & NSTC2624"},"Fourth Year",{"$f":"_xlfn.XLOOKUP(B453,'Programmes lists'!B:B,'Programmes lists'!D:D)","v":"BC7357E2"},{"$f":"_xlfn.XLOOKUP(B453,'Programmes lists'!B:B,'Programmes lists'!E:E, \"Not found\")","v":0},{"$f":"_xlfn.XLOOKUP(B453,'Programmes lists'!B:B,'Programmes lists'!G:G,\"Not found\")","v":"Minimum grade 12 pass in\n•\tAfrikaans HL 55% \n•\tEnglish FAL 50%\n•\tMathematics 50%"},{"$f":"_xlfn.XLOOKUP(B453,'Programmes lists'!B:B,'Programmes lists'!F:F,\"Not found\")","v":660}]
["Intermediate Phase Extended Progamme","EXT - Specialising in Mathematics, Natural Science & Technology and Afrikaans Home Language","MTTI3604",{"$f":"_xlfn.XLOOKUP(C454,'RAW module list'!A:A,'RAW module list'!B:B, \"Not found\")","v":"Teaching Mathematics 1"},{"$f":"_xlfn.XLOOKUP(C454,'RAW module list'!A:A,'RAW module list'!C:C, \"Not found\")","v":6},{"$f":"_xlfn.XLOOKUP(C454,'RAW module list'!A:A,'RAW module list'!D:D, \"Not found\")","v":16},{"$f":"_xlfn.XLOOKUP(C454,'RAW module list'!A:A,'RAW module list'!E:E, \"Not found\")","v":"MTHI1614 & MTHI1624"},"Fourth Year",{"$f":"_xlfn.XLOOKUP(B454,'Programmes lists'!B:B,'Programmes lists'!D:D)","v":"BC7357E2"},{"$f":"_xlfn.XLOOKUP(B454,'Programmes lists'!B:B,'Programmes lists'!E:E, \"Not found\")","v":0},{"$f":"_xlfn.XLOOKUP(B454,'Programmes lists'!B:B,'Programmes lists'!G:G,\"Not found\")","v":"Minimum grade 12 pass in\n•\tAfrikaans HL 55% \n•\tEnglish FAL 50%\n•\tMathematics 50%"},{"$f":"_xlfn.XLOOKUP(B454,'Programmes lists'!B:B,'Programmes lists'!F:F,\"Not found\")","v":660}]
["Intermediate Phase Extended Progamme","EXT - Specialising in Mathematics, Natural Science & Technology and Afrikaans Home Language","AHTI3604",{"$f":"_xlfn.XLOOKUP(C455,'RAW module list'!A:A,'RAW module list'!B:B, \"Not found\")","v":"Afrikaans Teaching 1 (Home Language)"},{"$f":"_xlfn.XLOOKUP(C455,'RAW module list'!A:A,'RAW module list'!C:C, \"Not found\")","v":6},{"$f":"_xlfn.XLOOKUP(C455,'RAW module list'!A:A,'RAW module list'!D:D, \"Not found\")","v":16},{"$f":"_xlfn.XLOOKUP(C455,'RAW module list'!A:A,'RAW module list'!E:E, \"Not found\")","v":"AFNT1644 & AFNL1634"},"Fourth Year",{"$f":"_xlfn.XLOOKUP(B455,'Programmes lists'!B:B,'Programmes lists'!D:D)","v":"BC7357E2"},{"$f":"_xlfn.XLOOKUP(B455,'Programmes lists'!B:B,'Programmes lists'!E:E, \"Not found\")","v":0},{"$f":"_xlfn.XLOOKUP(B455,'Programmes lists'!B:B,'Programmes lists'!G:G,\"Not found\")","v":"Minimum grade 12 pass in\n•\tAfrikaans HL 55% \n•\tEnglish FAL 50%\n•\tMathematics 50%"},{"$f":"_xlfn.XLOOKUP(B455,'Programmes lists'!B:B,'Programmes lists'!F:F,\"Not found\")","v":660}]
["Intermediate Phase Extended Progamme","EXT - Specialising in Mathematics, Natural Science & Technology and Afrikaans Home Language","EDUB3714",{"$f":"_xlfn.XLOOKUP(C456,'RAW module list'!A:A,'RAW module list'!B:B, \"Not found\")","v":"Education Studies 3.1 Education systems in global and national context"},{"$f":"_xlfn.XLOOKUP(C456,'RAW module list'!A:A,'RAW module list'!C:C, \"Not found\")","v":7},{"$f":"_xlfn.XLOOKUP(C456,'RAW module list'!A:A,'RAW module list'!D:D, \"Not found\")","v":16},{"$f":"_xlfn.XLOOKUP(C456,'RAW module list'!A:A,'RAW module list'!E:E, \"Not found\")","v":"EDUB1613 & EDUB1623& EDUB2714 & EDUB2724"},"Fourth Year",{"$f":"_xlfn.XLOOKUP(B456,'Programmes lists'!B:B,'Programmes lists'!D:D)","v":"BC7357E2"},{"$f":"_xlfn.XLOOKUP(B456,'Programmes lists'!B:B,'Programmes lists'!E:E, \"Not found\")","v":0},{"$f":"_xlfn.XLOOKUP(B456,'Programmes lists'!B:B,'Programmes lists'!G:G,\"Not found\")","v":"Minimum grade 12 pass in\n•\tAfrikaans HL 55% \n•\tEnglish FAL 50%\n•\tMathematics 50%"},{"$f":"_xlfn.XLOOKUP(B456,'Programmes lists'!B:B,'Programmes lists'!F:F,\"Not found\")","v":660}]
["Intermediate Phase Extended Progamme","EXT - Specialising in Mathematics, Natural Science & Technology and Afrikaans Home Language","CURM3502",{"$f":"_xlfn.XLOOKUP(C457,'RAW module list'!A:A,'RAW module list'!B:B, \"Not found\")","v":"Intermediate Phase School Curriculum 1"},{"$f":"_xlfn.XLOOKUP(C457,'RAW module list'!A:A,'RAW module list'!C:C, \"Not found\")","v":5},{"$f":"_xlfn.XLOOKUP(C457,'RAW module list'!A:A,'RAW module list'!D:D, \"Not found\")","v":8},{"$f":"_xlfn.XLOOKUP(C457,'RAW module list'!A:A,'RAW module list'!E:E, \"Not found\")","v":0},"Fourth Year",{"$f":"_xlfn.XLOOKUP(B457,'Programmes lists'!B:B,'Programmes lists'!D:D)","v":"BC7357E2"},{"$f":"_xlfn.XLOOKUP(B457,'Programmes lists'!B:B,'Programmes lists'!E:E, \"Not found\")","v":0},{"$f":"_xlfn.XLOOKUP(B457,'Programmes lists'!B:B,'Programmes lists'!G:G,\"Not found\")","v":"Minimum grade 12 pass in\n•\tAfrikaans HL 55% \n•\tEnglish FAL 50%\n•\tMathematics 50%"},{"$f":"_xlfn.XLOOKUP(B457,'Programmes lists'!B:B,'Programmes lists'!F:F,\"Not found\")","v":660}]
["Intermediate Phase Extended Progamme","EXT - Specialising in Mathematics, Natural Science & Technology and Afrikaans Home Language","EATI3604",{"$f":"_xlfn.XLOOKUP(C458,'RAW module list'!A:A,'RAW module list'!B:B, \"Not found\")","v":"English additional language teaching 1"},{"$f":"_xlfn.XLOOKUP(C458,'RAW module list'!A:A,'RAW module list'!C:C, \"Not found\")","v":6},{"$f":"_xlfn.XLOOKUP(C458,'RAW module list'!A:A,'RAW module list'!D:D, \"Not found\")","v":16},{"$f":"_xlfn.XLOOKUP(C458,'RAW module list'!A:A,'RAW module list'!E:E, \"Not found\")","v":"ENGE1608"},"Fourth Year",{"$f":"_xlfn.XLOOKUP(B458,'Programmes lists'!B:B,'Programmes lists'!D:D)","v":"BC7357E2"},{"$f":"_xlfn.XLOOKUP(B458,'Programmes lists'!B:B,'Programmes lists'!E:E, \"Not found\")","v":0},{"$f":"_xlfn.XLOOKUP(B458,'Programmes lists'!B:B,'Programmes lists'!G:G,\"Not found\")","v":"Minimum grade 12 pass in\n•\tAfrikaans HL 55% \n•\tEnglish FAL 50%\n•\tMathematics 50%"},{"$f":"_xlfn.XLOOKUP(B458,'Programmes lists'!B:B,'Programmes lists'!F:F,\"Not found\")","v":660}]
["Intermediate Phase Extended Progamme","EXT - Specialising in Mathematics, Natural Science & Technology and Afrikaans Home Language","SICL3512 OR SSCL3512 OR ZUCL3512",{"$f":"_xlfn.XLOOKUP(C459,'RAW module list'!A:A,'RAW module list'!B:B, \"Not found\")","v":"Conversational Sign Language OR Conversational Sesotho OR Conversational IsiZulu"},{"$f":"_xlfn.XLOOKUP(C459,'RAW module list'!A:A,'RAW module list'!C:C, \"Not found\")","v":5},{"$f":"_xlfn.XLOOKUP(C459,'RAW module list'!A:A,'RAW module list'!D:D, \"Not found\")","v":8},{"$f":"_xlfn.XLOOKUP(C459,'RAW module list'!A:A,'RAW module list'!E:E, \"Not found\")","v":"No previous exposure to the language"},"Fourth Year",{"$f":"_xlfn.XLOOKUP(B459,'Programmes lists'!B:B,'Programmes lists'!D:D)","v":"BC7357E2"},{"$f":"_xlfn.XLOOKUP(B459,'Programmes lists'!B:B,'Programmes lists'!E:E, \"Not found\")","v":0},{"$f":"_xlfn.XLOOKUP(B459,'Programmes lists'!B:B,'Programmes lists'!G:G,\"Not found\")","v":"Minimum grade 12 pass in\n•\tAfrikaans HL 55% \n•\tEnglish FAL 50%\n•\tMathematics 50%"},{"$f":"_xlfn.XLOOKUP(B459,'Programmes lists'!B:B,'Programmes lists'!F:F,\"Not found\")","v":660}]
["Intermediate Phase Extended Progamme","EXT - Specialising in Mathematics, Natural Science & Technology and Afrikaans Home Language","WILI3606",{"$f":"_xlfn.XLOOKUP(C460,'RAW module list'!A:A,'RAW module list'!B:B, \"Not found\")","v":"Teaching Practice 3"},{"$f":"_xlfn.XLOOKUP(C460,'RAW module list'!A:A,'RAW module list'!C:C, \"Not found\")","v":6},{"$f":"_xlfn.XLOOKUP(C460,'RAW module list'!A:A,'RAW module list'!D:D, \"Not found\")","v":24},{"$f":"_xlfn.XLOOKUP(C460,'RAW module list'!A:A,'RAW module list'!E:E, \"Not found\")","v":"TPRI2502"},"Fourth Year",{"$f":"_xlfn.XLOOKUP(B460,'Programmes lists'!B:B,'Programmes lists'!D:D)","v":"BC7357E2"},{"$f":"_xlfn.XLOOKUP(B460,'Programmes lists'!B:B,'Programmes lists'!E:E, \"Not found\")","v":0},{"$f":"_xlfn.XLOOKUP(B460,'Programmes lists'!B:B,'Programmes lists'!G:G,\"Not found\")","v":"Minimum grade 12 pass in\n•\tAfrikaans HL 55% \n•\tEnglish FAL 50%\n•\tMathematics 50%"},{"$f":"_xlfn.XLOOKUP(B460,'Programmes lists'!B:B,'Programmes lists'!F:F,\"Not found\")","v":660}]
["Intermediate Phase Extended Progamme","EXT - Specialising in Mathematics, Natural Science & Technology and Afrikaans Home Language","EDUB3724",{"$f":"_xlfn.XLOOKUP(C461,'RAW module list'!A:A,'RAW module list'!B:B, \"Not found\")","v":"Education Studies 3.2: Contemporary Education Theory in the current social context"},{"$f":"_xlfn.XLOOKUP(C461,'RAW module list'!A:A,'RAW module list'!C:C, \"Not found\")","v":7},{"$f":"_xlfn.XLOOKUP(C461,'RAW module list'!A:A,'RAW module list'!D:D, \"Not found\")","v":16},{"$f":"_xlfn.XLOOKUP(C461,'RAW module list'!A:A,'RAW module list'!E:E, \"Not found\")","v":"EDUB1613 & EDUB1623 & EDUB2714 & EDUB2724 & EDUB3714"},"Fourth Year",{"$f":"_xlfn.XLOOKUP(B461,'Programmes lists'!B:B,'Programmes lists'!D:D)","v":"BC7357E2"},{"$f":"_xlfn.XLOOKUP(B461,'Programmes lists'!B:B,'Programmes lists'!E:E, \"Not found\")","v":0},{"$f":"_xlfn.XLOOKUP(B461,'Programmes lists'!B:B,'Programmes lists'!G:G,\"Not found\")","v":"Minimum grade 12 pass in\n•\tAfrikaans HL 55% \n•\tEnglish FAL 50%\n•\tMathematics 50%"},{"$f":"_xlfn.XLOOKUP(B461,'Programmes lists'!B:B,'Programmes lists'!F:F,\"Not found\")","v":660}]
["Intermediate Phase Extended Progamme","EXT - Specialising in Mathematics, Natural Science & Technology and Afrikaans Home Language","SICL3522 OR SSCL3522 OR ZUCL3522",{"$f":"_xlfn.XLOOKUP(C462,'RAW module list'!A:A,'RAW module list'!B:B, \"Not found\")","v":"Conversational Sign Language OR Conversational Sesotho OR Conversational IsiZulu"},{"$f":"_xlfn.XLOOKUP(C462,'RAW module list'!A:A,'RAW module list'!C:C, \"Not found\")","v":5},{"$f":"_xlfn.XLOOKUP(C462,'RAW module list'!A:A,'RAW module list'!D:D, \"Not found\")","v":8},{"$f":"_xlfn.XLOOKUP(C462,'RAW module list'!A:A,'RAW module list'!E:E, \"Not found\")","v":"Continue with the conversational language  chosen in Semester 1"},"Fourth Year",{"$f":"_xlfn.XLOOKUP(B462,'Programmes lists'!B:B,'Programmes lists'!D:D)","v":"BC7357E2"},{"$f":"_xlfn.XLOOKUP(B462,'Programmes lists'!B:B,'Programmes lists'!E:E, \"Not found\")","v":0},{"$f":"_xlfn.XLOOKUP(B462,'Programmes lists'!B:B,'Programmes lists'!G:G,\"Not found\")","v":"Minimum grade 12 pass in\n•\tAfrikaans HL 55% \n•\tEnglish FAL 50%\n•\tMathematics 50%"},{"$f":"_xlfn.XLOOKUP(B462,'Programmes lists'!B:B,'Programmes lists'!F:F,\"Not found\")","v":660}]
["Intermediate Phase Extended Progamme","EXT - Specialising in Mathematics, Natural Science & Technology and Afrikaans Home Language","NTTI4705",{"$f":"_xlfn.XLOOKUP(C463,'RAW module list'!A:A,'RAW module list'!B:B, \"Not found\")","v":"Natural Sciences and Technology Teaching  2"},{"$f":"_xlfn.XLOOKUP(C463,'RAW module list'!A:A,'RAW module list'!C:C, \"Not found\")","v":7},{"$f":"_xlfn.XLOOKUP(C463,'RAW module list'!A:A,'RAW module list'!D:D, \"Not found\")","v":20},{"$f":"_xlfn.XLOOKUP(C463,'RAW module list'!A:A,'RAW module list'!E:E, \"Not found\")","v":"NTTI3604"},"Fifth Year",{"$f":"_xlfn.XLOOKUP(B463,'Programmes lists'!B:B,'Programmes lists'!D:D)","v":"BC7357E2"},{"$f":"_xlfn.XLOOKUP(B463,'Programmes lists'!B:B,'Programmes lists'!E:E, \"Not found\")","v":0},{"$f":"_xlfn.XLOOKUP(B463,'Programmes lists'!B:B,'Programmes lists'!G:G,\"Not found\")","v":"Minimum grade 12 pass in\n•\tAfrikaans HL 55% \n•\tEnglish FAL 50%\n•\tMathematics 50%"},{"$f":"_xlfn.XLOOKUP(B463,'Programmes lists'!B:B,'Programmes lists'!F:F,\"Not found\")","v":660}]
["Intermediate Phase Extended Progamme","EXT - Specialising in Mathematics, Natural Science & Technology and Afrikaans Home Language","MTTI4705",{"$f":"_xlfn.XLOOKUP(C464,'RAW module list'!A:A,'RAW module list'!B:B, \"Not found\")","v":"Mathematics teaching 2"},{"$f":"_xlfn.XLOOKUP(C464,'RAW module list'!A:A,'RAW module list'!C:C, \"Not found\")","v":7},{"$f":"_xlfn.XLOOKUP(C464,'RAW module list'!A:A,'RAW module list'!D:D, \"Not found\")","v":20},{"$f":"_xlfn.XLOOKUP(C464,'RAW module list'!A:A,'RAW module list'!E:E, \"Not found\")","v":"MTTI3604"},"Fifth Year",{"$f":"_xlfn.XLOOKUP(B464,'Programmes lists'!B:B,'Programmes lists'!D:D)","v":"BC7357E2"},{"$f":"_xlfn.XLOOKUP(B464,'Programmes lists'!B:B,'Programmes lists'!E:E, \"Not found\")","v":0},{"$f":"_xlfn.XLOOKUP(B464,'Programmes lists'!B:B,'Programmes lists'!G:G,\"Not found\")","v":"Minimum grade 12 pass in\n•\tAfrikaans HL 55% \n•\tEnglish FAL 50%\n•\tMathematics 50%"},{"$f":"_xlfn.XLOOKUP(B464,'Programmes lists'!B:B,'Programmes lists'!F:F,\"Not found\")","v":660}]
["Intermediate Phase Extended Progamme","EXT - Specialising in Mathematics, Natural Science & Technology and Afrikaans Home Language","AHTI4705",{"$f":"_xlfn.XLOOKUP(C465,'RAW module list'!A:A,'RAW module list'!B:B, \"Not found\")","v":"Afrikaans Teaching 2 (Home Language)"},{"$f":"_xlfn.XLOOKUP(C465,'RAW module list'!A:A,'RAW module list'!C:C, \"Not found\")","v":7},{"$f":"_xlfn.XLOOKUP(C465,'RAW module list'!A:A,'RAW module list'!D:D, \"Not found\")","v":20},{"$f":"_xlfn.XLOOKUP(C465,'RAW module list'!A:A,'RAW module list'!E:E, \"Not found\")","v":"AHTI3604"},"Fifth Year",{"$f":"_xlfn.XLOOKUP(B465,'Programmes lists'!B:B,'Programmes lists'!D:D)","v":"BC7357E2"},{"$f":"_xlfn.XLOOKUP(B465,'Programmes lists'!B:B,'Programmes lists'!E:E, \"Not found\")","v":0},{"$f":"_xlfn.XLOOKUP(B465,'Programmes lists'!B:B,'Programmes lists'!G:G,\"Not found\")","v":"Minimum grade 12 pass in\n•\tAfrikaans HL 55% \n•\tEnglish FAL 50%\n•\tMathematics 50%"},{"$f":"_xlfn.XLOOKUP(B465,'Programmes lists'!B:B,'Programmes lists'!F:F,\"Not found\")","v":660}]
["Intermediate Phase Extended Progamme","EXT - Specialising in Mathematics, Natural Science & Technology and Afrikaans Home Language","CURM4502",{"$f":"_xlfn.XLOOKUP(C466,'RAW module list'!A:A,'RAW module list'!B:B, \"Not found\")","v":"Intermediate Phase School Curriculum 2"},{"$f":"_xlfn.XLOOKUP(C466,'RAW module list'!A:A,'RAW module list'!C:C, \"Not found\")","v":5},{"$f":"_xlfn.XLOOKUP(C466,'RAW module list'!A:A,'RAW module list'!D:D, \"Not found\")","v":8},{"$f":"_xlfn.XLOOKUP(C466,'RAW module list'!A:A,'RAW module list'!E:E, \"Not found\")","v":"CURM3502"},"Fifth Year",{"$f":"_xlfn.XLOOKUP(B466,'Programmes lists'!B:B,'Programmes lists'!D:D)","v":"BC7357E2"},{"$f":"_xlfn.XLOOKUP(B466,'Programmes lists'!B:B,'Programmes lists'!E:E, \"Not found\")","v":0},{"$f":"_xlfn.XLOOKUP(B466,'Programmes lists'!B:B,'Programmes lists'!G:G,\"Not found\")","v":"Minimum grade 12 pass in\n•\tAfrikaans HL 55% \n•\tEnglish FAL 50%\n•\tMathematics 50%"},{"$f":"_xlfn.XLOOKUP(B466,'Programmes lists'!B:B,'Programmes lists'!F:F,\"Not found\")","v":660}]
["Intermediate Phase Extended Progamme","EXT - Specialising in Mathematics, Natural Science & Technology and Afrikaans Home Language","EATI4705",{"$f":"_xlfn.XLOOKUP(C467,'RAW module list'!A:A,'RAW module list'!B:B, \"Not found\")","v":"English additional language teaching 2"},{"$f":"_xlfn.XLOOKUP(C467,'RAW module list'!A:A,'RAW module list'!C:C, \"Not found\")","v":7},{"$f":"_xlfn.XLOOKUP(C467,'RAW module list'!A:A,'RAW module list'!D:D, \"Not found\")","v":20},{"$f":"_xlfn.XLOOKUP(C467,'RAW module list'!A:A,'RAW module list'!E:E, \"Not found\")","v":"EATI3604"},"Fifth Year",{"$f":"_xlfn.XLOOKUP(B467,'Programmes lists'!B:B,'Programmes lists'!D:D)","v":"BC7357E2"},{"$f":"_xlfn.XLOOKUP(B467,'Programmes lists'!B:B,'Programmes lists'!E:E, \"Not found\")","v":0},{"$f":"_xlfn.XLOOKUP(B467,'Programmes lists'!B:B,'Programmes lists'!G:G,\"Not found\")","v":"Minimum grade 12 pass in\n•\tAfrikaans HL 55% \n•\tEnglish FAL 50%\n•\tMathematics 50%"},{"$f":"_xlfn.XLOOKUP(B467,'Programmes lists'!B:B,'Programmes lists'!F:F,\"Not found\")","v":660}]
["Intermediate Phase Extended Progamme","EXT - Specialising in Mathematics, Natural Science & Technology and Afrikaans Home Language","WILI4700",{"$f":"_xlfn.XLOOKUP(C468,'RAW module list'!A:A,'RAW module list'!B:B, \"Not found\")","v":"Teaching Practice 4"},{"$f":"_xlfn.XLOOKUP(C468,'RAW module list'!A:A,'RAW module list'!C:C, \"Not found\")","v":7},{"$f":"_xlfn.XLOOKUP(C468,'RAW module list'!A:A,'RAW module list'!D:D, \"Not found\")","v":40},{"$f":"_xlfn.XLOOKUP(C468,'RAW module list'!A:A,'RAW module list'!E:E, \"Not found\")","v":"WILI3606"},"Fifth Year",{"$f":"_xlfn.XLOOKUP(B468,'Programmes lists'!B:B,'Programmes lists'!D:D)","v":"BC7357E2"},{"$f":"_xlfn.XLOOKUP(B468,'Programmes lists'!B:B,'Programmes lists'!E:E, \"Not found\")","v":0},{"$f":"_xlfn.XLOOKUP(B468,'Programmes lists'!B:B,'Programmes lists'!G:G,\"Not found\")","v":"Minimum grade 12 pass in\n•\tAfrikaans HL 55% \n•\tEnglish FAL 50%\n•\tMathematics 50%"},{"$f":"_xlfn.XLOOKUP(B468,'Programmes lists'!B:B,'Programmes lists'!F:F,\"Not found\")","v":660}]
["Intermediate Phase Extended Progamme","EXT - Specialising in Mathematics, Natural Science & Technology and Sesotho Home Language","EALT1508",{"$f":"_xlfn.XLOOKUP(C469,'RAW module list'!A:A,'RAW module list'!B:B, \"Not found\")","v":"English Academic Literacy for Education "},{"$f":"_xlfn.XLOOKUP(C469,'RAW module list'!A:A,'RAW module list'!C:C, \"Not found\")","v":5},{"$f":"_xlfn.XLOOKUP(C469,'RAW module list'!A:A,'RAW module list'!D:D, \"Not found\")","v":-32},{"$f":"_xlfn.XLOOKUP(C469,'RAW module list'!A:A,'RAW module list'!E:E, \"Not found\")","v":"NBT requirements not met"},"First Year",{"$f":"_xlfn.XLOOKUP(B469,'Programmes lists'!B:B,'Programmes lists'!D:D)","v":"BC7357E2"},{"$f":"_xlfn.XLOOKUP(B469,'Programmes lists'!B:B,'Programmes lists'!E:E, \"Not found\")","v":"QC7375E2"},{"$f":"_xlfn.XLOOKUP(B469,'Programmes lists'!B:B,'Programmes lists'!G:G,\"Not found\")","v":"Minimum grade 12 pass in\n•\tSesotho HL 50% \n•\tEnglish FAL 55%\n•\tMathematics 50%"},{"$f":"_xlfn.XLOOKUP(B469,'Programmes lists'!B:B,'Programmes lists'!F:F,\"Not found\")","v":660}]
["Intermediate Phase Extended Progamme","EXT - Specialising in Mathematics, Natural Science & Technology and Sesotho Home Language","SCLL1508",{"$f":"_xlfn.XLOOKUP(C470,'RAW module list'!A:A,'RAW module list'!B:B, \"Not found\")","v":"Skills and competencies for lifelong learning"},{"$f":"_xlfn.XLOOKUP(C470,'RAW module list'!A:A,'RAW module list'!C:C, \"Not found\")","v":6},{"$f":"_xlfn.XLOOKUP(C470,'RAW module list'!A:A,'RAW module list'!D:D, \"Not found\")","v":32},{"$f":"_xlfn.XLOOKUP(C470,'RAW module list'!A:A,'RAW module list'!E:E, \"Not found\")","v":0},"First Year",{"$f":"_xlfn.XLOOKUP(B470,'Programmes lists'!B:B,'Programmes lists'!D:D)","v":"BC7357E2"},{"$f":"_xlfn.XLOOKUP(B470,'Programmes lists'!B:B,'Programmes lists'!E:E, \"Not found\")","v":"QC7375E2"},{"$f":"_xlfn.XLOOKUP(B470,'Programmes lists'!B:B,'Programmes lists'!G:G,\"Not found\")","v":"Minimum grade 12 pass in\n•\tSesotho HL 50% \n•\tEnglish FAL 55%\n•\tMathematics 50%"},{"$f":"_xlfn.XLOOKUP(B470,'Programmes lists'!B:B,'Programmes lists'!F:F,\"Not found\")","v":660}]
["Intermediate Phase Extended Progamme","EXT - Specialising in Mathematics, Natural Science & Technology and Sesotho Home Language","LLST1513",{"$f":"_xlfn.XLOOKUP(C471,'RAW module list'!A:A,'RAW module list'!B:B, \"Not found\")","v":"Lifelong Learning Skills"},{"$f":"_xlfn.XLOOKUP(C471,'RAW module list'!A:A,'RAW module list'!C:C, \"Not found\")","v":5},{"$f":"_xlfn.XLOOKUP(C471,'RAW module list'!A:A,'RAW module list'!D:D, \"Not found\")","v":12},{"$f":"_xlfn.XLOOKUP(C471,'RAW module list'!A:A,'RAW module list'!E:E, \"Not found\")","v":0},"First Year",{"$f":"_xlfn.XLOOKUP(B471,'Programmes lists'!B:B,'Programmes lists'!D:D)","v":"BC7357E2"},{"$f":"_xlfn.XLOOKUP(B471,'Programmes lists'!B:B,'Programmes lists'!E:E, \"Not found\")","v":"QC7375E2"},{"$f":"_xlfn.XLOOKUP(B471,'Programmes lists'!B:B,'Programmes lists'!G:G,\"Not found\")","v":"Minimum grade 12 pass in\n•\tSesotho HL 50% \n•\tEnglish FAL 55%\n•\tMathematics 50%"},{"$f":"_xlfn.XLOOKUP(B471,'Programmes lists'!B:B,'Programmes lists'!F:F,\"Not found\")","v":660}]
["Intermediate Phase Extended Progamme","EXT - Specialising in Mathematics, Natural Science & Technology and Sesotho Home Language","EDUB1613",{"$f":"_xlfn.XLOOKUP(C472,'RAW module list'!A:A,'RAW module list'!B:B, \"Not found\")","v":"Education Studies 1.1 The Individual in the learning context"},{"$f":"_xlfn.XLOOKUP(C472,'RAW module list'!A:A,'RAW module list'!C:C, \"Not found\")","v":6},{"$f":"_xlfn.XLOOKUP(C472,'RAW module list'!A:A,'RAW module list'!D:D, \"Not found\")","v":12},{"$f":"_xlfn.XLOOKUP(C472,'RAW module list'!A:A,'RAW module list'!E:E, \"Not found\")","v":0},"First Year",{"$f":"_xlfn.XLOOKUP(B472,'Programmes lists'!B:B,'Programmes lists'!D:D)","v":"BC7357E2"},{"$f":"_xlfn.XLOOKUP(B472,'Programmes lists'!B:B,'Programmes lists'!E:E, \"Not found\")","v":"QC7375E2"},{"$f":"_xlfn.XLOOKUP(B472,'Programmes lists'!B:B,'Programmes lists'!G:G,\"Not found\")","v":"Minimum grade 12 pass in\n•\tSesotho HL 50% \n•\tEnglish FAL 55%\n•\tMathematics 50%"},{"$f":"_xlfn.XLOOKUP(B472,'Programmes lists'!B:B,'Programmes lists'!F:F,\"Not found\")","v":660}]
["Intermediate Phase Extended Progamme","EXT - Specialising in Mathematics, Natural Science & Technology and Sesotho Home Language","EDUB1623",{"$f":"_xlfn.XLOOKUP(C473,'RAW module list'!A:A,'RAW module list'!B:B, \"Not found\")","v":"Education Studies 1.2 What it means to educate: Theoretical perspectives and their significance for SA education"},{"$f":"_xlfn.XLOOKUP(C473,'RAW module list'!A:A,'RAW module list'!C:C, \"Not found\")","v":6},{"$f":"_xlfn.XLOOKUP(C473,'RAW module list'!A:A,'RAW module list'!D:D, \"Not found\")","v":12},{"$f":"_xlfn.XLOOKUP(C473,'RAW module list'!A:A,'RAW module list'!E:E, \"Not found\")","v":0},"First Year",{"$f":"_xlfn.XLOOKUP(B473,'Programmes lists'!B:B,'Programmes lists'!D:D)","v":"BC7357E2"},{"$f":"_xlfn.XLOOKUP(B473,'Programmes lists'!B:B,'Programmes lists'!E:E, \"Not found\")","v":"QC7375E2"},{"$f":"_xlfn.XLOOKUP(B473,'Programmes lists'!B:B,'Programmes lists'!G:G,\"Not found\")","v":"Minimum grade 12 pass in\n•\tSesotho HL 50% \n•\tEnglish FAL 55%\n•\tMathematics 50%"},{"$f":"_xlfn.XLOOKUP(B473,'Programmes lists'!B:B,'Programmes lists'!F:F,\"Not found\")","v":660}]
["Intermediate Phase Extended Progamme","EXT - Specialising in Mathematics, Natural Science & Technology and Sesotho Home Language","GPED1623",{"$f":"_xlfn.XLOOKUP(C474,'RAW module list'!A:A,'RAW module list'!B:B, \"Not found\")","v":"General Pedagogy 1: Managing the Curriculum"},{"$f":"_xlfn.XLOOKUP(C474,'RAW module list'!A:A,'RAW module list'!C:C, \"Not found\")","v":6},{"$f":"_xlfn.XLOOKUP(C474,'RAW module list'!A:A,'RAW module list'!D:D, \"Not found\")","v":12},{"$f":"_xlfn.XLOOKUP(C474,'RAW module list'!A:A,'RAW module list'!E:E, \"Not found\")","v":0},"First Year",{"$f":"_xlfn.XLOOKUP(B474,'Programmes lists'!B:B,'Programmes lists'!D:D)","v":"BC7357E2"},{"$f":"_xlfn.XLOOKUP(B474,'Programmes lists'!B:B,'Programmes lists'!E:E, \"Not found\")","v":"QC7375E2"},{"$f":"_xlfn.XLOOKUP(B474,'Programmes lists'!B:B,'Programmes lists'!G:G,\"Not found\")","v":"Minimum grade 12 pass in\n•\tSesotho HL 50% \n•\tEnglish FAL 55%\n•\tMathematics 50%"},{"$f":"_xlfn.XLOOKUP(B474,'Programmes lists'!B:B,'Programmes lists'!F:F,\"Not found\")","v":660}]
["Intermediate Phase Extended Progamme","EXT - Specialising in Mathematics, Natural Science & Technology and Sesotho Home Language","EALH2508",{"$f":"_xlfn.XLOOKUP(C475,'RAW module list'!A:A,'RAW module list'!B:B, \"Not found\")","v":"Academic Literacy for extended programmes 2"},{"$f":"_xlfn.XLOOKUP(C475,'RAW module list'!A:A,'RAW module list'!C:C, \"Not found\")","v":5},{"$f":"_xlfn.XLOOKUP(C475,'RAW module list'!A:A,'RAW module list'!D:D, \"Not found\")","v":32},{"$f":"_xlfn.XLOOKUP(C475,'RAW module list'!A:A,'RAW module list'!E:E, \"Not found\")","v":"AGAE1508 or EALT1508"},"Second Year",{"$f":"_xlfn.XLOOKUP(B475,'Programmes lists'!B:B,'Programmes lists'!D:D)","v":"BC7357E2"},{"$f":"_xlfn.XLOOKUP(B475,'Programmes lists'!B:B,'Programmes lists'!E:E, \"Not found\")","v":"QC7375E2"},{"$f":"_xlfn.XLOOKUP(B475,'Programmes lists'!B:B,'Programmes lists'!G:G,\"Not found\")","v":"Minimum grade 12 pass in\n•\tSesotho HL 50% \n•\tEnglish FAL 55%\n•\tMathematics 50%"},{"$f":"_xlfn.XLOOKUP(B475,'Programmes lists'!B:B,'Programmes lists'!F:F,\"Not found\")","v":660}]
["Intermediate Phase Extended Progamme","EXT - Specialising in Mathematics, Natural Science & Technology and Sesotho Home Language","ENGE1608",{"$f":"_xlfn.XLOOKUP(C476,'RAW module list'!A:A,'RAW module list'!B:B, \"Not found\")","v":"English Language for Education "},{"$f":"_xlfn.XLOOKUP(C476,'RAW module list'!A:A,'RAW module list'!C:C, \"Not found\")","v":6},{"$f":"_xlfn.XLOOKUP(C476,'RAW module list'!A:A,'RAW module list'!D:D, \"Not found\")","v":32},{"$f":"_xlfn.XLOOKUP(C476,'RAW module list'!A:A,'RAW module list'!E:E, \"Not found\")","v":0},"Second Year",{"$f":"_xlfn.XLOOKUP(B476,'Programmes lists'!B:B,'Programmes lists'!D:D)","v":"BC7357E2"},{"$f":"_xlfn.XLOOKUP(B476,'Programmes lists'!B:B,'Programmes lists'!E:E, \"Not found\")","v":"QC7375E2"},{"$f":"_xlfn.XLOOKUP(B476,'Programmes lists'!B:B,'Programmes lists'!G:G,\"Not found\")","v":"Minimum grade 12 pass in\n•\tSesotho HL 50% \n•\tEnglish FAL 55%\n•\tMathematics 50%"},{"$f":"_xlfn.XLOOKUP(B476,'Programmes lists'!B:B,'Programmes lists'!F:F,\"Not found\")","v":660}]
["Intermediate Phase Extended Progamme","EXT - Specialising in Mathematics, Natural Science & Technology and Sesotho Home Language","MTHI1614",{"$f":"_xlfn.XLOOKUP(C477,'RAW module list'!A:A,'RAW module list'!B:B, \"Not found\")","v":"Mathematics: Numbers, algebra and functions "},{"$f":"_xlfn.XLOOKUP(C477,'RAW module list'!A:A,'RAW module list'!C:C, \"Not found\")","v":6},{"$f":"_xlfn.XLOOKUP(C477,'RAW module list'!A:A,'RAW module list'!D:D, \"Not found\")","v":16},{"$f":"_xlfn.XLOOKUP(C477,'RAW module list'!A:A,'RAW module list'!E:E, \"Not found\")","v":"Mathematics at NSC level 4 (50%) pass"},"Second Year",{"$f":"_xlfn.XLOOKUP(B477,'Programmes lists'!B:B,'Programmes lists'!D:D)","v":"BC7357E2"},{"$f":"_xlfn.XLOOKUP(B477,'Programmes lists'!B:B,'Programmes lists'!E:E, \"Not found\")","v":"QC7375E2"},{"$f":"_xlfn.XLOOKUP(B477,'Programmes lists'!B:B,'Programmes lists'!G:G,\"Not found\")","v":"Minimum grade 12 pass in\n•\tSesotho HL 50% \n•\tEnglish FAL 55%\n•\tMathematics 50%"},{"$f":"_xlfn.XLOOKUP(B477,'Programmes lists'!B:B,'Programmes lists'!F:F,\"Not found\")","v":660}]
["Intermediate Phase Extended Progamme","EXT - Specialising in Mathematics, Natural Science & Technology and Sesotho Home Language","MTDH1508",{"$f":"_xlfn.XLOOKUP(C478,'RAW module list'!A:A,'RAW module list'!B:B, \"Not found\")","v":"Mathematical Literacy"},{"$f":"_xlfn.XLOOKUP(C478,'RAW module list'!A:A,'RAW module list'!C:C, \"Not found\")","v":5},{"$f":"_xlfn.XLOOKUP(C478,'RAW module list'!A:A,'RAW module list'!D:D, \"Not found\")","v":32},{"$f":"_xlfn.XLOOKUP(C478,'RAW module list'!A:A,'RAW module list'!E:E, \"Not found\")","v":0},"Second Year",{"$f":"_xlfn.XLOOKUP(B478,'Programmes lists'!B:B,'Programmes lists'!D:D)","v":"BC7357E2"},{"$f":"_xlfn.XLOOKUP(B478,'Programmes lists'!B:B,'Programmes lists'!E:E, \"Not found\")","v":"QC7375E2"},{"$f":"_xlfn.XLOOKUP(B478,'Programmes lists'!B:B,'Programmes lists'!G:G,\"Not found\")","v":"Minimum grade 12 pass in\n•\tSesotho HL 50% \n•\tEnglish FAL 55%\n•\tMathematics 50%"},{"$f":"_xlfn.XLOOKUP(B478,'Programmes lists'!B:B,'Programmes lists'!F:F,\"Not found\")","v":660}]
["Intermediate Phase Extended Progamme","EXT - Specialising in Mathematics, Natural Science & Technology and Sesotho Home Language","TPRI1502",{"$f":"_xlfn.XLOOKUP(C479,'RAW module list'!A:A,'RAW module list'!B:B, \"Not found\")","v":"Teaching Practice 1"},{"$f":"_xlfn.XLOOKUP(C479,'RAW module list'!A:A,'RAW module list'!C:C, \"Not found\")","v":5},{"$f":"_xlfn.XLOOKUP(C479,'RAW module list'!A:A,'RAW module list'!D:D, \"Not found\")","v":8},{"$f":"_xlfn.XLOOKUP(C479,'RAW module list'!A:A,'RAW module list'!E:E, \"Not found\")","v":0},"Second Year",{"$f":"_xlfn.XLOOKUP(B479,'Programmes lists'!B:B,'Programmes lists'!D:D)","v":"BC7357E2"},{"$f":"_xlfn.XLOOKUP(B479,'Programmes lists'!B:B,'Programmes lists'!E:E, \"Not found\")","v":"QC7375E2"},{"$f":"_xlfn.XLOOKUP(B479,'Programmes lists'!B:B,'Programmes lists'!G:G,\"Not found\")","v":"Minimum grade 12 pass in\n•\tSesotho HL 50% \n•\tEnglish FAL 55%\n•\tMathematics 50%"},{"$f":"_xlfn.XLOOKUP(B479,'Programmes lists'!B:B,'Programmes lists'!F:F,\"Not found\")","v":660}]
["Intermediate Phase Extended Progamme","EXT - Specialising in Mathematics, Natural Science & Technology and Sesotho Home Language","MTHI1624",{"$f":"_xlfn.XLOOKUP(C480,'RAW module list'!A:A,'RAW module list'!B:B, \"Not found\")","v":"Mathematics: total surface area and volume"},{"$f":"_xlfn.XLOOKUP(C480,'RAW module list'!A:A,'RAW module list'!C:C, \"Not found\")","v":6},{"$f":"_xlfn.XLOOKUP(C480,'RAW module list'!A:A,'RAW module list'!D:D, \"Not found\")","v":16},{"$f":"_xlfn.XLOOKUP(C480,'RAW module list'!A:A,'RAW module list'!E:E, \"Not found\")","v":"Mathematics at NSC level 4 (50%) pass"},"Second Year",{"$f":"_xlfn.XLOOKUP(B480,'Programmes lists'!B:B,'Programmes lists'!D:D)","v":"BC7357E2"},{"$f":"_xlfn.XLOOKUP(B480,'Programmes lists'!B:B,'Programmes lists'!E:E, \"Not found\")","v":"QC7375E2"},{"$f":"_xlfn.XLOOKUP(B480,'Programmes lists'!B:B,'Programmes lists'!G:G,\"Not found\")","v":"Minimum grade 12 pass in\n•\tSesotho HL 50% \n•\tEnglish FAL 55%\n•\tMathematics 50%"},{"$f":"_xlfn.XLOOKUP(B480,'Programmes lists'!B:B,'Programmes lists'!F:F,\"Not found\")","v":660}]
["Intermediate Phase Extended Progamme","EXT - Specialising in Mathematics, Natural Science & Technology and Sesotho Home Language","UFSS1522",{"$f":"_xlfn.XLOOKUP(C481,'RAW module list'!A:A,'RAW module list'!B:B, \"Not found\")","v":"Institutional module"},{"$f":"_xlfn.XLOOKUP(C481,'RAW module list'!A:A,'RAW module list'!C:C, \"Not found\")","v":5},{"$f":"_xlfn.XLOOKUP(C481,'RAW module list'!A:A,'RAW module list'!D:D, \"Not found\")","v":-8},{"$f":"_xlfn.XLOOKUP(C481,'RAW module list'!A:A,'RAW module list'!E:E, \"Not found\")","v":0},"Second Year",{"$f":"_xlfn.XLOOKUP(B481,'Programmes lists'!B:B,'Programmes lists'!D:D)","v":"BC7357E2"},{"$f":"_xlfn.XLOOKUP(B481,'Programmes lists'!B:B,'Programmes lists'!E:E, \"Not found\")","v":"QC7375E2"},{"$f":"_xlfn.XLOOKUP(B481,'Programmes lists'!B:B,'Programmes lists'!G:G,\"Not found\")","v":"Minimum grade 12 pass in\n•\tSesotho HL 50% \n•\tEnglish FAL 55%\n•\tMathematics 50%"},{"$f":"_xlfn.XLOOKUP(B481,'Programmes lists'!B:B,'Programmes lists'!F:F,\"Not found\")","v":660}]
["Intermediate Phase Extended Progamme","EXT - Specialising in Mathematics, Natural Science & Technology and Sesotho Home Language","NSTC2614",{"$f":"_xlfn.XLOOKUP(C482,'RAW module list'!A:A,'RAW module list'!B:B, \"Not found\")","v":"Elementary Natural Sciences and Technology"},{"$f":"_xlfn.XLOOKUP(C482,'RAW module list'!A:A,'RAW module list'!C:C, \"Not found\")","v":6},{"$f":"_xlfn.XLOOKUP(C482,'RAW module list'!A:A,'RAW module list'!D:D, \"Not found\")","v":16},{"$f":"_xlfn.XLOOKUP(C482,'RAW module list'!A:A,'RAW module list'!E:E, \"Not found\")","v":0},"Third Year",{"$f":"_xlfn.XLOOKUP(B482,'Programmes lists'!B:B,'Programmes lists'!D:D)","v":"BC7357E2"},{"$f":"_xlfn.XLOOKUP(B482,'Programmes lists'!B:B,'Programmes lists'!E:E, \"Not found\")","v":"QC7375E2"},{"$f":"_xlfn.XLOOKUP(B482,'Programmes lists'!B:B,'Programmes lists'!G:G,\"Not found\")","v":"Minimum grade 12 pass in\n•\tSesotho HL 50% \n•\tEnglish FAL 55%\n•\tMathematics 50%"},{"$f":"_xlfn.XLOOKUP(B482,'Programmes lists'!B:B,'Programmes lists'!F:F,\"Not found\")","v":660}]
["Intermediate Phase Extended Progamme","EXT - Specialising in Mathematics, Natural Science & Technology and Sesotho Home Language","SSML1514",{"$f":"_xlfn.XLOOKUP(C483,'RAW module list'!A:A,'RAW module list'!B:B, \"Not found\")","v":"Sesotho language structure "},{"$f":"_xlfn.XLOOKUP(C483,'RAW module list'!A:A,'RAW module list'!C:C, \"Not found\")","v":5},{"$f":"_xlfn.XLOOKUP(C483,'RAW module list'!A:A,'RAW module list'!D:D, \"Not found\")","v":16},{"$f":"_xlfn.XLOOKUP(C483,'RAW module list'!A:A,'RAW module list'!E:E, \"Not found\")","v":0},"Third Year",{"$f":"_xlfn.XLOOKUP(B483,'Programmes lists'!B:B,'Programmes lists'!D:D)","v":"BC7357E2"},{"$f":"_xlfn.XLOOKUP(B483,'Programmes lists'!B:B,'Programmes lists'!E:E, \"Not found\")","v":"QC7375E2"},{"$f":"_xlfn.XLOOKUP(B483,'Programmes lists'!B:B,'Programmes lists'!G:G,\"Not found\")","v":"Minimum grade 12 pass in\n•\tSesotho HL 50% \n•\tEnglish FAL 55%\n•\tMathematics 50%"},{"$f":"_xlfn.XLOOKUP(B483,'Programmes lists'!B:B,'Programmes lists'!F:F,\"Not found\")","v":660}]
["Intermediate Phase Extended Progamme","EXT - Specialising in Mathematics, Natural Science & Technology and Sesotho Home Language","MTBI2503",{"$f":"_xlfn.XLOOKUP(C484,'RAW module list'!A:A,'RAW module list'!B:B, \"Not found\")","v":"Basic Mathematics "},{"$f":"_xlfn.XLOOKUP(C484,'RAW module list'!A:A,'RAW module list'!C:C, \"Not found\")","v":5},{"$f":"_xlfn.XLOOKUP(C484,'RAW module list'!A:A,'RAW module list'!D:D, \"Not found\")","v":12},{"$f":"_xlfn.XLOOKUP(C484,'RAW module list'!A:A,'RAW module list'!E:E, \"Not found\")","v":0},"Third Year",{"$f":"_xlfn.XLOOKUP(B484,'Programmes lists'!B:B,'Programmes lists'!D:D)","v":"BC7357E2"},{"$f":"_xlfn.XLOOKUP(B484,'Programmes lists'!B:B,'Programmes lists'!E:E, \"Not found\")","v":"QC7375E2"},{"$f":"_xlfn.XLOOKUP(B484,'Programmes lists'!B:B,'Programmes lists'!G:G,\"Not found\")","v":"Minimum grade 12 pass in\n•\tSesotho HL 50% \n•\tEnglish FAL 55%\n•\tMathematics 50%"},{"$f":"_xlfn.XLOOKUP(B484,'Programmes lists'!B:B,'Programmes lists'!F:F,\"Not found\")","v":660}]
["Intermediate Phase Extended Progamme","EXT - Specialising in Mathematics, Natural Science & Technology and Sesotho Home Language","EDUB2714",{"$f":"_xlfn.XLOOKUP(C485,'RAW module list'!A:A,'RAW module list'!B:B, \"Not found\")","v":"Education Studies 2: Teaching and Learning in Education Context"},{"$f":"_xlfn.XLOOKUP(C485,'RAW module list'!A:A,'RAW module list'!C:C, \"Not found\")","v":7},{"$f":"_xlfn.XLOOKUP(C485,'RAW module list'!A:A,'RAW module list'!D:D, \"Not found\")","v":16},{"$f":"_xlfn.XLOOKUP(C485,'RAW module list'!A:A,'RAW module list'!E:E, \"Not found\")","v":"EDUB1613 & EDUB1623"},"Third Year",{"$f":"_xlfn.XLOOKUP(B485,'Programmes lists'!B:B,'Programmes lists'!D:D)","v":"BC7357E2"},{"$f":"_xlfn.XLOOKUP(B485,'Programmes lists'!B:B,'Programmes lists'!E:E, \"Not found\")","v":"QC7375E2"},{"$f":"_xlfn.XLOOKUP(B485,'Programmes lists'!B:B,'Programmes lists'!G:G,\"Not found\")","v":"Minimum grade 12 pass in\n•\tSesotho HL 50% \n•\tEnglish FAL 55%\n•\tMathematics 50%"},{"$f":"_xlfn.XLOOKUP(B485,'Programmes lists'!B:B,'Programmes lists'!F:F,\"Not found\")","v":660}]
["Intermediate Phase Extended Progamme","EXT - Specialising in Mathematics, Natural Science & Technology and Sesotho Home Language","GPED2613",{"$f":"_xlfn.XLOOKUP(C486,'RAW module list'!A:A,'RAW module list'!B:B, \"Not found\")","v":"General Pedagogy 2.1"},{"$f":"_xlfn.XLOOKUP(C486,'RAW module list'!A:A,'RAW module list'!C:C, \"Not found\")","v":6},{"$f":"_xlfn.XLOOKUP(C486,'RAW module list'!A:A,'RAW module list'!D:D, \"Not found\")","v":12},{"$f":"_xlfn.XLOOKUP(C486,'RAW module list'!A:A,'RAW module list'!E:E, \"Not found\")","v":"GPED1623"},"Third Year",{"$f":"_xlfn.XLOOKUP(B486,'Programmes lists'!B:B,'Programmes lists'!D:D)","v":"BC7357E2"},{"$f":"_xlfn.XLOOKUP(B486,'Programmes lists'!B:B,'Programmes lists'!E:E, \"Not found\")","v":"QC7375E2"},{"$f":"_xlfn.XLOOKUP(B486,'Programmes lists'!B:B,'Programmes lists'!G:G,\"Not found\")","v":"Minimum grade 12 pass in\n•\tSesotho HL 50% \n•\tEnglish FAL 55%\n•\tMathematics 50%"},{"$f":"_xlfn.XLOOKUP(B486,'Programmes lists'!B:B,'Programmes lists'!F:F,\"Not found\")","v":660}]
["Intermediate Phase Extended Progamme","EXT - Specialising in Mathematics, Natural Science & Technology and Sesotho Home Language","TPRI2502",{"$f":"_xlfn.XLOOKUP(C487,'RAW module list'!A:A,'RAW module list'!B:B, \"Not found\")","v":"Teaching Practice 2 "},{"$f":"_xlfn.XLOOKUP(C487,'RAW module list'!A:A,'RAW module list'!C:C, \"Not found\")","v":5},{"$f":"_xlfn.XLOOKUP(C487,'RAW module list'!A:A,'RAW module list'!D:D, \"Not found\")","v":8},{"$f":"_xlfn.XLOOKUP(C487,'RAW module list'!A:A,'RAW module list'!E:E, \"Not found\")","v":"TPRI1502"},"Third Year",{"$f":"_xlfn.XLOOKUP(B487,'Programmes lists'!B:B,'Programmes lists'!D:D)","v":"BC7357E2"},{"$f":"_xlfn.XLOOKUP(B487,'Programmes lists'!B:B,'Programmes lists'!E:E, \"Not found\")","v":"QC7375E2"},{"$f":"_xlfn.XLOOKUP(B487,'Programmes lists'!B:B,'Programmes lists'!G:G,\"Not found\")","v":"Minimum grade 12 pass in\n•\tSesotho HL 50% \n•\tEnglish FAL 55%\n•\tMathematics 50%"},{"$f":"_xlfn.XLOOKUP(B487,'Programmes lists'!B:B,'Programmes lists'!F:F,\"Not found\")","v":660}]
["Intermediate Phase Extended Progamme","EXT - Specialising in Mathematics, Natural Science & Technology and Sesotho Home Language","NSTC2624",{"$f":"_xlfn.XLOOKUP(C488,'RAW module list'!A:A,'RAW module list'!B:B, \"Not found\")","v":"Elementary Natural Science and Technology"},{"$f":"_xlfn.XLOOKUP(C488,'RAW module list'!A:A,'RAW module list'!C:C, \"Not found\")","v":6},{"$f":"_xlfn.XLOOKUP(C488,'RAW module list'!A:A,'RAW module list'!D:D, \"Not found\")","v":16},{"$f":"_xlfn.XLOOKUP(C488,'RAW module list'!A:A,'RAW module list'!E:E, \"Not found\")","v":"NSTC2614"},"Third Year",{"$f":"_xlfn.XLOOKUP(B488,'Programmes lists'!B:B,'Programmes lists'!D:D)","v":"BC7357E2"},{"$f":"_xlfn.XLOOKUP(B488,'Programmes lists'!B:B,'Programmes lists'!E:E, \"Not found\")","v":"QC7375E2"},{"$f":"_xlfn.XLOOKUP(B488,'Programmes lists'!B:B,'Programmes lists'!G:G,\"Not found\")","v":"Minimum grade 12 pass in\n•\tSesotho HL 50% \n•\tEnglish FAL 55%\n•\tMathematics 50%"},{"$f":"_xlfn.XLOOKUP(B488,'Programmes lists'!B:B,'Programmes lists'!F:F,\"Not found\")","v":660}]
["Intermediate Phase Extended Progamme","EXT - Specialising in Mathematics, Natural Science & Technology and Sesotho Home Language","SSML1524",{"$f":"_xlfn.XLOOKUP(C489,'RAW module list'!A:A,'RAW module list'!B:B, \"Not found\")","v":"Sesotho Home Language"},{"$f":"_xlfn.XLOOKUP(C489,'RAW module list'!A:A,'RAW module list'!C:C, \"Not found\")","v":5},{"$f":"_xlfn.XLOOKUP(C489,'RAW module list'!A:A,'RAW module list'!D:D, \"Not found\")","v":16},{"$f":"_xlfn.XLOOKUP(C489,'RAW module list'!A:A,'RAW module list'!E:E, \"Not found\")","v":"SSML1514"},"Third Year",{"$f":"_xlfn.XLOOKUP(B489,'Programmes lists'!B:B,'Programmes lists'!D:D)","v":"BC7357E2"},{"$f":"_xlfn.XLOOKUP(B489,'Programmes lists'!B:B,'Programmes lists'!E:E, \"Not found\")","v":"QC7375E2"},{"$f":"_xlfn.XLOOKUP(B489,'Programmes lists'!B:B,'Programmes lists'!G:G,\"Not found\")","v":"Minimum grade 12 pass in\n•\tSesotho HL 50% \n•\tEnglish FAL 55%\n•\tMathematics 50%"},{"$f":"_xlfn.XLOOKUP(B489,'Programmes lists'!B:B,'Programmes lists'!F:F,\"Not found\")","v":660}]
["Intermediate Phase Extended Progamme","EXT - Specialising in Mathematics, Natural Science & Technology and Sesotho Home Language","EDUB2724",{"$f":"_xlfn.XLOOKUP(C490,'RAW module list'!A:A,'RAW module list'!B:B, \"Not found\")","v":"Education Studies 2: Human Relationships in Education context"},{"$f":"_xlfn.XLOOKUP(C490,'RAW module list'!A:A,'RAW module list'!C:C, \"Not found\")","v":7},{"$f":"_xlfn.XLOOKUP(C490,'RAW module list'!A:A,'RAW module list'!D:D, \"Not found\")","v":16},{"$f":"_xlfn.XLOOKUP(C490,'RAW module list'!A:A,'RAW module list'!E:E, \"Not found\")","v":"EDUB2714"},"Third Year",{"$f":"_xlfn.XLOOKUP(B490,'Programmes lists'!B:B,'Programmes lists'!D:D)","v":"BC7357E2"},{"$f":"_xlfn.XLOOKUP(B490,'Programmes lists'!B:B,'Programmes lists'!E:E, \"Not found\")","v":"QC7375E2"},{"$f":"_xlfn.XLOOKUP(B490,'Programmes lists'!B:B,'Programmes lists'!G:G,\"Not found\")","v":"Minimum grade 12 pass in\n•\tSesotho HL 50% \n•\tEnglish FAL 55%\n•\tMathematics 50%"},{"$f":"_xlfn.XLOOKUP(B490,'Programmes lists'!B:B,'Programmes lists'!F:F,\"Not found\")","v":660}]
["Intermediate Phase Extended Progamme","EXT - Specialising in Mathematics, Natural Science & Technology and Sesotho Home Language","GPED2623",{"$f":"_xlfn.XLOOKUP(C491,'RAW module list'!A:A,'RAW module list'!B:B, \"Not found\")","v":"General Pedagogy 2.2: Assessment"},{"$f":"_xlfn.XLOOKUP(C491,'RAW module list'!A:A,'RAW module list'!C:C, \"Not found\")","v":6},{"$f":"_xlfn.XLOOKUP(C491,'RAW module list'!A:A,'RAW module list'!D:D, \"Not found\")","v":12},{"$f":"_xlfn.XLOOKUP(C491,'RAW module list'!A:A,'RAW module list'!E:E, \"Not found\")","v":"GPED2613"},"Third Year",{"$f":"_xlfn.XLOOKUP(B491,'Programmes lists'!B:B,'Programmes lists'!D:D)","v":"BC7357E2"},{"$f":"_xlfn.XLOOKUP(B491,'Programmes lists'!B:B,'Programmes lists'!E:E, \"Not found\")","v":"QC7375E2"},{"$f":"_xlfn.XLOOKUP(B491,'Programmes lists'!B:B,'Programmes lists'!G:G,\"Not found\")","v":"Minimum grade 12 pass in\n•\tSesotho HL 50% \n•\tEnglish FAL 55%\n•\tMathematics 50%"},{"$f":"_xlfn.XLOOKUP(B491,'Programmes lists'!B:B,'Programmes lists'!F:F,\"Not found\")","v":660}]
["Intermediate Phase Extended Progamme","EXT - Specialising in Mathematics, Natural Science & Technology and Sesotho Home Language","NTTI3604",{"$f":"_xlfn.XLOOKUP(C492,'RAW module list'!A:A,'RAW module list'!B:B, \"Not found\")","v":"Natural Sciences and Technology Teaching 1 "},{"$f":"_xlfn.XLOOKUP(C492,'RAW module list'!A:A,'RAW module list'!C:C, \"Not found\")","v":6},{"$f":"_xlfn.XLOOKUP(C492,'RAW module list'!A:A,'RAW module list'!D:D, \"Not found\")","v":16},{"$f":"_xlfn.XLOOKUP(C492,'RAW module list'!A:A,'RAW module list'!E:E, \"Not found\")","v":"NSTC2614 & NSTC2624"},"Fourth Year",{"$f":"_xlfn.XLOOKUP(B492,'Programmes lists'!B:B,'Programmes lists'!D:D)","v":"BC7357E2"},{"$f":"_xlfn.XLOOKUP(B492,'Programmes lists'!B:B,'Programmes lists'!E:E, \"Not found\")","v":"QC7375E2"},{"$f":"_xlfn.XLOOKUP(B492,'Programmes lists'!B:B,'Programmes lists'!G:G,\"Not found\")","v":"Minimum grade 12 pass in\n•\tSesotho HL 50% \n•\tEnglish FAL 55%\n•\tMathematics 50%"},{"$f":"_xlfn.XLOOKUP(B492,'Programmes lists'!B:B,'Programmes lists'!F:F,\"Not found\")","v":660}]
["Intermediate Phase Extended Progamme","EXT - Specialising in Mathematics, Natural Science & Technology and Sesotho Home Language","MTTI3604",{"$f":"_xlfn.XLOOKUP(C493,'RAW module list'!A:A,'RAW module list'!B:B, \"Not found\")","v":"Teaching Mathematics 1"},{"$f":"_xlfn.XLOOKUP(C493,'RAW module list'!A:A,'RAW module list'!C:C, \"Not found\")","v":6},{"$f":"_xlfn.XLOOKUP(C493,'RAW module list'!A:A,'RAW module list'!D:D, \"Not found\")","v":16},{"$f":"_xlfn.XLOOKUP(C493,'RAW module list'!A:A,'RAW module list'!E:E, \"Not found\")","v":"MTHI1614 & MTHI1624"},"Fourth Year",{"$f":"_xlfn.XLOOKUP(B493,'Programmes lists'!B:B,'Programmes lists'!D:D)","v":"BC7357E2"},{"$f":"_xlfn.XLOOKUP(B493,'Programmes lists'!B:B,'Programmes lists'!E:E, \"Not found\")","v":"QC7375E2"},{"$f":"_xlfn.XLOOKUP(B493,'Programmes lists'!B:B,'Programmes lists'!G:G,\"Not found\")","v":"Minimum grade 12 pass in\n•\tSesotho HL 50% \n•\tEnglish FAL 55%\n•\tMathematics 50%"},{"$f":"_xlfn.XLOOKUP(B493,'Programmes lists'!B:B,'Programmes lists'!F:F,\"Not found\")","v":660}]
["Intermediate Phase Extended Progamme","EXT - Specialising in Mathematics, Natural Science & Technology and Sesotho Home Language","SHTI3604",{"$f":"_xlfn.XLOOKUP(C494,'RAW module list'!A:A,'RAW module list'!B:B, \"Not found\")","v":"Sesotho Teaching 1: Home Language"},{"$f":"_xlfn.XLOOKUP(C494,'RAW module list'!A:A,'RAW module list'!C:C, \"Not found\")","v":6},{"$f":"_xlfn.XLOOKUP(C494,'RAW module list'!A:A,'RAW module list'!D:D, \"Not found\")","v":16},{"$f":"_xlfn.XLOOKUP(C494,'RAW module list'!A:A,'RAW module list'!E:E, \"Not found\")","v":"SSML1514 & SSMT1524"},"Fourth Year",{"$f":"_xlfn.XLOOKUP(B494,'Programmes lists'!B:B,'Programmes lists'!D:D)","v":"BC7357E2"},{"$f":"_xlfn.XLOOKUP(B494,'Programmes lists'!B:B,'Programmes lists'!E:E, \"Not found\")","v":"QC7375E2"},{"$f":"_xlfn.XLOOKUP(B494,'Programmes lists'!B:B,'Programmes lists'!G:G,\"Not found\")","v":"Minimum grade 12 pass in\n•\tSesotho HL 50% \n•\tEnglish FAL 55%\n•\tMathematics 50%"},{"$f":"_xlfn.XLOOKUP(B494,'Programmes lists'!B:B,'Programmes lists'!F:F,\"Not found\")","v":660}]
["Intermediate Phase Extended Progamme","EXT - Specialising in Mathematics, Natural Science & Technology and Sesotho Home Language","EDUB3714",{"$f":"_xlfn.XLOOKUP(C495,'RAW module list'!A:A,'RAW module list'!B:B, \"Not found\")","v":"Education Studies 3.1 Education systems in global and national context"},{"$f":"_xlfn.XLOOKUP(C495,'RAW module list'!A:A,'RAW module list'!C:C, \"Not found\")","v":7},{"$f":"_xlfn.XLOOKUP(C495,'RAW module list'!A:A,'RAW module list'!D:D, \"Not found\")","v":16},{"$f":"_xlfn.XLOOKUP(C495,'RAW module list'!A:A,'RAW module list'!E:E, \"Not found\")","v":"EDUB1613 & EDUB1623& EDUB2714 & EDUB2724"},"Fourth Year",{"$f":"_xlfn.XLOOKUP(B495,'Programmes lists'!B:B,'Programmes lists'!D:D)","v":"BC7357E2"},{"$f":"_xlfn.XLOOKUP(B495,'Programmes lists'!B:B,'Programmes lists'!E:E, \"Not found\")","v":"QC7375E2"},{"$f":"_xlfn.XLOOKUP(B495,'Programmes lists'!B:B,'Programmes lists'!G:G,\"Not found\")","v":"Minimum grade 12 pass in\n•\tSesotho HL 50% \n•\tEnglish FAL 55%\n•\tMathematics 50%"},{"$f":"_xlfn.XLOOKUP(B495,'Programmes lists'!B:B,'Programmes lists'!F:F,\"Not found\")","v":660}]
["Intermediate Phase Extended Progamme","EXT - Specialising in Mathematics, Natural Science & Technology and Sesotho Home Language","CURM3502",{"$f":"_xlfn.XLOOKUP(C496,'RAW module list'!A:A,'RAW module list'!B:B, \"Not found\")","v":"Intermediate Phase School Curriculum 1"},{"$f":"_xlfn.XLOOKUP(C496,'RAW module list'!A:A,'RAW module list'!C:C, \"Not found\")","v":5},{"$f":"_xlfn.XLOOKUP(C496,'RAW module list'!A:A,'RAW module list'!D:D, \"Not found\")","v":8},{"$f":"_xlfn.XLOOKUP(C496,'RAW module list'!A:A,'RAW module list'!E:E, \"Not found\")","v":0},"Fourth Year",{"$f":"_xlfn.XLOOKUP(B496,'Programmes lists'!B:B,'Programmes lists'!D:D)","v":"BC7357E2"},{"$f":"_xlfn.XLOOKUP(B496,'Programmes lists'!B:B,'Programmes lists'!E:E, \"Not found\")","v":"QC7375E2"},{"$f":"_xlfn.XLOOKUP(B496,'Programmes lists'!B:B,'Programmes lists'!G:G,\"Not found\")","v":"Minimum grade 12 pass in\n•\tSesotho HL 50% \n•\tEnglish FAL 55%\n•\tMathematics 50%"},{"$f":"_xlfn.XLOOKUP(B496,'Programmes lists'!B:B,'Programmes lists'!F:F,\"Not found\")","v":660}]
["Intermediate Phase Extended Progamme","EXT - Specialising in Mathematics, Natural Science & Technology and Sesotho Home Language","EATI3604",{"$f":"_xlfn.XLOOKUP(C497,'RAW module list'!A:A,'RAW module list'!B:B, \"Not found\")","v":"English additional language teaching 1"},{"$f":"_xlfn.XLOOKUP(C497,'RAW module list'!A:A,'RAW module list'!C:C, \"Not found\")","v":6},{"$f":"_xlfn.XLOOKUP(C497,'RAW module list'!A:A,'RAW module list'!D:D, \"Not found\")","v":16},{"$f":"_xlfn.XLOOKUP(C497,'RAW module list'!A:A,'RAW module list'!E:E, \"Not found\")","v":"ENGE1608"},"Fourth Year",{"$f":"_xlfn.XLOOKUP(B497,'Programmes lists'!B:B,'Programmes lists'!D:D)","v":"BC7357E2"},{"$f":"_xlfn.XLOOKUP(B497,'Programmes lists'!B:B,'Programmes lists'!E:E, \"Not found\")","v":"QC7375E2"},{"$f":"_xlfn.XLOOKUP(B497,'Programmes lists'!B:B,'Programmes lists'!G:G,\"Not found\")","v":"Minimum grade 12 pass in\n•\tSesotho HL 50% \n•\tEnglish FAL 55%\n•\tMathematics 50%"},{"$f":"_xlfn.XLOOKUP(B497,'Programmes lists'!B:B,'Programmes lists'!F:F,\"Not found\")","v":660}]
["Intermediate Phase Extended Progamme","EXT - Specialising in Mathematics, Natural Science & Technology and Sesotho Home Language","SICL3512 OR SSCL3512 OR GAFR3512",{"$f":"_xlfn.XLOOKUP(C498,'RAW module list'!A:A,'RAW module list'!B:B, \"Not found\")","v":"Conversational Sign Language OR Conversational Sesotho OR Conversational Afrikaans"},{"$f":"_xlfn.XLOOKUP(C498,'RAW module list'!A:A,'RAW module list'!C:C, \"Not found\")","v":5},{"$f":"_xlfn.XLOOKUP(C498,'RAW module list'!A:A,'RAW module list'!D:D, \"Not found\")","v":8},{"$f":"_xlfn.XLOOKUP(C498,'RAW module list'!A:A,'RAW module list'!E:E, \"Not found\")","v":"No previous exposure to the language"},"Fourth Year",{"$f":"_xlfn.XLOOKUP(B498,'Programmes lists'!B:B,'Programmes lists'!D:D)","v":"BC7357E2"},{"$f":"_xlfn.XLOOKUP(B498,'Programmes lists'!B:B,'Programmes lists'!E:E, \"Not found\")","v":"QC7375E2"},{"$f":"_xlfn.XLOOKUP(B498,'Programmes lists'!B:B,'Programmes lists'!G:G,\"Not found\")","v":"Minimum grade 12 pass in\n•\tSesotho HL 50% \n•\tEnglish FAL 55%\n•\tMathematics 50%"},{"$f":"_xlfn.XLOOKUP(B498,'Programmes lists'!B:B,'Programmes lists'!F:F,\"Not found\")","v":660}]
["Intermediate Phase Extended Progamme","EXT - Specialising in Mathematics, Natural Science & Technology and Sesotho Home Language","WILI3606",{"$f":"_xlfn.XLOOKUP(C499,'RAW module list'!A:A,'RAW module list'!B:B, \"Not found\")","v":"Teaching Practice 3"},{"$f":"_xlfn.XLOOKUP(C499,'RAW module list'!A:A,'RAW module list'!C:C, \"Not found\")","v":6},{"$f":"_xlfn.XLOOKUP(C499,'RAW module list'!A:A,'RAW module list'!D:D, \"Not found\")","v":24},{"$f":"_xlfn.XLOOKUP(C499,'RAW module list'!A:A,'RAW module list'!E:E, \"Not found\")","v":"TPRI2502"},"Fourth Year",{"$f":"_xlfn.XLOOKUP(B499,'Programmes lists'!B:B,'Programmes lists'!D:D)","v":"BC7357E2"},{"$f":"_xlfn.XLOOKUP(B499,'Programmes lists'!B:B,'Programmes lists'!E:E, \"Not found\")","v":"QC7375E2"},{"$f":"_xlfn.XLOOKUP(B499,'Programmes lists'!B:B,'Programmes lists'!G:G,\"Not found\")","v":"Minimum grade 12 pass in\n•\tSesotho HL 50% \n•\tEnglish FAL 55%\n•\tMathematics 50%"},{"$f":"_xlfn.XLOOKUP(B499,'Programmes lists'!B:B,'Programmes lists'!F:F,\"Not found\")","v":660}]
["Intermediate Phase Extended Progamme","EXT - Specialising in Mathematics, Natural Science & Technology and Sesotho Home Language","EDUB3724",{"$f":"_xlfn.XLOOKUP(C500,'RAW module list'!A:A,'RAW module list'!B:B, \"Not found\")","v":"Education Studies 3.2: Contemporary Education Theory in the current social context"},{"$f":"_xlfn.XLOOKUP(C500,'RAW module list'!A:A,'RAW module list'!C:C, \"Not found\")","v":7},{"$f":"_xlfn.XLOOKUP(C500,'RAW module list'!A:A,'RAW module list'!D:D, \"Not found\")","v":16},{"$f":"_xlfn.XLOOKUP(C500,'RAW module list'!A:A,'RAW module list'!E:E, \"Not found\")","v":"EDUB1613 & EDUB1623 & EDUB2714 & EDUB2724 & EDUB3714"},"Fourth Year",{"$f":"_xlfn.XLOOKUP(B500,'Programmes lists'!B:B,'Programmes lists'!D:D)","v":"BC7357E2"},{"$f":"_xlfn.XLOOKUP(B500,'Programmes lists'!B:B,'Programmes lists'!E:E, \"Not found\")","v":"QC7375E2"},{"$f":"_xlfn.XLOOKUP(B500,'Programmes lists'!B:B,'Programmes lists'!G:G,\"Not found\")","v":"Minimum grade 12 pass in\n•\tSesotho HL 50% \n•\tEnglish FAL 55%\n•\tMathematics 50%"},{"$f":"_xlfn.XLOOKUP(B500,'Programmes lists'!B:B,'Programmes lists'!F:F,\"Not found\")","v":660}]
["Intermediate Phase Extended Progamme","EXT - Specialising in Mathematics, Natural Science & Technology and Sesotho Home Language","SICL3522 OR SCCL3522 OR GAFR3522",{"$f":"_xlfn.XLOOKUP(C501,'RAW module list'!A:A,'RAW module list'!B:B, \"Not found\")","v":"Conversational Sign Language OR Conversational Sesotho OR Conversational Afrikaans"},{"$f":"_xlfn.XLOOKUP(C501,'RAW module list'!A:A,'RAW module list'!C:C, \"Not found\")","v":5},{"$f":"_xlfn.XLOOKUP(C501,'RAW module list'!A:A,'RAW module list'!D:D, \"Not found\")","v":8},{"$f":"_xlfn.XLOOKUP(C501,'RAW module list'!A:A,'RAW module list'!E:E, \"Not found\")","v":"Continue with the conversational language chosen in Semester 1"},"Fourth Year",{"$f":"_xlfn.XLOOKUP(B501,'Programmes lists'!B:B,'Programmes lists'!D:D)","v":"BC7357E2"},{"$f":"_xlfn.XLOOKUP(B501,'Programmes lists'!B:B,'Programmes lists'!E:E, \"Not found\")","v":"QC7375E2"},{"$f":"_xlfn.XLOOKUP(B501,'Programmes lists'!B:B,'Programmes lists'!G:G,\"Not found\")","v":"Minimum grade 12 pass in\n•\tSesotho HL 50% \n•\tEnglish FAL 55%\n•\tMathematics 50%"},{"$f":"_xlfn.XLOOKUP(B501,'Programmes lists'!B:B,'Programmes lists'!F:F,\"Not found\")","v":660}]
["Intermediate Phase Extended Progamme","EXT - Specialising in Mathematics, Natural Science & Technology and Sesotho Home Language","NTTI4705",{"$f":"_xlfn.XLOOKUP(C502,'RAW module list'!A:A,'RAW module list'!B:B, \"Not found\")","v":"Natural Sciences and Technology Teaching  2"},{"$f":"_xlfn.XLOOKUP(C502,'RAW module list'!A:A,'RAW module list'!C:C, \"Not found\")","v":7},{"$f":"_xlfn.XLOOKUP(C502,'RAW module list'!A:A,'RAW module list'!D:D, \"Not found\")","v":20},{"$f":"_xlfn.XLOOKUP(C502,'RAW module list'!A:A,'RAW module list'!E:E, \"Not found\")","v":"NTTI3604"},"Fifth Year",{"$f":"_xlfn.XLOOKUP(B502,'Programmes lists'!B:B,'Programmes lists'!D:D)","v":"BC7357E2"},{"$f":"_xlfn.XLOOKUP(B502,'Programmes lists'!B:B,'Programmes lists'!E:E, \"Not found\")","v":"QC7375E2"},{"$f":"_xlfn.XLOOKUP(B502,'Programmes lists'!B:B,'Programmes lists'!G:G,\"Not found\")","v":"Minimum grade 12 pass in\n•\tSesotho HL 50% \n•\tEnglish FAL 55%\n•\tMathematics 50%"},{"$f":"_xlfn.XLOOKUP(B502,'Programmes lists'!B:B,'Programmes lists'!F:F,\"Not found\")","v":660}]
["Intermediate Phase Extended Progamme","EXT - Specialising in Mathematics, Natural Science & Technology and Sesotho Home Language","MTTI4705",{"$f":"_xlfn.XLOOKUP(C503,'RAW module list'!A:A,'RAW module list'!B:B, \"Not found\")","v":"Mathematics teaching 2"},{"$f":"_xlfn.XLOOKUP(C503,'RAW module list'!A:A,'RAW module list'!C:C, \"Not found\")","v":7},{"$f":"_xlfn.XLOOKUP(C503,'RAW module list'!A:A,'RAW module list'!D:D, \"Not found\")","v":20},{"$f":"_xlfn.XLOOKUP(C503,'RAW module list'!A:A,'RAW module list'!E:E, \"Not found\")","v":"MTTI3604"},"Fifth Year",{"$f":"_xlfn.XLOOKUP(B503,'Programmes lists'!B:B,'Programmes lists'!D:D)","v":"BC7357E2"},{"$f":"_xlfn.XLOOKUP(B503,'Programmes lists'!B:B,'Programmes lists'!E:E, \"Not found\")","v":"QC7375E2"},{"$f":"_xlfn.XLOOKUP(B503,'Programmes lists'!B:B,'Programmes lists'!G:G,\"Not found\")","v":"Minimum grade 12 pass in\n•\tSesotho HL 50% \n•\tEnglish FAL 55%\n•\tMathematics 50%"},{"$f":"_xlfn.XLOOKUP(B503,'Programmes lists'!B:B,'Programmes lists'!F:F,\"Not found\")","v":660}]
["Intermediate Phase Extended Progamme","EXT - Specialising in Mathematics, Natural Science & Technology and Sesotho Home Language","SHTI4705",{"$f":"_xlfn.XLOOKUP(C504,'RAW module list'!A:A,'RAW module list'!B:B, \"Not found\")","v":"Sesotho Teaching 1 (Home Language)"},{"$f":"_xlfn.XLOOKUP(C504,'RAW module list'!A:A,'RAW module list'!C:C, \"Not found\")","v":7},{"$f":"_xlfn.XLOOKUP(C504,'RAW module list'!A:A,'RAW module list'!D:D, \"Not found\")","v":20},{"$f":"_xlfn.XLOOKUP(C504,'RAW module list'!A:A,'RAW module list'!E:E, \"Not found\")","v":"SHTI3604"},"Fifth Year",{"$f":"_xlfn.XLOOKUP(B504,'Programmes lists'!B:B,'Programmes lists'!D:D)","v":"BC7357E2"},{"$f":"_xlfn.XLOOKUP(B504,'Programmes lists'!B:B,'Programmes lists'!E:E, \"Not found\")","v":"QC7375E2"},{"$f":"_xlfn.XLOOKUP(B504,'Programmes lists'!B:B,'Programmes lists'!G:G,\"Not found\")","v":"Minimum grade 12 pass in\n•\tSesotho HL 50% \n•\tEnglish FAL 55%\n•\tMathematics 50%"},{"$f":"_xlfn.XLOOKUP(B504,'Programmes lists'!B:B,'Programmes lists'!F:F,\"Not found\")","v":660}]
["Intermediate Phase Extended Progamme","EXT - Specialising in Mathematics, Natural Science & Technology and Sesotho Home Language","CURM4502",{"$f":"_xlfn.XLOOKUP(C505,'RAW module list'!A:A,'RAW module list'!B:B, \"Not found\")","v":"Intermediate Phase School Curriculum 2"},{"$f":"_xlfn.XLOOKUP(C505,'RAW module list'!A:A,'RAW module list'!C:C, \"Not found\")","v":5},{"$f":"_xlfn.XLOOKUP(C505,'RAW module list'!A:A,'RAW module list'!D:D, \"Not found\")","v":8},{"$f":"_xlfn.XLOOKUP(C505,'RAW module list'!A:A,'RAW module list'!E:E, \"Not found\")","v":"CURM3502"},"Fifth Year",{"$f":"_xlfn.XLOOKUP(B505,'Programmes lists'!B:B,'Programmes lists'!D:D)","v":"BC7357E2"},{"$f":"_xlfn.XLOOKUP(B505,'Programmes lists'!B:B,'Programmes lists'!E:E, \"Not found\")","v":"QC7375E2"},{"$f":"_xlfn.XLOOKUP(B505,'Programmes lists'!B:B,'Programmes lists'!G:G,\"Not found\")","v":"Minimum grade 12 pass in\n•\tSesotho HL 50% \n•\tEnglish FAL 55%\n•\tMathematics 50%"},{"$f":"_xlfn.XLOOKUP(B505,'Programmes lists'!B:B,'Programmes lists'!F:F,\"Not found\")","v":660}]
["Intermediate Phase Extended Progamme","EXT - Specialising in Mathematics, Natural Science & Technology and Sesotho Home Language","EATI4705",{"$f":"_xlfn.XLOOKUP(C506,'RAW module list'!A:A,'RAW module list'!B:B, \"Not found\")","v":"English additional language teaching 2"},{"$f":"_xlfn.XLOOKUP(C506,'RAW module list'!A:A,'RAW module list'!C:C, \"Not found\")","v":7},{"$f":"_xlfn.XLOOKUP(C506,'RAW module list'!A:A,'RAW module list'!D:D, \"Not found\")","v":20},{"$f":"_xlfn.XLOOKUP(C506,'RAW module list'!A:A,'RAW module list'!E:E, \"Not found\")","v":"EATI3604"},"Fifth Year",{"$f":"_xlfn.XLOOKUP(B506,'Programmes lists'!B:B,'Programmes lists'!D:D)","v":"BC7357E2"},{"$f":"_xlfn.XLOOKUP(B506,'Programmes lists'!B:B,'Programmes lists'!E:E, \"Not found\")","v":"QC7375E2"},{"$f":"_xlfn.XLOOKUP(B506,'Programmes lists'!B:B,'Programmes lists'!G:G,\"Not found\")","v":"Minimum grade 12 pass in\n•\tSesotho HL 50% \n•\tEnglish FAL 55%\n•\tMathematics 50%"},{"$f":"_xlfn.XLOOKUP(B506,'Programmes lists'!B:B,'Programmes lists'!F:F,\"Not found\")","v":660}]
["Intermediate Phase Extended Progamme","EXT - Specialising in Mathematics, Natural Science & Technology and Sesotho Home Language","WILI4700",{"$f":"_xlfn.XLOOKUP(C507,'RAW module list'!A:A,'RAW module list'!B:B, \"Not found\")","v":"Teaching Practice 4"},{"$f":"_xlfn.XLOOKUP(C507,'RAW module list'!A:A,'RAW module list'!C:C, \"Not found\")","v":7},{"$f":"_xlfn.XLOOKUP(C507,'RAW module list'!A:A,'RAW module list'!D:D, \"Not found\")","v":40},{"$f":"_xlfn.XLOOKUP(C507,'RAW module list'!A:A,'RAW module list'!E:E, \"Not found\")","v":"WILI3606"},"Fifth Year",{"$f":"_xlfn.XLOOKUP(B507,'Programmes lists'!B:B,'Programmes lists'!D:D)","v":"BC7357E2"},{"$f":"_xlfn.XLOOKUP(B507,'Programmes lists'!B:B,'Programmes lists'!E:E, \"Not found\")","v":"QC7375E2"},{"$f":"_xlfn.XLOOKUP(B507,'Programmes lists'!B:B,'Programmes lists'!G:G,\"Not found\")","v":"Minimum grade 12 pass in\n•\tSesotho HL 50% \n•\tEnglish FAL 55%\n•\tMathematics 50%"},{"$f":"_xlfn.XLOOKUP(B507,'Programmes lists'!B:B,'Programmes lists'!F:F,\"Not found\")","v":660}]
["Intermediate Phase Extended Progamme","EXT - Specialising in Mathematics, Natural Science & Technology and English Home Language","EALT1508",{"$f":"_xlfn.XLOOKUP(C508,'RAW module list'!A:A,'RAW module list'!B:B, \"Not found\")","v":"English Academic Literacy for Education "},{"$f":"_xlfn.XLOOKUP(C508,'RAW module list'!A:A,'RAW module list'!C:C, \"Not found\")","v":5},{"$f":"_xlfn.XLOOKUP(C508,'RAW module list'!A:A,'RAW module list'!D:D, \"Not found\")","v":-32},{"$f":"_xlfn.XLOOKUP(C508,'RAW module list'!A:A,'RAW module list'!E:E, \"Not found\")","v":"NBT requirements not met"},"First Year",{"$f":"_xlfn.XLOOKUP(B508,'Programmes lists'!B:B,'Programmes lists'!D:D)","v":"BC7357E2"},{"$f":"_xlfn.XLOOKUP(B508,'Programmes lists'!B:B,'Programmes lists'!E:E, \"Not found\")","v":0},{"$f":"_xlfn.XLOOKUP(B508,'Programmes lists'!B:B,'Programmes lists'!G:G,\"Not found\")","v":"Minimum grade 12 pass in\n•\tEnglish HL 50% \n•\tAfrikaans FAL 55%\n•\tMathematics 50%"},{"$f":"_xlfn.XLOOKUP(B508,'Programmes lists'!B:B,'Programmes lists'!F:F,\"Not found\")","v":660}]
["Intermediate Phase Extended Progamme","EXT - Specialising in Mathematics, Natural Science & Technology and English Home Language","SCLL1508",{"$f":"_xlfn.XLOOKUP(C509,'RAW module list'!A:A,'RAW module list'!B:B, \"Not found\")","v":"Skills and competencies for lifelong learning"},{"$f":"_xlfn.XLOOKUP(C509,'RAW module list'!A:A,'RAW module list'!C:C, \"Not found\")","v":6},{"$f":"_xlfn.XLOOKUP(C509,'RAW module list'!A:A,'RAW module list'!D:D, \"Not found\")","v":32},{"$f":"_xlfn.XLOOKUP(C509,'RAW module list'!A:A,'RAW module list'!E:E, \"Not found\")","v":0},"First Year",{"$f":"_xlfn.XLOOKUP(B509,'Programmes lists'!B:B,'Programmes lists'!D:D)","v":"BC7357E2"},{"$f":"_xlfn.XLOOKUP(B509,'Programmes lists'!B:B,'Programmes lists'!E:E, \"Not found\")","v":0},{"$f":"_xlfn.XLOOKUP(B509,'Programmes lists'!B:B,'Programmes lists'!G:G,\"Not found\")","v":"Minimum grade 12 pass in\n•\tEnglish HL 50% \n•\tAfrikaans FAL 55%\n•\tMathematics 50%"},{"$f":"_xlfn.XLOOKUP(B509,'Programmes lists'!B:B,'Programmes lists'!F:F,\"Not found\")","v":660}]
["Intermediate Phase Extended Progamme","EXT - Specialising in Mathematics, Natural Science & Technology and English Home Language","LLST1513",{"$f":"_xlfn.XLOOKUP(C510,'RAW module list'!A:A,'RAW module list'!B:B, \"Not found\")","v":"Lifelong Learning Skills"},{"$f":"_xlfn.XLOOKUP(C510,'RAW module list'!A:A,'RAW module list'!C:C, \"Not found\")","v":5},{"$f":"_xlfn.XLOOKUP(C510,'RAW module list'!A:A,'RAW module list'!D:D, \"Not found\")","v":12},{"$f":"_xlfn.XLOOKUP(C510,'RAW module list'!A:A,'RAW module list'!E:E, \"Not found\")","v":0},"First Year",{"$f":"_xlfn.XLOOKUP(B510,'Programmes lists'!B:B,'Programmes lists'!D:D)","v":"BC7357E2"},{"$f":"_xlfn.XLOOKUP(B510,'Programmes lists'!B:B,'Programmes lists'!E:E, \"Not found\")","v":0},{"$f":"_xlfn.XLOOKUP(B510,'Programmes lists'!B:B,'Programmes lists'!G:G,\"Not found\")","v":"Minimum grade 12 pass in\n•\tEnglish HL 50% \n•\tAfrikaans FAL 55%\n•\tMathematics 50%"},{"$f":"_xlfn.XLOOKUP(B510,'Programmes lists'!B:B,'Programmes lists'!F:F,\"Not found\")","v":660}]
["Intermediate Phase Extended Progamme","EXT - Specialising in Mathematics, Natural Science & Technology and English Home Language","EDUB1613",{"$f":"_xlfn.XLOOKUP(C511,'RAW module list'!A:A,'RAW module list'!B:B, \"Not found\")","v":"Education Studies 1.1 The Individual in the learning context"},{"$f":"_xlfn.XLOOKUP(C511,'RAW module list'!A:A,'RAW module list'!C:C, \"Not found\")","v":6},{"$f":"_xlfn.XLOOKUP(C511,'RAW module list'!A:A,'RAW module list'!D:D, \"Not found\")","v":12},{"$f":"_xlfn.XLOOKUP(C511,'RAW module list'!A:A,'RAW module list'!E:E, \"Not found\")","v":0},"First Year",{"$f":"_xlfn.XLOOKUP(B511,'Programmes lists'!B:B,'Programmes lists'!D:D)","v":"BC7357E2"},{"$f":"_xlfn.XLOOKUP(B511,'Programmes lists'!B:B,'Programmes lists'!E:E, \"Not found\")","v":0},{"$f":"_xlfn.XLOOKUP(B511,'Programmes lists'!B:B,'Programmes lists'!G:G,\"Not found\")","v":"Minimum grade 12 pass in\n•\tEnglish HL 50% \n•\tAfrikaans FAL 55%\n•\tMathematics 50%"},{"$f":"_xlfn.XLOOKUP(B511,'Programmes lists'!B:B,'Programmes lists'!F:F,\"Not found\")","v":660}]
["Intermediate Phase Extended Progamme","EXT - Specialising in Mathematics, Natural Science & Technology and English Home Language","EDUB1623",{"$f":"_xlfn.XLOOKUP(C512,'RAW module list'!A:A,'RAW module list'!B:B, \"Not found\")","v":"Education Studies 1.2 What it means to educate: Theoretical perspectives and their significance for SA education"},{"$f":"_xlfn.XLOOKUP(C512,'RAW module list'!A:A,'RAW module list'!C:C, \"Not found\")","v":6},{"$f":"_xlfn.XLOOKUP(C512,'RAW module list'!A:A,'RAW module list'!D:D, \"Not found\")","v":12},{"$f":"_xlfn.XLOOKUP(C512,'RAW module list'!A:A,'RAW module list'!E:E, \"Not found\")","v":0},"First Year",{"$f":"_xlfn.XLOOKUP(B512,'Programmes lists'!B:B,'Programmes lists'!D:D)","v":"BC7357E2"},{"$f":"_xlfn.XLOOKUP(B512,'Programmes lists'!B:B,'Programmes lists'!E:E, \"Not found\")","v":0},{"$f":"_xlfn.XLOOKUP(B512,'Programmes lists'!B:B,'Programmes lists'!G:G,\"Not found\")","v":"Minimum grade 12 pass in\n•\tEnglish HL 50% \n•\tAfrikaans FAL 55%\n•\tMathematics 50%"},{"$f":"_xlfn.XLOOKUP(B512,'Programmes lists'!B:B,'Programmes lists'!F:F,\"Not found\")","v":660}]
["Intermediate Phase Extended Progamme","EXT - Specialising in Mathematics, Natural Science & Technology and English Home Language","GPED1623",{"$f":"_xlfn.XLOOKUP(C513,'RAW module list'!A:A,'RAW module list'!B:B, \"Not found\")","v":"General Pedagogy 1: Managing the Curriculum"},{"$f":"_xlfn.XLOOKUP(C513,'RAW module list'!A:A,'RAW module list'!C:C, \"Not found\")","v":6},{"$f":"_xlfn.XLOOKUP(C513,'RAW module list'!A:A,'RAW module list'!D:D, \"Not found\")","v":12},{"$f":"_xlfn.XLOOKUP(C513,'RAW module list'!A:A,'RAW module list'!E:E, \"Not found\")","v":0},"First Year",{"$f":"_xlfn.XLOOKUP(B513,'Programmes lists'!B:B,'Programmes lists'!D:D)","v":"BC7357E2"},{"$f":"_xlfn.XLOOKUP(B513,'Programmes lists'!B:B,'Programmes lists'!E:E, \"Not found\")","v":0},{"$f":"_xlfn.XLOOKUP(B513,'Programmes lists'!B:B,'Programmes lists'!G:G,\"Not found\")","v":"Minimum grade 12 pass in\n•\tEnglish HL 50% \n•\tAfrikaans FAL 55%\n•\tMathematics 50%"},{"$f":"_xlfn.XLOOKUP(B513,'Programmes lists'!B:B,'Programmes lists'!F:F,\"Not found\")","v":660}]
["Intermediate Phase Extended Progamme","EXT - Specialising in Mathematics, Natural Science & Technology and English Home Language","EALH2508",{"$f":"_xlfn.XLOOKUP(C514,'RAW module list'!A:A,'RAW module list'!B:B, \"Not found\")","v":"Academic Literacy for extended programmes 2"},{"$f":"_xlfn.XLOOKUP(C514,'RAW module list'!A:A,'RAW module list'!C:C, \"Not found\")","v":5},{"$f":"_xlfn.XLOOKUP(C514,'RAW module list'!A:A,'RAW module list'!D:D, \"Not found\")","v":32},{"$f":"_xlfn.XLOOKUP(C514,'RAW module list'!A:A,'RAW module list'!E:E, \"Not found\")","v":"AGAE1508 or EALT1508"},"Second Year",{"$f":"_xlfn.XLOOKUP(B514,'Programmes lists'!B:B,'Programmes lists'!D:D)","v":"BC7357E2"},{"$f":"_xlfn.XLOOKUP(B514,'Programmes lists'!B:B,'Programmes lists'!E:E, \"Not found\")","v":0},{"$f":"_xlfn.XLOOKUP(B514,'Programmes lists'!B:B,'Programmes lists'!G:G,\"Not found\")","v":"Minimum grade 12 pass in\n•\tEnglish HL 50% \n•\tAfrikaans FAL 55%\n•\tMathematics 50%"},{"$f":"_xlfn.XLOOKUP(B514,'Programmes lists'!B:B,'Programmes lists'!F:F,\"Not found\")","v":660}]
["Intermediate Phase Extended Progamme","EXT - Specialising in Mathematics, Natural Science & Technology and English Home Language","ENGE1608",{"$f":"_xlfn.XLOOKUP(C515,'RAW module list'!A:A,'RAW module list'!B:B, \"Not found\")","v":"English Language for Education "},{"$f":"_xlfn.XLOOKUP(C515,'RAW module list'!A:A,'RAW module list'!C:C, \"Not found\")","v":6},{"$f":"_xlfn.XLOOKUP(C515,'RAW module list'!A:A,'RAW module list'!D:D, \"Not found\")","v":32},{"$f":"_xlfn.XLOOKUP(C515,'RAW module list'!A:A,'RAW module list'!E:E, \"Not found\")","v":0},"Second Year",{"$f":"_xlfn.XLOOKUP(B515,'Programmes lists'!B:B,'Programmes lists'!D:D)","v":"BC7357E2"},{"$f":"_xlfn.XLOOKUP(B515,'Programmes lists'!B:B,'Programmes lists'!E:E, \"Not found\")","v":0},{"$f":"_xlfn.XLOOKUP(B515,'Programmes lists'!B:B,'Programmes lists'!G:G,\"Not found\")","v":"Minimum grade 12 pass in\n•\tEnglish HL 50% \n•\tAfrikaans FAL 55%\n•\tMathematics 50%"},{"$f":"_xlfn.XLOOKUP(B515,'Programmes lists'!B:B,'Programmes lists'!F:F,\"Not found\")","v":660}]
["Intermediate Phase Extended Progamme","EXT - Specialising in Mathematics, Natural Science & Technology and English Home Language","MTHI1614",{"$f":"_xlfn.XLOOKUP(C516,'RAW module list'!A:A,'RAW module list'!B:B, \"Not found\")","v":"Mathematics: Numbers, algebra and functions "},{"$f":"_xlfn.XLOOKUP(C516,'RAW module list'!A:A,'RAW module list'!C:C, \"Not found\")","v":6},{"$f":"_xlfn.XLOOKUP(C516,'RAW module list'!A:A,'RAW module list'!D:D, \"Not found\")","v":16},{"$f":"_xlfn.XLOOKUP(C516,'RAW module list'!A:A,'RAW module list'!E:E, \"Not found\")","v":"Mathematics at NSC level 4 (50%) pass"},"Second Year",{"$f":"_xlfn.XLOOKUP(B516,'Programmes lists'!B:B,'Programmes lists'!D:D)","v":"BC7357E2"},{"$f":"_xlfn.XLOOKUP(B516,'Programmes lists'!B:B,'Programmes lists'!E:E, \"Not found\")","v":0},{"$f":"_xlfn.XLOOKUP(B516,'Programmes lists'!B:B,'Programmes lists'!G:G,\"Not found\")","v":"Minimum grade 12 pass in\n•\tEnglish HL 50% \n•\tAfrikaans FAL 55%\n•\tMathematics 50%"},{"$f":"_xlfn.XLOOKUP(B516,'Programmes lists'!B:B,'Programmes lists'!F:F,\"Not found\")","v":660}]
["Intermediate Phase Extended Progamme","EXT - Specialising in Mathematics, Natural Science & Technology and English Home Language","MTDH1508",{"$f":"_xlfn.XLOOKUP(C517,'RAW module list'!A:A,'RAW module list'!B:B, \"Not found\")","v":"Mathematical Literacy"},{"$f":"_xlfn.XLOOKUP(C517,'RAW module list'!A:A,'RAW module list'!C:C, \"Not found\")","v":5},{"$f":"_xlfn.XLOOKUP(C517,'RAW module list'!A:A,'RAW module list'!D:D, \"Not found\")","v":32},{"$f":"_xlfn.XLOOKUP(C517,'RAW module list'!A:A,'RAW module list'!E:E, \"Not found\")","v":0},"Second Year",{"$f":"_xlfn.XLOOKUP(B517,'Programmes lists'!B:B,'Programmes lists'!D:D)","v":"BC7357E2"},{"$f":"_xlfn.XLOOKUP(B517,'Programmes lists'!B:B,'Programmes lists'!E:E, \"Not found\")","v":0},{"$f":"_xlfn.XLOOKUP(B517,'Programmes lists'!B:B,'Programmes lists'!G:G,\"Not found\")","v":"Minimum grade 12 pass in\n•\tEnglish HL 50% \n•\tAfrikaans FAL 55%\n•\tMathematics 50%"},{"$f":"_xlfn.XLOOKUP(B517,'Programmes lists'!B:B,'Programmes lists'!F:F,\"Not found\")","v":660}]
["Intermediate Phase Extended Progamme","EXT - Specialising in Mathematics, Natural Science & Technology and English Home Language","TPRI1502",{"$f":"_xlfn.XLOOKUP(C518,'RAW module list'!A:A,'RAW module list'!B:B, \"Not found\")","v":"Teaching Practice 1"},{"$f":"_xlfn.XLOOKUP(C518,'RAW module list'!A:A,'RAW module list'!C:C, \"Not found\")","v":5},{"$f":"_xlfn.XLOOKUP(C518,'RAW module list'!A:A,'RAW module list'!D:D, \"Not found\")","v":8},{"$f":"_xlfn.XLOOKUP(C518,'RAW module list'!A:A,'RAW module list'!E:E, \"Not found\")","v":0},"Second Year",{"$f":"_xlfn.XLOOKUP(B518,'Programmes lists'!B:B,'Programmes lists'!D:D)","v":"BC7357E2"},{"$f":"_xlfn.XLOOKUP(B518,'Programmes lists'!B:B,'Programmes lists'!E:E, \"Not found\")","v":0},{"$f":"_xlfn.XLOOKUP(B518,'Programmes lists'!B:B,'Programmes lists'!G:G,\"Not found\")","v":"Minimum grade 12 pass in\n•\tEnglish HL 50% \n•\tAfrikaans FAL 55%\n•\tMathematics 50%"},{"$f":"_xlfn.XLOOKUP(B518,'Programmes lists'!B:B,'Programmes lists'!F:F,\"Not found\")","v":660}]
["Intermediate Phase Extended Progamme","EXT - Specialising in Mathematics, Natural Science & Technology and English Home Language","MTHI1624",{"$f":"_xlfn.XLOOKUP(C519,'RAW module list'!A:A,'RAW module list'!B:B, \"Not found\")","v":"Mathematics: total surface area and volume"},{"$f":"_xlfn.XLOOKUP(C519,'RAW module list'!A:A,'RAW module list'!C:C, \"Not found\")","v":6},{"$f":"_xlfn.XLOOKUP(C519,'RAW module list'!A:A,'RAW module list'!D:D, \"Not found\")","v":16},{"$f":"_xlfn.XLOOKUP(C519,'RAW module list'!A:A,'RAW module list'!E:E, \"Not found\")","v":"Mathematics at NSC level 4 (50%) pass"},"Second Year",{"$f":"_xlfn.XLOOKUP(B519,'Programmes lists'!B:B,'Programmes lists'!D:D)","v":"BC7357E2"},{"$f":"_xlfn.XLOOKUP(B519,'Programmes lists'!B:B,'Programmes lists'!E:E, \"Not found\")","v":0},{"$f":"_xlfn.XLOOKUP(B519,'Programmes lists'!B:B,'Programmes lists'!G:G,\"Not found\")","v":"Minimum grade 12 pass in\n•\tEnglish HL 50% \n•\tAfrikaans FAL 55%\n•\tMathematics 50%"},{"$f":"_xlfn.XLOOKUP(B519,'Programmes lists'!B:B,'Programmes lists'!F:F,\"Not found\")","v":660}]
["Intermediate Phase Extended Progamme","EXT - Specialising in Mathematics, Natural Science & Technology and English Home Language","UFSS1522",{"$f":"_xlfn.XLOOKUP(C520,'RAW module list'!A:A,'RAW module list'!B:B, \"Not found\")","v":"Institutional module"},{"$f":"_xlfn.XLOOKUP(C520,'RAW module list'!A:A,'RAW module list'!C:C, \"Not found\")","v":5},{"$f":"_xlfn.XLOOKUP(C520,'RAW module list'!A:A,'RAW module list'!D:D, \"Not found\")","v":-8},{"$f":"_xlfn.XLOOKUP(C520,'RAW module list'!A:A,'RAW module list'!E:E, \"Not found\")","v":0},"Second Year",{"$f":"_xlfn.XLOOKUP(B520,'Programmes lists'!B:B,'Programmes lists'!D:D)","v":"BC7357E2"},{"$f":"_xlfn.XLOOKUP(B520,'Programmes lists'!B:B,'Programmes lists'!E:E, \"Not found\")","v":0},{"$f":"_xlfn.XLOOKUP(B520,'Programmes lists'!B:B,'Programmes lists'!G:G,\"Not found\")","v":"Minimum grade 12 pass in\n•\tEnglish HL 50% \n•\tAfrikaans FAL 55%\n•\tMathematics 50%"},{"$f":"_xlfn.XLOOKUP(B520,'Programmes lists'!B:B,'Programmes lists'!F:F,\"Not found\")","v":660}]
["Intermediate Phase Extended Progamme","EXT - Specialising in Mathematics, Natural Science & Technology and English Home Language","NSTC2614",{"$f":"_xlfn.XLOOKUP(C521,'RAW module list'!A:A,'RAW module list'!B:B, \"Not found\")","v":"Elementary Natural Sciences and Technology"},{"$f":"_xlfn.XLOOKUP(C521,'RAW module list'!A:A,'RAW module list'!C:C, \"Not found\")","v":6},{"$f":"_xlfn.XLOOKUP(C521,'RAW module list'!A:A,'RAW module list'!D:D, \"Not found\")","v":16},{"$f":"_xlfn.XLOOKUP(C521,'RAW module list'!A:A,'RAW module list'!E:E, \"Not found\")","v":0},"Third Year",{"$f":"_xlfn.XLOOKUP(B521,'Programmes lists'!B:B,'Programmes lists'!D:D)","v":"BC7357E2"},{"$f":"_xlfn.XLOOKUP(B521,'Programmes lists'!B:B,'Programmes lists'!E:E, \"Not found\")","v":0},{"$f":"_xlfn.XLOOKUP(B521,'Programmes lists'!B:B,'Programmes lists'!G:G,\"Not found\")","v":"Minimum grade 12 pass in\n•\tEnglish HL 50% \n•\tAfrikaans FAL 55%\n•\tMathematics 50%"},{"$f":"_xlfn.XLOOKUP(B521,'Programmes lists'!B:B,'Programmes lists'!F:F,\"Not found\")","v":660}]
["Intermediate Phase Extended Progamme","EXT - Specialising in Mathematics, Natural Science & Technology and English Home Language","AFNL1634 OR AFRT1514",{"$f":"_xlfn.XLOOKUP(C522,'RAW module list'!A:A,'RAW module list'!B:B, \"Not found\")","v":"Introduction to Afrikaans and Dutch literature OR Basic Afrikaans Language"},{"$f":"_xlfn.XLOOKUP(C522,'RAW module list'!A:A,'RAW module list'!C:C, \"Not found\")","v":6},{"$f":"_xlfn.XLOOKUP(C522,'RAW module list'!A:A,'RAW module list'!D:D, \"Not found\")","v":16},{"$f":"_xlfn.XLOOKUP(C522,'RAW module list'!A:A,'RAW module list'!E:E, \"Not found\")","v":"Afrikaans HL Grade 12 pass at >55% Or Afr FAL Grade 12 pass at >55%/Afrikaans HL Grade 12 pass at <55% or Afr. FAL Grade 12 pass at <70%"},"Third Year",{"$f":"_xlfn.XLOOKUP(B522,'Programmes lists'!B:B,'Programmes lists'!D:D)","v":"BC7357E2"},{"$f":"_xlfn.XLOOKUP(B522,'Programmes lists'!B:B,'Programmes lists'!E:E, \"Not found\")","v":0},{"$f":"_xlfn.XLOOKUP(B522,'Programmes lists'!B:B,'Programmes lists'!G:G,\"Not found\")","v":"Minimum grade 12 pass in\n•\tEnglish HL 50% \n•\tAfrikaans FAL 55%\n•\tMathematics 50%"},{"$f":"_xlfn.XLOOKUP(B522,'Programmes lists'!B:B,'Programmes lists'!F:F,\"Not found\")","v":660}]
["Intermediate Phase Extended Progamme","EXT - Specialising in Mathematics, Natural Science & Technology and English Home Language","MTBI2503",{"$f":"_xlfn.XLOOKUP(C523,'RAW module list'!A:A,'RAW module list'!B:B, \"Not found\")","v":"Basic Mathematics "},{"$f":"_xlfn.XLOOKUP(C523,'RAW module list'!A:A,'RAW module list'!C:C, \"Not found\")","v":5},{"$f":"_xlfn.XLOOKUP(C523,'RAW module list'!A:A,'RAW module list'!D:D, \"Not found\")","v":12},{"$f":"_xlfn.XLOOKUP(C523,'RAW module list'!A:A,'RAW module list'!E:E, \"Not found\")","v":0},"Third Year",{"$f":"_xlfn.XLOOKUP(B523,'Programmes lists'!B:B,'Programmes lists'!D:D)","v":"BC7357E2"},{"$f":"_xlfn.XLOOKUP(B523,'Programmes lists'!B:B,'Programmes lists'!E:E, \"Not found\")","v":0},{"$f":"_xlfn.XLOOKUP(B523,'Programmes lists'!B:B,'Programmes lists'!G:G,\"Not found\")","v":"Minimum grade 12 pass in\n•\tEnglish HL 50% \n•\tAfrikaans FAL 55%\n•\tMathematics 50%"},{"$f":"_xlfn.XLOOKUP(B523,'Programmes lists'!B:B,'Programmes lists'!F:F,\"Not found\")","v":660}]
["Intermediate Phase Extended Progamme","EXT - Specialising in Mathematics, Natural Science & Technology and English Home Language","EDUB2714",{"$f":"_xlfn.XLOOKUP(C524,'RAW module list'!A:A,'RAW module list'!B:B, \"Not found\")","v":"Education Studies 2: Teaching and Learning in Education Context"},{"$f":"_xlfn.XLOOKUP(C524,'RAW module list'!A:A,'RAW module list'!C:C, \"Not found\")","v":7},{"$f":"_xlfn.XLOOKUP(C524,'RAW module list'!A:A,'RAW module list'!D:D, \"Not found\")","v":16},{"$f":"_xlfn.XLOOKUP(C524,'RAW module list'!A:A,'RAW module list'!E:E, \"Not found\")","v":"EDUB1613 & EDUB1623"},"Third Year",{"$f":"_xlfn.XLOOKUP(B524,'Programmes lists'!B:B,'Programmes lists'!D:D)","v":"BC7357E2"},{"$f":"_xlfn.XLOOKUP(B524,'Programmes lists'!B:B,'Programmes lists'!E:E, \"Not found\")","v":0},{"$f":"_xlfn.XLOOKUP(B524,'Programmes lists'!B:B,'Programmes lists'!G:G,\"Not found\")","v":"Minimum grade 12 pass in\n•\tEnglish HL 50% \n•\tAfrikaans FAL 55%\n•\tMathematics 50%"},{"$f":"_xlfn.XLOOKUP(B524,'Programmes lists'!B:B,'Programmes lists'!F:F,\"Not found\")","v":660}]
["Intermediate Phase Extended Progamme","EXT - Specialising in Mathematics, Natural Science & Technology and English Home Language","GPED2613",{"$f":"_xlfn.XLOOKUP(C525,'RAW module list'!A:A,'RAW module list'!B:B, \"Not found\")","v":"General Pedagogy 2.1"},{"$f":"_xlfn.XLOOKUP(C525,'RAW module list'!A:A,'RAW module list'!C:C, \"Not found\")","v":6},{"$f":"_xlfn.XLOOKUP(C525,'RAW module list'!A:A,'RAW module list'!D:D, \"Not found\")","v":12},{"$f":"_xlfn.XLOOKUP(C525,'RAW module list'!A:A,'RAW module list'!E:E, \"Not found\")","v":"GPED1623"},"Third Year",{"$f":"_xlfn.XLOOKUP(B525,'Programmes lists'!B:B,'Programmes lists'!D:D)","v":"BC7357E2"},{"$f":"_xlfn.XLOOKUP(B525,'Programmes lists'!B:B,'Programmes lists'!E:E, \"Not found\")","v":0},{"$f":"_xlfn.XLOOKUP(B525,'Programmes lists'!B:B,'Programmes lists'!G:G,\"Not found\")","v":"Minimum grade 12 pass in\n•\tEnglish HL 50% \n•\tAfrikaans FAL 55%\n•\tMathematics 50%"},{"$f":"_xlfn.XLOOKUP(B525,'Programmes lists'!B:B,'Programmes lists'!F:F,\"Not found\")","v":660}]
["Intermediate Phase Extended Progamme","EXT - Specialising in Mathematics, Natural Science & Technology and English Home Language","TPRI2502",{"$f":"_xlfn.XLOOKUP(C526,'RAW module list'!A:A,'RAW module list'!B:B, \"Not found\")","v":"Teaching Practice 2 "},{"$f":"_xlfn.XLOOKUP(C526,'RAW module list'!A:A,'RAW module list'!C:C, \"Not found\")","v":5},{"$f":"_xlfn.XLOOKUP(C526,'RAW module list'!A:A,'RAW module list'!D:D, \"Not found\")","v":8},{"$f":"_xlfn.XLOOKUP(C526,'RAW module list'!A:A,'RAW module list'!E:E, \"Not found\")","v":"TPRI1502"},"Third Year",{"$f":"_xlfn.XLOOKUP(B526,'Programmes lists'!B:B,'Programmes lists'!D:D)","v":"BC7357E2"},{"$f":"_xlfn.XLOOKUP(B526,'Programmes lists'!B:B,'Programmes lists'!E:E, \"Not found\")","v":0},{"$f":"_xlfn.XLOOKUP(B526,'Programmes lists'!B:B,'Programmes lists'!G:G,\"Not found\")","v":"Minimum grade 12 pass in\n•\tEnglish HL 50% \n•\tAfrikaans FAL 55%\n•\tMathematics 50%"},{"$f":"_xlfn.XLOOKUP(B526,'Programmes lists'!B:B,'Programmes lists'!F:F,\"Not found\")","v":660}]
["Intermediate Phase Extended Progamme","EXT - Specialising in Mathematics, Natural Science & Technology and English Home Language","NSTC2624",{"$f":"_xlfn.XLOOKUP(C527,'RAW module list'!A:A,'RAW module list'!B:B, \"Not found\")","v":"Elementary Natural Science and Technology"},{"$f":"_xlfn.XLOOKUP(C527,'RAW module list'!A:A,'RAW module list'!C:C, \"Not found\")","v":6},{"$f":"_xlfn.XLOOKUP(C527,'RAW module list'!A:A,'RAW module list'!D:D, \"Not found\")","v":16},{"$f":"_xlfn.XLOOKUP(C527,'RAW module list'!A:A,'RAW module list'!E:E, \"Not found\")","v":"NSTC2614"},"Third Year",{"$f":"_xlfn.XLOOKUP(B527,'Programmes lists'!B:B,'Programmes lists'!D:D)","v":"BC7357E2"},{"$f":"_xlfn.XLOOKUP(B527,'Programmes lists'!B:B,'Programmes lists'!E:E, \"Not found\")","v":0},{"$f":"_xlfn.XLOOKUP(B527,'Programmes lists'!B:B,'Programmes lists'!G:G,\"Not found\")","v":"Minimum grade 12 pass in\n•\tEnglish HL 50% \n•\tAfrikaans FAL 55%\n•\tMathematics 50%"},{"$f":"_xlfn.XLOOKUP(B527,'Programmes lists'!B:B,'Programmes lists'!F:F,\"Not found\")","v":660}]
["Intermediate Phase Extended Progamme","EXT - Specialising in Mathematics, Natural Science & Technology and English Home Language","AFNT1644 OR AFRL1624",{"$f":"_xlfn.XLOOKUP(C528,'RAW module list'!A:A,'RAW module list'!B:B, \"Not found\")","v":"Introduction to Afrikaans Linguistics OR Basic Afrikaans literature"},{"$f":"_xlfn.XLOOKUP(C528,'RAW module list'!A:A,'RAW module list'!C:C, \"Not found\")","v":6},{"$f":"_xlfn.XLOOKUP(C528,'RAW module list'!A:A,'RAW module list'!D:D, \"Not found\")","v":16},{"$f":"_xlfn.XLOOKUP(C528,'RAW module list'!A:A,'RAW module list'!E:E, \"Not found\")","v":"AFNL1634\nor\nAFRT1514"},"Third Year",{"$f":"_xlfn.XLOOKUP(B528,'Programmes lists'!B:B,'Programmes lists'!D:D)","v":"BC7357E2"},{"$f":"_xlfn.XLOOKUP(B528,'Programmes lists'!B:B,'Programmes lists'!E:E, \"Not found\")","v":0},{"$f":"_xlfn.XLOOKUP(B528,'Programmes lists'!B:B,'Programmes lists'!G:G,\"Not found\")","v":"Minimum grade 12 pass in\n•\tEnglish HL 50% \n•\tAfrikaans FAL 55%\n•\tMathematics 50%"},{"$f":"_xlfn.XLOOKUP(B528,'Programmes lists'!B:B,'Programmes lists'!F:F,\"Not found\")","v":660}]
["Intermediate Phase Extended Progamme","EXT - Specialising in Mathematics, Natural Science & Technology and English Home Language","EDUB2724",{"$f":"_xlfn.XLOOKUP(C529,'RAW module list'!A:A,'RAW module list'!B:B, \"Not found\")","v":"Education Studies 2: Human Relationships in Education context"},{"$f":"_xlfn.XLOOKUP(C529,'RAW module list'!A:A,'RAW module list'!C:C, \"Not found\")","v":7},{"$f":"_xlfn.XLOOKUP(C529,'RAW module list'!A:A,'RAW module list'!D:D, \"Not found\")","v":16},{"$f":"_xlfn.XLOOKUP(C529,'RAW module list'!A:A,'RAW module list'!E:E, \"Not found\")","v":"EDUB2714"},"Third Year",{"$f":"_xlfn.XLOOKUP(B529,'Programmes lists'!B:B,'Programmes lists'!D:D)","v":"BC7357E2"},{"$f":"_xlfn.XLOOKUP(B529,'Programmes lists'!B:B,'Programmes lists'!E:E, \"Not found\")","v":0},{"$f":"_xlfn.XLOOKUP(B529,'Programmes lists'!B:B,'Programmes lists'!G:G,\"Not found\")","v":"Minimum grade 12 pass in\n•\tEnglish HL 50% \n•\tAfrikaans FAL 55%\n•\tMathematics 50%"},{"$f":"_xlfn.XLOOKUP(B529,'Programmes lists'!B:B,'Programmes lists'!F:F,\"Not found\")","v":660}]
["Intermediate Phase Extended Progamme","EXT - Specialising in Mathematics, Natural Science & Technology and English Home Language","GPED2623",{"$f":"_xlfn.XLOOKUP(C530,'RAW module list'!A:A,'RAW module list'!B:B, \"Not found\")","v":"General Pedagogy 2.2: Assessment"},{"$f":"_xlfn.XLOOKUP(C530,'RAW module list'!A:A,'RAW module list'!C:C, \"Not found\")","v":6},{"$f":"_xlfn.XLOOKUP(C530,'RAW module list'!A:A,'RAW module list'!D:D, \"Not found\")","v":12},{"$f":"_xlfn.XLOOKUP(C530,'RAW module list'!A:A,'RAW module list'!E:E, \"Not found\")","v":"GPED2613"},"Third Year",{"$f":"_xlfn.XLOOKUP(B530,'Programmes lists'!B:B,'Programmes lists'!D:D)","v":"BC7357E2"},{"$f":"_xlfn.XLOOKUP(B530,'Programmes lists'!B:B,'Programmes lists'!E:E, \"Not found\")","v":0},{"$f":"_xlfn.XLOOKUP(B530,'Programmes lists'!B:B,'Programmes lists'!G:G,\"Not found\")","v":"Minimum grade 12 pass in\n•\tEnglish HL 50% \n•\tAfrikaans FAL 55%\n•\tMathematics 50%"},{"$f":"_xlfn.XLOOKUP(B530,'Programmes lists'!B:B,'Programmes lists'!F:F,\"Not found\")","v":660}]
["Intermediate Phase Extended Progamme","EXT - Specialising in Mathematics, Natural Science & Technology and English Home Language","NTTI3604",{"$f":"_xlfn.XLOOKUP(C531,'RAW module list'!A:A,'RAW module list'!B:B, \"Not found\")","v":"Natural Sciences and Technology Teaching 1 "},{"$f":"_xlfn.XLOOKUP(C531,'RAW module list'!A:A,'RAW module list'!C:C, \"Not found\")","v":6},{"$f":"_xlfn.XLOOKUP(C531,'RAW module list'!A:A,'RAW module list'!D:D, \"Not found\")","v":16},{"$f":"_xlfn.XLOOKUP(C531,'RAW module list'!A:A,'RAW module list'!E:E, \"Not found\")","v":"NSTC2614 & NSTC2624"},"Fourth Year",{"$f":"_xlfn.XLOOKUP(B531,'Programmes lists'!B:B,'Programmes lists'!D:D)","v":"BC7357E2"},{"$f":"_xlfn.XLOOKUP(B531,'Programmes lists'!B:B,'Programmes lists'!E:E, \"Not found\")","v":0},{"$f":"_xlfn.XLOOKUP(B531,'Programmes lists'!B:B,'Programmes lists'!G:G,\"Not found\")","v":"Minimum grade 12 pass in\n•\tEnglish HL 50% \n•\tAfrikaans FAL 55%\n•\tMathematics 50%"},{"$f":"_xlfn.XLOOKUP(B531,'Programmes lists'!B:B,'Programmes lists'!F:F,\"Not found\")","v":660}]
["Intermediate Phase Extended Progamme","EXT - Specialising in Mathematics, Natural Science & Technology and English Home Language","EHTI3604",{"$f":"_xlfn.XLOOKUP(C532,'RAW module list'!A:A,'RAW module list'!B:B, \"Not found\")","v":"English Teaching 1 (Home Language)"},{"$f":"_xlfn.XLOOKUP(C532,'RAW module list'!A:A,'RAW module list'!C:C, \"Not found\")","v":6},{"$f":"_xlfn.XLOOKUP(C532,'RAW module list'!A:A,'RAW module list'!D:D, \"Not found\")","v":16},{"$f":"_xlfn.XLOOKUP(C532,'RAW module list'!A:A,'RAW module list'!E:E, \"Not found\")","v":"ENGE1608"},"Fourth Year",{"$f":"_xlfn.XLOOKUP(B532,'Programmes lists'!B:B,'Programmes lists'!D:D)","v":"BC7357E2"},{"$f":"_xlfn.XLOOKUP(B532,'Programmes lists'!B:B,'Programmes lists'!E:E, \"Not found\")","v":0},{"$f":"_xlfn.XLOOKUP(B532,'Programmes lists'!B:B,'Programmes lists'!G:G,\"Not found\")","v":"Minimum grade 12 pass in\n•\tEnglish HL 50% \n•\tAfrikaans FAL 55%\n•\tMathematics 50%"},{"$f":"_xlfn.XLOOKUP(B532,'Programmes lists'!B:B,'Programmes lists'!F:F,\"Not found\")","v":660}]
["Intermediate Phase Extended Progamme","EXT - Specialising in Mathematics, Natural Science & Technology and English Home Language","MTTI3604",{"$f":"_xlfn.XLOOKUP(C533,'RAW module list'!A:A,'RAW module list'!B:B, \"Not found\")","v":"Teaching Mathematics 1"},{"$f":"_xlfn.XLOOKUP(C533,'RAW module list'!A:A,'RAW module list'!C:C, \"Not found\")","v":6},{"$f":"_xlfn.XLOOKUP(C533,'RAW module list'!A:A,'RAW module list'!D:D, \"Not found\")","v":16},{"$f":"_xlfn.XLOOKUP(C533,'RAW module list'!A:A,'RAW module list'!E:E, \"Not found\")","v":"MTHI1614 & MTHI1624"},"Fourth Year",{"$f":"_xlfn.XLOOKUP(B533,'Programmes lists'!B:B,'Programmes lists'!D:D)","v":"BC7357E2"},{"$f":"_xlfn.XLOOKUP(B533,'Programmes lists'!B:B,'Programmes lists'!E:E, \"Not found\")","v":0},{"$f":"_xlfn.XLOOKUP(B533,'Programmes lists'!B:B,'Programmes lists'!G:G,\"Not found\")","v":"Minimum grade 12 pass in\n•\tEnglish HL 50% \n•\tAfrikaans FAL 55%\n•\tMathematics 50%"},{"$f":"_xlfn.XLOOKUP(B533,'Programmes lists'!B:B,'Programmes lists'!F:F,\"Not found\")","v":660}]
["Intermediate Phase Extended Progamme","EXT - Specialising in Mathematics, Natural Science & Technology and English Home Language","AHTI3604 OR AATI3604",{"$f":"_xlfn.XLOOKUP(C534,'RAW module list'!A:A,'RAW module list'!B:B, \"Not found\")","v":"Afrikaans Teaching  (Home Language) OR Afrikaans FAL Teaching 1"},{"$f":"_xlfn.XLOOKUP(C534,'RAW module list'!A:A,'RAW module list'!C:C, \"Not found\")","v":6},{"$f":"_xlfn.XLOOKUP(C534,'RAW module list'!A:A,'RAW module list'!D:D, \"Not found\")","v":16},{"$f":"_xlfn.XLOOKUP(C534,'RAW module list'!A:A,'RAW module list'!E:E, \"Not found\")","v":"AFNT1644 & AFNL1634  or  AFRT1514 & AFRL1624"},"Fourth Year",{"$f":"_xlfn.XLOOKUP(B534,'Programmes lists'!B:B,'Programmes lists'!D:D)","v":"BC7357E2"},{"$f":"_xlfn.XLOOKUP(B534,'Programmes lists'!B:B,'Programmes lists'!E:E, \"Not found\")","v":0},{"$f":"_xlfn.XLOOKUP(B534,'Programmes lists'!B:B,'Programmes lists'!G:G,\"Not found\")","v":"Minimum grade 12 pass in\n•\tEnglish HL 50% \n•\tAfrikaans FAL 55%\n•\tMathematics 50%"},{"$f":"_xlfn.XLOOKUP(B534,'Programmes lists'!B:B,'Programmes lists'!F:F,\"Not found\")","v":660}]
["Intermediate Phase Extended Progamme","EXT - Specialising in Mathematics, Natural Science & Technology and English Home Language","EDUB3714",{"$f":"_xlfn.XLOOKUP(C535,'RAW module list'!A:A,'RAW module list'!B:B, \"Not found\")","v":"Education Studies 3.1 Education systems in global and national context"},{"$f":"_xlfn.XLOOKUP(C535,'RAW module list'!A:A,'RAW module list'!C:C, \"Not found\")","v":7},{"$f":"_xlfn.XLOOKUP(C535,'RAW module list'!A:A,'RAW module list'!D:D, \"Not found\")","v":16},{"$f":"_xlfn.XLOOKUP(C535,'RAW module list'!A:A,'RAW module list'!E:E, \"Not found\")","v":"EDUB1613 & EDUB1623& EDUB2714 & EDUB2724"},"Fourth Year",{"$f":"_xlfn.XLOOKUP(B535,'Programmes lists'!B:B,'Programmes lists'!D:D)","v":"BC7357E2"},{"$f":"_xlfn.XLOOKUP(B535,'Programmes lists'!B:B,'Programmes lists'!E:E, \"Not found\")","v":0},{"$f":"_xlfn.XLOOKUP(B535,'Programmes lists'!B:B,'Programmes lists'!G:G,\"Not found\")","v":"Minimum grade 12 pass in\n•\tEnglish HL 50% \n•\tAfrikaans FAL 55%\n•\tMathematics 50%"},{"$f":"_xlfn.XLOOKUP(B535,'Programmes lists'!B:B,'Programmes lists'!F:F,\"Not found\")","v":660}]
["Intermediate Phase Extended Progamme","EXT - Specialising in Mathematics, Natural Science & Technology and English Home Language","CURM3502",{"$f":"_xlfn.XLOOKUP(C536,'RAW module list'!A:A,'RAW module list'!B:B, \"Not found\")","v":"Intermediate Phase School Curriculum 1"},{"$f":"_xlfn.XLOOKUP(C536,'RAW module list'!A:A,'RAW module list'!C:C, \"Not found\")","v":5},{"$f":"_xlfn.XLOOKUP(C536,'RAW module list'!A:A,'RAW module list'!D:D, \"Not found\")","v":8},{"$f":"_xlfn.XLOOKUP(C536,'RAW module list'!A:A,'RAW module list'!E:E, \"Not found\")","v":0},"Fourth Year",{"$f":"_xlfn.XLOOKUP(B536,'Programmes lists'!B:B,'Programmes lists'!D:D)","v":"BC7357E2"},{"$f":"_xlfn.XLOOKUP(B536,'Programmes lists'!B:B,'Programmes lists'!E:E, \"Not found\")","v":0},{"$f":"_xlfn.XLOOKUP(B536,'Programmes lists'!B:B,'Programmes lists'!G:G,\"Not found\")","v":"Minimum grade 12 pass in\n•\tEnglish HL 50% \n•\tAfrikaans FAL 55%\n•\tMathematics 50%"},{"$f":"_xlfn.XLOOKUP(B536,'Programmes lists'!B:B,'Programmes lists'!F:F,\"Not found\")","v":660}]
["Intermediate Phase Extended Progamme","EXT - Specialising in Mathematics, Natural Science & Technology and English Home Language","SICL3512 OR SSCL3512 OR ZUCL3512",{"$f":"_xlfn.XLOOKUP(C537,'RAW module list'!A:A,'RAW module list'!B:B, \"Not found\")","v":"Conversational Sign Language OR Conversational Sesotho OR Conversational IsiZulu"},{"$f":"_xlfn.XLOOKUP(C537,'RAW module list'!A:A,'RAW module list'!C:C, \"Not found\")","v":5},{"$f":"_xlfn.XLOOKUP(C537,'RAW module list'!A:A,'RAW module list'!D:D, \"Not found\")","v":8},{"$f":"_xlfn.XLOOKUP(C537,'RAW module list'!A:A,'RAW module list'!E:E, \"Not found\")","v":"No previous exposure to the language"},"Fourth Year",{"$f":"_xlfn.XLOOKUP(B537,'Programmes lists'!B:B,'Programmes lists'!D:D)","v":"BC7357E2"},{"$f":"_xlfn.XLOOKUP(B537,'Programmes lists'!B:B,'Programmes lists'!E:E, \"Not found\")","v":0},{"$f":"_xlfn.XLOOKUP(B537,'Programmes lists'!B:B,'Programmes lists'!G:G,\"Not found\")","v":"Minimum grade 12 pass in\n•\tEnglish HL 50% \n•\tAfrikaans FAL 55%\n•\tMathematics 50%"},{"$f":"_xlfn.XLOOKUP(B537,'Programmes lists'!B:B,'Programmes lists'!F:F,\"Not found\")","v":660}]
["Intermediate Phase Extended Progamme","EXT - Specialising in Mathematics, Natural Science & Technology and English Home Language","WILI3606",{"$f":"_xlfn.XLOOKUP(C538,'RAW module list'!A:A,'RAW module list'!B:B, \"Not found\")","v":"Teaching Practice 3"},{"$f":"_xlfn.XLOOKUP(C538,'RAW module list'!A:A,'RAW module list'!C:C, \"Not found\")","v":6},{"$f":"_xlfn.XLOOKUP(C538,'RAW module list'!A:A,'RAW module list'!D:D, \"Not found\")","v":24},{"$f":"_xlfn.XLOOKUP(C538,'RAW module list'!A:A,'RAW module list'!E:E, \"Not found\")","v":"TPRI2502"},"Fourth Year",{"$f":"_xlfn.XLOOKUP(B538,'Programmes lists'!B:B,'Programmes lists'!D:D)","v":"BC7357E2"},{"$f":"_xlfn.XLOOKUP(B538,'Programmes lists'!B:B,'Programmes lists'!E:E, \"Not found\")","v":0},{"$f":"_xlfn.XLOOKUP(B538,'Programmes lists'!B:B,'Programmes lists'!G:G,\"Not found\")","v":"Minimum grade 12 pass in\n•\tEnglish HL 50% \n•\tAfrikaans FAL 55%\n•\tMathematics 50%"},{"$f":"_xlfn.XLOOKUP(B538,'Programmes lists'!B:B,'Programmes lists'!F:F,\"Not found\")","v":660}]
["Intermediate Phase Extended Progamme","EXT - Specialising in Mathematics, Natural Science & Technology and English Home Language","EDUB3724",{"$f":"_xlfn.XLOOKUP(C539,'RAW module list'!A:A,'RAW module list'!B:B, \"Not found\")","v":"Education Studies 3.2: Contemporary Education Theory in the current social context"},{"$f":"_xlfn.XLOOKUP(C539,'RAW module list'!A:A,'RAW module list'!C:C, \"Not found\")","v":7},{"$f":"_xlfn.XLOOKUP(C539,'RAW module list'!A:A,'RAW module list'!D:D, \"Not found\")","v":16},{"$f":"_xlfn.XLOOKUP(C539,'RAW module list'!A:A,'RAW module list'!E:E, \"Not found\")","v":"EDUB1613 & EDUB1623 & EDUB2714 & EDUB2724 & EDUB3714"},"Fourth Year",{"$f":"_xlfn.XLOOKUP(B539,'Programmes lists'!B:B,'Programmes lists'!D:D)","v":"BC7357E2"},{"$f":"_xlfn.XLOOKUP(B539,'Programmes lists'!B:B,'Programmes lists'!E:E, \"Not found\")","v":0},{"$f":"_xlfn.XLOOKUP(B539,'Programmes lists'!B:B,'Programmes lists'!G:G,\"Not found\")","v":"Minimum grade 12 pass in\n•\tEnglish HL 50% \n•\tAfrikaans FAL 55%\n•\tMathematics 50%"},{"$f":"_xlfn.XLOOKUP(B539,'Programmes lists'!B:B,'Programmes lists'!F:F,\"Not found\")","v":660}]
["Intermediate Phase Extended Progamme","EXT - Specialising in Mathematics, Natural Science & Technology and English Home Language","SICL3522 OR SSCL3522 OR ZUCL3522",{"$f":"_xlfn.XLOOKUP(C540,'RAW module list'!A:A,'RAW module list'!B:B, \"Not found\")","v":"Conversational Sign Language OR Conversational Sesotho OR Conversational IsiZulu"},{"$f":"_xlfn.XLOOKUP(C540,'RAW module list'!A:A,'RAW module list'!C:C, \"Not found\")","v":5},{"$f":"_xlfn.XLOOKUP(C540,'RAW module list'!A:A,'RAW module list'!D:D, \"Not found\")","v":8},{"$f":"_xlfn.XLOOKUP(C540,'RAW module list'!A:A,'RAW module list'!E:E, \"Not found\")","v":"Continue with the conversational language  chosen in Semester 1"},"Fourth Year",{"$f":"_xlfn.XLOOKUP(B540,'Programmes lists'!B:B,'Programmes lists'!D:D)","v":"BC7357E2"},{"$f":"_xlfn.XLOOKUP(B540,'Programmes lists'!B:B,'Programmes lists'!E:E, \"Not found\")","v":0},{"$f":"_xlfn.XLOOKUP(B540,'Programmes lists'!B:B,'Programmes lists'!G:G,\"Not found\")","v":"Minimum grade 12 pass in\n•\tEnglish HL 50% \n•\tAfrikaans FAL 55%\n•\tMathematics 50%"},{"$f":"_xlfn.XLOOKUP(B540,'Programmes lists'!B:B,'Programmes lists'!F:F,\"Not found\")","v":660}]
["Intermediate Phase Extended Progamme","EXT - Specialising in Mathematics, Natural Science & Technology and English Home Language","NTTI4705",{"$f":"_xlfn.XLOOKUP(C541,'RAW module list'!A:A,'RAW module list'!B:B, \"Not found\")","v":"Natural Sciences and Technology Teaching  2"},{"$f":"_xlfn.XLOOKUP(C541,'RAW module list'!A:A,'RAW module list'!C:C, \"Not found\")","v":7},{"$f":"_xlfn.XLOOKUP(C541,'RAW module list'!A:A,'RAW module list'!D:D, \"Not found\")","v":20},{"$f":"_xlfn.XLOOKUP(C541,'RAW module list'!A:A,'RAW module list'!E:E, \"Not found\")","v":"NTTI3604"},"Fifth Year",{"$f":"_xlfn.XLOOKUP(B541,'Programmes lists'!B:B,'Programmes lists'!D:D)","v":"BC7357E2"},{"$f":"_xlfn.XLOOKUP(B541,'Programmes lists'!B:B,'Programmes lists'!E:E, \"Not found\")","v":0},{"$f":"_xlfn.XLOOKUP(B541,'Programmes lists'!B:B,'Programmes lists'!G:G,\"Not found\")","v":"Minimum grade 12 pass in\n•\tEnglish HL 50% \n•\tAfrikaans FAL 55%\n•\tMathematics 50%"},{"$f":"_xlfn.XLOOKUP(B541,'Programmes lists'!B:B,'Programmes lists'!F:F,\"Not found\")","v":660}]
["Intermediate Phase Extended Progamme","EXT - Specialising in Mathematics, Natural Science & Technology and English Home Language","MTTI4705",{"$f":"_xlfn.XLOOKUP(C542,'RAW module list'!A:A,'RAW module list'!B:B, \"Not found\")","v":"Mathematics teaching 2"},{"$f":"_xlfn.XLOOKUP(C542,'RAW module list'!A:A,'RAW module list'!C:C, \"Not found\")","v":7},{"$f":"_xlfn.XLOOKUP(C542,'RAW module list'!A:A,'RAW module list'!D:D, \"Not found\")","v":20},{"$f":"_xlfn.XLOOKUP(C542,'RAW module list'!A:A,'RAW module list'!E:E, \"Not found\")","v":"MTTI3604"},"Fifth Year",{"$f":"_xlfn.XLOOKUP(B542,'Programmes lists'!B:B,'Programmes lists'!D:D)","v":"BC7357E2"},{"$f":"_xlfn.XLOOKUP(B542,'Programmes lists'!B:B,'Programmes lists'!E:E, \"Not found\")","v":0},{"$f":"_xlfn.XLOOKUP(B542,'Programmes lists'!B:B,'Programmes lists'!G:G,\"Not found\")","v":"Minimum grade 12 pass in\n•\tEnglish HL 50% \n•\tAfrikaans FAL 55%\n•\tMathematics 50%"},{"$f":"_xlfn.XLOOKUP(B542,'Programmes lists'!B:B,'Programmes lists'!F:F,\"Not found\")","v":660}]
["Intermediate Phase Extended Progamme","EXT - Specialising in Mathematics, Natural Science & Technology and English Home Language","EHTI4705",{"$f":"_xlfn.XLOOKUP(C543,'RAW module list'!A:A,'RAW module list'!B:B, \"Not found\")","v":"English Teaching 2 (Home Language)"},{"$f":"_xlfn.XLOOKUP(C543,'RAW module list'!A:A,'RAW module list'!C:C, \"Not found\")","v":7},{"$f":"_xlfn.XLOOKUP(C543,'RAW module list'!A:A,'RAW module list'!D:D, \"Not found\")","v":20},{"$f":"_xlfn.XLOOKUP(C543,'RAW module list'!A:A,'RAW module list'!E:E, \"Not found\")","v":"EHTI3604"},"Fifth Year",{"$f":"_xlfn.XLOOKUP(B543,'Programmes lists'!B:B,'Programmes lists'!D:D)","v":"BC7357E2"},{"$f":"_xlfn.XLOOKUP(B543,'Programmes lists'!B:B,'Programmes lists'!E:E, \"Not found\")","v":0},{"$f":"_xlfn.XLOOKUP(B543,'Programmes lists'!B:B,'Programmes lists'!G:G,\"Not found\")","v":"Minimum grade 12 pass in\n•\tEnglish HL 50% \n•\tAfrikaans FAL 55%\n•\tMathematics 50%"},{"$f":"_xlfn.XLOOKUP(B543,'Programmes lists'!B:B,'Programmes lists'!F:F,\"Not found\")","v":660}]
["Intermediate Phase Extended Progamme","EXT - Specialising in Mathematics, Natural Science & Technology and English Home Language","CURM4502",{"$f":"_xlfn.XLOOKUP(C544,'RAW module list'!A:A,'RAW module list'!B:B, \"Not found\")","v":"Intermediate Phase School Curriculum 2"},{"$f":"_xlfn.XLOOKUP(C544,'RAW module list'!A:A,'RAW module list'!C:C, \"Not found\")","v":5},{"$f":"_xlfn.XLOOKUP(C544,'RAW module list'!A:A,'RAW module list'!D:D, \"Not found\")","v":8},{"$f":"_xlfn.XLOOKUP(C544,'RAW module list'!A:A,'RAW module list'!E:E, \"Not found\")","v":"CURM3502"},"Fifth Year",{"$f":"_xlfn.XLOOKUP(B544,'Programmes lists'!B:B,'Programmes lists'!D:D)","v":"BC7357E2"},{"$f":"_xlfn.XLOOKUP(B544,'Programmes lists'!B:B,'Programmes lists'!E:E, \"Not found\")","v":0},{"$f":"_xlfn.XLOOKUP(B544,'Programmes lists'!B:B,'Programmes lists'!G:G,\"Not found\")","v":"Minimum grade 12 pass in\n•\tEnglish HL 50% \n•\tAfrikaans FAL 55%\n•\tMathematics 50%"},{"$f":"_xlfn.XLOOKUP(B544,'Programmes lists'!B:B,'Programmes lists'!F:F,\"Not found\")","v":660}]
["Intermediate Phase Extended Progamme","EXT - Specialising in Mathematics, Natural Science & Technology and English Home Language","AHTI4705 OR AATI4705",{"$f":"_xlfn.XLOOKUP(C545,'RAW module list'!A:A,'RAW module list'!B:B, \"Not found\")","v":"Afrikaans Teaching 1 (Home Language) OR Afrikaans Teaching 2: (First Additional Language "},{"$f":"_xlfn.XLOOKUP(C545,'RAW module list'!A:A,'RAW module list'!C:C, \"Not found\")","v":7},{"$f":"_xlfn.XLOOKUP(C545,'RAW module list'!A:A,'RAW module list'!D:D, \"Not found\")","v":20},{"$f":"_xlfn.XLOOKUP(C545,'RAW module list'!A:A,'RAW module list'!E:E, \"Not found\")","v":"AHTI3604 OR AATI3604"},"Fifth Year",{"$f":"_xlfn.XLOOKUP(B545,'Programmes lists'!B:B,'Programmes lists'!D:D)","v":"BC7357E2"},{"$f":"_xlfn.XLOOKUP(B545,'Programmes lists'!B:B,'Programmes lists'!E:E, \"Not found\")","v":0},{"$f":"_xlfn.XLOOKUP(B545,'Programmes lists'!B:B,'Programmes lists'!G:G,\"Not found\")","v":"Minimum grade 12 pass in\n•\tEnglish HL 50% \n•\tAfrikaans FAL 55%\n•\tMathematics 50%"},{"$f":"_xlfn.XLOOKUP(B545,'Programmes lists'!B:B,'Programmes lists'!F:F,\"Not found\")","v":660}]
["Intermediate Phase Extended Progamme","EXT - Specialising in Mathematics, Natural Science & Technology and English Home Language","WILI4700",{"$f":"_xlfn.XLOOKUP(C546,'RAW module list'!A:A,'RAW module list'!B:B, \"Not found\")","v":"Teaching Practice 4"},{"$f":"_xlfn.XLOOKUP(C546,'RAW module list'!A:A,'RAW module list'!C:C, \"Not found\")","v":7},{"$f":"_xlfn.XLOOKUP(C546,'RAW module list'!A:A,'RAW module list'!D:D, \"Not found\")","v":40},{"$f":"_xlfn.XLOOKUP(C546,'RAW module list'!A:A,'RAW module list'!E:E, \"Not found\")","v":"WILI3606"},"Fifth Year",{"$f":"_xlfn.XLOOKUP(B546,'Programmes lists'!B:B,'Programmes lists'!D:D)","v":"BC7357E2"},{"$f":"_xlfn.XLOOKUP(B546,'Programmes lists'!B:B,'Programmes lists'!E:E, \"Not found\")","v":0},{"$f":"_xlfn.XLOOKUP(B546,'Programmes lists'!B:B,'Programmes lists'!G:G,\"Not found\")","v":"Minimum grade 12 pass in\n•\tEnglish HL 50% \n•\tAfrikaans FAL 55%\n•\tMathematics 50%"},{"$f":"_xlfn.XLOOKUP(B546,'Programmes lists'!B:B,'Programmes lists'!F:F,\"Not found\")","v":660}]
["Intermediate Phase Extended Progamme","EXT - Specialising in Mathematics, Natural Science & Technology and isiZulu Home Language","EALT1508",{"$f":"_xlfn.XLOOKUP(C547,'RAW module list'!A:A,'RAW module list'!B:B, \"Not found\")","v":"English Academic Literacy for Education "},{"$f":"_xlfn.XLOOKUP(C547,'RAW module list'!A:A,'RAW module list'!C:C, \"Not found\")","v":5},{"$f":"_xlfn.XLOOKUP(C547,'RAW module list'!A:A,'RAW module list'!D:D, \"Not found\")","v":-32},{"$f":"_xlfn.XLOOKUP(C547,'RAW module list'!A:A,'RAW module list'!E:E, \"Not found\")","v":"NBT requirements not met"},"First Year",{"$f":"_xlfn.XLOOKUP(B547,'Programmes lists'!B:B,'Programmes lists'!D:D)","v":0},{"$f":"_xlfn.XLOOKUP(B547,'Programmes lists'!B:B,'Programmes lists'!E:E, \"Not found\")","v":"QC7357E2"},{"$f":"_xlfn.XLOOKUP(B547,'Programmes lists'!B:B,'Programmes lists'!G:G,\"Not found\")","v":"Minimum grade 12 pass in\n•\tIsiZulu HL 50% \n•\tEnglish FAL 50%\n•\tMathematics 50%"},{"$f":"_xlfn.XLOOKUP(B547,'Programmes lists'!B:B,'Programmes lists'!F:F,\"Not found\")","v":660}]
["Intermediate Phase Extended Progamme","EXT - Specialising in Mathematics, Natural Science & Technology and isiZulu Home Language","SCLL1508",{"$f":"_xlfn.XLOOKUP(C548,'RAW module list'!A:A,'RAW module list'!B:B, \"Not found\")","v":"Skills and competencies for lifelong learning"},{"$f":"_xlfn.XLOOKUP(C548,'RAW module list'!A:A,'RAW module list'!C:C, \"Not found\")","v":6},{"$f":"_xlfn.XLOOKUP(C548,'RAW module list'!A:A,'RAW module list'!D:D, \"Not found\")","v":32},{"$f":"_xlfn.XLOOKUP(C548,'RAW module list'!A:A,'RAW module list'!E:E, \"Not found\")","v":0},"First Year",{"$f":"_xlfn.XLOOKUP(B548,'Programmes lists'!B:B,'Programmes lists'!D:D)","v":0},{"$f":"_xlfn.XLOOKUP(B548,'Programmes lists'!B:B,'Programmes lists'!E:E, \"Not found\")","v":"QC7357E2"},{"$f":"_xlfn.XLOOKUP(B548,'Programmes lists'!B:B,'Programmes lists'!G:G,\"Not found\")","v":"Minimum grade 12 pass in\n•\tIsiZulu HL 50% \n•\tEnglish FAL 50%\n•\tMathematics 50%"},{"$f":"_xlfn.XLOOKUP(B548,'Programmes lists'!B:B,'Programmes lists'!F:F,\"Not found\")","v":660}]
["Intermediate Phase Extended Progamme","EXT - Specialising in Mathematics, Natural Science & Technology and isiZulu Home Language","LLST1513",{"$f":"_xlfn.XLOOKUP(C549,'RAW module list'!A:A,'RAW module list'!B:B, \"Not found\")","v":"Lifelong Learning Skills"},{"$f":"_xlfn.XLOOKUP(C549,'RAW module list'!A:A,'RAW module list'!C:C, \"Not found\")","v":5},{"$f":"_xlfn.XLOOKUP(C549,'RAW module list'!A:A,'RAW module list'!D:D, \"Not found\")","v":12},{"$f":"_xlfn.XLOOKUP(C549,'RAW module list'!A:A,'RAW module list'!E:E, \"Not found\")","v":0},"First Year",{"$f":"_xlfn.XLOOKUP(B549,'Programmes lists'!B:B,'Programmes lists'!D:D)","v":0},{"$f":"_xlfn.XLOOKUP(B549,'Programmes lists'!B:B,'Programmes lists'!E:E, \"Not found\")","v":"QC7357E2"},{"$f":"_xlfn.XLOOKUP(B549,'Programmes lists'!B:B,'Programmes lists'!G:G,\"Not found\")","v":"Minimum grade 12 pass in\n•\tIsiZulu HL 50% \n•\tEnglish FAL 50%\n•\tMathematics 50%"},{"$f":"_xlfn.XLOOKUP(B549,'Programmes lists'!B:B,'Programmes lists'!F:F,\"Not found\")","v":660}]
["Intermediate Phase Extended Progamme","EXT - Specialising in Mathematics, Natural Science & Technology and isiZulu Home Language","EDUB1613",{"$f":"_xlfn.XLOOKUP(C550,'RAW module list'!A:A,'RAW module list'!B:B, \"Not found\")","v":"Education Studies 1.1 The Individual in the learning context"},{"$f":"_xlfn.XLOOKUP(C550,'RAW module list'!A:A,'RAW module list'!C:C, \"Not found\")","v":6},{"$f":"_xlfn.XLOOKUP(C550,'RAW module list'!A:A,'RAW module list'!D:D, \"Not found\")","v":12},{"$f":"_xlfn.XLOOKUP(C550,'RAW module list'!A:A,'RAW module list'!E:E, \"Not found\")","v":0},"First Year",{"$f":"_xlfn.XLOOKUP(B550,'Programmes lists'!B:B,'Programmes lists'!D:D)","v":0},{"$f":"_xlfn.XLOOKUP(B550,'Programmes lists'!B:B,'Programmes lists'!E:E, \"Not found\")","v":"QC7357E2"},{"$f":"_xlfn.XLOOKUP(B550,'Programmes lists'!B:B,'Programmes lists'!G:G,\"Not found\")","v":"Minimum grade 12 pass in\n•\tIsiZulu HL 50% \n•\tEnglish FAL 50%\n•\tMathematics 50%"},{"$f":"_xlfn.XLOOKUP(B550,'Programmes lists'!B:B,'Programmes lists'!F:F,\"Not found\")","v":660}]
["Intermediate Phase Extended Progamme","EXT - Specialising in Mathematics, Natural Science & Technology and isiZulu Home Language","EDUB1623",{"$f":"_xlfn.XLOOKUP(C551,'RAW module list'!A:A,'RAW module list'!B:B, \"Not found\")","v":"Education Studies 1.2 What it means to educate: Theoretical perspectives and their significance for SA education"},{"$f":"_xlfn.XLOOKUP(C551,'RAW module list'!A:A,'RAW module list'!C:C, \"Not found\")","v":6},{"$f":"_xlfn.XLOOKUP(C551,'RAW module list'!A:A,'RAW module list'!D:D, \"Not found\")","v":12},{"$f":"_xlfn.XLOOKUP(C551,'RAW module list'!A:A,'RAW module list'!E:E, \"Not found\")","v":0},"First Year",{"$f":"_xlfn.XLOOKUP(B551,'Programmes lists'!B:B,'Programmes lists'!D:D)","v":0},{"$f":"_xlfn.XLOOKUP(B551,'Programmes lists'!B:B,'Programmes lists'!E:E, \"Not found\")","v":"QC7357E2"},{"$f":"_xlfn.XLOOKUP(B551,'Programmes lists'!B:B,'Programmes lists'!G:G,\"Not found\")","v":"Minimum grade 12 pass in\n•\tIsiZulu HL 50% \n•\tEnglish FAL 50%\n•\tMathematics 50%"},{"$f":"_xlfn.XLOOKUP(B551,'Programmes lists'!B:B,'Programmes lists'!F:F,\"Not found\")","v":660}]
["Intermediate Phase Extended Progamme","EXT - Specialising in Mathematics, Natural Science & Technology and isiZulu Home Language","GPED1623",{"$f":"_xlfn.XLOOKUP(C552,'RAW module list'!A:A,'RAW module list'!B:B, \"Not found\")","v":"General Pedagogy 1: Managing the Curriculum"},{"$f":"_xlfn.XLOOKUP(C552,'RAW module list'!A:A,'RAW module list'!C:C, \"Not found\")","v":6},{"$f":"_xlfn.XLOOKUP(C552,'RAW module list'!A:A,'RAW module list'!D:D, \"Not found\")","v":12},{"$f":"_xlfn.XLOOKUP(C552,'RAW module list'!A:A,'RAW module list'!E:E, \"Not found\")","v":0},"First Year",{"$f":"_xlfn.XLOOKUP(B552,'Programmes lists'!B:B,'Programmes lists'!D:D)","v":0},{"$f":"_xlfn.XLOOKUP(B552,'Programmes lists'!B:B,'Programmes lists'!E:E, \"Not found\")","v":"QC7357E2"},{"$f":"_xlfn.XLOOKUP(B552,'Programmes lists'!B:B,'Programmes lists'!G:G,\"Not found\")","v":"Minimum grade 12 pass in\n•\tIsiZulu HL 50% \n•\tEnglish FAL 50%\n•\tMathematics 50%"},{"$f":"_xlfn.XLOOKUP(B552,'Programmes lists'!B:B,'Programmes lists'!F:F,\"Not found\")","v":660}]
["Intermediate Phase Extended Progamme","EXT - Specialising in Mathematics, Natural Science & Technology and isiZulu Home Language","EALH2508",{"$f":"_xlfn.XLOOKUP(C553,'RAW module list'!A:A,'RAW module list'!B:B, \"Not found\")","v":"Academic Literacy for extended programmes 2"},{"$f":"_xlfn.XLOOKUP(C553,'RAW module list'!A:A,'RAW module list'!C:C, \"Not found\")","v":5},{"$f":"_xlfn.XLOOKUP(C553,'RAW module list'!A:A,'RAW module list'!D:D, \"Not found\")","v":32},{"$f":"_xlfn.XLOOKUP(C553,'RAW module list'!A:A,'RAW module list'!E:E, \"Not found\")","v":"AGAE1508 or EALT1508"},"Second Year",{"$f":"_xlfn.XLOOKUP(B553,'Programmes lists'!B:B,'Programmes lists'!D:D)","v":0},{"$f":"_xlfn.XLOOKUP(B553,'Programmes lists'!B:B,'Programmes lists'!E:E, \"Not found\")","v":"QC7357E2"},{"$f":"_xlfn.XLOOKUP(B553,'Programmes lists'!B:B,'Programmes lists'!G:G,\"Not found\")","v":"Minimum grade 12 pass in\n•\tIsiZulu HL 50% \n•\tEnglish FAL 50%\n•\tMathematics 50%"},{"$f":"_xlfn.XLOOKUP(B553,'Programmes lists'!B:B,'Programmes lists'!F:F,\"Not found\")","v":660}]
["Intermediate Phase Extended Progamme","EXT - Specialising in Mathematics, Natural Science & Technology and isiZulu Home Language","ENGE1608",{"$f":"_xlfn.XLOOKUP(C554,'RAW module list'!A:A,'RAW module list'!B:B, \"Not found\")","v":"English Language for Education "},{"$f":"_xlfn.XLOOKUP(C554,'RAW module list'!A:A,'RAW module list'!C:C, \"Not found\")","v":6},{"$f":"_xlfn.XLOOKUP(C554,'RAW module list'!A:A,'RAW module list'!D:D, \"Not found\")","v":32},{"$f":"_xlfn.XLOOKUP(C554,'RAW module list'!A:A,'RAW module list'!E:E, \"Not found\")","v":0},"Second Year",{"$f":"_xlfn.XLOOKUP(B554,'Programmes lists'!B:B,'Programmes lists'!D:D)","v":0},{"$f":"_xlfn.XLOOKUP(B554,'Programmes lists'!B:B,'Programmes lists'!E:E, \"Not found\")","v":"QC7357E2"},{"$f":"_xlfn.XLOOKUP(B554,'Programmes lists'!B:B,'Programmes lists'!G:G,\"Not found\")","v":"Minimum grade 12 pass in\n•\tIsiZulu HL 50% \n•\tEnglish FAL 50%\n•\tMathematics 50%"},{"$f":"_xlfn.XLOOKUP(B554,'Programmes lists'!B:B,'Programmes lists'!F:F,\"Not found\")","v":660}]
["Intermediate Phase Extended Progamme","EXT - Specialising in Mathematics, Natural Science & Technology and isiZulu Home Language","MTHI1614",{"$f":"_xlfn.XLOOKUP(C555,'RAW module list'!A:A,'RAW module list'!B:B, \"Not found\")","v":"Mathematics: Numbers, algebra and functions "},{"$f":"_xlfn.XLOOKUP(C555,'RAW module list'!A:A,'RAW module list'!C:C, \"Not found\")","v":6},{"$f":"_xlfn.XLOOKUP(C555,'RAW module list'!A:A,'RAW module list'!D:D, \"Not found\")","v":16},{"$f":"_xlfn.XLOOKUP(C555,'RAW module list'!A:A,'RAW module list'!E:E, \"Not found\")","v":"Mathematics at NSC level 4 (50%) pass"},"Second Year",{"$f":"_xlfn.XLOOKUP(B555,'Programmes lists'!B:B,'Programmes lists'!D:D)","v":0},{"$f":"_xlfn.XLOOKUP(B555,'Programmes lists'!B:B,'Programmes lists'!E:E, \"Not found\")","v":"QC7357E2"},{"$f":"_xlfn.XLOOKUP(B555,'Programmes lists'!B:B,'Programmes lists'!G:G,\"Not found\")","v":"Minimum grade 12 pass in\n•\tIsiZulu HL 50% \n•\tEnglish FAL 50%\n•\tMathematics 50%"},{"$f":"_xlfn.XLOOKUP(B555,'Programmes lists'!B:B,'Programmes lists'!F:F,\"Not found\")","v":660}]
["Intermediate Phase Extended Progamme","EXT - Specialising in Mathematics, Natural Science & Technology and isiZulu Home Language","MTDH1508",{"$f":"_xlfn.XLOOKUP(C556,'RAW module list'!A:A,'RAW module list'!B:B, \"Not found\")","v":"Mathematical Literacy"},{"$f":"_xlfn.XLOOKUP(C556,'RAW module list'!A:A,'RAW module list'!C:C, \"Not found\")","v":5},{"$f":"_xlfn.XLOOKUP(C556,'RAW module list'!A:A,'RAW module list'!D:D, \"Not found\")","v":32},{"$f":"_xlfn.XLOOKUP(C556,'RAW module list'!A:A,'RAW module list'!E:E, \"Not found\")","v":0},"Second Year",{"$f":"_xlfn.XLOOKUP(B556,'Programmes lists'!B:B,'Programmes lists'!D:D)","v":0},{"$f":"_xlfn.XLOOKUP(B556,'Programmes lists'!B:B,'Programmes lists'!E:E, \"Not found\")","v":"QC7357E2"},{"$f":"_xlfn.XLOOKUP(B556,'Programmes lists'!B:B,'Programmes lists'!G:G,\"Not found\")","v":"Minimum grade 12 pass in\n•\tIsiZulu HL 50% \n•\tEnglish FAL 50%\n•\tMathematics 50%"},{"$f":"_xlfn.XLOOKUP(B556,'Programmes lists'!B:B,'Programmes lists'!F:F,\"Not found\")","v":660}]
["Intermediate Phase Extended Progamme","EXT - Specialising in Mathematics, Natural Science & Technology and isiZulu Home Language","TPRI1502",{"$f":"_xlfn.XLOOKUP(C557,'RAW module list'!A:A,'RAW module list'!B:B, \"Not found\")","v":"Teaching Practice 1"},{"$f":"_xlfn.XLOOKUP(C557,'RAW module list'!A:A,'RAW module list'!C:C, \"Not found\")","v":5},{"$f":"_xlfn.XLOOKUP(C557,'RAW module list'!A:A,'RAW module list'!D:D, \"Not found\")","v":8},{"$f":"_xlfn.XLOOKUP(C557,'RAW module list'!A:A,'RAW module list'!E:E, \"Not found\")","v":0},"Second Year",{"$f":"_xlfn.XLOOKUP(B557,'Programmes lists'!B:B,'Programmes lists'!D:D)","v":0},{"$f":"_xlfn.XLOOKUP(B557,'Programmes lists'!B:B,'Programmes lists'!E:E, \"Not found\")","v":"QC7357E2"},{"$f":"_xlfn.XLOOKUP(B557,'Programmes lists'!B:B,'Programmes lists'!G:G,\"Not found\")","v":"Minimum grade 12 pass in\n•\tIsiZulu HL 50% \n•\tEnglish FAL 50%\n•\tMathematics 50%"},{"$f":"_xlfn.XLOOKUP(B557,'Programmes lists'!B:B,'Programmes lists'!F:F,\"Not found\")","v":660}]
["Intermediate Phase Extended Progamme","EXT - Specialising in Mathematics, Natural Science & Technology and isiZulu Home Language","MTHI1624",{"$f":"_xlfn.XLOOKUP(C558,'RAW module list'!A:A,'RAW module list'!B:B, \"Not found\")","v":"Mathematics: total surface area and volume"},{"$f":"_xlfn.XLOOKUP(C558,'RAW module list'!A:A,'RAW module list'!C:C, \"Not found\")","v":6},{"$f":"_xlfn.XLOOKUP(C558,'RAW module list'!A:A,'RAW module list'!D:D, \"Not found\")","v":16},{"$f":"_xlfn.XLOOKUP(C558,'RAW module list'!A:A,'RAW module list'!E:E, \"Not found\")","v":"Mathematics at NSC level 4 (50%) pass"},"Second Year",{"$f":"_xlfn.XLOOKUP(B558,'Programmes lists'!B:B,'Programmes lists'!D:D)","v":0},{"$f":"_xlfn.XLOOKUP(B558,'Programmes lists'!B:B,'Programmes lists'!E:E, \"Not found\")","v":"QC7357E2"},{"$f":"_xlfn.XLOOKUP(B558,'Programmes lists'!B:B,'Programmes lists'!G:G,\"Not found\")","v":"Minimum grade 12 pass in\n•\tIsiZulu HL 50% \n•\tEnglish FAL 50%\n•\tMathematics 50%"},{"$f":"_xlfn.XLOOKUP(B558,'Programmes lists'!B:B,'Programmes lists'!F:F,\"Not found\")","v":660}]
["Intermediate Phase Extended Progamme","EXT - Specialising in Mathematics, Natural Science & Technology and isiZulu Home Language","UFSS1522",{"$f":"_xlfn.XLOOKUP(C559,'RAW module list'!A:A,'RAW module list'!B:B, \"Not found\")","v":"Institutional module"},{"$f":"_xlfn.XLOOKUP(C559,'RAW module list'!A:A,'RAW module list'!C:C, \"Not found\")","v":5},{"$f":"_xlfn.XLOOKUP(C559,'RAW module list'!A:A,'RAW module list'!D:D, \"Not found\")","v":-8},{"$f":"_xlfn.XLOOKUP(C559,'RAW module list'!A:A,'RAW module list'!E:E, \"Not found\")","v":0},"Second Year",{"$f":"_xlfn.XLOOKUP(B559,'Programmes lists'!B:B,'Programmes lists'!D:D)","v":0},{"$f":"_xlfn.XLOOKUP(B559,'Programmes lists'!B:B,'Programmes lists'!E:E, \"Not found\")","v":"QC7357E2"},{"$f":"_xlfn.XLOOKUP(B559,'Programmes lists'!B:B,'Programmes lists'!G:G,\"Not found\")","v":"Minimum grade 12 pass in\n•\tIsiZulu HL 50% \n•\tEnglish FAL 50%\n•\tMathematics 50%"},{"$f":"_xlfn.XLOOKUP(B559,'Programmes lists'!B:B,'Programmes lists'!F:F,\"Not found\")","v":660}]
["Intermediate Phase Extended Progamme","EXT - Specialising in Mathematics, Natural Science & Technology and isiZulu Home Language","NSTC2614",{"$f":"_xlfn.XLOOKUP(C560,'RAW module list'!A:A,'RAW module list'!B:B, \"Not found\")","v":"Elementary Natural Sciences and Technology"},{"$f":"_xlfn.XLOOKUP(C560,'RAW module list'!A:A,'RAW module list'!C:C, \"Not found\")","v":6},{"$f":"_xlfn.XLOOKUP(C560,'RAW module list'!A:A,'RAW module list'!D:D, \"Not found\")","v":16},{"$f":"_xlfn.XLOOKUP(C560,'RAW module list'!A:A,'RAW module list'!E:E, \"Not found\")","v":0},"Third Year",{"$f":"_xlfn.XLOOKUP(B560,'Programmes lists'!B:B,'Programmes lists'!D:D)","v":0},{"$f":"_xlfn.XLOOKUP(B560,'Programmes lists'!B:B,'Programmes lists'!E:E, \"Not found\")","v":"QC7357E2"},{"$f":"_xlfn.XLOOKUP(B560,'Programmes lists'!B:B,'Programmes lists'!G:G,\"Not found\")","v":"Minimum grade 12 pass in\n•\tIsiZulu HL 50% \n•\tEnglish FAL 50%\n•\tMathematics 50%"},{"$f":"_xlfn.XLOOKUP(B560,'Programmes lists'!B:B,'Programmes lists'!F:F,\"Not found\")","v":660}]
["Intermediate Phase Extended Progamme","EXT - Specialising in Mathematics, Natural Science & Technology and isiZulu Home Language","ZULL1514",{"$f":"_xlfn.XLOOKUP(C561,'RAW module list'!A:A,'RAW module list'!B:B, \"Not found\")","v":"IsiZulu: Introduction to Linguistics"},{"$f":"_xlfn.XLOOKUP(C561,'RAW module list'!A:A,'RAW module list'!C:C, \"Not found\")","v":5},{"$f":"_xlfn.XLOOKUP(C561,'RAW module list'!A:A,'RAW module list'!D:D, \"Not found\")","v":16},{"$f":"_xlfn.XLOOKUP(C561,'RAW module list'!A:A,'RAW module list'!E:E, \"Not found\")","v":0},"Third Year",{"$f":"_xlfn.XLOOKUP(B561,'Programmes lists'!B:B,'Programmes lists'!D:D)","v":0},{"$f":"_xlfn.XLOOKUP(B561,'Programmes lists'!B:B,'Programmes lists'!E:E, \"Not found\")","v":"QC7357E2"},{"$f":"_xlfn.XLOOKUP(B561,'Programmes lists'!B:B,'Programmes lists'!G:G,\"Not found\")","v":"Minimum grade 12 pass in\n•\tIsiZulu HL 50% \n•\tEnglish FAL 50%\n•\tMathematics 50%"},{"$f":"_xlfn.XLOOKUP(B561,'Programmes lists'!B:B,'Programmes lists'!F:F,\"Not found\")","v":660}]
["Intermediate Phase Extended Progamme","EXT - Specialising in Mathematics, Natural Science & Technology and isiZulu Home Language","MTBI2503",{"$f":"_xlfn.XLOOKUP(C562,'RAW module list'!A:A,'RAW module list'!B:B, \"Not found\")","v":"Basic Mathematics "},{"$f":"_xlfn.XLOOKUP(C562,'RAW module list'!A:A,'RAW module list'!C:C, \"Not found\")","v":5},{"$f":"_xlfn.XLOOKUP(C562,'RAW module list'!A:A,'RAW module list'!D:D, \"Not found\")","v":12},{"$f":"_xlfn.XLOOKUP(C562,'RAW module list'!A:A,'RAW module list'!E:E, \"Not found\")","v":0},"Third Year",{"$f":"_xlfn.XLOOKUP(B562,'Programmes lists'!B:B,'Programmes lists'!D:D)","v":0},{"$f":"_xlfn.XLOOKUP(B562,'Programmes lists'!B:B,'Programmes lists'!E:E, \"Not found\")","v":"QC7357E2"},{"$f":"_xlfn.XLOOKUP(B562,'Programmes lists'!B:B,'Programmes lists'!G:G,\"Not found\")","v":"Minimum grade 12 pass in\n•\tIsiZulu HL 50% \n•\tEnglish FAL 50%\n•\tMathematics 50%"},{"$f":"_xlfn.XLOOKUP(B562,'Programmes lists'!B:B,'Programmes lists'!F:F,\"Not found\")","v":660}]
["Intermediate Phase Extended Progamme","EXT - Specialising in Mathematics, Natural Science & Technology and isiZulu Home Language","EDUB2714",{"$f":"_xlfn.XLOOKUP(C563,'RAW module list'!A:A,'RAW module list'!B:B, \"Not found\")","v":"Education Studies 2: Teaching and Learning in Education Context"},{"$f":"_xlfn.XLOOKUP(C563,'RAW module list'!A:A,'RAW module list'!C:C, \"Not found\")","v":7},{"$f":"_xlfn.XLOOKUP(C563,'RAW module list'!A:A,'RAW module list'!D:D, \"Not found\")","v":16},{"$f":"_xlfn.XLOOKUP(C563,'RAW module list'!A:A,'RAW module list'!E:E, \"Not found\")","v":"EDUB1613 & EDUB1623"},"Third Year",{"$f":"_xlfn.XLOOKUP(B563,'Programmes lists'!B:B,'Programmes lists'!D:D)","v":0},{"$f":"_xlfn.XLOOKUP(B563,'Programmes lists'!B:B,'Programmes lists'!E:E, \"Not found\")","v":"QC7357E2"},{"$f":"_xlfn.XLOOKUP(B563,'Programmes lists'!B:B,'Programmes lists'!G:G,\"Not found\")","v":"Minimum grade 12 pass in\n•\tIsiZulu HL 50% \n•\tEnglish FAL 50%\n•\tMathematics 50%"},{"$f":"_xlfn.XLOOKUP(B563,'Programmes lists'!B:B,'Programmes lists'!F:F,\"Not found\")","v":660}]
["Intermediate Phase Extended Progamme","EXT - Specialising in Mathematics, Natural Science & Technology and isiZulu Home Language","GPED2613",{"$f":"_xlfn.XLOOKUP(C564,'RAW module list'!A:A,'RAW module list'!B:B, \"Not found\")","v":"General Pedagogy 2.1"},{"$f":"_xlfn.XLOOKUP(C564,'RAW module list'!A:A,'RAW module list'!C:C, \"Not found\")","v":6},{"$f":"_xlfn.XLOOKUP(C564,'RAW module list'!A:A,'RAW module list'!D:D, \"Not found\")","v":12},{"$f":"_xlfn.XLOOKUP(C564,'RAW module list'!A:A,'RAW module list'!E:E, \"Not found\")","v":"GPED1623"},"Third Year",{"$f":"_xlfn.XLOOKUP(B564,'Programmes lists'!B:B,'Programmes lists'!D:D)","v":0},{"$f":"_xlfn.XLOOKUP(B564,'Programmes lists'!B:B,'Programmes lists'!E:E, \"Not found\")","v":"QC7357E2"},{"$f":"_xlfn.XLOOKUP(B564,'Programmes lists'!B:B,'Programmes lists'!G:G,\"Not found\")","v":"Minimum grade 12 pass in\n•\tIsiZulu HL 50% \n•\tEnglish FAL 50%\n•\tMathematics 50%"},{"$f":"_xlfn.XLOOKUP(B564,'Programmes lists'!B:B,'Programmes lists'!F:F,\"Not found\")","v":660}]
["Intermediate Phase Extended Progamme","EXT - Specialising in Mathematics, Natural Science & Technology and isiZulu Home Language","TPRI2502",{"$f":"_xlfn.XLOOKUP(C565,'RAW module list'!A:A,'RAW module list'!B:B, \"Not found\")","v":"Teaching Practice 2 "},{"$f":"_xlfn.XLOOKUP(C565,'RAW module list'!A:A,'RAW module list'!C:C, \"Not found\")","v":5},{"$f":"_xlfn.XLOOKUP(C565,'RAW module list'!A:A,'RAW module list'!D:D, \"Not found\")","v":8},{"$f":"_xlfn.XLOOKUP(C565,'RAW module list'!A:A,'RAW module list'!E:E, \"Not found\")","v":"TPRI1502"},"Third Year",{"$f":"_xlfn.XLOOKUP(B565,'Programmes lists'!B:B,'Programmes lists'!D:D)","v":0},{"$f":"_xlfn.XLOOKUP(B565,'Programmes lists'!B:B,'Programmes lists'!E:E, \"Not found\")","v":"QC7357E2"},{"$f":"_xlfn.XLOOKUP(B565,'Programmes lists'!B:B,'Programmes lists'!G:G,\"Not found\")","v":"Minimum grade 12 pass in\n•\tIsiZulu HL 50% \n•\tEnglish FAL 50%\n•\tMathematics 50%"},{"$f":"_xlfn.XLOOKUP(B565,'Programmes lists'!B:B,'Programmes lists'!F:F,\"Not found\")","v":660}]
["Intermediate Phase Extended Progamme","EXT - Specialising in Mathematics, Natural Science & Technology and isiZulu Home Language","NSTC2624",{"$f":"_xlfn.XLOOKUP(C566,'RAW module list'!A:A,'RAW module list'!B:B, \"Not found\")","v":"Elementary Natural Science and Technology"},{"$f":"_xlfn.XLOOKUP(C566,'RAW module list'!A:A,'RAW module list'!C:C, \"Not found\")","v":6},{"$f":"_xlfn.XLOOKUP(C566,'RAW module list'!A:A,'RAW module list'!D:D, \"Not found\")","v":16},{"$f":"_xlfn.XLOOKUP(C566,'RAW module list'!A:A,'RAW module list'!E:E, \"Not found\")","v":"NSTC2614"},"Third Year",{"$f":"_xlfn.XLOOKUP(B566,'Programmes lists'!B:B,'Programmes lists'!D:D)","v":0},{"$f":"_xlfn.XLOOKUP(B566,'Programmes lists'!B:B,'Programmes lists'!E:E, \"Not found\")","v":"QC7357E2"},{"$f":"_xlfn.XLOOKUP(B566,'Programmes lists'!B:B,'Programmes lists'!G:G,\"Not found\")","v":"Minimum grade 12 pass in\n•\tIsiZulu HL 50% \n•\tEnglish FAL 50%\n•\tMathematics 50%"},{"$f":"_xlfn.XLOOKUP(B566,'Programmes lists'!B:B,'Programmes lists'!F:F,\"Not found\")","v":660}]
["Intermediate Phase Extended Progamme","EXT - Specialising in Mathematics, Natural Science & Technology and isiZulu Home Language","ZULT1524",{"$f":"_xlfn.XLOOKUP(C567,'RAW module list'!A:A,'RAW module list'!B:B, \"Not found\")","v":"IsiZulu: Introduction to Literature"},{"$f":"_xlfn.XLOOKUP(C567,'RAW module list'!A:A,'RAW module list'!C:C, \"Not found\")","v":6},{"$f":"_xlfn.XLOOKUP(C567,'RAW module list'!A:A,'RAW module list'!D:D, \"Not found\")","v":16},{"$f":"_xlfn.XLOOKUP(C567,'RAW module list'!A:A,'RAW module list'!E:E, \"Not found\")","v":"ZULL1514"},"Third Year",{"$f":"_xlfn.XLOOKUP(B567,'Programmes lists'!B:B,'Programmes lists'!D:D)","v":0},{"$f":"_xlfn.XLOOKUP(B567,'Programmes lists'!B:B,'Programmes lists'!E:E, \"Not found\")","v":"QC7357E2"},{"$f":"_xlfn.XLOOKUP(B567,'Programmes lists'!B:B,'Programmes lists'!G:G,\"Not found\")","v":"Minimum grade 12 pass in\n•\tIsiZulu HL 50% \n•\tEnglish FAL 50%\n•\tMathematics 50%"},{"$f":"_xlfn.XLOOKUP(B567,'Programmes lists'!B:B,'Programmes lists'!F:F,\"Not found\")","v":660}]
["Intermediate Phase Extended Progamme","EXT - Specialising in Mathematics, Natural Science & Technology and isiZulu Home Language","EDUB2724",{"$f":"_xlfn.XLOOKUP(C568,'RAW module list'!A:A,'RAW module list'!B:B, \"Not found\")","v":"Education Studies 2: Human Relationships in Education context"},{"$f":"_xlfn.XLOOKUP(C568,'RAW module list'!A:A,'RAW module list'!C:C, \"Not found\")","v":7},{"$f":"_xlfn.XLOOKUP(C568,'RAW module list'!A:A,'RAW module list'!D:D, \"Not found\")","v":16},{"$f":"_xlfn.XLOOKUP(C568,'RAW module list'!A:A,'RAW module list'!E:E, \"Not found\")","v":"EDUB2714"},"Third Year",{"$f":"_xlfn.XLOOKUP(B568,'Programmes lists'!B:B,'Programmes lists'!D:D)","v":0},{"$f":"_xlfn.XLOOKUP(B568,'Programmes lists'!B:B,'Programmes lists'!E:E, \"Not found\")","v":"QC7357E2"},{"$f":"_xlfn.XLOOKUP(B568,'Programmes lists'!B:B,'Programmes lists'!G:G,\"Not found\")","v":"Minimum grade 12 pass in\n•\tIsiZulu HL 50% \n•\tEnglish FAL 50%\n•\tMathematics 50%"},{"$f":"_xlfn.XLOOKUP(B568,'Programmes lists'!B:B,'Programmes lists'!F:F,\"Not found\")","v":660}]
["Intermediate Phase Extended Progamme","EXT - Specialising in Mathematics, Natural Science & Technology and isiZulu Home Language","GPED2623",{"$f":"_xlfn.XLOOKUP(C569,'RAW module list'!A:A,'RAW module list'!B:B, \"Not found\")","v":"General Pedagogy 2.2: Assessment"},{"$f":"_xlfn.XLOOKUP(C569,'RAW module list'!A:A,'RAW module list'!C:C, \"Not found\")","v":6},{"$f":"_xlfn.XLOOKUP(C569,'RAW module list'!A:A,'RAW module list'!D:D, \"Not found\")","v":12},{"$f":"_xlfn.XLOOKUP(C569,'RAW module list'!A:A,'RAW module list'!E:E, \"Not found\")","v":"GPED2613"},"Third Year",{"$f":"_xlfn.XLOOKUP(B569,'Programmes lists'!B:B,'Programmes lists'!D:D)","v":0},{"$f":"_xlfn.XLOOKUP(B569,'Programmes lists'!B:B,'Programmes lists'!E:E, \"Not found\")","v":"QC7357E2"},{"$f":"_xlfn.XLOOKUP(B569,'Programmes lists'!B:B,'Programmes lists'!G:G,\"Not found\")","v":"Minimum grade 12 pass in\n•\tIsiZulu HL 50% \n•\tEnglish FAL 50%\n•\tMathematics 50%"},{"$f":"_xlfn.XLOOKUP(B569,'Programmes lists'!B:B,'Programmes lists'!F:F,\"Not found\")","v":660}]
["Intermediate Phase Extended Progamme","EXT - Specialising in Mathematics, Natural Science & Technology and isiZulu Home Language","NTTI3604",{"$f":"_xlfn.XLOOKUP(C570,'RAW module list'!A:A,'RAW module list'!B:B, \"Not found\")","v":"Natural Sciences and Technology Teaching 1 "},{"$f":"_xlfn.XLOOKUP(C570,'RAW module list'!A:A,'RAW module list'!C:C, \"Not found\")","v":6},{"$f":"_xlfn.XLOOKUP(C570,'RAW module list'!A:A,'RAW module list'!D:D, \"Not found\")","v":16},{"$f":"_xlfn.XLOOKUP(C570,'RAW module list'!A:A,'RAW module list'!E:E, \"Not found\")","v":"NSTC2614 & NSTC2624"},"Fourth Year",{"$f":"_xlfn.XLOOKUP(B570,'Programmes lists'!B:B,'Programmes lists'!D:D)","v":0},{"$f":"_xlfn.XLOOKUP(B570,'Programmes lists'!B:B,'Programmes lists'!E:E, \"Not found\")","v":"QC7357E2"},{"$f":"_xlfn.XLOOKUP(B570,'Programmes lists'!B:B,'Programmes lists'!G:G,\"Not found\")","v":"Minimum grade 12 pass in\n•\tIsiZulu HL 50% \n•\tEnglish FAL 50%\n•\tMathematics 50%"},{"$f":"_xlfn.XLOOKUP(B570,'Programmes lists'!B:B,'Programmes lists'!F:F,\"Not found\")","v":660}]
["Intermediate Phase Extended Progamme","EXT - Specialising in Mathematics, Natural Science & Technology and isiZulu Home Language","MTTI3604",{"$f":"_xlfn.XLOOKUP(C571,'RAW module list'!A:A,'RAW module list'!B:B, \"Not found\")","v":"Teaching Mathematics 1"},{"$f":"_xlfn.XLOOKUP(C571,'RAW module list'!A:A,'RAW module list'!C:C, \"Not found\")","v":6},{"$f":"_xlfn.XLOOKUP(C571,'RAW module list'!A:A,'RAW module list'!D:D, \"Not found\")","v":16},{"$f":"_xlfn.XLOOKUP(C571,'RAW module list'!A:A,'RAW module list'!E:E, \"Not found\")","v":"MTHI1614 & MTHI1624"},"Fourth Year",{"$f":"_xlfn.XLOOKUP(B571,'Programmes lists'!B:B,'Programmes lists'!D:D)","v":0},{"$f":"_xlfn.XLOOKUP(B571,'Programmes lists'!B:B,'Programmes lists'!E:E, \"Not found\")","v":"QC7357E2"},{"$f":"_xlfn.XLOOKUP(B571,'Programmes lists'!B:B,'Programmes lists'!G:G,\"Not found\")","v":"Minimum grade 12 pass in\n•\tIsiZulu HL 50% \n•\tEnglish FAL 50%\n•\tMathematics 50%"},{"$f":"_xlfn.XLOOKUP(B571,'Programmes lists'!B:B,'Programmes lists'!F:F,\"Not found\")","v":660}]
["Intermediate Phase Extended Progamme","EXT - Specialising in Mathematics, Natural Science & Technology and isiZulu Home Language","ZHTI3604",{"$f":"_xlfn.XLOOKUP(C572,'RAW module list'!A:A,'RAW module list'!B:B, \"Not found\")","v":"IsiZulu Teaching 1 Home Language"},{"$f":"_xlfn.XLOOKUP(C572,'RAW module list'!A:A,'RAW module list'!C:C, \"Not found\")","v":6},{"$f":"_xlfn.XLOOKUP(C572,'RAW module list'!A:A,'RAW module list'!D:D, \"Not found\")","v":16},{"$f":"_xlfn.XLOOKUP(C572,'RAW module list'!A:A,'RAW module list'!E:E, \"Not found\")","v":"ZULL1514 & ZULT1524"},"Fourth Year",{"$f":"_xlfn.XLOOKUP(B572,'Programmes lists'!B:B,'Programmes lists'!D:D)","v":0},{"$f":"_xlfn.XLOOKUP(B572,'Programmes lists'!B:B,'Programmes lists'!E:E, \"Not found\")","v":"QC7357E2"},{"$f":"_xlfn.XLOOKUP(B572,'Programmes lists'!B:B,'Programmes lists'!G:G,\"Not found\")","v":"Minimum grade 12 pass in\n•\tIsiZulu HL 50% \n•\tEnglish FAL 50%\n•\tMathematics 50%"},{"$f":"_xlfn.XLOOKUP(B572,'Programmes lists'!B:B,'Programmes lists'!F:F,\"Not found\")","v":660}]
["Intermediate Phase Extended Progamme","EXT - Specialising in Mathematics, Natural Science & Technology and isiZulu Home Language","EDUB3714",{"$f":"_xlfn.XLOOKUP(C573,'RAW module list'!A:A,'RAW module list'!B:B, \"Not found\")","v":"Education Studies 3.1 Education systems in global and national context"},{"$f":"_xlfn.XLOOKUP(C573,'RAW module list'!A:A,'RAW module list'!C:C, \"Not found\")","v":7},{"$f":"_xlfn.XLOOKUP(C573,'RAW module list'!A:A,'RAW module list'!D:D, \"Not found\")","v":16},{"$f":"_xlfn.XLOOKUP(C573,'RAW module list'!A:A,'RAW module list'!E:E, \"Not found\")","v":"EDUB1613 & EDUB1623& EDUB2714 & EDUB2724"},"Fourth Year",{"$f":"_xlfn.XLOOKUP(B573,'Programmes lists'!B:B,'Programmes lists'!D:D)","v":0},{"$f":"_xlfn.XLOOKUP(B573,'Programmes lists'!B:B,'Programmes lists'!E:E, \"Not found\")","v":"QC7357E2"},{"$f":"_xlfn.XLOOKUP(B573,'Programmes lists'!B:B,'Programmes lists'!G:G,\"Not found\")","v":"Minimum grade 12 pass in\n•\tIsiZulu HL 50% \n•\tEnglish FAL 50%\n•\tMathematics 50%"},{"$f":"_xlfn.XLOOKUP(B573,'Programmes lists'!B:B,'Programmes lists'!F:F,\"Not found\")","v":660}]
["Intermediate Phase Extended Progamme","EXT - Specialising in Mathematics, Natural Science & Technology and isiZulu Home Language","CURM3502",{"$f":"_xlfn.XLOOKUP(C574,'RAW module list'!A:A,'RAW module list'!B:B, \"Not found\")","v":"Intermediate Phase School Curriculum 1"},{"$f":"_xlfn.XLOOKUP(C574,'RAW module list'!A:A,'RAW module list'!C:C, \"Not found\")","v":5},{"$f":"_xlfn.XLOOKUP(C574,'RAW module list'!A:A,'RAW module list'!D:D, \"Not found\")","v":8},{"$f":"_xlfn.XLOOKUP(C574,'RAW module list'!A:A,'RAW module list'!E:E, \"Not found\")","v":0},"Fourth Year",{"$f":"_xlfn.XLOOKUP(B574,'Programmes lists'!B:B,'Programmes lists'!D:D)","v":0},{"$f":"_xlfn.XLOOKUP(B574,'Programmes lists'!B:B,'Programmes lists'!E:E, \"Not found\")","v":"QC7357E2"},{"$f":"_xlfn.XLOOKUP(B574,'Programmes lists'!B:B,'Programmes lists'!G:G,\"Not found\")","v":"Minimum grade 12 pass in\n•\tIsiZulu HL 50% \n•\tEnglish FAL 50%\n•\tMathematics 50%"},{"$f":"_xlfn.XLOOKUP(B574,'Programmes lists'!B:B,'Programmes lists'!F:F,\"Not found\")","v":660}]
["Intermediate Phase Extended Progamme","EXT - Specialising in Mathematics, Natural Science & Technology and isiZulu Home Language","EATI3604",{"$f":"_xlfn.XLOOKUP(C575,'RAW module list'!A:A,'RAW module list'!B:B, \"Not found\")","v":"English additional language teaching 1"},{"$f":"_xlfn.XLOOKUP(C575,'RAW module list'!A:A,'RAW module list'!C:C, \"Not found\")","v":6},{"$f":"_xlfn.XLOOKUP(C575,'RAW module list'!A:A,'RAW module list'!D:D, \"Not found\")","v":16},{"$f":"_xlfn.XLOOKUP(C575,'RAW module list'!A:A,'RAW module list'!E:E, \"Not found\")","v":"ENGE1608"},"Fourth Year",{"$f":"_xlfn.XLOOKUP(B575,'Programmes lists'!B:B,'Programmes lists'!D:D)","v":0},{"$f":"_xlfn.XLOOKUP(B575,'Programmes lists'!B:B,'Programmes lists'!E:E, \"Not found\")","v":"QC7357E2"},{"$f":"_xlfn.XLOOKUP(B575,'Programmes lists'!B:B,'Programmes lists'!G:G,\"Not found\")","v":"Minimum grade 12 pass in\n•\tIsiZulu HL 50% \n•\tEnglish FAL 50%\n•\tMathematics 50%"},{"$f":"_xlfn.XLOOKUP(B575,'Programmes lists'!B:B,'Programmes lists'!F:F,\"Not found\")","v":660}]
["Intermediate Phase Extended Progamme","EXT - Specialising in Mathematics, Natural Science & Technology and isiZulu Home Language","SICL3512 OR SSCL3512 OR GAFR3512",{"$f":"_xlfn.XLOOKUP(C576,'RAW module list'!A:A,'RAW module list'!B:B, \"Not found\")","v":"Conversational Sign Language OR Conversational Sesotho OR Conversational Afrikaans"},{"$f":"_xlfn.XLOOKUP(C576,'RAW module list'!A:A,'RAW module list'!C:C, \"Not found\")","v":5},{"$f":"_xlfn.XLOOKUP(C576,'RAW module list'!A:A,'RAW module list'!D:D, \"Not found\")","v":8},{"$f":"_xlfn.XLOOKUP(C576,'RAW module list'!A:A,'RAW module list'!E:E, \"Not found\")","v":"No previous exposure to the language"},"Fourth Year",{"$f":"_xlfn.XLOOKUP(B576,'Programmes lists'!B:B,'Programmes lists'!D:D)","v":0},{"$f":"_xlfn.XLOOKUP(B576,'Programmes lists'!B:B,'Programmes lists'!E:E, \"Not found\")","v":"QC7357E2"},{"$f":"_xlfn.XLOOKUP(B576,'Programmes lists'!B:B,'Programmes lists'!G:G,\"Not found\")","v":"Minimum grade 12 pass in\n•\tIsiZulu HL 50% \n•\tEnglish FAL 50%\n•\tMathematics 50%"},{"$f":"_xlfn.XLOOKUP(B576,'Programmes lists'!B:B,'Programmes lists'!F:F,\"Not found\")","v":660}]
["Intermediate Phase Extended Progamme","EXT - Specialising in Mathematics, Natural Science & Technology and isiZulu Home Language","WILI3606",{"$f":"_xlfn.XLOOKUP(C577,'RAW module list'!A:A,'RAW module list'!B:B, \"Not found\")","v":"Teaching Practice 3"},{"$f":"_xlfn.XLOOKUP(C577,'RAW module list'!A:A,'RAW module list'!C:C, \"Not found\")","v":6},{"$f":"_xlfn.XLOOKUP(C577,'RAW module list'!A:A,'RAW module list'!D:D, \"Not found\")","v":24},{"$f":"_xlfn.XLOOKUP(C577,'RAW module list'!A:A,'RAW module list'!E:E, \"Not found\")","v":"TPRI2502"},"Fourth Year",{"$f":"_xlfn.XLOOKUP(B577,'Programmes lists'!B:B,'Programmes lists'!D:D)","v":0},{"$f":"_xlfn.XLOOKUP(B577,'Programmes lists'!B:B,'Programmes lists'!E:E, \"Not found\")","v":"QC7357E2"},{"$f":"_xlfn.XLOOKUP(B577,'Programmes lists'!B:B,'Programmes lists'!G:G,\"Not found\")","v":"Minimum grade 12 pass in\n•\tIsiZulu HL 50% \n•\tEnglish FAL 50%\n•\tMathematics 50%"},{"$f":"_xlfn.XLOOKUP(B577,'Programmes lists'!B:B,'Programmes lists'!F:F,\"Not found\")","v":660}]
["Intermediate Phase Extended Progamme","EXT - Specialising in Mathematics, Natural Science & Technology and isiZulu Home Language","EDUB3724",{"$f":"_xlfn.XLOOKUP(C578,'RAW module list'!A:A,'RAW module list'!B:B, \"Not found\")","v":"Education Studies 3.2: Contemporary Education Theory in the current social context"},{"$f":"_xlfn.XLOOKUP(C578,'RAW module list'!A:A,'RAW module list'!C:C, \"Not found\")","v":7},{"$f":"_xlfn.XLOOKUP(C578,'RAW module list'!A:A,'RAW module list'!D:D, \"Not found\")","v":16},{"$f":"_xlfn.XLOOKUP(C578,'RAW module list'!A:A,'RAW module list'!E:E, \"Not found\")","v":"EDUB1613 & EDUB1623 & EDUB2714 & EDUB2724 & EDUB3714"},"Fourth Year",{"$f":"_xlfn.XLOOKUP(B578,'Programmes lists'!B:B,'Programmes lists'!D:D)","v":0},{"$f":"_xlfn.XLOOKUP(B578,'Programmes lists'!B:B,'Programmes lists'!E:E, \"Not found\")","v":"QC7357E2"},{"$f":"_xlfn.XLOOKUP(B578,'Programmes lists'!B:B,'Programmes lists'!G:G,\"Not found\")","v":"Minimum grade 12 pass in\n•\tIsiZulu HL 50% \n•\tEnglish FAL 50%\n•\tMathematics 50%"},{"$f":"_xlfn.XLOOKUP(B578,'Programmes lists'!B:B,'Programmes lists'!F:F,\"Not found\")","v":660}]
["Intermediate Phase Extended Progamme","EXT - Specialising in Mathematics, Natural Science & Technology and isiZulu Home Language","SICL3522 OR SSCL3522 OR GAFR3522",{"$f":"_xlfn.XLOOKUP(C579,'RAW module list'!A:A,'RAW module list'!B:B, \"Not found\")","v":"Conversational Sesotho OR Conversational Sign Language OR Conversational Afrikaans"},{"$f":"_xlfn.XLOOKUP(C579,'RAW module list'!A:A,'RAW module list'!C:C, \"Not found\")","v":5},{"$f":"_xlfn.XLOOKUP(C579,'RAW module list'!A:A,'RAW module list'!D:D, \"Not found\")","v":8},{"$f":"_xlfn.XLOOKUP(C579,'RAW module list'!A:A,'RAW module list'!E:E, \"Not found\")","v":"Continue with the conversational language chosen in Semester 1"},"Fourth Year",{"$f":"_xlfn.XLOOKUP(B579,'Programmes lists'!B:B,'Programmes lists'!D:D)","v":0},{"$f":"_xlfn.XLOOKUP(B579,'Programmes lists'!B:B,'Programmes lists'!E:E, \"Not found\")","v":"QC7357E2"},{"$f":"_xlfn.XLOOKUP(B579,'Programmes lists'!B:B,'Programmes lists'!G:G,\"Not found\")","v":"Minimum grade 12 pass in\n•\tIsiZulu HL 50% \n•\tEnglish FAL 50%\n•\tMathematics 50%"},{"$f":"_xlfn.XLOOKUP(B579,'Programmes lists'!B:B,'Programmes lists'!F:F,\"Not found\")","v":660}]
["Intermediate Phase Extended Progamme","EXT - Specialising in Mathematics, Natural Science & Technology and isiZulu Home Language","NTTI4705",{"$f":"_xlfn.XLOOKUP(C580,'RAW module list'!A:A,'RAW module list'!B:B, \"Not found\")","v":"Natural Sciences and Technology Teaching  2"},{"$f":"_xlfn.XLOOKUP(C580,'RAW module list'!A:A,'RAW module list'!C:C, \"Not found\")","v":7},{"$f":"_xlfn.XLOOKUP(C580,'RAW module list'!A:A,'RAW module list'!D:D, \"Not found\")","v":20},{"$f":"_xlfn.XLOOKUP(C580,'RAW module list'!A:A,'RAW module list'!E:E, \"Not found\")","v":"NTTI3604"},"Fifth Year",{"$f":"_xlfn.XLOOKUP(B580,'Programmes lists'!B:B,'Programmes lists'!D:D)","v":0},{"$f":"_xlfn.XLOOKUP(B580,'Programmes lists'!B:B,'Programmes lists'!E:E, \"Not found\")","v":"QC7357E2"},{"$f":"_xlfn.XLOOKUP(B580,'Programmes lists'!B:B,'Programmes lists'!G:G,\"Not found\")","v":"Minimum grade 12 pass in\n•\tIsiZulu HL 50% \n•\tEnglish FAL 50%\n•\tMathematics 50%"},{"$f":"_xlfn.XLOOKUP(B580,'Programmes lists'!B:B,'Programmes lists'!F:F,\"Not found\")","v":660}]
["Intermediate Phase Extended Progamme","EXT - Specialising in Mathematics, Natural Science & Technology and isiZulu Home Language","MTTI4705",{"$f":"_xlfn.XLOOKUP(C581,'RAW module list'!A:A,'RAW module list'!B:B, \"Not found\")","v":"Mathematics teaching 2"},{"$f":"_xlfn.XLOOKUP(C581,'RAW module list'!A:A,'RAW module list'!C:C, \"Not found\")","v":7},{"$f":"_xlfn.XLOOKUP(C581,'RAW module list'!A:A,'RAW module list'!D:D, \"Not found\")","v":20},{"$f":"_xlfn.XLOOKUP(C581,'RAW module list'!A:A,'RAW module list'!E:E, \"Not found\")","v":"MTTI3604"},"Fifth Year",{"$f":"_xlfn.XLOOKUP(B581,'Programmes lists'!B:B,'Programmes lists'!D:D)","v":0},{"$f":"_xlfn.XLOOKUP(B581,'Programmes lists'!B:B,'Programmes lists'!E:E, \"Not found\")","v":"QC7357E2"},{"$f":"_xlfn.XLOOKUP(B581,'Programmes lists'!B:B,'Programmes lists'!G:G,\"Not found\")","v":"Minimum grade 12 pass in\n•\tIsiZulu HL 50% \n•\tEnglish FAL 50%\n•\tMathematics 50%"},{"$f":"_xlfn.XLOOKUP(B581,'Programmes lists'!B:B,'Programmes lists'!F:F,\"Not found\")","v":660}]
["Intermediate Phase Extended Progamme","EXT - Specialising in Mathematics, Natural Science & Technology and isiZulu Home Language","ZHTI4705",{"$f":"_xlfn.XLOOKUP(C582,'RAW module list'!A:A,'RAW module list'!B:B, \"Not found\")","v":"IsiZulu Teaching 2 (Home Language)"},{"$f":"_xlfn.XLOOKUP(C582,'RAW module list'!A:A,'RAW module list'!C:C, \"Not found\")","v":7},{"$f":"_xlfn.XLOOKUP(C582,'RAW module list'!A:A,'RAW module list'!D:D, \"Not found\")","v":20},{"$f":"_xlfn.XLOOKUP(C582,'RAW module list'!A:A,'RAW module list'!E:E, \"Not found\")","v":"ZHTI3604"},"Fifth Year",{"$f":"_xlfn.XLOOKUP(B582,'Programmes lists'!B:B,'Programmes lists'!D:D)","v":0},{"$f":"_xlfn.XLOOKUP(B582,'Programmes lists'!B:B,'Programmes lists'!E:E, \"Not found\")","v":"QC7357E2"},{"$f":"_xlfn.XLOOKUP(B582,'Programmes lists'!B:B,'Programmes lists'!G:G,\"Not found\")","v":"Minimum grade 12 pass in\n•\tIsiZulu HL 50% \n•\tEnglish FAL 50%\n•\tMathematics 50%"},{"$f":"_xlfn.XLOOKUP(B582,'Programmes lists'!B:B,'Programmes lists'!F:F,\"Not found\")","v":660}]
["Intermediate Phase Extended Progamme","EXT - Specialising in Mathematics, Natural Science & Technology and isiZulu Home Language","CURM4502",{"$f":"_xlfn.XLOOKUP(C583,'RAW module list'!A:A,'RAW module list'!B:B, \"Not found\")","v":"Intermediate Phase School Curriculum 2"},{"$f":"_xlfn.XLOOKUP(C583,'RAW module list'!A:A,'RAW module list'!C:C, \"Not found\")","v":5},{"$f":"_xlfn.XLOOKUP(C583,'RAW module list'!A:A,'RAW module list'!D:D, \"Not found\")","v":8},{"$f":"_xlfn.XLOOKUP(C583,'RAW module list'!A:A,'RAW module list'!E:E, \"Not found\")","v":"CURM3502"},"Fifth Year",{"$f":"_xlfn.XLOOKUP(B583,'Programmes lists'!B:B,'Programmes lists'!D:D)","v":0},{"$f":"_xlfn.XLOOKUP(B583,'Programmes lists'!B:B,'Programmes lists'!E:E, \"Not found\")","v":"QC7357E2"},{"$f":"_xlfn.XLOOKUP(B583,'Programmes lists'!B:B,'Programmes lists'!G:G,\"Not found\")","v":"Minimum grade 12 pass in\n•\tIsiZulu HL 50% \n•\tEnglish FAL 50%\n•\tMathematics 50%"},{"$f":"_xlfn.XLOOKUP(B583,'Programmes lists'!B:B,'Programmes lists'!F:F,\"Not found\")","v":660}]
["Intermediate Phase Extended Progamme","EXT - Specialising in Mathematics, Natural Science & Technology and isiZulu Home Language","EATI4705",{"$f":"_xlfn.XLOOKUP(C584,'RAW module list'!A:A,'RAW module list'!B:B, \"Not found\")","v":"English additional language teaching 2"},{"$f":"_xlfn.XLOOKUP(C584,'RAW module list'!A:A,'RAW module list'!C:C, \"Not found\")","v":7},{"$f":"_xlfn.XLOOKUP(C584,'RAW module list'!A:A,'RAW module list'!D:D, \"Not found\")","v":20},{"$f":"_xlfn.XLOOKUP(C584,'RAW module list'!A:A,'RAW module list'!E:E, \"Not found\")","v":"EATI3604"},"Fifth Year",{"$f":"_xlfn.XLOOKUP(B584,'Programmes lists'!B:B,'Programmes lists'!D:D)","v":0},{"$f":"_xlfn.XLOOKUP(B584,'Programmes lists'!B:B,'Programmes lists'!E:E, \"Not found\")","v":"QC7357E2"},{"$f":"_xlfn.XLOOKUP(B584,'Programmes lists'!B:B,'Programmes lists'!G:G,\"Not found\")","v":"Minimum grade 12 pass in\n•\tIsiZulu HL 50% \n•\tEnglish FAL 50%\n•\tMathematics 50%"},{"$f":"_xlfn.XLOOKUP(B584,'Programmes lists'!B:B,'Programmes lists'!F:F,\"Not found\")","v":660}]
["Intermediate Phase Extended Progamme","EXT - Specialising in Mathematics, Natural Science & Technology and isiZulu Home Language","WILI4700",{"$f":"_xlfn.XLOOKUP(C585,'RAW module list'!A:A,'RAW module list'!B:B, \"Not found\")","v":"Teaching Practice 4"},{"$f":"_xlfn.XLOOKUP(C585,'RAW module list'!A:A,'RAW module list'!C:C, \"Not found\")","v":7},{"$f":"_xlfn.XLOOKUP(C585,'RAW module list'!A:A,'RAW module list'!D:D, \"Not found\")","v":40},{"$f":"_xlfn.XLOOKUP(C585,'RAW module list'!A:A,'RAW module list'!E:E, \"Not found\")","v":"WILI3606"},"Fifth Year",{"$f":"_xlfn.XLOOKUP(B585,'Programmes lists'!B:B,'Programmes lists'!D:D)","v":0},{"$f":"_xlfn.XLOOKUP(B585,'Programmes lists'!B:B,'Programmes lists'!E:E, \"Not found\")","v":"QC7357E2"},{"$f":"_xlfn.XLOOKUP(B585,'Programmes lists'!B:B,'Programmes lists'!G:G,\"Not found\")","v":"Minimum grade 12 pass in\n•\tIsiZulu HL 50% \n•\tEnglish FAL 50%\n•\tMathematics 50%"},{"$f":"_xlfn.XLOOKUP(B585,'Programmes lists'!B:B,'Programmes lists'!F:F,\"Not found\")","v":660}]
["Intermediate Phase Extended Progamme","EXT - Specialising in Life Skills, Social Sciences & Afrikaans Home Language","AGAE1508",{"$f":"_xlfn.XLOOKUP(C586,'RAW module list'!A:A,'RAW module list'!B:B, \"Not found\")","v":"Academic Literacy in Afrikaans"},{"$f":"_xlfn.XLOOKUP(C586,'RAW module list'!A:A,'RAW module list'!C:C, \"Not found\")","v":5},{"$f":"_xlfn.XLOOKUP(C586,'RAW module list'!A:A,'RAW module list'!D:D, \"Not found\")","v":-32},{"$f":"_xlfn.XLOOKUP(C586,'RAW module list'!A:A,'RAW module list'!E:E, \"Not found\")","v":"NBT requirements not met"},"First Year",{"$f":"_xlfn.XLOOKUP(B586,'Programmes lists'!B:B,'Programmes lists'!D:D)","v":"BC7357E2"},{"$f":"_xlfn.XLOOKUP(B586,'Programmes lists'!B:B,'Programmes lists'!E:E, \"Not found\")","v":0},{"$f":"_xlfn.XLOOKUP(B586,'Programmes lists'!B:B,'Programmes lists'!G:G,\"Not found\")","v":"Minimum grade 12 pass in\n•\tAfrikaans HL 55% \n•\tEnglish FAL 50%"},{"$f":"_xlfn.XLOOKUP(B586,'Programmes lists'!B:B,'Programmes lists'!F:F,\"Not found\")","v":660}]
["Intermediate Phase Extended Progamme","EXT - Specialising in Life Skills, Social Sciences & Afrikaans Home Language","SCLL1508",{"$f":"_xlfn.XLOOKUP(C587,'RAW module list'!A:A,'RAW module list'!B:B, \"Not found\")","v":"Skills and competencies for lifelong learning"},{"$f":"_xlfn.XLOOKUP(C587,'RAW module list'!A:A,'RAW module list'!C:C, \"Not found\")","v":6},{"$f":"_xlfn.XLOOKUP(C587,'RAW module list'!A:A,'RAW module list'!D:D, \"Not found\")","v":32},{"$f":"_xlfn.XLOOKUP(C587,'RAW module list'!A:A,'RAW module list'!E:E, \"Not found\")","v":0},"First Year",{"$f":"_xlfn.XLOOKUP(B587,'Programmes lists'!B:B,'Programmes lists'!D:D)","v":"BC7357E2"},{"$f":"_xlfn.XLOOKUP(B587,'Programmes lists'!B:B,'Programmes lists'!E:E, \"Not found\")","v":0},{"$f":"_xlfn.XLOOKUP(B587,'Programmes lists'!B:B,'Programmes lists'!G:G,\"Not found\")","v":"Minimum grade 12 pass in\n•\tAfrikaans HL 55% \n•\tEnglish FAL 50%"},{"$f":"_xlfn.XLOOKUP(B587,'Programmes lists'!B:B,'Programmes lists'!F:F,\"Not found\")","v":660}]
["Intermediate Phase Extended Progamme","EXT - Specialising in Life Skills, Social Sciences & Afrikaans Home Language","LLST1513",{"$f":"_xlfn.XLOOKUP(C588,'RAW module list'!A:A,'RAW module list'!B:B, \"Not found\")","v":"Lifelong Learning Skills"},{"$f":"_xlfn.XLOOKUP(C588,'RAW module list'!A:A,'RAW module list'!C:C, \"Not found\")","v":5},{"$f":"_xlfn.XLOOKUP(C588,'RAW module list'!A:A,'RAW module list'!D:D, \"Not found\")","v":12},{"$f":"_xlfn.XLOOKUP(C588,'RAW module list'!A:A,'RAW module list'!E:E, \"Not found\")","v":0},"First Year",{"$f":"_xlfn.XLOOKUP(B588,'Programmes lists'!B:B,'Programmes lists'!D:D)","v":"BC7357E2"},{"$f":"_xlfn.XLOOKUP(B588,'Programmes lists'!B:B,'Programmes lists'!E:E, \"Not found\")","v":0},{"$f":"_xlfn.XLOOKUP(B588,'Programmes lists'!B:B,'Programmes lists'!G:G,\"Not found\")","v":"Minimum grade 12 pass in\n•\tAfrikaans HL 55% \n•\tEnglish FAL 50%"},{"$f":"_xlfn.XLOOKUP(B588,'Programmes lists'!B:B,'Programmes lists'!F:F,\"Not found\")","v":660}]
["Intermediate Phase Extended Progamme","EXT - Specialising in Life Skills, Social Sciences & Afrikaans Home Language","EDUB1613",{"$f":"_xlfn.XLOOKUP(C589,'RAW module list'!A:A,'RAW module list'!B:B, \"Not found\")","v":"Education Studies 1.1 The Individual in the learning context"},{"$f":"_xlfn.XLOOKUP(C589,'RAW module list'!A:A,'RAW module list'!C:C, \"Not found\")","v":6},{"$f":"_xlfn.XLOOKUP(C589,'RAW module list'!A:A,'RAW module list'!D:D, \"Not found\")","v":12},{"$f":"_xlfn.XLOOKUP(C589,'RAW module list'!A:A,'RAW module list'!E:E, \"Not found\")","v":0},"First Year",{"$f":"_xlfn.XLOOKUP(B589,'Programmes lists'!B:B,'Programmes lists'!D:D)","v":"BC7357E2"},{"$f":"_xlfn.XLOOKUP(B589,'Programmes lists'!B:B,'Programmes lists'!E:E, \"Not found\")","v":0},{"$f":"_xlfn.XLOOKUP(B589,'Programmes lists'!B:B,'Programmes lists'!G:G,\"Not found\")","v":"Minimum grade 12 pass in\n•\tAfrikaans HL 55% \n•\tEnglish FAL 50%"},{"$f":"_xlfn.XLOOKUP(B589,'Programmes lists'!B:B,'Programmes lists'!F:F,\"Not found\")","v":660}]
["Intermediate Phase Extended Progamme","EXT - Specialising in Life Skills, Social Sciences & Afrikaans Home Language","EDUB1623",{"$f":"_xlfn.XLOOKUP(C590,'RAW module list'!A:A,'RAW module list'!B:B, \"Not found\")","v":"Education Studies 1.2 What it means to educate: Theoretical perspectives and their significance for SA education"},{"$f":"_xlfn.XLOOKUP(C590,'RAW module list'!A:A,'RAW module list'!C:C, \"Not found\")","v":6},{"$f":"_xlfn.XLOOKUP(C590,'RAW module list'!A:A,'RAW module list'!D:D, \"Not found\")","v":12},{"$f":"_xlfn.XLOOKUP(C590,'RAW module list'!A:A,'RAW module list'!E:E, \"Not found\")","v":0},"First Year",{"$f":"_xlfn.XLOOKUP(B590,'Programmes lists'!B:B,'Programmes lists'!D:D)","v":"BC7357E2"},{"$f":"_xlfn.XLOOKUP(B590,'Programmes lists'!B:B,'Programmes lists'!E:E, \"Not found\")","v":0},{"$f":"_xlfn.XLOOKUP(B590,'Programmes lists'!B:B,'Programmes lists'!G:G,\"Not found\")","v":"Minimum grade 12 pass in\n•\tAfrikaans HL 55% \n•\tEnglish FAL 50%"},{"$f":"_xlfn.XLOOKUP(B590,'Programmes lists'!B:B,'Programmes lists'!F:F,\"Not found\")","v":660}]
["Intermediate Phase Extended Progamme","EXT - Specialising in Life Skills, Social Sciences & Afrikaans Home Language","GPED1623",{"$f":"_xlfn.XLOOKUP(C591,'RAW module list'!A:A,'RAW module list'!B:B, \"Not found\")","v":"General Pedagogy 1: Managing the Curriculum"},{"$f":"_xlfn.XLOOKUP(C591,'RAW module list'!A:A,'RAW module list'!C:C, \"Not found\")","v":6},{"$f":"_xlfn.XLOOKUP(C591,'RAW module list'!A:A,'RAW module list'!D:D, \"Not found\")","v":12},{"$f":"_xlfn.XLOOKUP(C591,'RAW module list'!A:A,'RAW module list'!E:E, \"Not found\")","v":0},"First Year",{"$f":"_xlfn.XLOOKUP(B591,'Programmes lists'!B:B,'Programmes lists'!D:D)","v":"BC7357E2"},{"$f":"_xlfn.XLOOKUP(B591,'Programmes lists'!B:B,'Programmes lists'!E:E, \"Not found\")","v":0},{"$f":"_xlfn.XLOOKUP(B591,'Programmes lists'!B:B,'Programmes lists'!G:G,\"Not found\")","v":"Minimum grade 12 pass in\n•\tAfrikaans HL 55% \n•\tEnglish FAL 50%"},{"$f":"_xlfn.XLOOKUP(B591,'Programmes lists'!B:B,'Programmes lists'!F:F,\"Not found\")","v":660}]
["Intermediate Phase Extended Progamme","EXT - Specialising in Life Skills, Social Sciences & Afrikaans Home Language","EALH2508",{"$f":"_xlfn.XLOOKUP(C592,'RAW module list'!A:A,'RAW module list'!B:B, \"Not found\")","v":"Academic Literacy for extended programmes 2"},{"$f":"_xlfn.XLOOKUP(C592,'RAW module list'!A:A,'RAW module list'!C:C, \"Not found\")","v":5},{"$f":"_xlfn.XLOOKUP(C592,'RAW module list'!A:A,'RAW module list'!D:D, \"Not found\")","v":32},{"$f":"_xlfn.XLOOKUP(C592,'RAW module list'!A:A,'RAW module list'!E:E, \"Not found\")","v":"AGAE1508 or EALT1508"},"Second Year",{"$f":"_xlfn.XLOOKUP(B592,'Programmes lists'!B:B,'Programmes lists'!D:D)","v":"BC7357E2"},{"$f":"_xlfn.XLOOKUP(B592,'Programmes lists'!B:B,'Programmes lists'!E:E, \"Not found\")","v":0},{"$f":"_xlfn.XLOOKUP(B592,'Programmes lists'!B:B,'Programmes lists'!G:G,\"Not found\")","v":"Minimum grade 12 pass in\n•\tAfrikaans HL 55% \n•\tEnglish FAL 50%"},{"$f":"_xlfn.XLOOKUP(B592,'Programmes lists'!B:B,'Programmes lists'!F:F,\"Not found\")","v":660}]
["Intermediate Phase Extended Progamme","EXT - Specialising in Life Skills, Social Sciences & Afrikaans Home Language","ENGE1608",{"$f":"_xlfn.XLOOKUP(C593,'RAW module list'!A:A,'RAW module list'!B:B, \"Not found\")","v":"English Language for Education "},{"$f":"_xlfn.XLOOKUP(C593,'RAW module list'!A:A,'RAW module list'!C:C, \"Not found\")","v":6},{"$f":"_xlfn.XLOOKUP(C593,'RAW module list'!A:A,'RAW module list'!D:D, \"Not found\")","v":32},{"$f":"_xlfn.XLOOKUP(C593,'RAW module list'!A:A,'RAW module list'!E:E, \"Not found\")","v":0},"Second Year",{"$f":"_xlfn.XLOOKUP(B593,'Programmes lists'!B:B,'Programmes lists'!D:D)","v":"BC7357E2"},{"$f":"_xlfn.XLOOKUP(B593,'Programmes lists'!B:B,'Programmes lists'!E:E, \"Not found\")","v":0},{"$f":"_xlfn.XLOOKUP(B593,'Programmes lists'!B:B,'Programmes lists'!G:G,\"Not found\")","v":"Minimum grade 12 pass in\n•\tAfrikaans HL 55% \n•\tEnglish FAL 50%"},{"$f":"_xlfn.XLOOKUP(B593,'Programmes lists'!B:B,'Programmes lists'!F:F,\"Not found\")","v":660}]
["Intermediate Phase Extended Progamme","EXT - Specialising in Life Skills, Social Sciences & Afrikaans Home Language","LSCI1614",{"$f":"_xlfn.XLOOKUP(C594,'RAW module list'!A:A,'RAW module list'!B:B, \"Not found\")","v":"Life Skills "},{"$f":"_xlfn.XLOOKUP(C594,'RAW module list'!A:A,'RAW module list'!C:C, \"Not found\")","v":6},{"$f":"_xlfn.XLOOKUP(C594,'RAW module list'!A:A,'RAW module list'!D:D, \"Not found\")","v":16},{"$f":"_xlfn.XLOOKUP(C594,'RAW module list'!A:A,'RAW module list'!E:E, \"Not found\")","v":0},"Second Year",{"$f":"_xlfn.XLOOKUP(B594,'Programmes lists'!B:B,'Programmes lists'!D:D)","v":"BC7357E2"},{"$f":"_xlfn.XLOOKUP(B594,'Programmes lists'!B:B,'Programmes lists'!E:E, \"Not found\")","v":0},{"$f":"_xlfn.XLOOKUP(B594,'Programmes lists'!B:B,'Programmes lists'!G:G,\"Not found\")","v":"Minimum grade 12 pass in\n•\tAfrikaans HL 55% \n•\tEnglish FAL 50%"},{"$f":"_xlfn.XLOOKUP(B594,'Programmes lists'!B:B,'Programmes lists'!F:F,\"Not found\")","v":660}]
["Intermediate Phase Extended Progamme","EXT - Specialising in Life Skills, Social Sciences & Afrikaans Home Language","MTDH1508",{"$f":"_xlfn.XLOOKUP(C595,'RAW module list'!A:A,'RAW module list'!B:B, \"Not found\")","v":"Mathematical Literacy"},{"$f":"_xlfn.XLOOKUP(C595,'RAW module list'!A:A,'RAW module list'!C:C, \"Not found\")","v":5},{"$f":"_xlfn.XLOOKUP(C595,'RAW module list'!A:A,'RAW module list'!D:D, \"Not found\")","v":32},{"$f":"_xlfn.XLOOKUP(C595,'RAW module list'!A:A,'RAW module list'!E:E, \"Not found\")","v":0},"Second Year",{"$f":"_xlfn.XLOOKUP(B595,'Programmes lists'!B:B,'Programmes lists'!D:D)","v":"BC7357E2"},{"$f":"_xlfn.XLOOKUP(B595,'Programmes lists'!B:B,'Programmes lists'!E:E, \"Not found\")","v":0},{"$f":"_xlfn.XLOOKUP(B595,'Programmes lists'!B:B,'Programmes lists'!G:G,\"Not found\")","v":"Minimum grade 12 pass in\n•\tAfrikaans HL 55% \n•\tEnglish FAL 50%"},{"$f":"_xlfn.XLOOKUP(B595,'Programmes lists'!B:B,'Programmes lists'!F:F,\"Not found\")","v":660}]
["Intermediate Phase Extended Progamme","EXT - Specialising in Life Skills, Social Sciences & Afrikaans Home Language","TPRI1502",{"$f":"_xlfn.XLOOKUP(C596,'RAW module list'!A:A,'RAW module list'!B:B, \"Not found\")","v":"Teaching Practice 1"},{"$f":"_xlfn.XLOOKUP(C596,'RAW module list'!A:A,'RAW module list'!C:C, \"Not found\")","v":5},{"$f":"_xlfn.XLOOKUP(C596,'RAW module list'!A:A,'RAW module list'!D:D, \"Not found\")","v":8},{"$f":"_xlfn.XLOOKUP(C596,'RAW module list'!A:A,'RAW module list'!E:E, \"Not found\")","v":0},"Second Year",{"$f":"_xlfn.XLOOKUP(B596,'Programmes lists'!B:B,'Programmes lists'!D:D)","v":"BC7357E2"},{"$f":"_xlfn.XLOOKUP(B596,'Programmes lists'!B:B,'Programmes lists'!E:E, \"Not found\")","v":0},{"$f":"_xlfn.XLOOKUP(B596,'Programmes lists'!B:B,'Programmes lists'!G:G,\"Not found\")","v":"Minimum grade 12 pass in\n•\tAfrikaans HL 55% \n•\tEnglish FAL 50%"},{"$f":"_xlfn.XLOOKUP(B596,'Programmes lists'!B:B,'Programmes lists'!F:F,\"Not found\")","v":660}]
["Intermediate Phase Extended Progamme","EXT - Specialising in Life Skills, Social Sciences & Afrikaans Home Language","LSCI1624",{"$f":"_xlfn.XLOOKUP(C597,'RAW module list'!A:A,'RAW module list'!B:B, \"Not found\")","v":"Life Skills 1"},{"$f":"_xlfn.XLOOKUP(C597,'RAW module list'!A:A,'RAW module list'!C:C, \"Not found\")","v":6},{"$f":"_xlfn.XLOOKUP(C597,'RAW module list'!A:A,'RAW module list'!D:D, \"Not found\")","v":16},{"$f":"_xlfn.XLOOKUP(C597,'RAW module list'!A:A,'RAW module list'!E:E, \"Not found\")","v":0},"Second Year",{"$f":"_xlfn.XLOOKUP(B597,'Programmes lists'!B:B,'Programmes lists'!D:D)","v":"BC7357E2"},{"$f":"_xlfn.XLOOKUP(B597,'Programmes lists'!B:B,'Programmes lists'!E:E, \"Not found\")","v":0},{"$f":"_xlfn.XLOOKUP(B597,'Programmes lists'!B:B,'Programmes lists'!G:G,\"Not found\")","v":"Minimum grade 12 pass in\n•\tAfrikaans HL 55% \n•\tEnglish FAL 50%"},{"$f":"_xlfn.XLOOKUP(B597,'Programmes lists'!B:B,'Programmes lists'!F:F,\"Not found\")","v":660}]
["Intermediate Phase Extended Progamme","EXT - Specialising in Life Skills, Social Sciences & Afrikaans Home Language","UFSS1522",{"$f":"_xlfn.XLOOKUP(C598,'RAW module list'!A:A,'RAW module list'!B:B, \"Not found\")","v":"Institutional module"},{"$f":"_xlfn.XLOOKUP(C598,'RAW module list'!A:A,'RAW module list'!C:C, \"Not found\")","v":5},{"$f":"_xlfn.XLOOKUP(C598,'RAW module list'!A:A,'RAW module list'!D:D, \"Not found\")","v":-8},{"$f":"_xlfn.XLOOKUP(C598,'RAW module list'!A:A,'RAW module list'!E:E, \"Not found\")","v":0},"Second Year",{"$f":"_xlfn.XLOOKUP(B598,'Programmes lists'!B:B,'Programmes lists'!D:D)","v":"BC7357E2"},{"$f":"_xlfn.XLOOKUP(B598,'Programmes lists'!B:B,'Programmes lists'!E:E, \"Not found\")","v":0},{"$f":"_xlfn.XLOOKUP(B598,'Programmes lists'!B:B,'Programmes lists'!G:G,\"Not found\")","v":"Minimum grade 12 pass in\n•\tAfrikaans HL 55% \n•\tEnglish FAL 50%"},{"$f":"_xlfn.XLOOKUP(B598,'Programmes lists'!B:B,'Programmes lists'!F:F,\"Not found\")","v":660}]
["Intermediate Phase Extended Progamme","EXT - Specialising in Life Skills, Social Sciences & Afrikaans Home Language","SSCI2614",{"$f":"_xlfn.XLOOKUP(C599,'RAW module list'!A:A,'RAW module list'!B:B, \"Not found\")","v":"Social Science History"},{"$f":"_xlfn.XLOOKUP(C599,'RAW module list'!A:A,'RAW module list'!C:C, \"Not found\")","v":6},{"$f":"_xlfn.XLOOKUP(C599,'RAW module list'!A:A,'RAW module list'!D:D, \"Not found\")","v":16},{"$f":"_xlfn.XLOOKUP(C599,'RAW module list'!A:A,'RAW module list'!E:E, \"Not found\")","v":0},"Third Year",{"$f":"_xlfn.XLOOKUP(B599,'Programmes lists'!B:B,'Programmes lists'!D:D)","v":"BC7357E2"},{"$f":"_xlfn.XLOOKUP(B599,'Programmes lists'!B:B,'Programmes lists'!E:E, \"Not found\")","v":0},{"$f":"_xlfn.XLOOKUP(B599,'Programmes lists'!B:B,'Programmes lists'!G:G,\"Not found\")","v":"Minimum grade 12 pass in\n•\tAfrikaans HL 55% \n•\tEnglish FAL 50%"},{"$f":"_xlfn.XLOOKUP(B599,'Programmes lists'!B:B,'Programmes lists'!F:F,\"Not found\")","v":660}]
["Intermediate Phase Extended Progamme","EXT - Specialising in Life Skills, Social Sciences & Afrikaans Home Language","AFNL1634",{"$f":"_xlfn.XLOOKUP(C600,'RAW module list'!A:A,'RAW module list'!B:B, \"Not found\")","v":"Introduction to Afrikaans and Dutch literature"},{"$f":"_xlfn.XLOOKUP(C600,'RAW module list'!A:A,'RAW module list'!C:C, \"Not found\")","v":6},{"$f":"_xlfn.XLOOKUP(C600,'RAW module list'!A:A,'RAW module list'!D:D, \"Not found\")","v":16},{"$f":"_xlfn.XLOOKUP(C600,'RAW module list'!A:A,'RAW module list'!E:E, \"Not found\")","v":"Grade 12 Afrikaans HL >55% or Afrikaans FAL in grade 12 >70%"},"Third Year",{"$f":"_xlfn.XLOOKUP(B600,'Programmes lists'!B:B,'Programmes lists'!D:D)","v":"BC7357E2"},{"$f":"_xlfn.XLOOKUP(B600,'Programmes lists'!B:B,'Programmes lists'!E:E, \"Not found\")","v":0},{"$f":"_xlfn.XLOOKUP(B600,'Programmes lists'!B:B,'Programmes lists'!G:G,\"Not found\")","v":"Minimum grade 12 pass in\n•\tAfrikaans HL 55% \n•\tEnglish FAL 50%"},{"$f":"_xlfn.XLOOKUP(B600,'Programmes lists'!B:B,'Programmes lists'!F:F,\"Not found\")","v":660}]
["Intermediate Phase Extended Progamme","EXT - Specialising in Life Skills, Social Sciences & Afrikaans Home Language","MTBI2503",{"$f":"_xlfn.XLOOKUP(C601,'RAW module list'!A:A,'RAW module list'!B:B, \"Not found\")","v":"Basic Mathematics "},{"$f":"_xlfn.XLOOKUP(C601,'RAW module list'!A:A,'RAW module list'!C:C, \"Not found\")","v":5},{"$f":"_xlfn.XLOOKUP(C601,'RAW module list'!A:A,'RAW module list'!D:D, \"Not found\")","v":12},{"$f":"_xlfn.XLOOKUP(C601,'RAW module list'!A:A,'RAW module list'!E:E, \"Not found\")","v":0},"Third Year",{"$f":"_xlfn.XLOOKUP(B601,'Programmes lists'!B:B,'Programmes lists'!D:D)","v":"BC7357E2"},{"$f":"_xlfn.XLOOKUP(B601,'Programmes lists'!B:B,'Programmes lists'!E:E, \"Not found\")","v":0},{"$f":"_xlfn.XLOOKUP(B601,'Programmes lists'!B:B,'Programmes lists'!G:G,\"Not found\")","v":"Minimum grade 12 pass in\n•\tAfrikaans HL 55% \n•\tEnglish FAL 50%"},{"$f":"_xlfn.XLOOKUP(B601,'Programmes lists'!B:B,'Programmes lists'!F:F,\"Not found\")","v":660}]
["Intermediate Phase Extended Progamme","EXT - Specialising in Life Skills, Social Sciences & Afrikaans Home Language","EDUB2714",{"$f":"_xlfn.XLOOKUP(C602,'RAW module list'!A:A,'RAW module list'!B:B, \"Not found\")","v":"Education Studies 2: Teaching and Learning in Education Context"},{"$f":"_xlfn.XLOOKUP(C602,'RAW module list'!A:A,'RAW module list'!C:C, \"Not found\")","v":7},{"$f":"_xlfn.XLOOKUP(C602,'RAW module list'!A:A,'RAW module list'!D:D, \"Not found\")","v":16},{"$f":"_xlfn.XLOOKUP(C602,'RAW module list'!A:A,'RAW module list'!E:E, \"Not found\")","v":"EDUB1613 & EDUB1623"},"Third Year",{"$f":"_xlfn.XLOOKUP(B602,'Programmes lists'!B:B,'Programmes lists'!D:D)","v":"BC7357E2"},{"$f":"_xlfn.XLOOKUP(B602,'Programmes lists'!B:B,'Programmes lists'!E:E, \"Not found\")","v":0},{"$f":"_xlfn.XLOOKUP(B602,'Programmes lists'!B:B,'Programmes lists'!G:G,\"Not found\")","v":"Minimum grade 12 pass in\n•\tAfrikaans HL 55% \n•\tEnglish FAL 50%"},{"$f":"_xlfn.XLOOKUP(B602,'Programmes lists'!B:B,'Programmes lists'!F:F,\"Not found\")","v":660}]
["Intermediate Phase Extended Progamme","EXT - Specialising in Life Skills, Social Sciences & Afrikaans Home Language","GPED2613",{"$f":"_xlfn.XLOOKUP(C603,'RAW module list'!A:A,'RAW module list'!B:B, \"Not found\")","v":"General Pedagogy 2.1"},{"$f":"_xlfn.XLOOKUP(C603,'RAW module list'!A:A,'RAW module list'!C:C, \"Not found\")","v":6},{"$f":"_xlfn.XLOOKUP(C603,'RAW module list'!A:A,'RAW module list'!D:D, \"Not found\")","v":12},{"$f":"_xlfn.XLOOKUP(C603,'RAW module list'!A:A,'RAW module list'!E:E, \"Not found\")","v":"GPED1623"},"Third Year",{"$f":"_xlfn.XLOOKUP(B603,'Programmes lists'!B:B,'Programmes lists'!D:D)","v":"BC7357E2"},{"$f":"_xlfn.XLOOKUP(B603,'Programmes lists'!B:B,'Programmes lists'!E:E, \"Not found\")","v":0},{"$f":"_xlfn.XLOOKUP(B603,'Programmes lists'!B:B,'Programmes lists'!G:G,\"Not found\")","v":"Minimum grade 12 pass in\n•\tAfrikaans HL 55% \n•\tEnglish FAL 50%"},{"$f":"_xlfn.XLOOKUP(B603,'Programmes lists'!B:B,'Programmes lists'!F:F,\"Not found\")","v":660}]
["Intermediate Phase Extended Progamme","EXT - Specialising in Life Skills, Social Sciences & Afrikaans Home Language","TPRI2502",{"$f":"_xlfn.XLOOKUP(C604,'RAW module list'!A:A,'RAW module list'!B:B, \"Not found\")","v":"Teaching Practice 2 "},{"$f":"_xlfn.XLOOKUP(C604,'RAW module list'!A:A,'RAW module list'!C:C, \"Not found\")","v":5},{"$f":"_xlfn.XLOOKUP(C604,'RAW module list'!A:A,'RAW module list'!D:D, \"Not found\")","v":8},{"$f":"_xlfn.XLOOKUP(C604,'RAW module list'!A:A,'RAW module list'!E:E, \"Not found\")","v":"TPRI1502"},"Third Year",{"$f":"_xlfn.XLOOKUP(B604,'Programmes lists'!B:B,'Programmes lists'!D:D)","v":"BC7357E2"},{"$f":"_xlfn.XLOOKUP(B604,'Programmes lists'!B:B,'Programmes lists'!E:E, \"Not found\")","v":0},{"$f":"_xlfn.XLOOKUP(B604,'Programmes lists'!B:B,'Programmes lists'!G:G,\"Not found\")","v":"Minimum grade 12 pass in\n•\tAfrikaans HL 55% \n•\tEnglish FAL 50%"},{"$f":"_xlfn.XLOOKUP(B604,'Programmes lists'!B:B,'Programmes lists'!F:F,\"Not found\")","v":660}]
["Intermediate Phase Extended Progamme","EXT - Specialising in Life Skills, Social Sciences & Afrikaans Home Language","SSCI2624",{"$f":"_xlfn.XLOOKUP(C605,'RAW module list'!A:A,'RAW module list'!B:B, \"Not found\")","v":"Social Sciences 2: Geography"},{"$f":"_xlfn.XLOOKUP(C605,'RAW module list'!A:A,'RAW module list'!C:C, \"Not found\")","v":6},{"$f":"_xlfn.XLOOKUP(C605,'RAW module list'!A:A,'RAW module list'!D:D, \"Not found\")","v":16},{"$f":"_xlfn.XLOOKUP(C605,'RAW module list'!A:A,'RAW module list'!E:E, \"Not found\")","v":0},"Third Year",{"$f":"_xlfn.XLOOKUP(B605,'Programmes lists'!B:B,'Programmes lists'!D:D)","v":"BC7357E2"},{"$f":"_xlfn.XLOOKUP(B605,'Programmes lists'!B:B,'Programmes lists'!E:E, \"Not found\")","v":0},{"$f":"_xlfn.XLOOKUP(B605,'Programmes lists'!B:B,'Programmes lists'!G:G,\"Not found\")","v":"Minimum grade 12 pass in\n•\tAfrikaans HL 55% \n•\tEnglish FAL 50%"},{"$f":"_xlfn.XLOOKUP(B605,'Programmes lists'!B:B,'Programmes lists'!F:F,\"Not found\")","v":660}]
["Intermediate Phase Extended Progamme","EXT - Specialising in Life Skills, Social Sciences & Afrikaans Home Language","AFNT1644",{"$f":"_xlfn.XLOOKUP(C606,'RAW module list'!A:A,'RAW module list'!B:B, \"Not found\")","v":"Introduction to Afrikaans Linguistics"},{"$f":"_xlfn.XLOOKUP(C606,'RAW module list'!A:A,'RAW module list'!C:C, \"Not found\")","v":6},{"$f":"_xlfn.XLOOKUP(C606,'RAW module list'!A:A,'RAW module list'!D:D, \"Not found\")","v":16},{"$f":"_xlfn.XLOOKUP(C606,'RAW module list'!A:A,'RAW module list'!E:E, \"Not found\")","v":"AFNL1634"},"Third Year",{"$f":"_xlfn.XLOOKUP(B606,'Programmes lists'!B:B,'Programmes lists'!D:D)","v":"BC7357E2"},{"$f":"_xlfn.XLOOKUP(B606,'Programmes lists'!B:B,'Programmes lists'!E:E, \"Not found\")","v":0},{"$f":"_xlfn.XLOOKUP(B606,'Programmes lists'!B:B,'Programmes lists'!G:G,\"Not found\")","v":"Minimum grade 12 pass in\n•\tAfrikaans HL 55% \n•\tEnglish FAL 50%"},{"$f":"_xlfn.XLOOKUP(B606,'Programmes lists'!B:B,'Programmes lists'!F:F,\"Not found\")","v":660}]
["Intermediate Phase Extended Progamme","EXT - Specialising in Life Skills, Social Sciences & Afrikaans Home Language","EDUB2724",{"$f":"_xlfn.XLOOKUP(C607,'RAW module list'!A:A,'RAW module list'!B:B, \"Not found\")","v":"Education Studies 2: Human Relationships in Education context"},{"$f":"_xlfn.XLOOKUP(C607,'RAW module list'!A:A,'RAW module list'!C:C, \"Not found\")","v":7},{"$f":"_xlfn.XLOOKUP(C607,'RAW module list'!A:A,'RAW module list'!D:D, \"Not found\")","v":16},{"$f":"_xlfn.XLOOKUP(C607,'RAW module list'!A:A,'RAW module list'!E:E, \"Not found\")","v":"EDUB2714"},"Third Year",{"$f":"_xlfn.XLOOKUP(B607,'Programmes lists'!B:B,'Programmes lists'!D:D)","v":"BC7357E2"},{"$f":"_xlfn.XLOOKUP(B607,'Programmes lists'!B:B,'Programmes lists'!E:E, \"Not found\")","v":0},{"$f":"_xlfn.XLOOKUP(B607,'Programmes lists'!B:B,'Programmes lists'!G:G,\"Not found\")","v":"Minimum grade 12 pass in\n•\tAfrikaans HL 55% \n•\tEnglish FAL 50%"},{"$f":"_xlfn.XLOOKUP(B607,'Programmes lists'!B:B,'Programmes lists'!F:F,\"Not found\")","v":660}]
["Intermediate Phase Extended Progamme","EXT - Specialising in Life Skills, Social Sciences & Afrikaans Home Language","GPED2623",{"$f":"_xlfn.XLOOKUP(C608,'RAW module list'!A:A,'RAW module list'!B:B, \"Not found\")","v":"General Pedagogy 2.2: Assessment"},{"$f":"_xlfn.XLOOKUP(C608,'RAW module list'!A:A,'RAW module list'!C:C, \"Not found\")","v":6},{"$f":"_xlfn.XLOOKUP(C608,'RAW module list'!A:A,'RAW module list'!D:D, \"Not found\")","v":12},{"$f":"_xlfn.XLOOKUP(C608,'RAW module list'!A:A,'RAW module list'!E:E, \"Not found\")","v":"GPED2613"},"Third Year",{"$f":"_xlfn.XLOOKUP(B608,'Programmes lists'!B:B,'Programmes lists'!D:D)","v":"BC7357E2"},{"$f":"_xlfn.XLOOKUP(B608,'Programmes lists'!B:B,'Programmes lists'!E:E, \"Not found\")","v":0},{"$f":"_xlfn.XLOOKUP(B608,'Programmes lists'!B:B,'Programmes lists'!G:G,\"Not found\")","v":"Minimum grade 12 pass in\n•\tAfrikaans HL 55% \n•\tEnglish FAL 50%"},{"$f":"_xlfn.XLOOKUP(B608,'Programmes lists'!B:B,'Programmes lists'!F:F,\"Not found\")","v":660}]
["Intermediate Phase Extended Progamme","EXT - Specialising in Life Skills, Social Sciences & Afrikaans Home Language","LSTI3604",{"$f":"_xlfn.XLOOKUP(C609,'RAW module list'!A:A,'RAW module list'!B:B, \"Not found\")","v":"Teaching of Life Skills 1 "},{"$f":"_xlfn.XLOOKUP(C609,'RAW module list'!A:A,'RAW module list'!C:C, \"Not found\")","v":6},{"$f":"_xlfn.XLOOKUP(C609,'RAW module list'!A:A,'RAW module list'!D:D, \"Not found\")","v":16},{"$f":"_xlfn.XLOOKUP(C609,'RAW module list'!A:A,'RAW module list'!E:E, \"Not found\")","v":"LSCI614 & LSCI2624"},"Fourth Year",{"$f":"_xlfn.XLOOKUP(B609,'Programmes lists'!B:B,'Programmes lists'!D:D)","v":"BC7357E2"},{"$f":"_xlfn.XLOOKUP(B609,'Programmes lists'!B:B,'Programmes lists'!E:E, \"Not found\")","v":0},{"$f":"_xlfn.XLOOKUP(B609,'Programmes lists'!B:B,'Programmes lists'!G:G,\"Not found\")","v":"Minimum grade 12 pass in\n•\tAfrikaans HL 55% \n•\tEnglish FAL 50%"},{"$f":"_xlfn.XLOOKUP(B609,'Programmes lists'!B:B,'Programmes lists'!F:F,\"Not found\")","v":660}]
["Intermediate Phase Extended Progamme","EXT - Specialising in Life Skills, Social Sciences & Afrikaans Home Language","SSTI3604",{"$f":"_xlfn.XLOOKUP(C610,'RAW module list'!A:A,'RAW module list'!B:B, \"Not found\")","v":"Teaching Social Sciences 1"},{"$f":"_xlfn.XLOOKUP(C610,'RAW module list'!A:A,'RAW module list'!C:C, \"Not found\")","v":6},{"$f":"_xlfn.XLOOKUP(C610,'RAW module list'!A:A,'RAW module list'!D:D, \"Not found\")","v":16},{"$f":"_xlfn.XLOOKUP(C610,'RAW module list'!A:A,'RAW module list'!E:E, \"Not found\")","v":"SSCI2614 & SSCI2624"},"Fourth Year",{"$f":"_xlfn.XLOOKUP(B610,'Programmes lists'!B:B,'Programmes lists'!D:D)","v":"BC7357E2"},{"$f":"_xlfn.XLOOKUP(B610,'Programmes lists'!B:B,'Programmes lists'!E:E, \"Not found\")","v":0},{"$f":"_xlfn.XLOOKUP(B610,'Programmes lists'!B:B,'Programmes lists'!G:G,\"Not found\")","v":"Minimum grade 12 pass in\n•\tAfrikaans HL 55% \n•\tEnglish FAL 50%"},{"$f":"_xlfn.XLOOKUP(B610,'Programmes lists'!B:B,'Programmes lists'!F:F,\"Not found\")","v":660}]
["Intermediate Phase Extended Progamme","EXT - Specialising in Life Skills, Social Sciences & Afrikaans Home Language","AHTI3604",{"$f":"_xlfn.XLOOKUP(C611,'RAW module list'!A:A,'RAW module list'!B:B, \"Not found\")","v":"Afrikaans Teaching 1 (Home Language)"},{"$f":"_xlfn.XLOOKUP(C611,'RAW module list'!A:A,'RAW module list'!C:C, \"Not found\")","v":6},{"$f":"_xlfn.XLOOKUP(C611,'RAW module list'!A:A,'RAW module list'!D:D, \"Not found\")","v":16},{"$f":"_xlfn.XLOOKUP(C611,'RAW module list'!A:A,'RAW module list'!E:E, \"Not found\")","v":"AFNT1644 & AFNL1634"},"Fourth Year",{"$f":"_xlfn.XLOOKUP(B611,'Programmes lists'!B:B,'Programmes lists'!D:D)","v":"BC7357E2"},{"$f":"_xlfn.XLOOKUP(B611,'Programmes lists'!B:B,'Programmes lists'!E:E, \"Not found\")","v":0},{"$f":"_xlfn.XLOOKUP(B611,'Programmes lists'!B:B,'Programmes lists'!G:G,\"Not found\")","v":"Minimum grade 12 pass in\n•\tAfrikaans HL 55% \n•\tEnglish FAL 50%"},{"$f":"_xlfn.XLOOKUP(B611,'Programmes lists'!B:B,'Programmes lists'!F:F,\"Not found\")","v":660}]
["Intermediate Phase Extended Progamme","EXT - Specialising in Life Skills, Social Sciences & Afrikaans Home Language","EDUB3714",{"$f":"_xlfn.XLOOKUP(C612,'RAW module list'!A:A,'RAW module list'!B:B, \"Not found\")","v":"Education Studies 3.1 Education systems in global and national context"},{"$f":"_xlfn.XLOOKUP(C612,'RAW module list'!A:A,'RAW module list'!C:C, \"Not found\")","v":7},{"$f":"_xlfn.XLOOKUP(C612,'RAW module list'!A:A,'RAW module list'!D:D, \"Not found\")","v":16},{"$f":"_xlfn.XLOOKUP(C612,'RAW module list'!A:A,'RAW module list'!E:E, \"Not found\")","v":"EDUB1613 & EDUB1623& EDUB2714 & EDUB2724"},"Fourth Year",{"$f":"_xlfn.XLOOKUP(B612,'Programmes lists'!B:B,'Programmes lists'!D:D)","v":"BC7357E2"},{"$f":"_xlfn.XLOOKUP(B612,'Programmes lists'!B:B,'Programmes lists'!E:E, \"Not found\")","v":0},{"$f":"_xlfn.XLOOKUP(B612,'Programmes lists'!B:B,'Programmes lists'!G:G,\"Not found\")","v":"Minimum grade 12 pass in\n•\tAfrikaans HL 55% \n•\tEnglish FAL 50%"},{"$f":"_xlfn.XLOOKUP(B612,'Programmes lists'!B:B,'Programmes lists'!F:F,\"Not found\")","v":660}]
["Intermediate Phase Extended Progamme","EXT - Specialising in Life Skills, Social Sciences & Afrikaans Home Language","CURS3502",{"$f":"_xlfn.XLOOKUP(C613,'RAW module list'!A:A,'RAW module list'!B:B, \"Not found\")","v":"Intermediate Phase School Curriculum"},{"$f":"_xlfn.XLOOKUP(C613,'RAW module list'!A:A,'RAW module list'!C:C, \"Not found\")","v":5},{"$f":"_xlfn.XLOOKUP(C613,'RAW module list'!A:A,'RAW module list'!D:D, \"Not found\")","v":8},{"$f":"_xlfn.XLOOKUP(C613,'RAW module list'!A:A,'RAW module list'!E:E, \"Not found\")","v":0},"Fourth Year",{"$f":"_xlfn.XLOOKUP(B613,'Programmes lists'!B:B,'Programmes lists'!D:D)","v":"BC7357E2"},{"$f":"_xlfn.XLOOKUP(B613,'Programmes lists'!B:B,'Programmes lists'!E:E, \"Not found\")","v":0},{"$f":"_xlfn.XLOOKUP(B613,'Programmes lists'!B:B,'Programmes lists'!G:G,\"Not found\")","v":"Minimum grade 12 pass in\n•\tAfrikaans HL 55% \n•\tEnglish FAL 50%"},{"$f":"_xlfn.XLOOKUP(B613,'Programmes lists'!B:B,'Programmes lists'!F:F,\"Not found\")","v":660}]
["Intermediate Phase Extended Progamme","EXT - Specialising in Life Skills, Social Sciences & Afrikaans Home Language","EATI3604",{"$f":"_xlfn.XLOOKUP(C614,'RAW module list'!A:A,'RAW module list'!B:B, \"Not found\")","v":"English additional language teaching 1"},{"$f":"_xlfn.XLOOKUP(C614,'RAW module list'!A:A,'RAW module list'!C:C, \"Not found\")","v":6},{"$f":"_xlfn.XLOOKUP(C614,'RAW module list'!A:A,'RAW module list'!D:D, \"Not found\")","v":16},{"$f":"_xlfn.XLOOKUP(C614,'RAW module list'!A:A,'RAW module list'!E:E, \"Not found\")","v":"ENGE1608"},"Fourth Year",{"$f":"_xlfn.XLOOKUP(B614,'Programmes lists'!B:B,'Programmes lists'!D:D)","v":"BC7357E2"},{"$f":"_xlfn.XLOOKUP(B614,'Programmes lists'!B:B,'Programmes lists'!E:E, \"Not found\")","v":0},{"$f":"_xlfn.XLOOKUP(B614,'Programmes lists'!B:B,'Programmes lists'!G:G,\"Not found\")","v":"Minimum grade 12 pass in\n•\tAfrikaans HL 55% \n•\tEnglish FAL 50%"},{"$f":"_xlfn.XLOOKUP(B614,'Programmes lists'!B:B,'Programmes lists'!F:F,\"Not found\")","v":660}]
["Intermediate Phase Extended Progamme","EXT - Specialising in Life Skills, Social Sciences & Afrikaans Home Language","SICL3512 OR SSCL3512 OR ZUCL3512",{"$f":"_xlfn.XLOOKUP(C615,'RAW module list'!A:A,'RAW module list'!B:B, \"Not found\")","v":"Conversational Sign Language OR Conversational Sesotho OR Conversational IsiZulu"},{"$f":"_xlfn.XLOOKUP(C615,'RAW module list'!A:A,'RAW module list'!C:C, \"Not found\")","v":5},{"$f":"_xlfn.XLOOKUP(C615,'RAW module list'!A:A,'RAW module list'!D:D, \"Not found\")","v":8},{"$f":"_xlfn.XLOOKUP(C615,'RAW module list'!A:A,'RAW module list'!E:E, \"Not found\")","v":"No previous exposure to the language"},"Fourth Year",{"$f":"_xlfn.XLOOKUP(B615,'Programmes lists'!B:B,'Programmes lists'!D:D)","v":"BC7357E2"},{"$f":"_xlfn.XLOOKUP(B615,'Programmes lists'!B:B,'Programmes lists'!E:E, \"Not found\")","v":0},{"$f":"_xlfn.XLOOKUP(B615,'Programmes lists'!B:B,'Programmes lists'!G:G,\"Not found\")","v":"Minimum grade 12 pass in\n•\tAfrikaans HL 55% \n•\tEnglish FAL 50%"},{"$f":"_xlfn.XLOOKUP(B615,'Programmes lists'!B:B,'Programmes lists'!F:F,\"Not found\")","v":660}]
["Intermediate Phase Extended Progamme","EXT - Specialising in Life Skills, Social Sciences & Afrikaans Home Language","WILI3606",{"$f":"_xlfn.XLOOKUP(C616,'RAW module list'!A:A,'RAW module list'!B:B, \"Not found\")","v":"Teaching Practice 3"},{"$f":"_xlfn.XLOOKUP(C616,'RAW module list'!A:A,'RAW module list'!C:C, \"Not found\")","v":6},{"$f":"_xlfn.XLOOKUP(C616,'RAW module list'!A:A,'RAW module list'!D:D, \"Not found\")","v":24},{"$f":"_xlfn.XLOOKUP(C616,'RAW module list'!A:A,'RAW module list'!E:E, \"Not found\")","v":"TPRI2502"},"Fourth Year",{"$f":"_xlfn.XLOOKUP(B616,'Programmes lists'!B:B,'Programmes lists'!D:D)","v":"BC7357E2"},{"$f":"_xlfn.XLOOKUP(B616,'Programmes lists'!B:B,'Programmes lists'!E:E, \"Not found\")","v":0},{"$f":"_xlfn.XLOOKUP(B616,'Programmes lists'!B:B,'Programmes lists'!G:G,\"Not found\")","v":"Minimum grade 12 pass in\n•\tAfrikaans HL 55% \n•\tEnglish FAL 50%"},{"$f":"_xlfn.XLOOKUP(B616,'Programmes lists'!B:B,'Programmes lists'!F:F,\"Not found\")","v":660}]
["Intermediate Phase Extended Progamme","EXT - Specialising in Life Skills, Social Sciences & Afrikaans Home Language","EDUB3724",{"$f":"_xlfn.XLOOKUP(C617,'RAW module list'!A:A,'RAW module list'!B:B, \"Not found\")","v":"Education Studies 3.2: Contemporary Education Theory in the current social context"},{"$f":"_xlfn.XLOOKUP(C617,'RAW module list'!A:A,'RAW module list'!C:C, \"Not found\")","v":7},{"$f":"_xlfn.XLOOKUP(C617,'RAW module list'!A:A,'RAW module list'!D:D, \"Not found\")","v":16},{"$f":"_xlfn.XLOOKUP(C617,'RAW module list'!A:A,'RAW module list'!E:E, \"Not found\")","v":"EDUB1613 & EDUB1623 & EDUB2714 & EDUB2724 & EDUB3714"},"Fourth Year",{"$f":"_xlfn.XLOOKUP(B617,'Programmes lists'!B:B,'Programmes lists'!D:D)","v":"BC7357E2"},{"$f":"_xlfn.XLOOKUP(B617,'Programmes lists'!B:B,'Programmes lists'!E:E, \"Not found\")","v":0},{"$f":"_xlfn.XLOOKUP(B617,'Programmes lists'!B:B,'Programmes lists'!G:G,\"Not found\")","v":"Minimum grade 12 pass in\n•\tAfrikaans HL 55% \n•\tEnglish FAL 50%"},{"$f":"_xlfn.XLOOKUP(B617,'Programmes lists'!B:B,'Programmes lists'!F:F,\"Not found\")","v":660}]
["Intermediate Phase Extended Progamme","EXT - Specialising in Life Skills, Social Sciences & Afrikaans Home Language","SICL3522 OR SSCL3522 OR ZUCL3522",{"$f":"_xlfn.XLOOKUP(C618,'RAW module list'!A:A,'RAW module list'!B:B, \"Not found\")","v":"Conversational Sign Language OR Conversational Sesotho OR Conversational IsiZulu"},{"$f":"_xlfn.XLOOKUP(C618,'RAW module list'!A:A,'RAW module list'!C:C, \"Not found\")","v":5},{"$f":"_xlfn.XLOOKUP(C618,'RAW module list'!A:A,'RAW module list'!D:D, \"Not found\")","v":8},{"$f":"_xlfn.XLOOKUP(C618,'RAW module list'!A:A,'RAW module list'!E:E, \"Not found\")","v":"Continue with the conversational language  chosen in Semester 1"},"Fourth Year",{"$f":"_xlfn.XLOOKUP(B618,'Programmes lists'!B:B,'Programmes lists'!D:D)","v":"BC7357E2"},{"$f":"_xlfn.XLOOKUP(B618,'Programmes lists'!B:B,'Programmes lists'!E:E, \"Not found\")","v":0},{"$f":"_xlfn.XLOOKUP(B618,'Programmes lists'!B:B,'Programmes lists'!G:G,\"Not found\")","v":"Minimum grade 12 pass in\n•\tAfrikaans HL 55% \n•\tEnglish FAL 50%"},{"$f":"_xlfn.XLOOKUP(B618,'Programmes lists'!B:B,'Programmes lists'!F:F,\"Not found\")","v":660}]
["Intermediate Phase Extended Progamme","EXT - Specialising in Life Skills, Social Sciences & Afrikaans Home Language","LSTI4705",{"$f":"_xlfn.XLOOKUP(C619,'RAW module list'!A:A,'RAW module list'!B:B, \"Not found\")","v":"Teaching of Life Skills 2"},{"$f":"_xlfn.XLOOKUP(C619,'RAW module list'!A:A,'RAW module list'!C:C, \"Not found\")","v":7},{"$f":"_xlfn.XLOOKUP(C619,'RAW module list'!A:A,'RAW module list'!D:D, \"Not found\")","v":20},{"$f":"_xlfn.XLOOKUP(C619,'RAW module list'!A:A,'RAW module list'!E:E, \"Not found\")","v":"LSTI3604"},"Fifth Year",{"$f":"_xlfn.XLOOKUP(B619,'Programmes lists'!B:B,'Programmes lists'!D:D)","v":"BC7357E2"},{"$f":"_xlfn.XLOOKUP(B619,'Programmes lists'!B:B,'Programmes lists'!E:E, \"Not found\")","v":0},{"$f":"_xlfn.XLOOKUP(B619,'Programmes lists'!B:B,'Programmes lists'!G:G,\"Not found\")","v":"Minimum grade 12 pass in\n•\tAfrikaans HL 55% \n•\tEnglish FAL 50%"},{"$f":"_xlfn.XLOOKUP(B619,'Programmes lists'!B:B,'Programmes lists'!F:F,\"Not found\")","v":660}]
["Intermediate Phase Extended Progamme","EXT - Specialising in Life Skills, Social Sciences & Afrikaans Home Language","SSTI4705",{"$f":"_xlfn.XLOOKUP(C620,'RAW module list'!A:A,'RAW module list'!B:B, \"Not found\")","v":"Teaching of Social Sciences 2"},{"$f":"_xlfn.XLOOKUP(C620,'RAW module list'!A:A,'RAW module list'!C:C, \"Not found\")","v":7},{"$f":"_xlfn.XLOOKUP(C620,'RAW module list'!A:A,'RAW module list'!D:D, \"Not found\")","v":20},{"$f":"_xlfn.XLOOKUP(C620,'RAW module list'!A:A,'RAW module list'!E:E, \"Not found\")","v":"SSTI3604"},"Fifth Year",{"$f":"_xlfn.XLOOKUP(B620,'Programmes lists'!B:B,'Programmes lists'!D:D)","v":"BC7357E2"},{"$f":"_xlfn.XLOOKUP(B620,'Programmes lists'!B:B,'Programmes lists'!E:E, \"Not found\")","v":0},{"$f":"_xlfn.XLOOKUP(B620,'Programmes lists'!B:B,'Programmes lists'!G:G,\"Not found\")","v":"Minimum grade 12 pass in\n•\tAfrikaans HL 55% \n•\tEnglish FAL 50%"},{"$f":"_xlfn.XLOOKUP(B620,'Programmes lists'!B:B,'Programmes lists'!F:F,\"Not found\")","v":660}]
["Intermediate Phase Extended Progamme","EXT - Specialising in Life Skills, Social Sciences & Afrikaans Home Language","AHTI4705",{"$f":"_xlfn.XLOOKUP(C621,'RAW module list'!A:A,'RAW module list'!B:B, \"Not found\")","v":"Afrikaans Teaching 2 (Home Language)"},{"$f":"_xlfn.XLOOKUP(C621,'RAW module list'!A:A,'RAW module list'!C:C, \"Not found\")","v":7},{"$f":"_xlfn.XLOOKUP(C621,'RAW module list'!A:A,'RAW module list'!D:D, \"Not found\")","v":20},{"$f":"_xlfn.XLOOKUP(C621,'RAW module list'!A:A,'RAW module list'!E:E, \"Not found\")","v":"AHTI3604"},"Fifth Year",{"$f":"_xlfn.XLOOKUP(B621,'Programmes lists'!B:B,'Programmes lists'!D:D)","v":"BC7357E2"},{"$f":"_xlfn.XLOOKUP(B621,'Programmes lists'!B:B,'Programmes lists'!E:E, \"Not found\")","v":0},{"$f":"_xlfn.XLOOKUP(B621,'Programmes lists'!B:B,'Programmes lists'!G:G,\"Not found\")","v":"Minimum grade 12 pass in\n•\tAfrikaans HL 55% \n•\tEnglish FAL 50%"},{"$f":"_xlfn.XLOOKUP(B621,'Programmes lists'!B:B,'Programmes lists'!F:F,\"Not found\")","v":660}]
["Intermediate Phase Extended Progamme","EXT - Specialising in Life Skills, Social Sciences & Afrikaans Home Language","CURS4502",{"$f":"_xlfn.XLOOKUP(C622,'RAW module list'!A:A,'RAW module list'!B:B, \"Not found\")","v":"Intermediate Phase School Curriculum"},{"$f":"_xlfn.XLOOKUP(C622,'RAW module list'!A:A,'RAW module list'!C:C, \"Not found\")","v":5},{"$f":"_xlfn.XLOOKUP(C622,'RAW module list'!A:A,'RAW module list'!D:D, \"Not found\")","v":8},{"$f":"_xlfn.XLOOKUP(C622,'RAW module list'!A:A,'RAW module list'!E:E, \"Not found\")","v":"CURS3502"},"Fifth Year",{"$f":"_xlfn.XLOOKUP(B622,'Programmes lists'!B:B,'Programmes lists'!D:D)","v":"BC7357E2"},{"$f":"_xlfn.XLOOKUP(B622,'Programmes lists'!B:B,'Programmes lists'!E:E, \"Not found\")","v":0},{"$f":"_xlfn.XLOOKUP(B622,'Programmes lists'!B:B,'Programmes lists'!G:G,\"Not found\")","v":"Minimum grade 12 pass in\n•\tAfrikaans HL 55% \n•\tEnglish FAL 50%"},{"$f":"_xlfn.XLOOKUP(B622,'Programmes lists'!B:B,'Programmes lists'!F:F,\"Not found\")","v":660}]
["Intermediate Phase Extended Progamme","EXT - Specialising in Life Skills, Social Sciences & Afrikaans Home Language","EATI4705",{"$f":"_xlfn.XLOOKUP(C623,'RAW module list'!A:A,'RAW module list'!B:B, \"Not found\")","v":"English additional language teaching 2"},{"$f":"_xlfn.XLOOKUP(C623,'RAW module list'!A:A,'RAW module list'!C:C, \"Not found\")","v":7},{"$f":"_xlfn.XLOOKUP(C623,'RAW module list'!A:A,'RAW module list'!D:D, \"Not found\")","v":20},{"$f":"_xlfn.XLOOKUP(C623,'RAW module list'!A:A,'RAW module list'!E:E, \"Not found\")","v":"EATI3604"},"Fifth Year",{"$f":"_xlfn.XLOOKUP(B623,'Programmes lists'!B:B,'Programmes lists'!D:D)","v":"BC7357E2"},{"$f":"_xlfn.XLOOKUP(B623,'Programmes lists'!B:B,'Programmes lists'!E:E, \"Not found\")","v":0},{"$f":"_xlfn.XLOOKUP(B623,'Programmes lists'!B:B,'Programmes lists'!G:G,\"Not found\")","v":"Minimum grade 12 pass in\n•\tAfrikaans HL 55% \n•\tEnglish FAL 50%"},{"$f":"_xlfn.XLOOKUP(B623,'Programmes lists'!B:B,'Programmes lists'!F:F,\"Not found\")","v":660}]
["Intermediate Phase Extended Progamme","EXT - Specialising in Life Skills, Social Sciences & Afrikaans Home Language","WILI4700",{"$f":"_xlfn.XLOOKUP(C624,'RAW module list'!A:A,'RAW module list'!B:B, \"Not found\")","v":"Teaching Practice 4"},{"$f":"_xlfn.XLOOKUP(C624,'RAW module list'!A:A,'RAW module list'!C:C, \"Not found\")","v":7},{"$f":"_xlfn.XLOOKUP(C624,'RAW module list'!A:A,'RAW module list'!D:D, \"Not found\")","v":40},{"$f":"_xlfn.XLOOKUP(C624,'RAW module list'!A:A,'RAW module list'!E:E, \"Not found\")","v":"WILI3606"},"Fifth Year",{"$f":"_xlfn.XLOOKUP(B624,'Programmes lists'!B:B,'Programmes lists'!D:D)","v":"BC7357E2"},{"$f":"_xlfn.XLOOKUP(B624,'Programmes lists'!B:B,'Programmes lists'!E:E, \"Not found\")","v":0},{"$f":"_xlfn.XLOOKUP(B624,'Programmes lists'!B:B,'Programmes lists'!G:G,\"Not found\")","v":"Minimum grade 12 pass in\n•\tAfrikaans HL 55% \n•\tEnglish FAL 50%"},{"$f":"_xlfn.XLOOKUP(B624,'Programmes lists'!B:B,'Programmes lists'!F:F,\"Not found\")","v":660}]
["Intermediate Phase Extended Progamme","EXT - Specialising in Life Skills, Social Sciences & Sesotho Home Language","EALT1508",{"$f":"_xlfn.XLOOKUP(C625,'RAW module list'!A:A,'RAW module list'!B:B, \"Not found\")","v":"English Academic Literacy for Education "},{"$f":"_xlfn.XLOOKUP(C625,'RAW module list'!A:A,'RAW module list'!C:C, \"Not found\")","v":5},{"$f":"_xlfn.XLOOKUP(C625,'RAW module list'!A:A,'RAW module list'!D:D, \"Not found\")","v":-32},{"$f":"_xlfn.XLOOKUP(C625,'RAW module list'!A:A,'RAW module list'!E:E, \"Not found\")","v":"NBT requirements not met"},"First Year",{"$f":"_xlfn.XLOOKUP(B625,'Programmes lists'!B:B,'Programmes lists'!D:D)","v":"BC7357E2"},{"$f":"_xlfn.XLOOKUP(B625,'Programmes lists'!B:B,'Programmes lists'!E:E, \"Not found\")","v":"QC7357E2"},{"$f":"_xlfn.XLOOKUP(B625,'Programmes lists'!B:B,'Programmes lists'!G:G,\"Not found\")","v":"Minimum grade 12 pass in\n•\tSesotho HL 50% \n•\tEnglish FAL 50%"},{"$f":"_xlfn.XLOOKUP(B625,'Programmes lists'!B:B,'Programmes lists'!F:F,\"Not found\")","v":660}]
["Intermediate Phase Extended Progamme","EXT - Specialising in Life Skills, Social Sciences & Sesotho Home Language","SCLL1508",{"$f":"_xlfn.XLOOKUP(C626,'RAW module list'!A:A,'RAW module list'!B:B, \"Not found\")","v":"Skills and competencies for lifelong learning"},{"$f":"_xlfn.XLOOKUP(C626,'RAW module list'!A:A,'RAW module list'!C:C, \"Not found\")","v":6},{"$f":"_xlfn.XLOOKUP(C626,'RAW module list'!A:A,'RAW module list'!D:D, \"Not found\")","v":32},{"$f":"_xlfn.XLOOKUP(C626,'RAW module list'!A:A,'RAW module list'!E:E, \"Not found\")","v":0},"First Year",{"$f":"_xlfn.XLOOKUP(B626,'Programmes lists'!B:B,'Programmes lists'!D:D)","v":"BC7357E2"},{"$f":"_xlfn.XLOOKUP(B626,'Programmes lists'!B:B,'Programmes lists'!E:E, \"Not found\")","v":"QC7357E2"},{"$f":"_xlfn.XLOOKUP(B626,'Programmes lists'!B:B,'Programmes lists'!G:G,\"Not found\")","v":"Minimum grade 12 pass in\n•\tSesotho HL 50% \n•\tEnglish FAL 50%"},{"$f":"_xlfn.XLOOKUP(B626,'Programmes lists'!B:B,'Programmes lists'!F:F,\"Not found\")","v":660}]
["Intermediate Phase Extended Progamme","EXT - Specialising in Life Skills, Social Sciences & Sesotho Home Language","LLST1513",{"$f":"_xlfn.XLOOKUP(C627,'RAW module list'!A:A,'RAW module list'!B:B, \"Not found\")","v":"Lifelong Learning Skills"},{"$f":"_xlfn.XLOOKUP(C627,'RAW module list'!A:A,'RAW module list'!C:C, \"Not found\")","v":5},{"$f":"_xlfn.XLOOKUP(C627,'RAW module list'!A:A,'RAW module list'!D:D, \"Not found\")","v":12},{"$f":"_xlfn.XLOOKUP(C627,'RAW module list'!A:A,'RAW module list'!E:E, \"Not found\")","v":0},"First Year",{"$f":"_xlfn.XLOOKUP(B627,'Programmes lists'!B:B,'Programmes lists'!D:D)","v":"BC7357E2"},{"$f":"_xlfn.XLOOKUP(B627,'Programmes lists'!B:B,'Programmes lists'!E:E, \"Not found\")","v":"QC7357E2"},{"$f":"_xlfn.XLOOKUP(B627,'Programmes lists'!B:B,'Programmes lists'!G:G,\"Not found\")","v":"Minimum grade 12 pass in\n•\tSesotho HL 50% \n•\tEnglish FAL 50%"},{"$f":"_xlfn.XLOOKUP(B627,'Programmes lists'!B:B,'Programmes lists'!F:F,\"Not found\")","v":660}]
["Intermediate Phase Extended Progamme","EXT - Specialising in Life Skills, Social Sciences & Sesotho Home Language","EDUB1613",{"$f":"_xlfn.XLOOKUP(C628,'RAW module list'!A:A,'RAW module list'!B:B, \"Not found\")","v":"Education Studies 1.1 The Individual in the learning context"},{"$f":"_xlfn.XLOOKUP(C628,'RAW module list'!A:A,'RAW module list'!C:C, \"Not found\")","v":6},{"$f":"_xlfn.XLOOKUP(C628,'RAW module list'!A:A,'RAW module list'!D:D, \"Not found\")","v":12},{"$f":"_xlfn.XLOOKUP(C628,'RAW module list'!A:A,'RAW module list'!E:E, \"Not found\")","v":0},"First Year",{"$f":"_xlfn.XLOOKUP(B628,'Programmes lists'!B:B,'Programmes lists'!D:D)","v":"BC7357E2"},{"$f":"_xlfn.XLOOKUP(B628,'Programmes lists'!B:B,'Programmes lists'!E:E, \"Not found\")","v":"QC7357E2"},{"$f":"_xlfn.XLOOKUP(B628,'Programmes lists'!B:B,'Programmes lists'!G:G,\"Not found\")","v":"Minimum grade 12 pass in\n•\tSesotho HL 50% \n•\tEnglish FAL 50%"},{"$f":"_xlfn.XLOOKUP(B628,'Programmes lists'!B:B,'Programmes lists'!F:F,\"Not found\")","v":660}]
["Intermediate Phase Extended Progamme","EXT - Specialising in Life Skills, Social Sciences & Sesotho Home Language","EDUB1623",{"$f":"_xlfn.XLOOKUP(C629,'RAW module list'!A:A,'RAW module list'!B:B, \"Not found\")","v":"Education Studies 1.2 What it means to educate: Theoretical perspectives and their significance for SA education"},{"$f":"_xlfn.XLOOKUP(C629,'RAW module list'!A:A,'RAW module list'!C:C, \"Not found\")","v":6},{"$f":"_xlfn.XLOOKUP(C629,'RAW module list'!A:A,'RAW module list'!D:D, \"Not found\")","v":12},{"$f":"_xlfn.XLOOKUP(C629,'RAW module list'!A:A,'RAW module list'!E:E, \"Not found\")","v":0},"First Year",{"$f":"_xlfn.XLOOKUP(B629,'Programmes lists'!B:B,'Programmes lists'!D:D)","v":"BC7357E2"},{"$f":"_xlfn.XLOOKUP(B629,'Programmes lists'!B:B,'Programmes lists'!E:E, \"Not found\")","v":"QC7357E2"},{"$f":"_xlfn.XLOOKUP(B629,'Programmes lists'!B:B,'Programmes lists'!G:G,\"Not found\")","v":"Minimum grade 12 pass in\n•\tSesotho HL 50% \n•\tEnglish FAL 50%"},{"$f":"_xlfn.XLOOKUP(B629,'Programmes lists'!B:B,'Programmes lists'!F:F,\"Not found\")","v":660}]
["Intermediate Phase Extended Progamme","EXT - Specialising in Life Skills, Social Sciences & Sesotho Home Language","GPED1623",{"$f":"_xlfn.XLOOKUP(C630,'RAW module list'!A:A,'RAW module list'!B:B, \"Not found\")","v":"General Pedagogy 1: Managing the Curriculum"},{"$f":"_xlfn.XLOOKUP(C630,'RAW module list'!A:A,'RAW module list'!C:C, \"Not found\")","v":6},{"$f":"_xlfn.XLOOKUP(C630,'RAW module list'!A:A,'RAW module list'!D:D, \"Not found\")","v":12},{"$f":"_xlfn.XLOOKUP(C630,'RAW module list'!A:A,'RAW module list'!E:E, \"Not found\")","v":0},"First Year",{"$f":"_xlfn.XLOOKUP(B630,'Programmes lists'!B:B,'Programmes lists'!D:D)","v":"BC7357E2"},{"$f":"_xlfn.XLOOKUP(B630,'Programmes lists'!B:B,'Programmes lists'!E:E, \"Not found\")","v":"QC7357E2"},{"$f":"_xlfn.XLOOKUP(B630,'Programmes lists'!B:B,'Programmes lists'!G:G,\"Not found\")","v":"Minimum grade 12 pass in\n•\tSesotho HL 50% \n•\tEnglish FAL 50%"},{"$f":"_xlfn.XLOOKUP(B630,'Programmes lists'!B:B,'Programmes lists'!F:F,\"Not found\")","v":660}]
["Intermediate Phase Extended Progamme","EXT - Specialising in Life Skills, Social Sciences & Sesotho Home Language","EALH2508",{"$f":"_xlfn.XLOOKUP(C631,'RAW module list'!A:A,'RAW module list'!B:B, \"Not found\")","v":"Academic Literacy for extended programmes 2"},{"$f":"_xlfn.XLOOKUP(C631,'RAW module list'!A:A,'RAW module list'!C:C, \"Not found\")","v":5},{"$f":"_xlfn.XLOOKUP(C631,'RAW module list'!A:A,'RAW module list'!D:D, \"Not found\")","v":32},{"$f":"_xlfn.XLOOKUP(C631,'RAW module list'!A:A,'RAW module list'!E:E, \"Not found\")","v":"AGAE1508 or EALT1508"},"Second Year",{"$f":"_xlfn.XLOOKUP(B631,'Programmes lists'!B:B,'Programmes lists'!D:D)","v":"BC7357E2"},{"$f":"_xlfn.XLOOKUP(B631,'Programmes lists'!B:B,'Programmes lists'!E:E, \"Not found\")","v":"QC7357E2"},{"$f":"_xlfn.XLOOKUP(B631,'Programmes lists'!B:B,'Programmes lists'!G:G,\"Not found\")","v":"Minimum grade 12 pass in\n•\tSesotho HL 50% \n•\tEnglish FAL 50%"},{"$f":"_xlfn.XLOOKUP(B631,'Programmes lists'!B:B,'Programmes lists'!F:F,\"Not found\")","v":660}]
["Intermediate Phase Extended Progamme","EXT - Specialising in Life Skills, Social Sciences & Sesotho Home Language","ENGE1608",{"$f":"_xlfn.XLOOKUP(C632,'RAW module list'!A:A,'RAW module list'!B:B, \"Not found\")","v":"English Language for Education "},{"$f":"_xlfn.XLOOKUP(C632,'RAW module list'!A:A,'RAW module list'!C:C, \"Not found\")","v":6},{"$f":"_xlfn.XLOOKUP(C632,'RAW module list'!A:A,'RAW module list'!D:D, \"Not found\")","v":32},{"$f":"_xlfn.XLOOKUP(C632,'RAW module list'!A:A,'RAW module list'!E:E, \"Not found\")","v":0},"Second Year",{"$f":"_xlfn.XLOOKUP(B632,'Programmes lists'!B:B,'Programmes lists'!D:D)","v":"BC7357E2"},{"$f":"_xlfn.XLOOKUP(B632,'Programmes lists'!B:B,'Programmes lists'!E:E, \"Not found\")","v":"QC7357E2"},{"$f":"_xlfn.XLOOKUP(B632,'Programmes lists'!B:B,'Programmes lists'!G:G,\"Not found\")","v":"Minimum grade 12 pass in\n•\tSesotho HL 50% \n•\tEnglish FAL 50%"},{"$f":"_xlfn.XLOOKUP(B632,'Programmes lists'!B:B,'Programmes lists'!F:F,\"Not found\")","v":660}]
["Intermediate Phase Extended Progamme","EXT - Specialising in Life Skills, Social Sciences & Sesotho Home Language","LSCI1614",{"$f":"_xlfn.XLOOKUP(C633,'RAW module list'!A:A,'RAW module list'!B:B, \"Not found\")","v":"Life Skills "},{"$f":"_xlfn.XLOOKUP(C633,'RAW module list'!A:A,'RAW module list'!C:C, \"Not found\")","v":6},{"$f":"_xlfn.XLOOKUP(C633,'RAW module list'!A:A,'RAW module list'!D:D, \"Not found\")","v":16},{"$f":"_xlfn.XLOOKUP(C633,'RAW module list'!A:A,'RAW module list'!E:E, \"Not found\")","v":0},"Second Year",{"$f":"_xlfn.XLOOKUP(B633,'Programmes lists'!B:B,'Programmes lists'!D:D)","v":"BC7357E2"},{"$f":"_xlfn.XLOOKUP(B633,'Programmes lists'!B:B,'Programmes lists'!E:E, \"Not found\")","v":"QC7357E2"},{"$f":"_xlfn.XLOOKUP(B633,'Programmes lists'!B:B,'Programmes lists'!G:G,\"Not found\")","v":"Minimum grade 12 pass in\n•\tSesotho HL 50% \n•\tEnglish FAL 50%"},{"$f":"_xlfn.XLOOKUP(B633,'Programmes lists'!B:B,'Programmes lists'!F:F,\"Not found\")","v":660}]
["Intermediate Phase Extended Progamme","EXT - Specialising in Life Skills, Social Sciences & Sesotho Home Language","MTDH1508",{"$f":"_xlfn.XLOOKUP(C634,'RAW module list'!A:A,'RAW module list'!B:B, \"Not found\")","v":"Mathematical Literacy"},{"$f":"_xlfn.XLOOKUP(C634,'RAW module list'!A:A,'RAW module list'!C:C, \"Not found\")","v":5},{"$f":"_xlfn.XLOOKUP(C634,'RAW module list'!A:A,'RAW module list'!D:D, \"Not found\")","v":32},{"$f":"_xlfn.XLOOKUP(C634,'RAW module list'!A:A,'RAW module list'!E:E, \"Not found\")","v":0},"Second Year",{"$f":"_xlfn.XLOOKUP(B634,'Programmes lists'!B:B,'Programmes lists'!D:D)","v":"BC7357E2"},{"$f":"_xlfn.XLOOKUP(B634,'Programmes lists'!B:B,'Programmes lists'!E:E, \"Not found\")","v":"QC7357E2"},{"$f":"_xlfn.XLOOKUP(B634,'Programmes lists'!B:B,'Programmes lists'!G:G,\"Not found\")","v":"Minimum grade 12 pass in\n•\tSesotho HL 50% \n•\tEnglish FAL 50%"},{"$f":"_xlfn.XLOOKUP(B634,'Programmes lists'!B:B,'Programmes lists'!F:F,\"Not found\")","v":660}]
["Intermediate Phase Extended Progamme","EXT - Specialising in Life Skills, Social Sciences & Sesotho Home Language","TPRI1502",{"$f":"_xlfn.XLOOKUP(C635,'RAW module list'!A:A,'RAW module list'!B:B, \"Not found\")","v":"Teaching Practice 1"},{"$f":"_xlfn.XLOOKUP(C635,'RAW module list'!A:A,'RAW module list'!C:C, \"Not found\")","v":5},{"$f":"_xlfn.XLOOKUP(C635,'RAW module list'!A:A,'RAW module list'!D:D, \"Not found\")","v":8},{"$f":"_xlfn.XLOOKUP(C635,'RAW module list'!A:A,'RAW module list'!E:E, \"Not found\")","v":0},"Second Year",{"$f":"_xlfn.XLOOKUP(B635,'Programmes lists'!B:B,'Programmes lists'!D:D)","v":"BC7357E2"},{"$f":"_xlfn.XLOOKUP(B635,'Programmes lists'!B:B,'Programmes lists'!E:E, \"Not found\")","v":"QC7357E2"},{"$f":"_xlfn.XLOOKUP(B635,'Programmes lists'!B:B,'Programmes lists'!G:G,\"Not found\")","v":"Minimum grade 12 pass in\n•\tSesotho HL 50% \n•\tEnglish FAL 50%"},{"$f":"_xlfn.XLOOKUP(B635,'Programmes lists'!B:B,'Programmes lists'!F:F,\"Not found\")","v":660}]
["Intermediate Phase Extended Progamme","EXT - Specialising in Life Skills, Social Sciences & Sesotho Home Language","LSCI1624",{"$f":"_xlfn.XLOOKUP(C636,'RAW module list'!A:A,'RAW module list'!B:B, \"Not found\")","v":"Life Skills 1"},{"$f":"_xlfn.XLOOKUP(C636,'RAW module list'!A:A,'RAW module list'!C:C, \"Not found\")","v":6},{"$f":"_xlfn.XLOOKUP(C636,'RAW module list'!A:A,'RAW module list'!D:D, \"Not found\")","v":16},{"$f":"_xlfn.XLOOKUP(C636,'RAW module list'!A:A,'RAW module list'!E:E, \"Not found\")","v":0},"Second Year",{"$f":"_xlfn.XLOOKUP(B636,'Programmes lists'!B:B,'Programmes lists'!D:D)","v":"BC7357E2"},{"$f":"_xlfn.XLOOKUP(B636,'Programmes lists'!B:B,'Programmes lists'!E:E, \"Not found\")","v":"QC7357E2"},{"$f":"_xlfn.XLOOKUP(B636,'Programmes lists'!B:B,'Programmes lists'!G:G,\"Not found\")","v":"Minimum grade 12 pass in\n•\tSesotho HL 50% \n•\tEnglish FAL 50%"},{"$f":"_xlfn.XLOOKUP(B636,'Programmes lists'!B:B,'Programmes lists'!F:F,\"Not found\")","v":660}]
["Intermediate Phase Extended Progamme","EXT - Specialising in Life Skills, Social Sciences & Sesotho Home Language","UFSS1522",{"$f":"_xlfn.XLOOKUP(C637,'RAW module list'!A:A,'RAW module list'!B:B, \"Not found\")","v":"Institutional module"},{"$f":"_xlfn.XLOOKUP(C637,'RAW module list'!A:A,'RAW module list'!C:C, \"Not found\")","v":5},{"$f":"_xlfn.XLOOKUP(C637,'RAW module list'!A:A,'RAW module list'!D:D, \"Not found\")","v":-8},{"$f":"_xlfn.XLOOKUP(C637,'RAW module list'!A:A,'RAW module list'!E:E, \"Not found\")","v":0},"Second Year",{"$f":"_xlfn.XLOOKUP(B637,'Programmes lists'!B:B,'Programmes lists'!D:D)","v":"BC7357E2"},{"$f":"_xlfn.XLOOKUP(B637,'Programmes lists'!B:B,'Programmes lists'!E:E, \"Not found\")","v":"QC7357E2"},{"$f":"_xlfn.XLOOKUP(B637,'Programmes lists'!B:B,'Programmes lists'!G:G,\"Not found\")","v":"Minimum grade 12 pass in\n•\tSesotho HL 50% \n•\tEnglish FAL 50%"},{"$f":"_xlfn.XLOOKUP(B637,'Programmes lists'!B:B,'Programmes lists'!F:F,\"Not found\")","v":660}]
["Intermediate Phase Extended Progamme","EXT - Specialising in Life Skills, Social Sciences & Sesotho Home Language","SSCI2614",{"$f":"_xlfn.XLOOKUP(C638,'RAW module list'!A:A,'RAW module list'!B:B, \"Not found\")","v":"Social Science History"},{"$f":"_xlfn.XLOOKUP(C638,'RAW module list'!A:A,'RAW module list'!C:C, \"Not found\")","v":6},{"$f":"_xlfn.XLOOKUP(C638,'RAW module list'!A:A,'RAW module list'!D:D, \"Not found\")","v":16},{"$f":"_xlfn.XLOOKUP(C638,'RAW module list'!A:A,'RAW module list'!E:E, \"Not found\")","v":0},"Third Year",{"$f":"_xlfn.XLOOKUP(B638,'Programmes lists'!B:B,'Programmes lists'!D:D)","v":"BC7357E2"},{"$f":"_xlfn.XLOOKUP(B638,'Programmes lists'!B:B,'Programmes lists'!E:E, \"Not found\")","v":"QC7357E2"},{"$f":"_xlfn.XLOOKUP(B638,'Programmes lists'!B:B,'Programmes lists'!G:G,\"Not found\")","v":"Minimum grade 12 pass in\n•\tSesotho HL 50% \n•\tEnglish FAL 50%"},{"$f":"_xlfn.XLOOKUP(B638,'Programmes lists'!B:B,'Programmes lists'!F:F,\"Not found\")","v":660}]
["Intermediate Phase Extended Progamme","EXT - Specialising in Life Skills, Social Sciences & Sesotho Home Language","SSML1514",{"$f":"_xlfn.XLOOKUP(C639,'RAW module list'!A:A,'RAW module list'!B:B, \"Not found\")","v":"Sesotho language structure "},{"$f":"_xlfn.XLOOKUP(C639,'RAW module list'!A:A,'RAW module list'!C:C, \"Not found\")","v":5},{"$f":"_xlfn.XLOOKUP(C639,'RAW module list'!A:A,'RAW module list'!D:D, \"Not found\")","v":16},{"$f":"_xlfn.XLOOKUP(C639,'RAW module list'!A:A,'RAW module list'!E:E, \"Not found\")","v":0},"Third Year",{"$f":"_xlfn.XLOOKUP(B639,'Programmes lists'!B:B,'Programmes lists'!D:D)","v":"BC7357E2"},{"$f":"_xlfn.XLOOKUP(B639,'Programmes lists'!B:B,'Programmes lists'!E:E, \"Not found\")","v":"QC7357E2"},{"$f":"_xlfn.XLOOKUP(B639,'Programmes lists'!B:B,'Programmes lists'!G:G,\"Not found\")","v":"Minimum grade 12 pass in\n•\tSesotho HL 50% \n•\tEnglish FAL 50%"},{"$f":"_xlfn.XLOOKUP(B639,'Programmes lists'!B:B,'Programmes lists'!F:F,\"Not found\")","v":660}]
["Intermediate Phase Extended Progamme","EXT - Specialising in Life Skills, Social Sciences & Sesotho Home Language","MTBI2503",{"$f":"_xlfn.XLOOKUP(C640,'RAW module list'!A:A,'RAW module list'!B:B, \"Not found\")","v":"Basic Mathematics "},{"$f":"_xlfn.XLOOKUP(C640,'RAW module list'!A:A,'RAW module list'!C:C, \"Not found\")","v":5},{"$f":"_xlfn.XLOOKUP(C640,'RAW module list'!A:A,'RAW module list'!D:D, \"Not found\")","v":12},{"$f":"_xlfn.XLOOKUP(C640,'RAW module list'!A:A,'RAW module list'!E:E, \"Not found\")","v":0},"Third Year",{"$f":"_xlfn.XLOOKUP(B640,'Programmes lists'!B:B,'Programmes lists'!D:D)","v":"BC7357E2"},{"$f":"_xlfn.XLOOKUP(B640,'Programmes lists'!B:B,'Programmes lists'!E:E, \"Not found\")","v":"QC7357E2"},{"$f":"_xlfn.XLOOKUP(B640,'Programmes lists'!B:B,'Programmes lists'!G:G,\"Not found\")","v":"Minimum grade 12 pass in\n•\tSesotho HL 50% \n•\tEnglish FAL 50%"},{"$f":"_xlfn.XLOOKUP(B640,'Programmes lists'!B:B,'Programmes lists'!F:F,\"Not found\")","v":660}]
["Intermediate Phase Extended Progamme","EXT - Specialising in Life Skills, Social Sciences & Sesotho Home Language","EDUB2714",{"$f":"_xlfn.XLOOKUP(C641,'RAW module list'!A:A,'RAW module list'!B:B, \"Not found\")","v":"Education Studies 2: Teaching and Learning in Education Context"},{"$f":"_xlfn.XLOOKUP(C641,'RAW module list'!A:A,'RAW module list'!C:C, \"Not found\")","v":7},{"$f":"_xlfn.XLOOKUP(C641,'RAW module list'!A:A,'RAW module list'!D:D, \"Not found\")","v":16},{"$f":"_xlfn.XLOOKUP(C641,'RAW module list'!A:A,'RAW module list'!E:E, \"Not found\")","v":"EDUB1613 & EDUB1623"},"Third Year",{"$f":"_xlfn.XLOOKUP(B641,'Programmes lists'!B:B,'Programmes lists'!D:D)","v":"BC7357E2"},{"$f":"_xlfn.XLOOKUP(B641,'Programmes lists'!B:B,'Programmes lists'!E:E, \"Not found\")","v":"QC7357E2"},{"$f":"_xlfn.XLOOKUP(B641,'Programmes lists'!B:B,'Programmes lists'!G:G,\"Not found\")","v":"Minimum grade 12 pass in\n•\tSesotho HL 50% \n•\tEnglish FAL 50%"},{"$f":"_xlfn.XLOOKUP(B641,'Programmes lists'!B:B,'Programmes lists'!F:F,\"Not found\")","v":660}]
["Intermediate Phase Extended Progamme","EXT - Specialising in Life Skills, Social Sciences & Sesotho Home Language","GPED2613",{"$f":"_xlfn.XLOOKUP(C642,'RAW module list'!A:A,'RAW module list'!B:B, \"Not found\")","v":"General Pedagogy 2.1"},{"$f":"_xlfn.XLOOKUP(C642,'RAW module list'!A:A,'RAW module list'!C:C, \"Not found\")","v":6},{"$f":"_xlfn.XLOOKUP(C642,'RAW module list'!A:A,'RAW module list'!D:D, \"Not found\")","v":12},{"$f":"_xlfn.XLOOKUP(C642,'RAW module list'!A:A,'RAW module list'!E:E, \"Not found\")","v":"GPED1623"},"Third Year",{"$f":"_xlfn.XLOOKUP(B642,'Programmes lists'!B:B,'Programmes lists'!D:D)","v":"BC7357E2"},{"$f":"_xlfn.XLOOKUP(B642,'Programmes lists'!B:B,'Programmes lists'!E:E, \"Not found\")","v":"QC7357E2"},{"$f":"_xlfn.XLOOKUP(B642,'Programmes lists'!B:B,'Programmes lists'!G:G,\"Not found\")","v":"Minimum grade 12 pass in\n•\tSesotho HL 50% \n•\tEnglish FAL 50%"},{"$f":"_xlfn.XLOOKUP(B642,'Programmes lists'!B:B,'Programmes lists'!F:F,\"Not found\")","v":660}]
["Intermediate Phase Extended Progamme","EXT - Specialising in Life Skills, Social Sciences & Sesotho Home Language","TPRI2502",{"$f":"_xlfn.XLOOKUP(C643,'RAW module list'!A:A,'RAW module list'!B:B, \"Not found\")","v":"Teaching Practice 2 "},{"$f":"_xlfn.XLOOKUP(C643,'RAW module list'!A:A,'RAW module list'!C:C, \"Not found\")","v":5},{"$f":"_xlfn.XLOOKUP(C643,'RAW module list'!A:A,'RAW module list'!D:D, \"Not found\")","v":8},{"$f":"_xlfn.XLOOKUP(C643,'RAW module list'!A:A,'RAW module list'!E:E, \"Not found\")","v":"TPRI1502"},"Third Year",{"$f":"_xlfn.XLOOKUP(B643,'Programmes lists'!B:B,'Programmes lists'!D:D)","v":"BC7357E2"},{"$f":"_xlfn.XLOOKUP(B643,'Programmes lists'!B:B,'Programmes lists'!E:E, \"Not found\")","v":"QC7357E2"},{"$f":"_xlfn.XLOOKUP(B643,'Programmes lists'!B:B,'Programmes lists'!G:G,\"Not found\")","v":"Minimum grade 12 pass in\n•\tSesotho HL 50% \n•\tEnglish FAL 50%"},{"$f":"_xlfn.XLOOKUP(B643,'Programmes lists'!B:B,'Programmes lists'!F:F,\"Not found\")","v":660}]
["Intermediate Phase Extended Progamme","EXT - Specialising in Life Skills, Social Sciences & Sesotho Home Language","SSCI2624",{"$f":"_xlfn.XLOOKUP(C644,'RAW module list'!A:A,'RAW module list'!B:B, \"Not found\")","v":"Social Sciences 2: Geography"},{"$f":"_xlfn.XLOOKUP(C644,'RAW module list'!A:A,'RAW module list'!C:C, \"Not found\")","v":6},{"$f":"_xlfn.XLOOKUP(C644,'RAW module list'!A:A,'RAW module list'!D:D, \"Not found\")","v":16},{"$f":"_xlfn.XLOOKUP(C644,'RAW module list'!A:A,'RAW module list'!E:E, \"Not found\")","v":0},"Third Year",{"$f":"_xlfn.XLOOKUP(B644,'Programmes lists'!B:B,'Programmes lists'!D:D)","v":"BC7357E2"},{"$f":"_xlfn.XLOOKUP(B644,'Programmes lists'!B:B,'Programmes lists'!E:E, \"Not found\")","v":"QC7357E2"},{"$f":"_xlfn.XLOOKUP(B644,'Programmes lists'!B:B,'Programmes lists'!G:G,\"Not found\")","v":"Minimum grade 12 pass in\n•\tSesotho HL 50% \n•\tEnglish FAL 50%"},{"$f":"_xlfn.XLOOKUP(B644,'Programmes lists'!B:B,'Programmes lists'!F:F,\"Not found\")","v":660}]
["Intermediate Phase Extended Progamme","EXT - Specialising in Life Skills, Social Sciences & Sesotho Home Language","SSMT1524",{"$f":"_xlfn.XLOOKUP(C645,'RAW module list'!A:A,'RAW module list'!B:B, \"Not found\")","v":"Prose fiction in Sesotho"},{"$f":"_xlfn.XLOOKUP(C645,'RAW module list'!A:A,'RAW module list'!C:C, \"Not found\")","v":5},{"$f":"_xlfn.XLOOKUP(C645,'RAW module list'!A:A,'RAW module list'!D:D, \"Not found\")","v":16},{"$f":"_xlfn.XLOOKUP(C645,'RAW module list'!A:A,'RAW module list'!E:E, \"Not found\")","v":"SSML1514"},"Third Year",{"$f":"_xlfn.XLOOKUP(B645,'Programmes lists'!B:B,'Programmes lists'!D:D)","v":"BC7357E2"},{"$f":"_xlfn.XLOOKUP(B645,'Programmes lists'!B:B,'Programmes lists'!E:E, \"Not found\")","v":"QC7357E2"},{"$f":"_xlfn.XLOOKUP(B645,'Programmes lists'!B:B,'Programmes lists'!G:G,\"Not found\")","v":"Minimum grade 12 pass in\n•\tSesotho HL 50% \n•\tEnglish FAL 50%"},{"$f":"_xlfn.XLOOKUP(B645,'Programmes lists'!B:B,'Programmes lists'!F:F,\"Not found\")","v":660}]
["Intermediate Phase Extended Progamme","EXT - Specialising in Life Skills, Social Sciences & Sesotho Home Language","EDUB2724",{"$f":"_xlfn.XLOOKUP(C646,'RAW module list'!A:A,'RAW module list'!B:B, \"Not found\")","v":"Education Studies 2: Human Relationships in Education context"},{"$f":"_xlfn.XLOOKUP(C646,'RAW module list'!A:A,'RAW module list'!C:C, \"Not found\")","v":7},{"$f":"_xlfn.XLOOKUP(C646,'RAW module list'!A:A,'RAW module list'!D:D, \"Not found\")","v":16},{"$f":"_xlfn.XLOOKUP(C646,'RAW module list'!A:A,'RAW module list'!E:E, \"Not found\")","v":"EDUB2714"},"Third Year",{"$f":"_xlfn.XLOOKUP(B646,'Programmes lists'!B:B,'Programmes lists'!D:D)","v":"BC7357E2"},{"$f":"_xlfn.XLOOKUP(B646,'Programmes lists'!B:B,'Programmes lists'!E:E, \"Not found\")","v":"QC7357E2"},{"$f":"_xlfn.XLOOKUP(B646,'Programmes lists'!B:B,'Programmes lists'!G:G,\"Not found\")","v":"Minimum grade 12 pass in\n•\tSesotho HL 50% \n•\tEnglish FAL 50%"},{"$f":"_xlfn.XLOOKUP(B646,'Programmes lists'!B:B,'Programmes lists'!F:F,\"Not found\")","v":660}]
["Intermediate Phase Extended Progamme","EXT - Specialising in Life Skills, Social Sciences & Sesotho Home Language","GPED2623",{"$f":"_xlfn.XLOOKUP(C647,'RAW module list'!A:A,'RAW module list'!B:B, \"Not found\")","v":"General Pedagogy 2.2: Assessment"},{"$f":"_xlfn.XLOOKUP(C647,'RAW module list'!A:A,'RAW module list'!C:C, \"Not found\")","v":6},{"$f":"_xlfn.XLOOKUP(C647,'RAW module list'!A:A,'RAW module list'!D:D, \"Not found\")","v":12},{"$f":"_xlfn.XLOOKUP(C647,'RAW module list'!A:A,'RAW module list'!E:E, \"Not found\")","v":"GPED2613"},"Third Year",{"$f":"_xlfn.XLOOKUP(B647,'Programmes lists'!B:B,'Programmes lists'!D:D)","v":"BC7357E2"},{"$f":"_xlfn.XLOOKUP(B647,'Programmes lists'!B:B,'Programmes lists'!E:E, \"Not found\")","v":"QC7357E2"},{"$f":"_xlfn.XLOOKUP(B647,'Programmes lists'!B:B,'Programmes lists'!G:G,\"Not found\")","v":"Minimum grade 12 pass in\n•\tSesotho HL 50% \n•\tEnglish FAL 50%"},{"$f":"_xlfn.XLOOKUP(B647,'Programmes lists'!B:B,'Programmes lists'!F:F,\"Not found\")","v":660}]
["Intermediate Phase Extended Progamme","EXT - Specialising in Life Skills, Social Sciences & Sesotho Home Language","LSTI3604",{"$f":"_xlfn.XLOOKUP(C648,'RAW module list'!A:A,'RAW module list'!B:B, \"Not found\")","v":"Teaching of Life Skills 1 "},{"$f":"_xlfn.XLOOKUP(C648,'RAW module list'!A:A,'RAW module list'!C:C, \"Not found\")","v":6},{"$f":"_xlfn.XLOOKUP(C648,'RAW module list'!A:A,'RAW module list'!D:D, \"Not found\")","v":16},{"$f":"_xlfn.XLOOKUP(C648,'RAW module list'!A:A,'RAW module list'!E:E, \"Not found\")","v":"LSCI614 & LSCI2624"},"Fourth Year",{"$f":"_xlfn.XLOOKUP(B648,'Programmes lists'!B:B,'Programmes lists'!D:D)","v":"BC7357E2"},{"$f":"_xlfn.XLOOKUP(B648,'Programmes lists'!B:B,'Programmes lists'!E:E, \"Not found\")","v":"QC7357E2"},{"$f":"_xlfn.XLOOKUP(B648,'Programmes lists'!B:B,'Programmes lists'!G:G,\"Not found\")","v":"Minimum grade 12 pass in\n•\tSesotho HL 50% \n•\tEnglish FAL 50%"},{"$f":"_xlfn.XLOOKUP(B648,'Programmes lists'!B:B,'Programmes lists'!F:F,\"Not found\")","v":660}]
["Intermediate Phase Extended Progamme","EXT - Specialising in Life Skills, Social Sciences & Sesotho Home Language","SSTI3604",{"$f":"_xlfn.XLOOKUP(C649,'RAW module list'!A:A,'RAW module list'!B:B, \"Not found\")","v":"Teaching Social Sciences 1"},{"$f":"_xlfn.XLOOKUP(C649,'RAW module list'!A:A,'RAW module list'!C:C, \"Not found\")","v":6},{"$f":"_xlfn.XLOOKUP(C649,'RAW module list'!A:A,'RAW module list'!D:D, \"Not found\")","v":16},{"$f":"_xlfn.XLOOKUP(C649,'RAW module list'!A:A,'RAW module list'!E:E, \"Not found\")","v":"SSCI2614 & SSCI2624"},"Fourth Year",{"$f":"_xlfn.XLOOKUP(B649,'Programmes lists'!B:B,'Programmes lists'!D:D)","v":"BC7357E2"},{"$f":"_xlfn.XLOOKUP(B649,'Programmes lists'!B:B,'Programmes lists'!E:E, \"Not found\")","v":"QC7357E2"},{"$f":"_xlfn.XLOOKUP(B649,'Programmes lists'!B:B,'Programmes lists'!G:G,\"Not found\")","v":"Minimum grade 12 pass in\n•\tSesotho HL 50% \n•\tEnglish FAL 50%"},{"$f":"_xlfn.XLOOKUP(B649,'Programmes lists'!B:B,'Programmes lists'!F:F,\"Not found\")","v":660}]
["Intermediate Phase Extended Progamme","EXT - Specialising in Life Skills, Social Sciences & Sesotho Home Language","SHTI3604",{"$f":"_xlfn.XLOOKUP(C650,'RAW module list'!A:A,'RAW module list'!B:B, \"Not found\")","v":"Sesotho Teaching 1: Home Language"},{"$f":"_xlfn.XLOOKUP(C650,'RAW module list'!A:A,'RAW module list'!C:C, \"Not found\")","v":6},{"$f":"_xlfn.XLOOKUP(C650,'RAW module list'!A:A,'RAW module list'!D:D, \"Not found\")","v":16},{"$f":"_xlfn.XLOOKUP(C650,'RAW module list'!A:A,'RAW module list'!E:E, \"Not found\")","v":"SSML1514 & SSMT1524"},"Fourth Year",{"$f":"_xlfn.XLOOKUP(B650,'Programmes lists'!B:B,'Programmes lists'!D:D)","v":"BC7357E2"},{"$f":"_xlfn.XLOOKUP(B650,'Programmes lists'!B:B,'Programmes lists'!E:E, \"Not found\")","v":"QC7357E2"},{"$f":"_xlfn.XLOOKUP(B650,'Programmes lists'!B:B,'Programmes lists'!G:G,\"Not found\")","v":"Minimum grade 12 pass in\n•\tSesotho HL 50% \n•\tEnglish FAL 50%"},{"$f":"_xlfn.XLOOKUP(B650,'Programmes lists'!B:B,'Programmes lists'!F:F,\"Not found\")","v":660}]
["Intermediate Phase Extended Progamme","EXT - Specialising in Life Skills, Social Sciences & Sesotho Home Language","EDUB3714",{"$f":"_xlfn.XLOOKUP(C651,'RAW module list'!A:A,'RAW module list'!B:B, \"Not found\")","v":"Education Studies 3.1 Education systems in global and national context"},{"$f":"_xlfn.XLOOKUP(C651,'RAW module list'!A:A,'RAW module list'!C:C, \"Not found\")","v":7},{"$f":"_xlfn.XLOOKUP(C651,'RAW module list'!A:A,'RAW module list'!D:D, \"Not found\")","v":16},{"$f":"_xlfn.XLOOKUP(C651,'RAW module list'!A:A,'RAW module list'!E:E, \"Not found\")","v":"EDUB1613 & EDUB1623& EDUB2714 & EDUB2724"},"Fourth Year",{"$f":"_xlfn.XLOOKUP(B651,'Programmes lists'!B:B,'Programmes lists'!D:D)","v":"BC7357E2"},{"$f":"_xlfn.XLOOKUP(B651,'Programmes lists'!B:B,'Programmes lists'!E:E, \"Not found\")","v":"QC7357E2"},{"$f":"_xlfn.XLOOKUP(B651,'Programmes lists'!B:B,'Programmes lists'!G:G,\"Not found\")","v":"Minimum grade 12 pass in\n•\tSesotho HL 50% \n•\tEnglish FAL 50%"},{"$f":"_xlfn.XLOOKUP(B651,'Programmes lists'!B:B,'Programmes lists'!F:F,\"Not found\")","v":660}]
["Intermediate Phase Extended Progamme","EXT - Specialising in Life Skills, Social Sciences & Sesotho Home Language","CURS3502",{"$f":"_xlfn.XLOOKUP(C652,'RAW module list'!A:A,'RAW module list'!B:B, \"Not found\")","v":"Intermediate Phase School Curriculum"},{"$f":"_xlfn.XLOOKUP(C652,'RAW module list'!A:A,'RAW module list'!C:C, \"Not found\")","v":5},{"$f":"_xlfn.XLOOKUP(C652,'RAW module list'!A:A,'RAW module list'!D:D, \"Not found\")","v":8},{"$f":"_xlfn.XLOOKUP(C652,'RAW module list'!A:A,'RAW module list'!E:E, \"Not found\")","v":0},"Fourth Year",{"$f":"_xlfn.XLOOKUP(B652,'Programmes lists'!B:B,'Programmes lists'!D:D)","v":"BC7357E2"},{"$f":"_xlfn.XLOOKUP(B652,'Programmes lists'!B:B,'Programmes lists'!E:E, \"Not found\")","v":"QC7357E2"},{"$f":"_xlfn.XLOOKUP(B652,'Programmes lists'!B:B,'Programmes lists'!G:G,\"Not found\")","v":"Minimum grade 12 pass in\n•\tSesotho HL 50% \n•\tEnglish FAL 50%"},{"$f":"_xlfn.XLOOKUP(B652,'Programmes lists'!B:B,'Programmes lists'!F:F,\"Not found\")","v":660}]
["Intermediate Phase Extended Progamme","EXT - Specialising in Life Skills, Social Sciences & Sesotho Home Language","EATI3604",{"$f":"_xlfn.XLOOKUP(C653,'RAW module list'!A:A,'RAW module list'!B:B, \"Not found\")","v":"English additional language teaching 1"},{"$f":"_xlfn.XLOOKUP(C653,'RAW module list'!A:A,'RAW module list'!C:C, \"Not found\")","v":6},{"$f":"_xlfn.XLOOKUP(C653,'RAW module list'!A:A,'RAW module list'!D:D, \"Not found\")","v":16},{"$f":"_xlfn.XLOOKUP(C653,'RAW module list'!A:A,'RAW module list'!E:E, \"Not found\")","v":"ENGE1608"},"Fourth Year",{"$f":"_xlfn.XLOOKUP(B653,'Programmes lists'!B:B,'Programmes lists'!D:D)","v":"BC7357E2"},{"$f":"_xlfn.XLOOKUP(B653,'Programmes lists'!B:B,'Programmes lists'!E:E, \"Not found\")","v":"QC7357E2"},{"$f":"_xlfn.XLOOKUP(B653,'Programmes lists'!B:B,'Programmes lists'!G:G,\"Not found\")","v":"Minimum grade 12 pass in\n•\tSesotho HL 50% \n•\tEnglish FAL 50%"},{"$f":"_xlfn.XLOOKUP(B653,'Programmes lists'!B:B,'Programmes lists'!F:F,\"Not found\")","v":660}]
["Intermediate Phase Extended Progamme","EXT - Specialising in Life Skills, Social Sciences & Sesotho Home Language","SICL3512 OR GAFR3512 OR ZUCL3512",{"$f":"_xlfn.XLOOKUP(C654,'RAW module list'!A:A,'RAW module list'!B:B, \"Not found\")","v":"Conversational Language: Sesotho OR Conversational Afrikaans OR Conversational IsiZulu"},{"$f":"_xlfn.XLOOKUP(C654,'RAW module list'!A:A,'RAW module list'!C:C, \"Not found\")","v":5},{"$f":"_xlfn.XLOOKUP(C654,'RAW module list'!A:A,'RAW module list'!D:D, \"Not found\")","v":8},{"$f":"_xlfn.XLOOKUP(C654,'RAW module list'!A:A,'RAW module list'!E:E, \"Not found\")","v":"No previous exposure to the language"},"Fourth Year",{"$f":"_xlfn.XLOOKUP(B654,'Programmes lists'!B:B,'Programmes lists'!D:D)","v":"BC7357E2"},{"$f":"_xlfn.XLOOKUP(B654,'Programmes lists'!B:B,'Programmes lists'!E:E, \"Not found\")","v":"QC7357E2"},{"$f":"_xlfn.XLOOKUP(B654,'Programmes lists'!B:B,'Programmes lists'!G:G,\"Not found\")","v":"Minimum grade 12 pass in\n•\tSesotho HL 50% \n•\tEnglish FAL 50%"},{"$f":"_xlfn.XLOOKUP(B654,'Programmes lists'!B:B,'Programmes lists'!F:F,\"Not found\")","v":660}]
["Intermediate Phase Extended Progamme","EXT - Specialising in Life Skills, Social Sciences & Sesotho Home Language","WILI3606",{"$f":"_xlfn.XLOOKUP(C655,'RAW module list'!A:A,'RAW module list'!B:B, \"Not found\")","v":"Teaching Practice 3"},{"$f":"_xlfn.XLOOKUP(C655,'RAW module list'!A:A,'RAW module list'!C:C, \"Not found\")","v":6},{"$f":"_xlfn.XLOOKUP(C655,'RAW module list'!A:A,'RAW module list'!D:D, \"Not found\")","v":24},{"$f":"_xlfn.XLOOKUP(C655,'RAW module list'!A:A,'RAW module list'!E:E, \"Not found\")","v":"TPRI2502"},"Fourth Year",{"$f":"_xlfn.XLOOKUP(B655,'Programmes lists'!B:B,'Programmes lists'!D:D)","v":"BC7357E2"},{"$f":"_xlfn.XLOOKUP(B655,'Programmes lists'!B:B,'Programmes lists'!E:E, \"Not found\")","v":"QC7357E2"},{"$f":"_xlfn.XLOOKUP(B655,'Programmes lists'!B:B,'Programmes lists'!G:G,\"Not found\")","v":"Minimum grade 12 pass in\n•\tSesotho HL 50% \n•\tEnglish FAL 50%"},{"$f":"_xlfn.XLOOKUP(B655,'Programmes lists'!B:B,'Programmes lists'!F:F,\"Not found\")","v":660}]
["Intermediate Phase Extended Progamme","EXT - Specialising in Life Skills, Social Sciences & Sesotho Home Language","EDUB3724",{"$f":"_xlfn.XLOOKUP(C656,'RAW module list'!A:A,'RAW module list'!B:B, \"Not found\")","v":"Education Studies 3.2: Contemporary Education Theory in the current social context"},{"$f":"_xlfn.XLOOKUP(C656,'RAW module list'!A:A,'RAW module list'!C:C, \"Not found\")","v":7},{"$f":"_xlfn.XLOOKUP(C656,'RAW module list'!A:A,'RAW module list'!D:D, \"Not found\")","v":16},{"$f":"_xlfn.XLOOKUP(C656,'RAW module list'!A:A,'RAW module list'!E:E, \"Not found\")","v":"EDUB1613 & EDUB1623 & EDUB2714 & EDUB2724 & EDUB3714"},"Fourth Year",{"$f":"_xlfn.XLOOKUP(B656,'Programmes lists'!B:B,'Programmes lists'!D:D)","v":"BC7357E2"},{"$f":"_xlfn.XLOOKUP(B656,'Programmes lists'!B:B,'Programmes lists'!E:E, \"Not found\")","v":"QC7357E2"},{"$f":"_xlfn.XLOOKUP(B656,'Programmes lists'!B:B,'Programmes lists'!G:G,\"Not found\")","v":"Minimum grade 12 pass in\n•\tSesotho HL 50% \n•\tEnglish FAL 50%"},{"$f":"_xlfn.XLOOKUP(B656,'Programmes lists'!B:B,'Programmes lists'!F:F,\"Not found\")","v":660}]
["Intermediate Phase Extended Progamme","EXT - Specialising in Life Skills, Social Sciences & Sesotho Home Language","SICL3522 OR GAFR3522 OR ZUCL3522",{"$f":"_xlfn.XLOOKUP(C657,'RAW module list'!A:A,'RAW module list'!B:B, \"Not found\")","v":"Conversational Language: Sesotho OR Conversational Afrikaans OR Conversational IsiZulu"},{"$f":"_xlfn.XLOOKUP(C657,'RAW module list'!A:A,'RAW module list'!C:C, \"Not found\")","v":5},{"$f":"_xlfn.XLOOKUP(C657,'RAW module list'!A:A,'RAW module list'!D:D, \"Not found\")","v":8},{"$f":"_xlfn.XLOOKUP(C657,'RAW module list'!A:A,'RAW module list'!E:E, \"Not found\")","v":"Continue with the conversational language chosen in Semester 1"},"Fourth Year",{"$f":"_xlfn.XLOOKUP(B657,'Programmes lists'!B:B,'Programmes lists'!D:D)","v":"BC7357E2"},{"$f":"_xlfn.XLOOKUP(B657,'Programmes lists'!B:B,'Programmes lists'!E:E, \"Not found\")","v":"QC7357E2"},{"$f":"_xlfn.XLOOKUP(B657,'Programmes lists'!B:B,'Programmes lists'!G:G,\"Not found\")","v":"Minimum grade 12 pass in\n•\tSesotho HL 50% \n•\tEnglish FAL 50%"},{"$f":"_xlfn.XLOOKUP(B657,'Programmes lists'!B:B,'Programmes lists'!F:F,\"Not found\")","v":660}]
["Intermediate Phase Extended Progamme","EXT - Specialising in Life Skills, Social Sciences & Sesotho Home Language","LSTI4705",{"$f":"_xlfn.XLOOKUP(C658,'RAW module list'!A:A,'RAW module list'!B:B, \"Not found\")","v":"Teaching of Life Skills 2"},{"$f":"_xlfn.XLOOKUP(C658,'RAW module list'!A:A,'RAW module list'!C:C, \"Not found\")","v":7},{"$f":"_xlfn.XLOOKUP(C658,'RAW module list'!A:A,'RAW module list'!D:D, \"Not found\")","v":20},{"$f":"_xlfn.XLOOKUP(C658,'RAW module list'!A:A,'RAW module list'!E:E, \"Not found\")","v":"LSTI3604"},"Fifth Year",{"$f":"_xlfn.XLOOKUP(B658,'Programmes lists'!B:B,'Programmes lists'!D:D)","v":"BC7357E2"},{"$f":"_xlfn.XLOOKUP(B658,'Programmes lists'!B:B,'Programmes lists'!E:E, \"Not found\")","v":"QC7357E2"},{"$f":"_xlfn.XLOOKUP(B658,'Programmes lists'!B:B,'Programmes lists'!G:G,\"Not found\")","v":"Minimum grade 12 pass in\n•\tSesotho HL 50% \n•\tEnglish FAL 50%"},{"$f":"_xlfn.XLOOKUP(B658,'Programmes lists'!B:B,'Programmes lists'!F:F,\"Not found\")","v":660}]
["Intermediate Phase Extended Progamme","EXT - Specialising in Life Skills, Social Sciences & Sesotho Home Language","SSTI4705",{"$f":"_xlfn.XLOOKUP(C659,'RAW module list'!A:A,'RAW module list'!B:B, \"Not found\")","v":"Teaching of Social Sciences 2"},{"$f":"_xlfn.XLOOKUP(C659,'RAW module list'!A:A,'RAW module list'!C:C, \"Not found\")","v":7},{"$f":"_xlfn.XLOOKUP(C659,'RAW module list'!A:A,'RAW module list'!D:D, \"Not found\")","v":20},{"$f":"_xlfn.XLOOKUP(C659,'RAW module list'!A:A,'RAW module list'!E:E, \"Not found\")","v":"SSTI3604"},"Fifth Year",{"$f":"_xlfn.XLOOKUP(B659,'Programmes lists'!B:B,'Programmes lists'!D:D)","v":"BC7357E2"},{"$f":"_xlfn.XLOOKUP(B659,'Programmes lists'!B:B,'Programmes lists'!E:E, \"Not found\")","v":"QC7357E2"},{"$f":"_xlfn.XLOOKUP(B659,'Programmes lists'!B:B,'Programmes lists'!G:G,\"Not found\")","v":"Minimum grade 12 pass in\n•\tSesotho HL 50% \n•\tEnglish FAL 50%"},{"$f":"_xlfn.XLOOKUP(B659,'Programmes lists'!B:B,'Programmes lists'!F:F,\"Not found\")","v":660}]
["Intermediate Phase Extended Progamme","EXT - Specialising in Life Skills, Social Sciences & Sesotho Home Language","SHTI4705",{"$f":"_xlfn.XLOOKUP(C660,'RAW module list'!A:A,'RAW module list'!B:B, \"Not found\")","v":"Sesotho Teaching 1 (Home Language)"},{"$f":"_xlfn.XLOOKUP(C660,'RAW module list'!A:A,'RAW module list'!C:C, \"Not found\")","v":7},{"$f":"_xlfn.XLOOKUP(C660,'RAW module list'!A:A,'RAW module list'!D:D, \"Not found\")","v":20},{"$f":"_xlfn.XLOOKUP(C660,'RAW module list'!A:A,'RAW module list'!E:E, \"Not found\")","v":"SHTI3604"},"Fifth Year",{"$f":"_xlfn.XLOOKUP(B660,'Programmes lists'!B:B,'Programmes lists'!D:D)","v":"BC7357E2"},{"$f":"_xlfn.XLOOKUP(B660,'Programmes lists'!B:B,'Programmes lists'!E:E, \"Not found\")","v":"QC7357E2"},{"$f":"_xlfn.XLOOKUP(B660,'Programmes lists'!B:B,'Programmes lists'!G:G,\"Not found\")","v":"Minimum grade 12 pass in\n•\tSesotho HL 50% \n•\tEnglish FAL 50%"},{"$f":"_xlfn.XLOOKUP(B660,'Programmes lists'!B:B,'Programmes lists'!F:F,\"Not found\")","v":660}]
["Intermediate Phase Extended Progamme","EXT - Specialising in Life Skills, Social Sciences & Sesotho Home Language","CURS4502",{"$f":"_xlfn.XLOOKUP(C661,'RAW module list'!A:A,'RAW module list'!B:B, \"Not found\")","v":"Intermediate Phase School Curriculum"},{"$f":"_xlfn.XLOOKUP(C661,'RAW module list'!A:A,'RAW module list'!C:C, \"Not found\")","v":5},{"$f":"_xlfn.XLOOKUP(C661,'RAW module list'!A:A,'RAW module list'!D:D, \"Not found\")","v":8},{"$f":"_xlfn.XLOOKUP(C661,'RAW module list'!A:A,'RAW module list'!E:E, \"Not found\")","v":"CURS3502"},"Fifth Year",{"$f":"_xlfn.XLOOKUP(B661,'Programmes lists'!B:B,'Programmes lists'!D:D)","v":"BC7357E2"},{"$f":"_xlfn.XLOOKUP(B661,'Programmes lists'!B:B,'Programmes lists'!E:E, \"Not found\")","v":"QC7357E2"},{"$f":"_xlfn.XLOOKUP(B661,'Programmes lists'!B:B,'Programmes lists'!G:G,\"Not found\")","v":"Minimum grade 12 pass in\n•\tSesotho HL 50% \n•\tEnglish FAL 50%"},{"$f":"_xlfn.XLOOKUP(B661,'Programmes lists'!B:B,'Programmes lists'!F:F,\"Not found\")","v":660}]
["Intermediate Phase Extended Progamme","EXT - Specialising in Life Skills, Social Sciences & Sesotho Home Language","EATI4705",{"$f":"_xlfn.XLOOKUP(C662,'RAW module list'!A:A,'RAW module list'!B:B, \"Not found\")","v":"English additional language teaching 2"},{"$f":"_xlfn.XLOOKUP(C662,'RAW module list'!A:A,'RAW module list'!C:C, \"Not found\")","v":7},{"$f":"_xlfn.XLOOKUP(C662,'RAW module list'!A:A,'RAW module list'!D:D, \"Not found\")","v":20},{"$f":"_xlfn.XLOOKUP(C662,'RAW module list'!A:A,'RAW module list'!E:E, \"Not found\")","v":"EATI3604"},"Fifth Year",{"$f":"_xlfn.XLOOKUP(B662,'Programmes lists'!B:B,'Programmes lists'!D:D)","v":"BC7357E2"},{"$f":"_xlfn.XLOOKUP(B662,'Programmes lists'!B:B,'Programmes lists'!E:E, \"Not found\")","v":"QC7357E2"},{"$f":"_xlfn.XLOOKUP(B662,'Programmes lists'!B:B,'Programmes lists'!G:G,\"Not found\")","v":"Minimum grade 12 pass in\n•\tSesotho HL 50% \n•\tEnglish FAL 50%"},{"$f":"_xlfn.XLOOKUP(B662,'Programmes lists'!B:B,'Programmes lists'!F:F,\"Not found\")","v":660}]
["Intermediate Phase Extended Progamme","EXT - Specialising in Life Skills, Social Sciences & Sesotho Home Language","WILI4700",{"$f":"_xlfn.XLOOKUP(C663,'RAW module list'!A:A,'RAW module list'!B:B, \"Not found\")","v":"Teaching Practice 4"},{"$f":"_xlfn.XLOOKUP(C663,'RAW module list'!A:A,'RAW module list'!C:C, \"Not found\")","v":7},{"$f":"_xlfn.XLOOKUP(C663,'RAW module list'!A:A,'RAW module list'!D:D, \"Not found\")","v":40},{"$f":"_xlfn.XLOOKUP(C663,'RAW module list'!A:A,'RAW module list'!E:E, \"Not found\")","v":"WILI3606"},"Fifth Year",{"$f":"_xlfn.XLOOKUP(B663,'Programmes lists'!B:B,'Programmes lists'!D:D)","v":"BC7357E2"},{"$f":"_xlfn.XLOOKUP(B663,'Programmes lists'!B:B,'Programmes lists'!E:E, \"Not found\")","v":"QC7357E2"},{"$f":"_xlfn.XLOOKUP(B663,'Programmes lists'!B:B,'Programmes lists'!G:G,\"Not found\")","v":"Minimum grade 12 pass in\n•\tSesotho HL 50% \n•\tEnglish FAL 50%"},{"$f":"_xlfn.XLOOKUP(B663,'Programmes lists'!B:B,'Programmes lists'!F:F,\"Not found\")","v":660}]
["Intermediate Phase Extended Progamme","EXT - Specialising in Life Skills, Social Sciences, & English Home Language","EALT1508",{"$f":"_xlfn.XLOOKUP(C664,'RAW module list'!A:A,'RAW module list'!B:B, \"Not found\")","v":"English Academic Literacy for Education "},{"$f":"_xlfn.XLOOKUP(C664,'RAW module list'!A:A,'RAW module list'!C:C, \"Not found\")","v":5},{"$f":"_xlfn.XLOOKUP(C664,'RAW module list'!A:A,'RAW module list'!D:D, \"Not found\")","v":-32},{"$f":"_xlfn.XLOOKUP(C664,'RAW module list'!A:A,'RAW module list'!E:E, \"Not found\")","v":"NBT requirements not met"},"First Year",{"$f":"_xlfn.XLOOKUP(B664,'Programmes lists'!B:B,'Programmes lists'!D:D)","v":"BC7357E2  "},{"$f":"_xlfn.XLOOKUP(B664,'Programmes lists'!B:B,'Programmes lists'!E:E, \"Not found\")","v":0},{"$f":"_xlfn.XLOOKUP(B664,'Programmes lists'!B:B,'Programmes lists'!G:G,\"Not found\")","v":"Minimum grade 12 pass in\n•\tEnglish HL 50% \n•\tAfrikaans FAL 55%"},{"$f":"_xlfn.XLOOKUP(B664,'Programmes lists'!B:B,'Programmes lists'!F:F,\"Not found\")","v":660}]
["Intermediate Phase Extended Progamme","EXT - Specialising in Life Skills, Social Sciences, & English Home Language","SCLL1508",{"$f":"_xlfn.XLOOKUP(C665,'RAW module list'!A:A,'RAW module list'!B:B, \"Not found\")","v":"Skills and competencies for lifelong learning"},{"$f":"_xlfn.XLOOKUP(C665,'RAW module list'!A:A,'RAW module list'!C:C, \"Not found\")","v":6},{"$f":"_xlfn.XLOOKUP(C665,'RAW module list'!A:A,'RAW module list'!D:D, \"Not found\")","v":32},{"$f":"_xlfn.XLOOKUP(C665,'RAW module list'!A:A,'RAW module list'!E:E, \"Not found\")","v":0},"First Year",{"$f":"_xlfn.XLOOKUP(B665,'Programmes lists'!B:B,'Programmes lists'!D:D)","v":"BC7357E2  "},{"$f":"_xlfn.XLOOKUP(B665,'Programmes lists'!B:B,'Programmes lists'!E:E, \"Not found\")","v":0},{"$f":"_xlfn.XLOOKUP(B665,'Programmes lists'!B:B,'Programmes lists'!G:G,\"Not found\")","v":"Minimum grade 12 pass in\n•\tEnglish HL 50% \n•\tAfrikaans FAL 55%"},{"$f":"_xlfn.XLOOKUP(B665,'Programmes lists'!B:B,'Programmes lists'!F:F,\"Not found\")","v":660}]
["Intermediate Phase Extended Progamme","EXT - Specialising in Life Skills, Social Sciences, & English Home Language","LLST1513",{"$f":"_xlfn.XLOOKUP(C666,'RAW module list'!A:A,'RAW module list'!B:B, \"Not found\")","v":"Lifelong Learning Skills"},{"$f":"_xlfn.XLOOKUP(C666,'RAW module list'!A:A,'RAW module list'!C:C, \"Not found\")","v":5},{"$f":"_xlfn.XLOOKUP(C666,'RAW module list'!A:A,'RAW module list'!D:D, \"Not found\")","v":12},{"$f":"_xlfn.XLOOKUP(C666,'RAW module list'!A:A,'RAW module list'!E:E, \"Not found\")","v":0},"First Year",{"$f":"_xlfn.XLOOKUP(B666,'Programmes lists'!B:B,'Programmes lists'!D:D)","v":"BC7357E2  "},{"$f":"_xlfn.XLOOKUP(B666,'Programmes lists'!B:B,'Programmes lists'!E:E, \"Not found\")","v":0},{"$f":"_xlfn.XLOOKUP(B666,'Programmes lists'!B:B,'Programmes lists'!G:G,\"Not found\")","v":"Minimum grade 12 pass in\n•\tEnglish HL 50% \n•\tAfrikaans FAL 55%"},{"$f":"_xlfn.XLOOKUP(B666,'Programmes lists'!B:B,'Programmes lists'!F:F,\"Not found\")","v":660}]
["Intermediate Phase Extended Progamme","EXT - Specialising in Life Skills, Social Sciences, & English Home Language","EDUB1613",{"$f":"_xlfn.XLOOKUP(C667,'RAW module list'!A:A,'RAW module list'!B:B, \"Not found\")","v":"Education Studies 1.1 The Individual in the learning context"},{"$f":"_xlfn.XLOOKUP(C667,'RAW module list'!A:A,'RAW module list'!C:C, \"Not found\")","v":6},{"$f":"_xlfn.XLOOKUP(C667,'RAW module list'!A:A,'RAW module list'!D:D, \"Not found\")","v":12},{"$f":"_xlfn.XLOOKUP(C667,'RAW module list'!A:A,'RAW module list'!E:E, \"Not found\")","v":0},"First Year",{"$f":"_xlfn.XLOOKUP(B667,'Programmes lists'!B:B,'Programmes lists'!D:D)","v":"BC7357E2  "},{"$f":"_xlfn.XLOOKUP(B667,'Programmes lists'!B:B,'Programmes lists'!E:E, \"Not found\")","v":0},{"$f":"_xlfn.XLOOKUP(B667,'Programmes lists'!B:B,'Programmes lists'!G:G,\"Not found\")","v":"Minimum grade 12 pass in\n•\tEnglish HL 50% \n•\tAfrikaans FAL 55%"},{"$f":"_xlfn.XLOOKUP(B667,'Programmes lists'!B:B,'Programmes lists'!F:F,\"Not found\")","v":660}]
["Intermediate Phase Extended Progamme","EXT - Specialising in Life Skills, Social Sciences, & English Home Language","EDUB1623",{"$f":"_xlfn.XLOOKUP(C668,'RAW module list'!A:A,'RAW module list'!B:B, \"Not found\")","v":"Education Studies 1.2 What it means to educate: Theoretical perspectives and their significance for SA education"},{"$f":"_xlfn.XLOOKUP(C668,'RAW module list'!A:A,'RAW module list'!C:C, \"Not found\")","v":6},{"$f":"_xlfn.XLOOKUP(C668,'RAW module list'!A:A,'RAW module list'!D:D, \"Not found\")","v":12},{"$f":"_xlfn.XLOOKUP(C668,'RAW module list'!A:A,'RAW module list'!E:E, \"Not found\")","v":0},"First Year",{"$f":"_xlfn.XLOOKUP(B668,'Programmes lists'!B:B,'Programmes lists'!D:D)","v":"BC7357E2  "},{"$f":"_xlfn.XLOOKUP(B668,'Programmes lists'!B:B,'Programmes lists'!E:E, \"Not found\")","v":0},{"$f":"_xlfn.XLOOKUP(B668,'Programmes lists'!B:B,'Programmes lists'!G:G,\"Not found\")","v":"Minimum grade 12 pass in\n•\tEnglish HL 50% \n•\tAfrikaans FAL 55%"},{"$f":"_xlfn.XLOOKUP(B668,'Programmes lists'!B:B,'Programmes lists'!F:F,\"Not found\")","v":660}]
["Intermediate Phase Extended Progamme","EXT - Specialising in Life Skills, Social Sciences, & English Home Language","GPED1623",{"$f":"_xlfn.XLOOKUP(C669,'RAW module list'!A:A,'RAW module list'!B:B, \"Not found\")","v":"General Pedagogy 1: Managing the Curriculum"},{"$f":"_xlfn.XLOOKUP(C669,'RAW module list'!A:A,'RAW module list'!C:C, \"Not found\")","v":6},{"$f":"_xlfn.XLOOKUP(C669,'RAW module list'!A:A,'RAW module list'!D:D, \"Not found\")","v":12},{"$f":"_xlfn.XLOOKUP(C669,'RAW module list'!A:A,'RAW module list'!E:E, \"Not found\")","v":0},"First Year",{"$f":"_xlfn.XLOOKUP(B669,'Programmes lists'!B:B,'Programmes lists'!D:D)","v":"BC7357E2  "},{"$f":"_xlfn.XLOOKUP(B669,'Programmes lists'!B:B,'Programmes lists'!E:E, \"Not found\")","v":0},{"$f":"_xlfn.XLOOKUP(B669,'Programmes lists'!B:B,'Programmes lists'!G:G,\"Not found\")","v":"Minimum grade 12 pass in\n•\tEnglish HL 50% \n•\tAfrikaans FAL 55%"},{"$f":"_xlfn.XLOOKUP(B669,'Programmes lists'!B:B,'Programmes lists'!F:F,\"Not found\")","v":660}]
["Intermediate Phase Extended Progamme","EXT - Specialising in Life Skills, Social Sciences, & English Home Language","EALH2508",{"$f":"_xlfn.XLOOKUP(C670,'RAW module list'!A:A,'RAW module list'!B:B, \"Not found\")","v":"Academic Literacy for extended programmes 2"},{"$f":"_xlfn.XLOOKUP(C670,'RAW module list'!A:A,'RAW module list'!C:C, \"Not found\")","v":5},{"$f":"_xlfn.XLOOKUP(C670,'RAW module list'!A:A,'RAW module list'!D:D, \"Not found\")","v":32},{"$f":"_xlfn.XLOOKUP(C670,'RAW module list'!A:A,'RAW module list'!E:E, \"Not found\")","v":"AGAE1508 or EALT1508"},"Second Year",{"$f":"_xlfn.XLOOKUP(B670,'Programmes lists'!B:B,'Programmes lists'!D:D)","v":"BC7357E2  "},{"$f":"_xlfn.XLOOKUP(B670,'Programmes lists'!B:B,'Programmes lists'!E:E, \"Not found\")","v":0},{"$f":"_xlfn.XLOOKUP(B670,'Programmes lists'!B:B,'Programmes lists'!G:G,\"Not found\")","v":"Minimum grade 12 pass in\n•\tEnglish HL 50% \n•\tAfrikaans FAL 55%"},{"$f":"_xlfn.XLOOKUP(B670,'Programmes lists'!B:B,'Programmes lists'!F:F,\"Not found\")","v":660}]
["Intermediate Phase Extended Progamme","EXT - Specialising in Life Skills, Social Sciences, & English Home Language","AFRT1514",{"$f":"_xlfn.XLOOKUP(C671,'RAW module list'!A:A,'RAW module list'!B:B, \"Not found\")","v":"Basic Afrikaans Language"},{"$f":"_xlfn.XLOOKUP(C671,'RAW module list'!A:A,'RAW module list'!C:C, \"Not found\")","v":5},{"$f":"_xlfn.XLOOKUP(C671,'RAW module list'!A:A,'RAW module list'!D:D, \"Not found\")","v":16},{"$f":"_xlfn.XLOOKUP(C671,'RAW module list'!A:A,'RAW module list'!E:E, \"Not found\")","v":"Afrikaans FAL in Grade 12 > 55%"},"Second Year",{"$f":"_xlfn.XLOOKUP(B671,'Programmes lists'!B:B,'Programmes lists'!D:D)","v":"BC7357E2  "},{"$f":"_xlfn.XLOOKUP(B671,'Programmes lists'!B:B,'Programmes lists'!E:E, \"Not found\")","v":0},{"$f":"_xlfn.XLOOKUP(B671,'Programmes lists'!B:B,'Programmes lists'!G:G,\"Not found\")","v":"Minimum grade 12 pass in\n•\tEnglish HL 50% \n•\tAfrikaans FAL 55%"},{"$f":"_xlfn.XLOOKUP(B671,'Programmes lists'!B:B,'Programmes lists'!F:F,\"Not found\")","v":660}]
["Intermediate Phase Extended Progamme","EXT - Specialising in Life Skills, Social Sciences, & English Home Language","LSCI1614",{"$f":"_xlfn.XLOOKUP(C672,'RAW module list'!A:A,'RAW module list'!B:B, \"Not found\")","v":"Life Skills "},{"$f":"_xlfn.XLOOKUP(C672,'RAW module list'!A:A,'RAW module list'!C:C, \"Not found\")","v":6},{"$f":"_xlfn.XLOOKUP(C672,'RAW module list'!A:A,'RAW module list'!D:D, \"Not found\")","v":16},{"$f":"_xlfn.XLOOKUP(C672,'RAW module list'!A:A,'RAW module list'!E:E, \"Not found\")","v":0},"Second Year",{"$f":"_xlfn.XLOOKUP(B672,'Programmes lists'!B:B,'Programmes lists'!D:D)","v":"BC7357E2  "},{"$f":"_xlfn.XLOOKUP(B672,'Programmes lists'!B:B,'Programmes lists'!E:E, \"Not found\")","v":0},{"$f":"_xlfn.XLOOKUP(B672,'Programmes lists'!B:B,'Programmes lists'!G:G,\"Not found\")","v":"Minimum grade 12 pass in\n•\tEnglish HL 50% \n•\tAfrikaans FAL 55%"},{"$f":"_xlfn.XLOOKUP(B672,'Programmes lists'!B:B,'Programmes lists'!F:F,\"Not found\")","v":660}]
["Intermediate Phase Extended Progamme","EXT - Specialising in Life Skills, Social Sciences, & English Home Language","MTDH1508",{"$f":"_xlfn.XLOOKUP(C673,'RAW module list'!A:A,'RAW module list'!B:B, \"Not found\")","v":"Mathematical Literacy"},{"$f":"_xlfn.XLOOKUP(C673,'RAW module list'!A:A,'RAW module list'!C:C, \"Not found\")","v":5},{"$f":"_xlfn.XLOOKUP(C673,'RAW module list'!A:A,'RAW module list'!D:D, \"Not found\")","v":32},{"$f":"_xlfn.XLOOKUP(C673,'RAW module list'!A:A,'RAW module list'!E:E, \"Not found\")","v":0},"Second Year",{"$f":"_xlfn.XLOOKUP(B673,'Programmes lists'!B:B,'Programmes lists'!D:D)","v":"BC7357E2  "},{"$f":"_xlfn.XLOOKUP(B673,'Programmes lists'!B:B,'Programmes lists'!E:E, \"Not found\")","v":0},{"$f":"_xlfn.XLOOKUP(B673,'Programmes lists'!B:B,'Programmes lists'!G:G,\"Not found\")","v":"Minimum grade 12 pass in\n•\tEnglish HL 50% \n•\tAfrikaans FAL 55%"},{"$f":"_xlfn.XLOOKUP(B673,'Programmes lists'!B:B,'Programmes lists'!F:F,\"Not found\")","v":660}]
["Intermediate Phase Extended Progamme","EXT - Specialising in Life Skills, Social Sciences, & English Home Language","TPRI1502",{"$f":"_xlfn.XLOOKUP(C674,'RAW module list'!A:A,'RAW module list'!B:B, \"Not found\")","v":"Teaching Practice 1"},{"$f":"_xlfn.XLOOKUP(C674,'RAW module list'!A:A,'RAW module list'!C:C, \"Not found\")","v":5},{"$f":"_xlfn.XLOOKUP(C674,'RAW module list'!A:A,'RAW module list'!D:D, \"Not found\")","v":8},{"$f":"_xlfn.XLOOKUP(C674,'RAW module list'!A:A,'RAW module list'!E:E, \"Not found\")","v":0},"Second Year",{"$f":"_xlfn.XLOOKUP(B674,'Programmes lists'!B:B,'Programmes lists'!D:D)","v":"BC7357E2  "},{"$f":"_xlfn.XLOOKUP(B674,'Programmes lists'!B:B,'Programmes lists'!E:E, \"Not found\")","v":0},{"$f":"_xlfn.XLOOKUP(B674,'Programmes lists'!B:B,'Programmes lists'!G:G,\"Not found\")","v":"Minimum grade 12 pass in\n•\tEnglish HL 50% \n•\tAfrikaans FAL 55%"},{"$f":"_xlfn.XLOOKUP(B674,'Programmes lists'!B:B,'Programmes lists'!F:F,\"Not found\")","v":660}]
["Intermediate Phase Extended Progamme","EXT - Specialising in Life Skills, Social Sciences, & English Home Language","AFRL1624",{"$f":"_xlfn.XLOOKUP(C675,'RAW module list'!A:A,'RAW module list'!B:B, \"Not found\")","v":"Basic Afrikaans literature"},{"$f":"_xlfn.XLOOKUP(C675,'RAW module list'!A:A,'RAW module list'!C:C, \"Not found\")","v":6},{"$f":"_xlfn.XLOOKUP(C675,'RAW module list'!A:A,'RAW module list'!D:D, \"Not found\")","v":16},{"$f":"_xlfn.XLOOKUP(C675,'RAW module list'!A:A,'RAW module list'!E:E, \"Not found\")","v":"AFRT1514"},"Second Year",{"$f":"_xlfn.XLOOKUP(B675,'Programmes lists'!B:B,'Programmes lists'!D:D)","v":"BC7357E2  "},{"$f":"_xlfn.XLOOKUP(B675,'Programmes lists'!B:B,'Programmes lists'!E:E, \"Not found\")","v":0},{"$f":"_xlfn.XLOOKUP(B675,'Programmes lists'!B:B,'Programmes lists'!G:G,\"Not found\")","v":"Minimum grade 12 pass in\n•\tEnglish HL 50% \n•\tAfrikaans FAL 55%"},{"$f":"_xlfn.XLOOKUP(B675,'Programmes lists'!B:B,'Programmes lists'!F:F,\"Not found\")","v":660}]
["Intermediate Phase Extended Progamme","EXT - Specialising in Life Skills, Social Sciences, & English Home Language","LSCI1624",{"$f":"_xlfn.XLOOKUP(C676,'RAW module list'!A:A,'RAW module list'!B:B, \"Not found\")","v":"Life Skills 1"},{"$f":"_xlfn.XLOOKUP(C676,'RAW module list'!A:A,'RAW module list'!C:C, \"Not found\")","v":6},{"$f":"_xlfn.XLOOKUP(C676,'RAW module list'!A:A,'RAW module list'!D:D, \"Not found\")","v":16},{"$f":"_xlfn.XLOOKUP(C676,'RAW module list'!A:A,'RAW module list'!E:E, \"Not found\")","v":0},"Second Year",{"$f":"_xlfn.XLOOKUP(B676,'Programmes lists'!B:B,'Programmes lists'!D:D)","v":"BC7357E2  "},{"$f":"_xlfn.XLOOKUP(B676,'Programmes lists'!B:B,'Programmes lists'!E:E, \"Not found\")","v":0},{"$f":"_xlfn.XLOOKUP(B676,'Programmes lists'!B:B,'Programmes lists'!G:G,\"Not found\")","v":"Minimum grade 12 pass in\n•\tEnglish HL 50% \n•\tAfrikaans FAL 55%"},{"$f":"_xlfn.XLOOKUP(B676,'Programmes lists'!B:B,'Programmes lists'!F:F,\"Not found\")","v":660}]
["Intermediate Phase Extended Progamme","EXT - Specialising in Life Skills, Social Sciences, & English Home Language","UFSS1522",{"$f":"_xlfn.XLOOKUP(C677,'RAW module list'!A:A,'RAW module list'!B:B, \"Not found\")","v":"Institutional module"},{"$f":"_xlfn.XLOOKUP(C677,'RAW module list'!A:A,'RAW module list'!C:C, \"Not found\")","v":5},{"$f":"_xlfn.XLOOKUP(C677,'RAW module list'!A:A,'RAW module list'!D:D, \"Not found\")","v":-8},{"$f":"_xlfn.XLOOKUP(C677,'RAW module list'!A:A,'RAW module list'!E:E, \"Not found\")","v":0},"Second Year",{"$f":"_xlfn.XLOOKUP(B677,'Programmes lists'!B:B,'Programmes lists'!D:D)","v":"BC7357E2  "},{"$f":"_xlfn.XLOOKUP(B677,'Programmes lists'!B:B,'Programmes lists'!E:E, \"Not found\")","v":0},{"$f":"_xlfn.XLOOKUP(B677,'Programmes lists'!B:B,'Programmes lists'!G:G,\"Not found\")","v":"Minimum grade 12 pass in\n•\tEnglish HL 50% \n•\tAfrikaans FAL 55%"},{"$f":"_xlfn.XLOOKUP(B677,'Programmes lists'!B:B,'Programmes lists'!F:F,\"Not found\")","v":660}]
["Intermediate Phase Extended Progamme","EXT - Specialising in Life Skills, Social Sciences, & English Home Language","SSCI2614",{"$f":"_xlfn.XLOOKUP(C678,'RAW module list'!A:A,'RAW module list'!B:B, \"Not found\")","v":"Social Science History"},{"$f":"_xlfn.XLOOKUP(C678,'RAW module list'!A:A,'RAW module list'!C:C, \"Not found\")","v":6},{"$f":"_xlfn.XLOOKUP(C678,'RAW module list'!A:A,'RAW module list'!D:D, \"Not found\")","v":16},{"$f":"_xlfn.XLOOKUP(C678,'RAW module list'!A:A,'RAW module list'!E:E, \"Not found\")","v":0},"Third Year",{"$f":"_xlfn.XLOOKUP(B678,'Programmes lists'!B:B,'Programmes lists'!D:D)","v":"BC7357E2  "},{"$f":"_xlfn.XLOOKUP(B678,'Programmes lists'!B:B,'Programmes lists'!E:E, \"Not found\")","v":0},{"$f":"_xlfn.XLOOKUP(B678,'Programmes lists'!B:B,'Programmes lists'!G:G,\"Not found\")","v":"Minimum grade 12 pass in\n•\tEnglish HL 50% \n•\tAfrikaans FAL 55%"},{"$f":"_xlfn.XLOOKUP(B678,'Programmes lists'!B:B,'Programmes lists'!F:F,\"Not found\")","v":660}]
["Intermediate Phase Extended Progamme","EXT - Specialising in Life Skills, Social Sciences, & English Home Language","ENGE1608",{"$f":"_xlfn.XLOOKUP(C679,'RAW module list'!A:A,'RAW module list'!B:B, \"Not found\")","v":"English Language for Education "},{"$f":"_xlfn.XLOOKUP(C679,'RAW module list'!A:A,'RAW module list'!C:C, \"Not found\")","v":6},{"$f":"_xlfn.XLOOKUP(C679,'RAW module list'!A:A,'RAW module list'!D:D, \"Not found\")","v":32},{"$f":"_xlfn.XLOOKUP(C679,'RAW module list'!A:A,'RAW module list'!E:E, \"Not found\")","v":0},"Third Year",{"$f":"_xlfn.XLOOKUP(B679,'Programmes lists'!B:B,'Programmes lists'!D:D)","v":"BC7357E2  "},{"$f":"_xlfn.XLOOKUP(B679,'Programmes lists'!B:B,'Programmes lists'!E:E, \"Not found\")","v":0},{"$f":"_xlfn.XLOOKUP(B679,'Programmes lists'!B:B,'Programmes lists'!G:G,\"Not found\")","v":"Minimum grade 12 pass in\n•\tEnglish HL 50% \n•\tAfrikaans FAL 55%"},{"$f":"_xlfn.XLOOKUP(B679,'Programmes lists'!B:B,'Programmes lists'!F:F,\"Not found\")","v":660}]
["Intermediate Phase Extended Progamme","EXT - Specialising in Life Skills, Social Sciences, & English Home Language","MTBI2503",{"$f":"_xlfn.XLOOKUP(C680,'RAW module list'!A:A,'RAW module list'!B:B, \"Not found\")","v":"Basic Mathematics "},{"$f":"_xlfn.XLOOKUP(C680,'RAW module list'!A:A,'RAW module list'!C:C, \"Not found\")","v":5},{"$f":"_xlfn.XLOOKUP(C680,'RAW module list'!A:A,'RAW module list'!D:D, \"Not found\")","v":12},{"$f":"_xlfn.XLOOKUP(C680,'RAW module list'!A:A,'RAW module list'!E:E, \"Not found\")","v":0},"Third Year",{"$f":"_xlfn.XLOOKUP(B680,'Programmes lists'!B:B,'Programmes lists'!D:D)","v":"BC7357E2  "},{"$f":"_xlfn.XLOOKUP(B680,'Programmes lists'!B:B,'Programmes lists'!E:E, \"Not found\")","v":0},{"$f":"_xlfn.XLOOKUP(B680,'Programmes lists'!B:B,'Programmes lists'!G:G,\"Not found\")","v":"Minimum grade 12 pass in\n•\tEnglish HL 50% \n•\tAfrikaans FAL 55%"},{"$f":"_xlfn.XLOOKUP(B680,'Programmes lists'!B:B,'Programmes lists'!F:F,\"Not found\")","v":660}]
["Intermediate Phase Extended Progamme","EXT - Specialising in Life Skills, Social Sciences, & English Home Language","EDUB2714",{"$f":"_xlfn.XLOOKUP(C681,'RAW module list'!A:A,'RAW module list'!B:B, \"Not found\")","v":"Education Studies 2: Teaching and Learning in Education Context"},{"$f":"_xlfn.XLOOKUP(C681,'RAW module list'!A:A,'RAW module list'!C:C, \"Not found\")","v":7},{"$f":"_xlfn.XLOOKUP(C681,'RAW module list'!A:A,'RAW module list'!D:D, \"Not found\")","v":16},{"$f":"_xlfn.XLOOKUP(C681,'RAW module list'!A:A,'RAW module list'!E:E, \"Not found\")","v":"EDUB1613 & EDUB1623"},"Third Year",{"$f":"_xlfn.XLOOKUP(B681,'Programmes lists'!B:B,'Programmes lists'!D:D)","v":"BC7357E2  "},{"$f":"_xlfn.XLOOKUP(B681,'Programmes lists'!B:B,'Programmes lists'!E:E, \"Not found\")","v":0},{"$f":"_xlfn.XLOOKUP(B681,'Programmes lists'!B:B,'Programmes lists'!G:G,\"Not found\")","v":"Minimum grade 12 pass in\n•\tEnglish HL 50% \n•\tAfrikaans FAL 55%"},{"$f":"_xlfn.XLOOKUP(B681,'Programmes lists'!B:B,'Programmes lists'!F:F,\"Not found\")","v":660}]
["Intermediate Phase Extended Progamme","EXT - Specialising in Life Skills, Social Sciences, & English Home Language","GPED2613",{"$f":"_xlfn.XLOOKUP(C682,'RAW module list'!A:A,'RAW module list'!B:B, \"Not found\")","v":"General Pedagogy 2.1"},{"$f":"_xlfn.XLOOKUP(C682,'RAW module list'!A:A,'RAW module list'!C:C, \"Not found\")","v":6},{"$f":"_xlfn.XLOOKUP(C682,'RAW module list'!A:A,'RAW module list'!D:D, \"Not found\")","v":12},{"$f":"_xlfn.XLOOKUP(C682,'RAW module list'!A:A,'RAW module list'!E:E, \"Not found\")","v":"GPED1623"},"Third Year",{"$f":"_xlfn.XLOOKUP(B682,'Programmes lists'!B:B,'Programmes lists'!D:D)","v":"BC7357E2  "},{"$f":"_xlfn.XLOOKUP(B682,'Programmes lists'!B:B,'Programmes lists'!E:E, \"Not found\")","v":0},{"$f":"_xlfn.XLOOKUP(B682,'Programmes lists'!B:B,'Programmes lists'!G:G,\"Not found\")","v":"Minimum grade 12 pass in\n•\tEnglish HL 50% \n•\tAfrikaans FAL 55%"},{"$f":"_xlfn.XLOOKUP(B682,'Programmes lists'!B:B,'Programmes lists'!F:F,\"Not found\")","v":660}]
["Intermediate Phase Extended Progamme","EXT - Specialising in Life Skills, Social Sciences, & English Home Language","TPRI2502",{"$f":"_xlfn.XLOOKUP(C683,'RAW module list'!A:A,'RAW module list'!B:B, \"Not found\")","v":"Teaching Practice 2 "},{"$f":"_xlfn.XLOOKUP(C683,'RAW module list'!A:A,'RAW module list'!C:C, \"Not found\")","v":5},{"$f":"_xlfn.XLOOKUP(C683,'RAW module list'!A:A,'RAW module list'!D:D, \"Not found\")","v":8},{"$f":"_xlfn.XLOOKUP(C683,'RAW module list'!A:A,'RAW module list'!E:E, \"Not found\")","v":"TPRI1502"},"Third Year",{"$f":"_xlfn.XLOOKUP(B683,'Programmes lists'!B:B,'Programmes lists'!D:D)","v":"BC7357E2  "},{"$f":"_xlfn.XLOOKUP(B683,'Programmes lists'!B:B,'Programmes lists'!E:E, \"Not found\")","v":0},{"$f":"_xlfn.XLOOKUP(B683,'Programmes lists'!B:B,'Programmes lists'!G:G,\"Not found\")","v":"Minimum grade 12 pass in\n•\tEnglish HL 50% \n•\tAfrikaans FAL 55%"},{"$f":"_xlfn.XLOOKUP(B683,'Programmes lists'!B:B,'Programmes lists'!F:F,\"Not found\")","v":660}]
["Intermediate Phase Extended Progamme","EXT - Specialising in Life Skills, Social Sciences, & English Home Language","SSCI2624",{"$f":"_xlfn.XLOOKUP(C684,'RAW module list'!A:A,'RAW module list'!B:B, \"Not found\")","v":"Social Sciences 2: Geography"},{"$f":"_xlfn.XLOOKUP(C684,'RAW module list'!A:A,'RAW module list'!C:C, \"Not found\")","v":6},{"$f":"_xlfn.XLOOKUP(C684,'RAW module list'!A:A,'RAW module list'!D:D, \"Not found\")","v":16},{"$f":"_xlfn.XLOOKUP(C684,'RAW module list'!A:A,'RAW module list'!E:E, \"Not found\")","v":0},"Third Year",{"$f":"_xlfn.XLOOKUP(B684,'Programmes lists'!B:B,'Programmes lists'!D:D)","v":"BC7357E2  "},{"$f":"_xlfn.XLOOKUP(B684,'Programmes lists'!B:B,'Programmes lists'!E:E, \"Not found\")","v":0},{"$f":"_xlfn.XLOOKUP(B684,'Programmes lists'!B:B,'Programmes lists'!G:G,\"Not found\")","v":"Minimum grade 12 pass in\n•\tEnglish HL 50% \n•\tAfrikaans FAL 55%"},{"$f":"_xlfn.XLOOKUP(B684,'Programmes lists'!B:B,'Programmes lists'!F:F,\"Not found\")","v":660}]
["Intermediate Phase Extended Progamme","EXT - Specialising in Life Skills, Social Sciences, & English Home Language","EDUB2724",{"$f":"_xlfn.XLOOKUP(C685,'RAW module list'!A:A,'RAW module list'!B:B, \"Not found\")","v":"Education Studies 2: Human Relationships in Education context"},{"$f":"_xlfn.XLOOKUP(C685,'RAW module list'!A:A,'RAW module list'!C:C, \"Not found\")","v":7},{"$f":"_xlfn.XLOOKUP(C685,'RAW module list'!A:A,'RAW module list'!D:D, \"Not found\")","v":16},{"$f":"_xlfn.XLOOKUP(C685,'RAW module list'!A:A,'RAW module list'!E:E, \"Not found\")","v":"EDUB2714"},"Third Year",{"$f":"_xlfn.XLOOKUP(B685,'Programmes lists'!B:B,'Programmes lists'!D:D)","v":"BC7357E2  "},{"$f":"_xlfn.XLOOKUP(B685,'Programmes lists'!B:B,'Programmes lists'!E:E, \"Not found\")","v":0},{"$f":"_xlfn.XLOOKUP(B685,'Programmes lists'!B:B,'Programmes lists'!G:G,\"Not found\")","v":"Minimum grade 12 pass in\n•\tEnglish HL 50% \n•\tAfrikaans FAL 55%"},{"$f":"_xlfn.XLOOKUP(B685,'Programmes lists'!B:B,'Programmes lists'!F:F,\"Not found\")","v":660}]
["Intermediate Phase Extended Progamme","EXT - Specialising in Life Skills, Social Sciences, & English Home Language","GPED2623",{"$f":"_xlfn.XLOOKUP(C686,'RAW module list'!A:A,'RAW module list'!B:B, \"Not found\")","v":"General Pedagogy 2.2: Assessment"},{"$f":"_xlfn.XLOOKUP(C686,'RAW module list'!A:A,'RAW module list'!C:C, \"Not found\")","v":6},{"$f":"_xlfn.XLOOKUP(C686,'RAW module list'!A:A,'RAW module list'!D:D, \"Not found\")","v":12},{"$f":"_xlfn.XLOOKUP(C686,'RAW module list'!A:A,'RAW module list'!E:E, \"Not found\")","v":"GPED2613"},"Third Year",{"$f":"_xlfn.XLOOKUP(B686,'Programmes lists'!B:B,'Programmes lists'!D:D)","v":"BC7357E2  "},{"$f":"_xlfn.XLOOKUP(B686,'Programmes lists'!B:B,'Programmes lists'!E:E, \"Not found\")","v":0},{"$f":"_xlfn.XLOOKUP(B686,'Programmes lists'!B:B,'Programmes lists'!G:G,\"Not found\")","v":"Minimum grade 12 pass in\n•\tEnglish HL 50% \n•\tAfrikaans FAL 55%"},{"$f":"_xlfn.XLOOKUP(B686,'Programmes lists'!B:B,'Programmes lists'!F:F,\"Not found\")","v":660}]
["Intermediate Phase Extended Progamme","EXT - Specialising in Life Skills, Social Sciences, & English Home Language","LSTI3604",{"$f":"_xlfn.XLOOKUP(C687,'RAW module list'!A:A,'RAW module list'!B:B, \"Not found\")","v":"Teaching of Life Skills 1 "},{"$f":"_xlfn.XLOOKUP(C687,'RAW module list'!A:A,'RAW module list'!C:C, \"Not found\")","v":6},{"$f":"_xlfn.XLOOKUP(C687,'RAW module list'!A:A,'RAW module list'!D:D, \"Not found\")","v":16},{"$f":"_xlfn.XLOOKUP(C687,'RAW module list'!A:A,'RAW module list'!E:E, \"Not found\")","v":"LSCI614 & LSCI2624"},"Fourth Year",{"$f":"_xlfn.XLOOKUP(B687,'Programmes lists'!B:B,'Programmes lists'!D:D)","v":"BC7357E2  "},{"$f":"_xlfn.XLOOKUP(B687,'Programmes lists'!B:B,'Programmes lists'!E:E, \"Not found\")","v":0},{"$f":"_xlfn.XLOOKUP(B687,'Programmes lists'!B:B,'Programmes lists'!G:G,\"Not found\")","v":"Minimum grade 12 pass in\n•\tEnglish HL 50% \n•\tAfrikaans FAL 55%"},{"$f":"_xlfn.XLOOKUP(B687,'Programmes lists'!B:B,'Programmes lists'!F:F,\"Not found\")","v":660}]
["Intermediate Phase Extended Progamme","EXT - Specialising in Life Skills, Social Sciences, & English Home Language","SSTI3604",{"$f":"_xlfn.XLOOKUP(C688,'RAW module list'!A:A,'RAW module list'!B:B, \"Not found\")","v":"Teaching Social Sciences 1"},{"$f":"_xlfn.XLOOKUP(C688,'RAW module list'!A:A,'RAW module list'!C:C, \"Not found\")","v":6},{"$f":"_xlfn.XLOOKUP(C688,'RAW module list'!A:A,'RAW module list'!D:D, \"Not found\")","v":16},{"$f":"_xlfn.XLOOKUP(C688,'RAW module list'!A:A,'RAW module list'!E:E, \"Not found\")","v":"SSCI2614 & SSCI2624"},"Fourth Year",{"$f":"_xlfn.XLOOKUP(B688,'Programmes lists'!B:B,'Programmes lists'!D:D)","v":"BC7357E2  "},{"$f":"_xlfn.XLOOKUP(B688,'Programmes lists'!B:B,'Programmes lists'!E:E, \"Not found\")","v":0},{"$f":"_xlfn.XLOOKUP(B688,'Programmes lists'!B:B,'Programmes lists'!G:G,\"Not found\")","v":"Minimum grade 12 pass in\n•\tEnglish HL 50% \n•\tAfrikaans FAL 55%"},{"$f":"_xlfn.XLOOKUP(B688,'Programmes lists'!B:B,'Programmes lists'!F:F,\"Not found\")","v":660}]
["Intermediate Phase Extended Progamme","EXT - Specialising in Life Skills, Social Sciences, & English Home Language","EHTI3604",{"$f":"_xlfn.XLOOKUP(C689,'RAW module list'!A:A,'RAW module list'!B:B, \"Not found\")","v":"English Teaching 1 (Home Language)"},{"$f":"_xlfn.XLOOKUP(C689,'RAW module list'!A:A,'RAW module list'!C:C, \"Not found\")","v":6},{"$f":"_xlfn.XLOOKUP(C689,'RAW module list'!A:A,'RAW module list'!D:D, \"Not found\")","v":16},{"$f":"_xlfn.XLOOKUP(C689,'RAW module list'!A:A,'RAW module list'!E:E, \"Not found\")","v":"ENGE1608"},"Fourth Year",{"$f":"_xlfn.XLOOKUP(B689,'Programmes lists'!B:B,'Programmes lists'!D:D)","v":"BC7357E2  "},{"$f":"_xlfn.XLOOKUP(B689,'Programmes lists'!B:B,'Programmes lists'!E:E, \"Not found\")","v":0},{"$f":"_xlfn.XLOOKUP(B689,'Programmes lists'!B:B,'Programmes lists'!G:G,\"Not found\")","v":"Minimum grade 12 pass in\n•\tEnglish HL 50% \n•\tAfrikaans FAL 55%"},{"$f":"_xlfn.XLOOKUP(B689,'Programmes lists'!B:B,'Programmes lists'!F:F,\"Not found\")","v":660}]
["Intermediate Phase Extended Progamme","EXT - Specialising in Life Skills, Social Sciences, & English Home Language","EDUB3714",{"$f":"_xlfn.XLOOKUP(C690,'RAW module list'!A:A,'RAW module list'!B:B, \"Not found\")","v":"Education Studies 3.1 Education systems in global and national context"},{"$f":"_xlfn.XLOOKUP(C690,'RAW module list'!A:A,'RAW module list'!C:C, \"Not found\")","v":7},{"$f":"_xlfn.XLOOKUP(C690,'RAW module list'!A:A,'RAW module list'!D:D, \"Not found\")","v":16},{"$f":"_xlfn.XLOOKUP(C690,'RAW module list'!A:A,'RAW module list'!E:E, \"Not found\")","v":"EDUB1613 & EDUB1623& EDUB2714 & EDUB2724"},"Fourth Year",{"$f":"_xlfn.XLOOKUP(B690,'Programmes lists'!B:B,'Programmes lists'!D:D)","v":"BC7357E2  "},{"$f":"_xlfn.XLOOKUP(B690,'Programmes lists'!B:B,'Programmes lists'!E:E, \"Not found\")","v":0},{"$f":"_xlfn.XLOOKUP(B690,'Programmes lists'!B:B,'Programmes lists'!G:G,\"Not found\")","v":"Minimum grade 12 pass in\n•\tEnglish HL 50% \n•\tAfrikaans FAL 55%"},{"$f":"_xlfn.XLOOKUP(B690,'Programmes lists'!B:B,'Programmes lists'!F:F,\"Not found\")","v":660}]
["Intermediate Phase Extended Progamme","EXT - Specialising in Life Skills, Social Sciences, & English Home Language","CURS3502",{"$f":"_xlfn.XLOOKUP(C691,'RAW module list'!A:A,'RAW module list'!B:B, \"Not found\")","v":"Intermediate Phase School Curriculum"},{"$f":"_xlfn.XLOOKUP(C691,'RAW module list'!A:A,'RAW module list'!C:C, \"Not found\")","v":5},{"$f":"_xlfn.XLOOKUP(C691,'RAW module list'!A:A,'RAW module list'!D:D, \"Not found\")","v":8},{"$f":"_xlfn.XLOOKUP(C691,'RAW module list'!A:A,'RAW module list'!E:E, \"Not found\")","v":0},"Fourth Year",{"$f":"_xlfn.XLOOKUP(B691,'Programmes lists'!B:B,'Programmes lists'!D:D)","v":"BC7357E2  "},{"$f":"_xlfn.XLOOKUP(B691,'Programmes lists'!B:B,'Programmes lists'!E:E, \"Not found\")","v":0},{"$f":"_xlfn.XLOOKUP(B691,'Programmes lists'!B:B,'Programmes lists'!G:G,\"Not found\")","v":"Minimum grade 12 pass in\n•\tEnglish HL 50% \n•\tAfrikaans FAL 55%"},{"$f":"_xlfn.XLOOKUP(B691,'Programmes lists'!B:B,'Programmes lists'!F:F,\"Not found\")","v":660}]
["Intermediate Phase Extended Progamme","EXT - Specialising in Life Skills, Social Sciences, & English Home Language","AATI3604",{"$f":"_xlfn.XLOOKUP(C692,'RAW module list'!A:A,'RAW module list'!B:B, \"Not found\")","v":"Afrikaans Teaching 1 FAL"},{"$f":"_xlfn.XLOOKUP(C692,'RAW module list'!A:A,'RAW module list'!C:C, \"Not found\")","v":6},{"$f":"_xlfn.XLOOKUP(C692,'RAW module list'!A:A,'RAW module list'!D:D, \"Not found\")","v":16},{"$f":"_xlfn.XLOOKUP(C692,'RAW module list'!A:A,'RAW module list'!E:E, \"Not found\")","v":"AFRT1514 & AFRL1624"},"Fourth Year",{"$f":"_xlfn.XLOOKUP(B692,'Programmes lists'!B:B,'Programmes lists'!D:D)","v":"BC7357E2  "},{"$f":"_xlfn.XLOOKUP(B692,'Programmes lists'!B:B,'Programmes lists'!E:E, \"Not found\")","v":0},{"$f":"_xlfn.XLOOKUP(B692,'Programmes lists'!B:B,'Programmes lists'!G:G,\"Not found\")","v":"Minimum grade 12 pass in\n•\tEnglish HL 50% \n•\tAfrikaans FAL 55%"},{"$f":"_xlfn.XLOOKUP(B692,'Programmes lists'!B:B,'Programmes lists'!F:F,\"Not found\")","v":660}]
["Intermediate Phase Extended Progamme","EXT - Specialising in Life Skills, Social Sciences, & English Home Language","SICL3512 OR SSCL3512 OR ZUCL3512",{"$f":"_xlfn.XLOOKUP(C693,'RAW module list'!A:A,'RAW module list'!B:B, \"Not found\")","v":"Conversational Sign Language OR Conversational Sesotho OR Conversational IsiZulu"},{"$f":"_xlfn.XLOOKUP(C693,'RAW module list'!A:A,'RAW module list'!C:C, \"Not found\")","v":5},{"$f":"_xlfn.XLOOKUP(C693,'RAW module list'!A:A,'RAW module list'!D:D, \"Not found\")","v":8},{"$f":"_xlfn.XLOOKUP(C693,'RAW module list'!A:A,'RAW module list'!E:E, \"Not found\")","v":"No previous exposure to the language"},"Fourth Year",{"$f":"_xlfn.XLOOKUP(B693,'Programmes lists'!B:B,'Programmes lists'!D:D)","v":"BC7357E2  "},{"$f":"_xlfn.XLOOKUP(B693,'Programmes lists'!B:B,'Programmes lists'!E:E, \"Not found\")","v":0},{"$f":"_xlfn.XLOOKUP(B693,'Programmes lists'!B:B,'Programmes lists'!G:G,\"Not found\")","v":"Minimum grade 12 pass in\n•\tEnglish HL 50% \n•\tAfrikaans FAL 55%"},{"$f":"_xlfn.XLOOKUP(B693,'Programmes lists'!B:B,'Programmes lists'!F:F,\"Not found\")","v":660}]
["Intermediate Phase Extended Progamme","EXT - Specialising in Life Skills, Social Sciences, & English Home Language","WILI3606",{"$f":"_xlfn.XLOOKUP(C694,'RAW module list'!A:A,'RAW module list'!B:B, \"Not found\")","v":"Teaching Practice 3"},{"$f":"_xlfn.XLOOKUP(C694,'RAW module list'!A:A,'RAW module list'!C:C, \"Not found\")","v":6},{"$f":"_xlfn.XLOOKUP(C694,'RAW module list'!A:A,'RAW module list'!D:D, \"Not found\")","v":24},{"$f":"_xlfn.XLOOKUP(C694,'RAW module list'!A:A,'RAW module list'!E:E, \"Not found\")","v":"TPRI2502"},"Fourth Year",{"$f":"_xlfn.XLOOKUP(B694,'Programmes lists'!B:B,'Programmes lists'!D:D)","v":"BC7357E2  "},{"$f":"_xlfn.XLOOKUP(B694,'Programmes lists'!B:B,'Programmes lists'!E:E, \"Not found\")","v":0},{"$f":"_xlfn.XLOOKUP(B694,'Programmes lists'!B:B,'Programmes lists'!G:G,\"Not found\")","v":"Minimum grade 12 pass in\n•\tEnglish HL 50% \n•\tAfrikaans FAL 55%"},{"$f":"_xlfn.XLOOKUP(B694,'Programmes lists'!B:B,'Programmes lists'!F:F,\"Not found\")","v":660}]
["Intermediate Phase Extended Progamme","EXT - Specialising in Life Skills, Social Sciences, & English Home Language","EDUB3724",{"$f":"_xlfn.XLOOKUP(C695,'RAW module list'!A:A,'RAW module list'!B:B, \"Not found\")","v":"Education Studies 3.2: Contemporary Education Theory in the current social context"},{"$f":"_xlfn.XLOOKUP(C695,'RAW module list'!A:A,'RAW module list'!C:C, \"Not found\")","v":7},{"$f":"_xlfn.XLOOKUP(C695,'RAW module list'!A:A,'RAW module list'!D:D, \"Not found\")","v":16},{"$f":"_xlfn.XLOOKUP(C695,'RAW module list'!A:A,'RAW module list'!E:E, \"Not found\")","v":"EDUB1613 & EDUB1623 & EDUB2714 & EDUB2724 & EDUB3714"},"Fourth Year",{"$f":"_xlfn.XLOOKUP(B695,'Programmes lists'!B:B,'Programmes lists'!D:D)","v":"BC7357E2  "},{"$f":"_xlfn.XLOOKUP(B695,'Programmes lists'!B:B,'Programmes lists'!E:E, \"Not found\")","v":0},{"$f":"_xlfn.XLOOKUP(B695,'Programmes lists'!B:B,'Programmes lists'!G:G,\"Not found\")","v":"Minimum grade 12 pass in\n•\tEnglish HL 50% \n•\tAfrikaans FAL 55%"},{"$f":"_xlfn.XLOOKUP(B695,'Programmes lists'!B:B,'Programmes lists'!F:F,\"Not found\")","v":660}]
["Intermediate Phase Extended Progamme","EXT - Specialising in Life Skills, Social Sciences, & English Home Language","SICL3522 OR SSCL3522 OR ZUCL3522",{"$f":"_xlfn.XLOOKUP(C696,'RAW module list'!A:A,'RAW module list'!B:B, \"Not found\")","v":"Conversational Sign Language OR Conversational Sesotho OR Conversational IsiZulu"},{"$f":"_xlfn.XLOOKUP(C696,'RAW module list'!A:A,'RAW module list'!C:C, \"Not found\")","v":5},{"$f":"_xlfn.XLOOKUP(C696,'RAW module list'!A:A,'RAW module list'!D:D, \"Not found\")","v":8},{"$f":"_xlfn.XLOOKUP(C696,'RAW module list'!A:A,'RAW module list'!E:E, \"Not found\")","v":"Continue with the conversational language  chosen in Semester 1"},"Fourth Year",{"$f":"_xlfn.XLOOKUP(B696,'Programmes lists'!B:B,'Programmes lists'!D:D)","v":"BC7357E2  "},{"$f":"_xlfn.XLOOKUP(B696,'Programmes lists'!B:B,'Programmes lists'!E:E, \"Not found\")","v":0},{"$f":"_xlfn.XLOOKUP(B696,'Programmes lists'!B:B,'Programmes lists'!G:G,\"Not found\")","v":"Minimum grade 12 pass in\n•\tEnglish HL 50% \n•\tAfrikaans FAL 55%"},{"$f":"_xlfn.XLOOKUP(B696,'Programmes lists'!B:B,'Programmes lists'!F:F,\"Not found\")","v":660}]
["Intermediate Phase Extended Progamme","EXT - Specialising in Life Skills, Social Sciences, & English Home Language","LSTI4075",{"$f":"_xlfn.XLOOKUP(C697,'RAW module list'!A:A,'RAW module list'!B:B, \"Not found\")","v":"Teaching of Life Skills 2"},{"$f":"_xlfn.XLOOKUP(C697,'RAW module list'!A:A,'RAW module list'!C:C, \"Not found\")","v":7},{"$f":"_xlfn.XLOOKUP(C697,'RAW module list'!A:A,'RAW module list'!D:D, \"Not found\")","v":20},{"$f":"_xlfn.XLOOKUP(C697,'RAW module list'!A:A,'RAW module list'!E:E, \"Not found\")","v":"LSTI3604"},"Fifth Year",{"$f":"_xlfn.XLOOKUP(B697,'Programmes lists'!B:B,'Programmes lists'!D:D)","v":"BC7357E2  "},{"$f":"_xlfn.XLOOKUP(B697,'Programmes lists'!B:B,'Programmes lists'!E:E, \"Not found\")","v":0},{"$f":"_xlfn.XLOOKUP(B697,'Programmes lists'!B:B,'Programmes lists'!G:G,\"Not found\")","v":"Minimum grade 12 pass in\n•\tEnglish HL 50% \n•\tAfrikaans FAL 55%"},{"$f":"_xlfn.XLOOKUP(B697,'Programmes lists'!B:B,'Programmes lists'!F:F,\"Not found\")","v":660}]
["Intermediate Phase Extended Progamme","EXT - Specialising in Life Skills, Social Sciences, & English Home Language","SSTI4705",{"$f":"_xlfn.XLOOKUP(C698,'RAW module list'!A:A,'RAW module list'!B:B, \"Not found\")","v":"Teaching of Social Sciences 2"},{"$f":"_xlfn.XLOOKUP(C698,'RAW module list'!A:A,'RAW module list'!C:C, \"Not found\")","v":7},{"$f":"_xlfn.XLOOKUP(C698,'RAW module list'!A:A,'RAW module list'!D:D, \"Not found\")","v":20},{"$f":"_xlfn.XLOOKUP(C698,'RAW module list'!A:A,'RAW module list'!E:E, \"Not found\")","v":"SSTI3604"},"Fifth Year",{"$f":"_xlfn.XLOOKUP(B698,'Programmes lists'!B:B,'Programmes lists'!D:D)","v":"BC7357E2  "},{"$f":"_xlfn.XLOOKUP(B698,'Programmes lists'!B:B,'Programmes lists'!E:E, \"Not found\")","v":0},{"$f":"_xlfn.XLOOKUP(B698,'Programmes lists'!B:B,'Programmes lists'!G:G,\"Not found\")","v":"Minimum grade 12 pass in\n•\tEnglish HL 50% \n•\tAfrikaans FAL 55%"},{"$f":"_xlfn.XLOOKUP(B698,'Programmes lists'!B:B,'Programmes lists'!F:F,\"Not found\")","v":660}]
["Intermediate Phase Extended Progamme","EXT - Specialising in Life Skills, Social Sciences, & English Home Language","EHTI4705",{"$f":"_xlfn.XLOOKUP(C699,'RAW module list'!A:A,'RAW module list'!B:B, \"Not found\")","v":"English Teaching 2 (Home Language)"},{"$f":"_xlfn.XLOOKUP(C699,'RAW module list'!A:A,'RAW module list'!C:C, \"Not found\")","v":7},{"$f":"_xlfn.XLOOKUP(C699,'RAW module list'!A:A,'RAW module list'!D:D, \"Not found\")","v":20},{"$f":"_xlfn.XLOOKUP(C699,'RAW module list'!A:A,'RAW module list'!E:E, \"Not found\")","v":"EHTI3604"},"Fifth Year",{"$f":"_xlfn.XLOOKUP(B699,'Programmes lists'!B:B,'Programmes lists'!D:D)","v":"BC7357E2  "},{"$f":"_xlfn.XLOOKUP(B699,'Programmes lists'!B:B,'Programmes lists'!E:E, \"Not found\")","v":0},{"$f":"_xlfn.XLOOKUP(B699,'Programmes lists'!B:B,'Programmes lists'!G:G,\"Not found\")","v":"Minimum grade 12 pass in\n•\tEnglish HL 50% \n•\tAfrikaans FAL 55%"},{"$f":"_xlfn.XLOOKUP(B699,'Programmes lists'!B:B,'Programmes lists'!F:F,\"Not found\")","v":660}]
["Intermediate Phase Extended Progamme","EXT - Specialising in Life Skills, Social Sciences, & English Home Language","CURS4502",{"$f":"_xlfn.XLOOKUP(C700,'RAW module list'!A:A,'RAW module list'!B:B, \"Not found\")","v":"Intermediate Phase School Curriculum"},{"$f":"_xlfn.XLOOKUP(C700,'RAW module list'!A:A,'RAW module list'!C:C, \"Not found\")","v":5},{"$f":"_xlfn.XLOOKUP(C700,'RAW module list'!A:A,'RAW module list'!D:D, \"Not found\")","v":8},{"$f":"_xlfn.XLOOKUP(C700,'RAW module list'!A:A,'RAW module list'!E:E, \"Not found\")","v":"CURS3502"},"Fifth Year",{"$f":"_xlfn.XLOOKUP(B700,'Programmes lists'!B:B,'Programmes lists'!D:D)","v":"BC7357E2  "},{"$f":"_xlfn.XLOOKUP(B700,'Programmes lists'!B:B,'Programmes lists'!E:E, \"Not found\")","v":0},{"$f":"_xlfn.XLOOKUP(B700,'Programmes lists'!B:B,'Programmes lists'!G:G,\"Not found\")","v":"Minimum grade 12 pass in\n•\tEnglish HL 50% \n•\tAfrikaans FAL 55%"},{"$f":"_xlfn.XLOOKUP(B700,'Programmes lists'!B:B,'Programmes lists'!F:F,\"Not found\")","v":660}]
["Intermediate Phase Extended Progamme","EXT - Specialising in Life Skills, Social Sciences, & English Home Language","AATI4705",{"$f":"_xlfn.XLOOKUP(C701,'RAW module list'!A:A,'RAW module list'!B:B, \"Not found\")","v":"Afrikaans Teaching 2: (First Additional Language)"},{"$f":"_xlfn.XLOOKUP(C701,'RAW module list'!A:A,'RAW module list'!C:C, \"Not found\")","v":7},{"$f":"_xlfn.XLOOKUP(C701,'RAW module list'!A:A,'RAW module list'!D:D, \"Not found\")","v":20},{"$f":"_xlfn.XLOOKUP(C701,'RAW module list'!A:A,'RAW module list'!E:E, \"Not found\")","v":"AATI3604"},"Fifth Year",{"$f":"_xlfn.XLOOKUP(B701,'Programmes lists'!B:B,'Programmes lists'!D:D)","v":"BC7357E2  "},{"$f":"_xlfn.XLOOKUP(B701,'Programmes lists'!B:B,'Programmes lists'!E:E, \"Not found\")","v":0},{"$f":"_xlfn.XLOOKUP(B701,'Programmes lists'!B:B,'Programmes lists'!G:G,\"Not found\")","v":"Minimum grade 12 pass in\n•\tEnglish HL 50% \n•\tAfrikaans FAL 55%"},{"$f":"_xlfn.XLOOKUP(B701,'Programmes lists'!B:B,'Programmes lists'!F:F,\"Not found\")","v":660}]
["Intermediate Phase Extended Progamme","EXT - Specialising in Life Skills, Social Sciences, & English Home Language","WILI4700",{"$f":"_xlfn.XLOOKUP(C702,'RAW module list'!A:A,'RAW module list'!B:B, \"Not found\")","v":"Teaching Practice 4"},{"$f":"_xlfn.XLOOKUP(C702,'RAW module list'!A:A,'RAW module list'!C:C, \"Not found\")","v":7},{"$f":"_xlfn.XLOOKUP(C702,'RAW module list'!A:A,'RAW module list'!D:D, \"Not found\")","v":40},{"$f":"_xlfn.XLOOKUP(C702,'RAW module list'!A:A,'RAW module list'!E:E, \"Not found\")","v":"WILI3606"},"Fifth Year",{"$f":"_xlfn.XLOOKUP(B702,'Programmes lists'!B:B,'Programmes lists'!D:D)","v":"BC7357E2  "},{"$f":"_xlfn.XLOOKUP(B702,'Programmes lists'!B:B,'Programmes lists'!E:E, \"Not found\")","v":0},{"$f":"_xlfn.XLOOKUP(B702,'Programmes lists'!B:B,'Programmes lists'!G:G,\"Not found\")","v":"Minimum grade 12 pass in\n•\tEnglish HL 50% \n•\tAfrikaans FAL 55%"},{"$f":"_xlfn.XLOOKUP(B702,'Programmes lists'!B:B,'Programmes lists'!F:F,\"Not found\")","v":660}]
["Intermediate Phase Extended Progamme","EXT - Specialising in Life Skills, Social Sciences & IsiZulu Home Language","EALT1508",{"$f":"_xlfn.XLOOKUP(C703,'RAW module list'!A:A,'RAW module list'!B:B, \"Not found\")","v":"English Academic Literacy for Education "},{"$f":"_xlfn.XLOOKUP(C703,'RAW module list'!A:A,'RAW module list'!C:C, \"Not found\")","v":5},{"$f":"_xlfn.XLOOKUP(C703,'RAW module list'!A:A,'RAW module list'!D:D, \"Not found\")","v":-32},{"$f":"_xlfn.XLOOKUP(C703,'RAW module list'!A:A,'RAW module list'!E:E, \"Not found\")","v":"NBT requirements not met"},"First Year",{"$f":"_xlfn.XLOOKUP(B703,'Programmes lists'!B:B,'Programmes lists'!D:D)","v":0},{"$f":"_xlfn.XLOOKUP(B703,'Programmes lists'!B:B,'Programmes lists'!E:E, \"Not found\")","v":"QC7357E2"},{"$f":"_xlfn.XLOOKUP(B703,'Programmes lists'!B:B,'Programmes lists'!G:G,\"Not found\")","v":"Minimum grade 12 pass in\n•\tIsiZulu HL 50% \n•\tEnglish FAL 50%"},{"$f":"_xlfn.XLOOKUP(B703,'Programmes lists'!B:B,'Programmes lists'!F:F,\"Not found\")","v":660}]
["Intermediate Phase Extended Progamme","EXT - Specialising in Life Skills, Social Sciences & IsiZulu Home Language","SCLL1508",{"$f":"_xlfn.XLOOKUP(C704,'RAW module list'!A:A,'RAW module list'!B:B, \"Not found\")","v":"Skills and competencies for lifelong learning"},{"$f":"_xlfn.XLOOKUP(C704,'RAW module list'!A:A,'RAW module list'!C:C, \"Not found\")","v":6},{"$f":"_xlfn.XLOOKUP(C704,'RAW module list'!A:A,'RAW module list'!D:D, \"Not found\")","v":32},{"$f":"_xlfn.XLOOKUP(C704,'RAW module list'!A:A,'RAW module list'!E:E, \"Not found\")","v":0},"First Year",{"$f":"_xlfn.XLOOKUP(B704,'Programmes lists'!B:B,'Programmes lists'!D:D)","v":0},{"$f":"_xlfn.XLOOKUP(B704,'Programmes lists'!B:B,'Programmes lists'!E:E, \"Not found\")","v":"QC7357E2"},{"$f":"_xlfn.XLOOKUP(B704,'Programmes lists'!B:B,'Programmes lists'!G:G,\"Not found\")","v":"Minimum grade 12 pass in\n•\tIsiZulu HL 50% \n•\tEnglish FAL 50%"},{"$f":"_xlfn.XLOOKUP(B704,'Programmes lists'!B:B,'Programmes lists'!F:F,\"Not found\")","v":660}]
["Intermediate Phase Extended Progamme","EXT - Specialising in Life Skills, Social Sciences & IsiZulu Home Language","LLST1513",{"$f":"_xlfn.XLOOKUP(C705,'RAW module list'!A:A,'RAW module list'!B:B, \"Not found\")","v":"Lifelong Learning Skills"},{"$f":"_xlfn.XLOOKUP(C705,'RAW module list'!A:A,'RAW module list'!C:C, \"Not found\")","v":5},{"$f":"_xlfn.XLOOKUP(C705,'RAW module list'!A:A,'RAW module list'!D:D, \"Not found\")","v":12},{"$f":"_xlfn.XLOOKUP(C705,'RAW module list'!A:A,'RAW module list'!E:E, \"Not found\")","v":0},"First Year",{"$f":"_xlfn.XLOOKUP(B705,'Programmes lists'!B:B,'Programmes lists'!D:D)","v":0},{"$f":"_xlfn.XLOOKUP(B705,'Programmes lists'!B:B,'Programmes lists'!E:E, \"Not found\")","v":"QC7357E2"},{"$f":"_xlfn.XLOOKUP(B705,'Programmes lists'!B:B,'Programmes lists'!G:G,\"Not found\")","v":"Minimum grade 12 pass in\n•\tIsiZulu HL 50% \n•\tEnglish FAL 50%"},{"$f":"_xlfn.XLOOKUP(B705,'Programmes lists'!B:B,'Programmes lists'!F:F,\"Not found\")","v":660}]
["Intermediate Phase Extended Progamme","EXT - Specialising in Life Skills, Social Sciences & IsiZulu Home Language","EDUB1613",{"$f":"_xlfn.XLOOKUP(C706,'RAW module list'!A:A,'RAW module list'!B:B, \"Not found\")","v":"Education Studies 1.1 The Individual in the learning context"},{"$f":"_xlfn.XLOOKUP(C706,'RAW module list'!A:A,'RAW module list'!C:C, \"Not found\")","v":6},{"$f":"_xlfn.XLOOKUP(C706,'RAW module list'!A:A,'RAW module list'!D:D, \"Not found\")","v":12},{"$f":"_xlfn.XLOOKUP(C706,'RAW module list'!A:A,'RAW module list'!E:E, \"Not found\")","v":0},"First Year",{"$f":"_xlfn.XLOOKUP(B706,'Programmes lists'!B:B,'Programmes lists'!D:D)","v":0},{"$f":"_xlfn.XLOOKUP(B706,'Programmes lists'!B:B,'Programmes lists'!E:E, \"Not found\")","v":"QC7357E2"},{"$f":"_xlfn.XLOOKUP(B706,'Programmes lists'!B:B,'Programmes lists'!G:G,\"Not found\")","v":"Minimum grade 12 pass in\n•\tIsiZulu HL 50% \n•\tEnglish FAL 50%"},{"$f":"_xlfn.XLOOKUP(B706,'Programmes lists'!B:B,'Programmes lists'!F:F,\"Not found\")","v":660}]
["Intermediate Phase Extended Progamme","EXT - Specialising in Life Skills, Social Sciences & IsiZulu Home Language","EDUB1623",{"$f":"_xlfn.XLOOKUP(C707,'RAW module list'!A:A,'RAW module list'!B:B, \"Not found\")","v":"Education Studies 1.2 What it means to educate: Theoretical perspectives and their significance for SA education"},{"$f":"_xlfn.XLOOKUP(C707,'RAW module list'!A:A,'RAW module list'!C:C, \"Not found\")","v":6},{"$f":"_xlfn.XLOOKUP(C707,'RAW module list'!A:A,'RAW module list'!D:D, \"Not found\")","v":12},{"$f":"_xlfn.XLOOKUP(C707,'RAW module list'!A:A,'RAW module list'!E:E, \"Not found\")","v":0},"First Year",{"$f":"_xlfn.XLOOKUP(B707,'Programmes lists'!B:B,'Programmes lists'!D:D)","v":0},{"$f":"_xlfn.XLOOKUP(B707,'Programmes lists'!B:B,'Programmes lists'!E:E, \"Not found\")","v":"QC7357E2"},{"$f":"_xlfn.XLOOKUP(B707,'Programmes lists'!B:B,'Programmes lists'!G:G,\"Not found\")","v":"Minimum grade 12 pass in\n•\tIsiZulu HL 50% \n•\tEnglish FAL 50%"},{"$f":"_xlfn.XLOOKUP(B707,'Programmes lists'!B:B,'Programmes lists'!F:F,\"Not found\")","v":660}]
["Intermediate Phase Extended Progamme","EXT - Specialising in Life Skills, Social Sciences & IsiZulu Home Language","GPED1623",{"$f":"_xlfn.XLOOKUP(C708,'RAW module list'!A:A,'RAW module list'!B:B, \"Not found\")","v":"General Pedagogy 1: Managing the Curriculum"},{"$f":"_xlfn.XLOOKUP(C708,'RAW module list'!A:A,'RAW module list'!C:C, \"Not found\")","v":6},{"$f":"_xlfn.XLOOKUP(C708,'RAW module list'!A:A,'RAW module list'!D:D, \"Not found\")","v":12},{"$f":"_xlfn.XLOOKUP(C708,'RAW module list'!A:A,'RAW module list'!E:E, \"Not found\")","v":0},"First Year",{"$f":"_xlfn.XLOOKUP(B708,'Programmes lists'!B:B,'Programmes lists'!D:D)","v":0},{"$f":"_xlfn.XLOOKUP(B708,'Programmes lists'!B:B,'Programmes lists'!E:E, \"Not found\")","v":"QC7357E2"},{"$f":"_xlfn.XLOOKUP(B708,'Programmes lists'!B:B,'Programmes lists'!G:G,\"Not found\")","v":"Minimum grade 12 pass in\n•\tIsiZulu HL 50% \n•\tEnglish FAL 50%"},{"$f":"_xlfn.XLOOKUP(B708,'Programmes lists'!B:B,'Programmes lists'!F:F,\"Not found\")","v":660}]
["Intermediate Phase Extended Progamme","EXT - Specialising in Life Skills, Social Sciences & IsiZulu Home Language","EALH2508",{"$f":"_xlfn.XLOOKUP(C709,'RAW module list'!A:A,'RAW module list'!B:B, \"Not found\")","v":"Academic Literacy for extended programmes 2"},{"$f":"_xlfn.XLOOKUP(C709,'RAW module list'!A:A,'RAW module list'!C:C, \"Not found\")","v":5},{"$f":"_xlfn.XLOOKUP(C709,'RAW module list'!A:A,'RAW module list'!D:D, \"Not found\")","v":32},{"$f":"_xlfn.XLOOKUP(C709,'RAW module list'!A:A,'RAW module list'!E:E, \"Not found\")","v":"AGAE1508 or EALT1508"},"Second Year",{"$f":"_xlfn.XLOOKUP(B709,'Programmes lists'!B:B,'Programmes lists'!D:D)","v":0},{"$f":"_xlfn.XLOOKUP(B709,'Programmes lists'!B:B,'Programmes lists'!E:E, \"Not found\")","v":"QC7357E2"},{"$f":"_xlfn.XLOOKUP(B709,'Programmes lists'!B:B,'Programmes lists'!G:G,\"Not found\")","v":"Minimum grade 12 pass in\n•\tIsiZulu HL 50% \n•\tEnglish FAL 50%"},{"$f":"_xlfn.XLOOKUP(B709,'Programmes lists'!B:B,'Programmes lists'!F:F,\"Not found\")","v":660}]
["Intermediate Phase Extended Progamme","EXT - Specialising in Life Skills, Social Sciences & IsiZulu Home Language","ENGE1608",{"$f":"_xlfn.XLOOKUP(C710,'RAW module list'!A:A,'RAW module list'!B:B, \"Not found\")","v":"English Language for Education "},{"$f":"_xlfn.XLOOKUP(C710,'RAW module list'!A:A,'RAW module list'!C:C, \"Not found\")","v":6},{"$f":"_xlfn.XLOOKUP(C710,'RAW module list'!A:A,'RAW module list'!D:D, \"Not found\")","v":32},{"$f":"_xlfn.XLOOKUP(C710,'RAW module list'!A:A,'RAW module list'!E:E, \"Not found\")","v":0},"Second Year",{"$f":"_xlfn.XLOOKUP(B710,'Programmes lists'!B:B,'Programmes lists'!D:D)","v":0},{"$f":"_xlfn.XLOOKUP(B710,'Programmes lists'!B:B,'Programmes lists'!E:E, \"Not found\")","v":"QC7357E2"},{"$f":"_xlfn.XLOOKUP(B710,'Programmes lists'!B:B,'Programmes lists'!G:G,\"Not found\")","v":"Minimum grade 12 pass in\n•\tIsiZulu HL 50% \n•\tEnglish FAL 50%"},{"$f":"_xlfn.XLOOKUP(B710,'Programmes lists'!B:B,'Programmes lists'!F:F,\"Not found\")","v":660}]
["Intermediate Phase Extended Progamme","EXT - Specialising in Life Skills, Social Sciences & IsiZulu Home Language","LSCI1614",{"$f":"_xlfn.XLOOKUP(C711,'RAW module list'!A:A,'RAW module list'!B:B, \"Not found\")","v":"Life Skills "},{"$f":"_xlfn.XLOOKUP(C711,'RAW module list'!A:A,'RAW module list'!C:C, \"Not found\")","v":6},{"$f":"_xlfn.XLOOKUP(C711,'RAW module list'!A:A,'RAW module list'!D:D, \"Not found\")","v":16},{"$f":"_xlfn.XLOOKUP(C711,'RAW module list'!A:A,'RAW module list'!E:E, \"Not found\")","v":0},"Second Year",{"$f":"_xlfn.XLOOKUP(B711,'Programmes lists'!B:B,'Programmes lists'!D:D)","v":0},{"$f":"_xlfn.XLOOKUP(B711,'Programmes lists'!B:B,'Programmes lists'!E:E, \"Not found\")","v":"QC7357E2"},{"$f":"_xlfn.XLOOKUP(B711,'Programmes lists'!B:B,'Programmes lists'!G:G,\"Not found\")","v":"Minimum grade 12 pass in\n•\tIsiZulu HL 50% \n•\tEnglish FAL 50%"},{"$f":"_xlfn.XLOOKUP(B711,'Programmes lists'!B:B,'Programmes lists'!F:F,\"Not found\")","v":660}]
["Intermediate Phase Extended Progamme","EXT - Specialising in Life Skills, Social Sciences & IsiZulu Home Language","MTDH1508",{"$f":"_xlfn.XLOOKUP(C712,'RAW module list'!A:A,'RAW module list'!B:B, \"Not found\")","v":"Mathematical Literacy"},{"$f":"_xlfn.XLOOKUP(C712,'RAW module list'!A:A,'RAW module list'!C:C, \"Not found\")","v":5},{"$f":"_xlfn.XLOOKUP(C712,'RAW module list'!A:A,'RAW module list'!D:D, \"Not found\")","v":32},{"$f":"_xlfn.XLOOKUP(C712,'RAW module list'!A:A,'RAW module list'!E:E, \"Not found\")","v":0},"Second Year",{"$f":"_xlfn.XLOOKUP(B712,'Programmes lists'!B:B,'Programmes lists'!D:D)","v":0},{"$f":"_xlfn.XLOOKUP(B712,'Programmes lists'!B:B,'Programmes lists'!E:E, \"Not found\")","v":"QC7357E2"},{"$f":"_xlfn.XLOOKUP(B712,'Programmes lists'!B:B,'Programmes lists'!G:G,\"Not found\")","v":"Minimum grade 12 pass in\n•\tIsiZulu HL 50% \n•\tEnglish FAL 50%"},{"$f":"_xlfn.XLOOKUP(B712,'Programmes lists'!B:B,'Programmes lists'!F:F,\"Not found\")","v":660}]
["Intermediate Phase Extended Progamme","EXT - Specialising in Life Skills, Social Sciences & IsiZulu Home Language","TPRI1502",{"$f":"_xlfn.XLOOKUP(C713,'RAW module list'!A:A,'RAW module list'!B:B, \"Not found\")","v":"Teaching Practice 1"},{"$f":"_xlfn.XLOOKUP(C713,'RAW module list'!A:A,'RAW module list'!C:C, \"Not found\")","v":5},{"$f":"_xlfn.XLOOKUP(C713,'RAW module list'!A:A,'RAW module list'!D:D, \"Not found\")","v":8},{"$f":"_xlfn.XLOOKUP(C713,'RAW module list'!A:A,'RAW module list'!E:E, \"Not found\")","v":0},"Second Year",{"$f":"_xlfn.XLOOKUP(B713,'Programmes lists'!B:B,'Programmes lists'!D:D)","v":0},{"$f":"_xlfn.XLOOKUP(B713,'Programmes lists'!B:B,'Programmes lists'!E:E, \"Not found\")","v":"QC7357E2"},{"$f":"_xlfn.XLOOKUP(B713,'Programmes lists'!B:B,'Programmes lists'!G:G,\"Not found\")","v":"Minimum grade 12 pass in\n•\tIsiZulu HL 50% \n•\tEnglish FAL 50%"},{"$f":"_xlfn.XLOOKUP(B713,'Programmes lists'!B:B,'Programmes lists'!F:F,\"Not found\")","v":660}]
["Intermediate Phase Extended Progamme","EXT - Specialising in Life Skills, Social Sciences & IsiZulu Home Language","LSCI1624",{"$f":"_xlfn.XLOOKUP(C714,'RAW module list'!A:A,'RAW module list'!B:B, \"Not found\")","v":"Life Skills 1"},{"$f":"_xlfn.XLOOKUP(C714,'RAW module list'!A:A,'RAW module list'!C:C, \"Not found\")","v":6},{"$f":"_xlfn.XLOOKUP(C714,'RAW module list'!A:A,'RAW module list'!D:D, \"Not found\")","v":16},{"$f":"_xlfn.XLOOKUP(C714,'RAW module list'!A:A,'RAW module list'!E:E, \"Not found\")","v":0},"Second Year",{"$f":"_xlfn.XLOOKUP(B714,'Programmes lists'!B:B,'Programmes lists'!D:D)","v":0},{"$f":"_xlfn.XLOOKUP(B714,'Programmes lists'!B:B,'Programmes lists'!E:E, \"Not found\")","v":"QC7357E2"},{"$f":"_xlfn.XLOOKUP(B714,'Programmes lists'!B:B,'Programmes lists'!G:G,\"Not found\")","v":"Minimum grade 12 pass in\n•\tIsiZulu HL 50% \n•\tEnglish FAL 50%"},{"$f":"_xlfn.XLOOKUP(B714,'Programmes lists'!B:B,'Programmes lists'!F:F,\"Not found\")","v":660}]
["Intermediate Phase Extended Progamme","EXT - Specialising in Life Skills, Social Sciences & IsiZulu Home Language","UFSS1522",{"$f":"_xlfn.XLOOKUP(C715,'RAW module list'!A:A,'RAW module list'!B:B, \"Not found\")","v":"Institutional module"},{"$f":"_xlfn.XLOOKUP(C715,'RAW module list'!A:A,'RAW module list'!C:C, \"Not found\")","v":5},{"$f":"_xlfn.XLOOKUP(C715,'RAW module list'!A:A,'RAW module list'!D:D, \"Not found\")","v":-8},{"$f":"_xlfn.XLOOKUP(C715,'RAW module list'!A:A,'RAW module list'!E:E, \"Not found\")","v":0},"Second Year",{"$f":"_xlfn.XLOOKUP(B715,'Programmes lists'!B:B,'Programmes lists'!D:D)","v":0},{"$f":"_xlfn.XLOOKUP(B715,'Programmes lists'!B:B,'Programmes lists'!E:E, \"Not found\")","v":"QC7357E2"},{"$f":"_xlfn.XLOOKUP(B715,'Programmes lists'!B:B,'Programmes lists'!G:G,\"Not found\")","v":"Minimum grade 12 pass in\n•\tIsiZulu HL 50% \n•\tEnglish FAL 50%"},{"$f":"_xlfn.XLOOKUP(B715,'Programmes lists'!B:B,'Programmes lists'!F:F,\"Not found\")","v":660}]
["Intermediate Phase Extended Progamme","EXT - Specialising in Life Skills, Social Sciences & IsiZulu Home Language","SSCI2614",{"$f":"_xlfn.XLOOKUP(C716,'RAW module list'!A:A,'RAW module list'!B:B, \"Not found\")","v":"Social Science History"},{"$f":"_xlfn.XLOOKUP(C716,'RAW module list'!A:A,'RAW module list'!C:C, \"Not found\")","v":6},{"$f":"_xlfn.XLOOKUP(C716,'RAW module list'!A:A,'RAW module list'!D:D, \"Not found\")","v":16},{"$f":"_xlfn.XLOOKUP(C716,'RAW module list'!A:A,'RAW module list'!E:E, \"Not found\")","v":0},"Third Year",{"$f":"_xlfn.XLOOKUP(B716,'Programmes lists'!B:B,'Programmes lists'!D:D)","v":0},{"$f":"_xlfn.XLOOKUP(B716,'Programmes lists'!B:B,'Programmes lists'!E:E, \"Not found\")","v":"QC7357E2"},{"$f":"_xlfn.XLOOKUP(B716,'Programmes lists'!B:B,'Programmes lists'!G:G,\"Not found\")","v":"Minimum grade 12 pass in\n•\tIsiZulu HL 50% \n•\tEnglish FAL 50%"},{"$f":"_xlfn.XLOOKUP(B716,'Programmes lists'!B:B,'Programmes lists'!F:F,\"Not found\")","v":660}]
["Intermediate Phase Extended Progamme","EXT - Specialising in Life Skills, Social Sciences & IsiZulu Home Language","ZULL1514",{"$f":"_xlfn.XLOOKUP(C717,'RAW module list'!A:A,'RAW module list'!B:B, \"Not found\")","v":"IsiZulu: Introduction to Linguistics"},{"$f":"_xlfn.XLOOKUP(C717,'RAW module list'!A:A,'RAW module list'!C:C, \"Not found\")","v":5},{"$f":"_xlfn.XLOOKUP(C717,'RAW module list'!A:A,'RAW module list'!D:D, \"Not found\")","v":16},{"$f":"_xlfn.XLOOKUP(C717,'RAW module list'!A:A,'RAW module list'!E:E, \"Not found\")","v":0},"Third Year",{"$f":"_xlfn.XLOOKUP(B717,'Programmes lists'!B:B,'Programmes lists'!D:D)","v":0},{"$f":"_xlfn.XLOOKUP(B717,'Programmes lists'!B:B,'Programmes lists'!E:E, \"Not found\")","v":"QC7357E2"},{"$f":"_xlfn.XLOOKUP(B717,'Programmes lists'!B:B,'Programmes lists'!G:G,\"Not found\")","v":"Minimum grade 12 pass in\n•\tIsiZulu HL 50% \n•\tEnglish FAL 50%"},{"$f":"_xlfn.XLOOKUP(B717,'Programmes lists'!B:B,'Programmes lists'!F:F,\"Not found\")","v":660}]
["Intermediate Phase Extended Progamme","EXT - Specialising in Life Skills, Social Sciences & IsiZulu Home Language","MTBI2503",{"$f":"_xlfn.XLOOKUP(C718,'RAW module list'!A:A,'RAW module list'!B:B, \"Not found\")","v":"Basic Mathematics "},{"$f":"_xlfn.XLOOKUP(C718,'RAW module list'!A:A,'RAW module list'!C:C, \"Not found\")","v":5},{"$f":"_xlfn.XLOOKUP(C718,'RAW module list'!A:A,'RAW module list'!D:D, \"Not found\")","v":12},{"$f":"_xlfn.XLOOKUP(C718,'RAW module list'!A:A,'RAW module list'!E:E, \"Not found\")","v":0},"Third Year",{"$f":"_xlfn.XLOOKUP(B718,'Programmes lists'!B:B,'Programmes lists'!D:D)","v":0},{"$f":"_xlfn.XLOOKUP(B718,'Programmes lists'!B:B,'Programmes lists'!E:E, \"Not found\")","v":"QC7357E2"},{"$f":"_xlfn.XLOOKUP(B718,'Programmes lists'!B:B,'Programmes lists'!G:G,\"Not found\")","v":"Minimum grade 12 pass in\n•\tIsiZulu HL 50% \n•\tEnglish FAL 50%"},{"$f":"_xlfn.XLOOKUP(B718,'Programmes lists'!B:B,'Programmes lists'!F:F,\"Not found\")","v":660}]
["Intermediate Phase Extended Progamme","EXT - Specialising in Life Skills, Social Sciences & IsiZulu Home Language","EDUB2714",{"$f":"_xlfn.XLOOKUP(C719,'RAW module list'!A:A,'RAW module list'!B:B, \"Not found\")","v":"Education Studies 2: Teaching and Learning in Education Context"},{"$f":"_xlfn.XLOOKUP(C719,'RAW module list'!A:A,'RAW module list'!C:C, \"Not found\")","v":7},{"$f":"_xlfn.XLOOKUP(C719,'RAW module list'!A:A,'RAW module list'!D:D, \"Not found\")","v":16},{"$f":"_xlfn.XLOOKUP(C719,'RAW module list'!A:A,'RAW module list'!E:E, \"Not found\")","v":"EDUB1613 & EDUB1623"},"Third Year",{"$f":"_xlfn.XLOOKUP(B719,'Programmes lists'!B:B,'Programmes lists'!D:D)","v":0},{"$f":"_xlfn.XLOOKUP(B719,'Programmes lists'!B:B,'Programmes lists'!E:E, \"Not found\")","v":"QC7357E2"},{"$f":"_xlfn.XLOOKUP(B719,'Programmes lists'!B:B,'Programmes lists'!G:G,\"Not found\")","v":"Minimum grade 12 pass in\n•\tIsiZulu HL 50% \n•\tEnglish FAL 50%"},{"$f":"_xlfn.XLOOKUP(B719,'Programmes lists'!B:B,'Programmes lists'!F:F,\"Not found\")","v":660}]
["Intermediate Phase Extended Progamme","EXT - Specialising in Life Skills, Social Sciences & IsiZulu Home Language","GPED2613",{"$f":"_xlfn.XLOOKUP(C720,'RAW module list'!A:A,'RAW module list'!B:B, \"Not found\")","v":"General Pedagogy 2.1"},{"$f":"_xlfn.XLOOKUP(C720,'RAW module list'!A:A,'RAW module list'!C:C, \"Not found\")","v":6},{"$f":"_xlfn.XLOOKUP(C720,'RAW module list'!A:A,'RAW module list'!D:D, \"Not found\")","v":12},{"$f":"_xlfn.XLOOKUP(C720,'RAW module list'!A:A,'RAW module list'!E:E, \"Not found\")","v":"GPED1623"},"Third Year",{"$f":"_xlfn.XLOOKUP(B720,'Programmes lists'!B:B,'Programmes lists'!D:D)","v":0},{"$f":"_xlfn.XLOOKUP(B720,'Programmes lists'!B:B,'Programmes lists'!E:E, \"Not found\")","v":"QC7357E2"},{"$f":"_xlfn.XLOOKUP(B720,'Programmes lists'!B:B,'Programmes lists'!G:G,\"Not found\")","v":"Minimum grade 12 pass in\n•\tIsiZulu HL 50% \n•\tEnglish FAL 50%"},{"$f":"_xlfn.XLOOKUP(B720,'Programmes lists'!B:B,'Programmes lists'!F:F,\"Not found\")","v":660}]
["Intermediate Phase Extended Progamme","EXT - Specialising in Life Skills, Social Sciences & IsiZulu Home Language","TPRI2502",{"$f":"_xlfn.XLOOKUP(C721,'RAW module list'!A:A,'RAW module list'!B:B, \"Not found\")","v":"Teaching Practice 2 "},{"$f":"_xlfn.XLOOKUP(C721,'RAW module list'!A:A,'RAW module list'!C:C, \"Not found\")","v":5},{"$f":"_xlfn.XLOOKUP(C721,'RAW module list'!A:A,'RAW module list'!D:D, \"Not found\")","v":8},{"$f":"_xlfn.XLOOKUP(C721,'RAW module list'!A:A,'RAW module list'!E:E, \"Not found\")","v":"TPRI1502"},"Third Year",{"$f":"_xlfn.XLOOKUP(B721,'Programmes lists'!B:B,'Programmes lists'!D:D)","v":0},{"$f":"_xlfn.XLOOKUP(B721,'Programmes lists'!B:B,'Programmes lists'!E:E, \"Not found\")","v":"QC7357E2"},{"$f":"_xlfn.XLOOKUP(B721,'Programmes lists'!B:B,'Programmes lists'!G:G,\"Not found\")","v":"Minimum grade 12 pass in\n•\tIsiZulu HL 50% \n•\tEnglish FAL 50%"},{"$f":"_xlfn.XLOOKUP(B721,'Programmes lists'!B:B,'Programmes lists'!F:F,\"Not found\")","v":660}]
["Intermediate Phase Extended Progamme","EXT - Specialising in Life Skills, Social Sciences & IsiZulu Home Language","SSCI2624",{"$f":"_xlfn.XLOOKUP(C722,'RAW module list'!A:A,'RAW module list'!B:B, \"Not found\")","v":"Social Sciences 2: Geography"},{"$f":"_xlfn.XLOOKUP(C722,'RAW module list'!A:A,'RAW module list'!C:C, \"Not found\")","v":6},{"$f":"_xlfn.XLOOKUP(C722,'RAW module list'!A:A,'RAW module list'!D:D, \"Not found\")","v":16},{"$f":"_xlfn.XLOOKUP(C722,'RAW module list'!A:A,'RAW module list'!E:E, \"Not found\")","v":0},"Third Year",{"$f":"_xlfn.XLOOKUP(B722,'Programmes lists'!B:B,'Programmes lists'!D:D)","v":0},{"$f":"_xlfn.XLOOKUP(B722,'Programmes lists'!B:B,'Programmes lists'!E:E, \"Not found\")","v":"QC7357E2"},{"$f":"_xlfn.XLOOKUP(B722,'Programmes lists'!B:B,'Programmes lists'!G:G,\"Not found\")","v":"Minimum grade 12 pass in\n•\tIsiZulu HL 50% \n•\tEnglish FAL 50%"},{"$f":"_xlfn.XLOOKUP(B722,'Programmes lists'!B:B,'Programmes lists'!F:F,\"Not found\")","v":660}]
["Intermediate Phase Extended Progamme","EXT - Specialising in Life Skills, Social Sciences & IsiZulu Home Language","ZULT1524",{"$f":"_xlfn.XLOOKUP(C723,'RAW module list'!A:A,'RAW module list'!B:B, \"Not found\")","v":"IsiZulu: Introduction to Literature"},{"$f":"_xlfn.XLOOKUP(C723,'RAW module list'!A:A,'RAW module list'!C:C, \"Not found\")","v":6},{"$f":"_xlfn.XLOOKUP(C723,'RAW module list'!A:A,'RAW module list'!D:D, \"Not found\")","v":16},{"$f":"_xlfn.XLOOKUP(C723,'RAW module list'!A:A,'RAW module list'!E:E, \"Not found\")","v":"ZULL1514"},"Third Year",{"$f":"_xlfn.XLOOKUP(B723,'Programmes lists'!B:B,'Programmes lists'!D:D)","v":0},{"$f":"_xlfn.XLOOKUP(B723,'Programmes lists'!B:B,'Programmes lists'!E:E, \"Not found\")","v":"QC7357E2"},{"$f":"_xlfn.XLOOKUP(B723,'Programmes lists'!B:B,'Programmes lists'!G:G,\"Not found\")","v":"Minimum grade 12 pass in\n•\tIsiZulu HL 50% \n•\tEnglish FAL 50%"},{"$f":"_xlfn.XLOOKUP(B723,'Programmes lists'!B:B,'Programmes lists'!F:F,\"Not found\")","v":660}]
["Intermediate Phase Extended Progamme","EXT - Specialising in Life Skills, Social Sciences & IsiZulu Home Language","EDUB2724",{"$f":"_xlfn.XLOOKUP(C724,'RAW module list'!A:A,'RAW module list'!B:B, \"Not found\")","v":"Education Studies 2: Human Relationships in Education context"},{"$f":"_xlfn.XLOOKUP(C724,'RAW module list'!A:A,'RAW module list'!C:C, \"Not found\")","v":7},{"$f":"_xlfn.XLOOKUP(C724,'RAW module list'!A:A,'RAW module list'!D:D, \"Not found\")","v":16},{"$f":"_xlfn.XLOOKUP(C724,'RAW module list'!A:A,'RAW module list'!E:E, \"Not found\")","v":"EDUB2714"},"Third Year",{"$f":"_xlfn.XLOOKUP(B724,'Programmes lists'!B:B,'Programmes lists'!D:D)","v":0},{"$f":"_xlfn.XLOOKUP(B724,'Programmes lists'!B:B,'Programmes lists'!E:E, \"Not found\")","v":"QC7357E2"},{"$f":"_xlfn.XLOOKUP(B724,'Programmes lists'!B:B,'Programmes lists'!G:G,\"Not found\")","v":"Minimum grade 12 pass in\n•\tIsiZulu HL 50% \n•\tEnglish FAL 50%"},{"$f":"_xlfn.XLOOKUP(B724,'Programmes lists'!B:B,'Programmes lists'!F:F,\"Not found\")","v":660}]
["Intermediate Phase Extended Progamme","EXT - Specialising in Life Skills, Social Sciences & IsiZulu Home Language","GPED2623",{"$f":"_xlfn.XLOOKUP(C725,'RAW module list'!A:A,'RAW module list'!B:B, \"Not found\")","v":"General Pedagogy 2.2: Assessment"},{"$f":"_xlfn.XLOOKUP(C725,'RAW module list'!A:A,'RAW module list'!C:C, \"Not found\")","v":6},{"$f":"_xlfn.XLOOKUP(C725,'RAW module list'!A:A,'RAW module list'!D:D, \"Not found\")","v":12},{"$f":"_xlfn.XLOOKUP(C725,'RAW module list'!A:A,'RAW module list'!E:E, \"Not found\")","v":"GPED2613"},"Third Year",{"$f":"_xlfn.XLOOKUP(B725,'Programmes lists'!B:B,'Programmes lists'!D:D)","v":0},{"$f":"_xlfn.XLOOKUP(B725,'Programmes lists'!B:B,'Programmes lists'!E:E, \"Not found\")","v":"QC7357E2"},{"$f":"_xlfn.XLOOKUP(B725,'Programmes lists'!B:B,'Programmes lists'!G:G,\"Not found\")","v":"Minimum grade 12 pass in\n•\tIsiZulu HL 50% \n•\tEnglish FAL 50%"},{"$f":"_xlfn.XLOOKUP(B725,'Programmes lists'!B:B,'Programmes lists'!F:F,\"Not found\")","v":660}]
["Intermediate Phase Extended Progamme","EXT - Specialising in Life Skills, Social Sciences & IsiZulu Home Language","LSTI3604",{"$f":"_xlfn.XLOOKUP(C726,'RAW module list'!A:A,'RAW module list'!B:B, \"Not found\")","v":"Teaching of Life Skills 1 "},{"$f":"_xlfn.XLOOKUP(C726,'RAW module list'!A:A,'RAW module list'!C:C, \"Not found\")","v":6},{"$f":"_xlfn.XLOOKUP(C726,'RAW module list'!A:A,'RAW module list'!D:D, \"Not found\")","v":16},{"$f":"_xlfn.XLOOKUP(C726,'RAW module list'!A:A,'RAW module list'!E:E, \"Not found\")","v":"LSCI614 & LSCI2624"},"Fourth Year",{"$f":"_xlfn.XLOOKUP(B726,'Programmes lists'!B:B,'Programmes lists'!D:D)","v":0},{"$f":"_xlfn.XLOOKUP(B726,'Programmes lists'!B:B,'Programmes lists'!E:E, \"Not found\")","v":"QC7357E2"},{"$f":"_xlfn.XLOOKUP(B726,'Programmes lists'!B:B,'Programmes lists'!G:G,\"Not found\")","v":"Minimum grade 12 pass in\n•\tIsiZulu HL 50% \n•\tEnglish FAL 50%"},{"$f":"_xlfn.XLOOKUP(B726,'Programmes lists'!B:B,'Programmes lists'!F:F,\"Not found\")","v":660}]
["Intermediate Phase Extended Progamme","EXT - Specialising in Life Skills, Social Sciences & IsiZulu Home Language","SSTI3604",{"$f":"_xlfn.XLOOKUP(C727,'RAW module list'!A:A,'RAW module list'!B:B, \"Not found\")","v":"Teaching Social Sciences 1"},{"$f":"_xlfn.XLOOKUP(C727,'RAW module list'!A:A,'RAW module list'!C:C, \"Not found\")","v":6},{"$f":"_xlfn.XLOOKUP(C727,'RAW module list'!A:A,'RAW module list'!D:D, \"Not found\")","v":16},{"$f":"_xlfn.XLOOKUP(C727,'RAW module list'!A:A,'RAW module list'!E:E, \"Not found\")","v":"SSCI2614 & SSCI2624"},"Fourth Year",{"$f":"_xlfn.XLOOKUP(B727,'Programmes lists'!B:B,'Programmes lists'!D:D)","v":0},{"$f":"_xlfn.XLOOKUP(B727,'Programmes lists'!B:B,'Programmes lists'!E:E, \"Not found\")","v":"QC7357E2"},{"$f":"_xlfn.XLOOKUP(B727,'Programmes lists'!B:B,'Programmes lists'!G:G,\"Not found\")","v":"Minimum grade 12 pass in\n•\tIsiZulu HL 50% \n•\tEnglish FAL 50%"},{"$f":"_xlfn.XLOOKUP(B727,'Programmes lists'!B:B,'Programmes lists'!F:F,\"Not found\")","v":660}]
["Intermediate Phase Extended Progamme","EXT - Specialising in Life Skills, Social Sciences & IsiZulu Home Language","ZHTI3604",{"$f":"_xlfn.XLOOKUP(C728,'RAW module list'!A:A,'RAW module list'!B:B, \"Not found\")","v":"IsiZulu Teaching 1 Home Language"},{"$f":"_xlfn.XLOOKUP(C728,'RAW module list'!A:A,'RAW module list'!C:C, \"Not found\")","v":6},{"$f":"_xlfn.XLOOKUP(C728,'RAW module list'!A:A,'RAW module list'!D:D, \"Not found\")","v":16},{"$f":"_xlfn.XLOOKUP(C728,'RAW module list'!A:A,'RAW module list'!E:E, \"Not found\")","v":"ZULL1514 & ZULT1524"},"Fourth Year",{"$f":"_xlfn.XLOOKUP(B728,'Programmes lists'!B:B,'Programmes lists'!D:D)","v":0},{"$f":"_xlfn.XLOOKUP(B728,'Programmes lists'!B:B,'Programmes lists'!E:E, \"Not found\")","v":"QC7357E2"},{"$f":"_xlfn.XLOOKUP(B728,'Programmes lists'!B:B,'Programmes lists'!G:G,\"Not found\")","v":"Minimum grade 12 pass in\n•\tIsiZulu HL 50% \n•\tEnglish FAL 50%"},{"$f":"_xlfn.XLOOKUP(B728,'Programmes lists'!B:B,'Programmes lists'!F:F,\"Not found\")","v":660}]
["Intermediate Phase Extended Progamme","EXT - Specialising in Life Skills, Social Sciences & IsiZulu Home Language","EDUB3714",{"$f":"_xlfn.XLOOKUP(C729,'RAW module list'!A:A,'RAW module list'!B:B, \"Not found\")","v":"Education Studies 3.1 Education systems in global and national context"},{"$f":"_xlfn.XLOOKUP(C729,'RAW module list'!A:A,'RAW module list'!C:C, \"Not found\")","v":7},{"$f":"_xlfn.XLOOKUP(C729,'RAW module list'!A:A,'RAW module list'!D:D, \"Not found\")","v":16},{"$f":"_xlfn.XLOOKUP(C729,'RAW module list'!A:A,'RAW module list'!E:E, \"Not found\")","v":"EDUB1613 & EDUB1623& EDUB2714 & EDUB2724"},"Fourth Year",{"$f":"_xlfn.XLOOKUP(B729,'Programmes lists'!B:B,'Programmes lists'!D:D)","v":0},{"$f":"_xlfn.XLOOKUP(B729,'Programmes lists'!B:B,'Programmes lists'!E:E, \"Not found\")","v":"QC7357E2"},{"$f":"_xlfn.XLOOKUP(B729,'Programmes lists'!B:B,'Programmes lists'!G:G,\"Not found\")","v":"Minimum grade 12 pass in\n•\tIsiZulu HL 50% \n•\tEnglish FAL 50%"},{"$f":"_xlfn.XLOOKUP(B729,'Programmes lists'!B:B,'Programmes lists'!F:F,\"Not found\")","v":660}]
["Intermediate Phase Extended Progamme","EXT - Specialising in Life Skills, Social Sciences & IsiZulu Home Language","CURS3502",{"$f":"_xlfn.XLOOKUP(C730,'RAW module list'!A:A,'RAW module list'!B:B, \"Not found\")","v":"Intermediate Phase School Curriculum"},{"$f":"_xlfn.XLOOKUP(C730,'RAW module list'!A:A,'RAW module list'!C:C, \"Not found\")","v":5},{"$f":"_xlfn.XLOOKUP(C730,'RAW module list'!A:A,'RAW module list'!D:D, \"Not found\")","v":8},{"$f":"_xlfn.XLOOKUP(C730,'RAW module list'!A:A,'RAW module list'!E:E, \"Not found\")","v":0},"Fourth Year",{"$f":"_xlfn.XLOOKUP(B730,'Programmes lists'!B:B,'Programmes lists'!D:D)","v":0},{"$f":"_xlfn.XLOOKUP(B730,'Programmes lists'!B:B,'Programmes lists'!E:E, \"Not found\")","v":"QC7357E2"},{"$f":"_xlfn.XLOOKUP(B730,'Programmes lists'!B:B,'Programmes lists'!G:G,\"Not found\")","v":"Minimum grade 12 pass in\n•\tIsiZulu HL 50% \n•\tEnglish FAL 50%"},{"$f":"_xlfn.XLOOKUP(B730,'Programmes lists'!B:B,'Programmes lists'!F:F,\"Not found\")","v":660}]
["Intermediate Phase Extended Progamme","EXT - Specialising in Life Skills, Social Sciences & IsiZulu Home Language","EATI3604",{"$f":"_xlfn.XLOOKUP(C731,'RAW module list'!A:A,'RAW module list'!B:B, \"Not found\")","v":"English additional language teaching 1"},{"$f":"_xlfn.XLOOKUP(C731,'RAW module list'!A:A,'RAW module list'!C:C, \"Not found\")","v":6},{"$f":"_xlfn.XLOOKUP(C731,'RAW module list'!A:A,'RAW module list'!D:D, \"Not found\")","v":16},{"$f":"_xlfn.XLOOKUP(C731,'RAW module list'!A:A,'RAW module list'!E:E, \"Not found\")","v":"ENGE1608"},"Fourth Year",{"$f":"_xlfn.XLOOKUP(B731,'Programmes lists'!B:B,'Programmes lists'!D:D)","v":0},{"$f":"_xlfn.XLOOKUP(B731,'Programmes lists'!B:B,'Programmes lists'!E:E, \"Not found\")","v":"QC7357E2"},{"$f":"_xlfn.XLOOKUP(B731,'Programmes lists'!B:B,'Programmes lists'!G:G,\"Not found\")","v":"Minimum grade 12 pass in\n•\tIsiZulu HL 50% \n•\tEnglish FAL 50%"},{"$f":"_xlfn.XLOOKUP(B731,'Programmes lists'!B:B,'Programmes lists'!F:F,\"Not found\")","v":660}]
["Intermediate Phase Extended Progamme","EXT - Specialising in Life Skills, Social Sciences & IsiZulu Home Language","SSCL3512 OR SICL3512 OR GAFR3512",{"$f":"_xlfn.XLOOKUP(C732,'RAW module list'!A:A,'RAW module list'!B:B, \"Not found\")","v":"Conversational Sesotho OR Conversational Sign Language OR Conversational Afrikaans"},{"$f":"_xlfn.XLOOKUP(C732,'RAW module list'!A:A,'RAW module list'!C:C, \"Not found\")","v":5},{"$f":"_xlfn.XLOOKUP(C732,'RAW module list'!A:A,'RAW module list'!D:D, \"Not found\")","v":8},{"$f":"_xlfn.XLOOKUP(C732,'RAW module list'!A:A,'RAW module list'!E:E, \"Not found\")","v":"No previous exposure to the language"},"Fourth Year",{"$f":"_xlfn.XLOOKUP(B732,'Programmes lists'!B:B,'Programmes lists'!D:D)","v":0},{"$f":"_xlfn.XLOOKUP(B732,'Programmes lists'!B:B,'Programmes lists'!E:E, \"Not found\")","v":"QC7357E2"},{"$f":"_xlfn.XLOOKUP(B732,'Programmes lists'!B:B,'Programmes lists'!G:G,\"Not found\")","v":"Minimum grade 12 pass in\n•\tIsiZulu HL 50% \n•\tEnglish FAL 50%"},{"$f":"_xlfn.XLOOKUP(B732,'Programmes lists'!B:B,'Programmes lists'!F:F,\"Not found\")","v":660}]
["Intermediate Phase Extended Progamme","EXT - Specialising in Life Skills, Social Sciences & IsiZulu Home Language","WILI3606",{"$f":"_xlfn.XLOOKUP(C733,'RAW module list'!A:A,'RAW module list'!B:B, \"Not found\")","v":"Teaching Practice 3"},{"$f":"_xlfn.XLOOKUP(C733,'RAW module list'!A:A,'RAW module list'!C:C, \"Not found\")","v":6},{"$f":"_xlfn.XLOOKUP(C733,'RAW module list'!A:A,'RAW module list'!D:D, \"Not found\")","v":24},{"$f":"_xlfn.XLOOKUP(C733,'RAW module list'!A:A,'RAW module list'!E:E, \"Not found\")","v":"TPRI2502"},"Fourth Year",{"$f":"_xlfn.XLOOKUP(B733,'Programmes lists'!B:B,'Programmes lists'!D:D)","v":0},{"$f":"_xlfn.XLOOKUP(B733,'Programmes lists'!B:B,'Programmes lists'!E:E, \"Not found\")","v":"QC7357E2"},{"$f":"_xlfn.XLOOKUP(B733,'Programmes lists'!B:B,'Programmes lists'!G:G,\"Not found\")","v":"Minimum grade 12 pass in\n•\tIsiZulu HL 50% \n•\tEnglish FAL 50%"},{"$f":"_xlfn.XLOOKUP(B733,'Programmes lists'!B:B,'Programmes lists'!F:F,\"Not found\")","v":660}]
["Intermediate Phase Extended Progamme","EXT - Specialising in Life Skills, Social Sciences & IsiZulu Home Language","EDUB3724",{"$f":"_xlfn.XLOOKUP(C734,'RAW module list'!A:A,'RAW module list'!B:B, \"Not found\")","v":"Education Studies 3.2: Contemporary Education Theory in the current social context"},{"$f":"_xlfn.XLOOKUP(C734,'RAW module list'!A:A,'RAW module list'!C:C, \"Not found\")","v":7},{"$f":"_xlfn.XLOOKUP(C734,'RAW module list'!A:A,'RAW module list'!D:D, \"Not found\")","v":16},{"$f":"_xlfn.XLOOKUP(C734,'RAW module list'!A:A,'RAW module list'!E:E, \"Not found\")","v":"EDUB1613 & EDUB1623 & EDUB2714 & EDUB2724 & EDUB3714"},"Fourth Year",{"$f":"_xlfn.XLOOKUP(B734,'Programmes lists'!B:B,'Programmes lists'!D:D)","v":0},{"$f":"_xlfn.XLOOKUP(B734,'Programmes lists'!B:B,'Programmes lists'!E:E, \"Not found\")","v":"QC7357E2"},{"$f":"_xlfn.XLOOKUP(B734,'Programmes lists'!B:B,'Programmes lists'!G:G,\"Not found\")","v":"Minimum grade 12 pass in\n•\tIsiZulu HL 50% \n•\tEnglish FAL 50%"},{"$f":"_xlfn.XLOOKUP(B734,'Programmes lists'!B:B,'Programmes lists'!F:F,\"Not found\")","v":660}]
["Intermediate Phase Extended Progamme","EXT - Specialising in Life Skills, Social Sciences & IsiZulu Home Language","SSCL3522 OR SICL3522 OR GAFR3522",{"$f":"_xlfn.XLOOKUP(C735,'RAW module list'!A:A,'RAW module list'!B:B, \"Not found\")","v":"Conversational Sesotho OR Conversational Sign Language OR Conversational Afrikaans"},{"$f":"_xlfn.XLOOKUP(C735,'RAW module list'!A:A,'RAW module list'!C:C, \"Not found\")","v":5},{"$f":"_xlfn.XLOOKUP(C735,'RAW module list'!A:A,'RAW module list'!D:D, \"Not found\")","v":8},{"$f":"_xlfn.XLOOKUP(C735,'RAW module list'!A:A,'RAW module list'!E:E, \"Not found\")","v":"Continue with the conversational language chosen in Semester 1"},"Fourth Year",{"$f":"_xlfn.XLOOKUP(B735,'Programmes lists'!B:B,'Programmes lists'!D:D)","v":0},{"$f":"_xlfn.XLOOKUP(B735,'Programmes lists'!B:B,'Programmes lists'!E:E, \"Not found\")","v":"QC7357E2"},{"$f":"_xlfn.XLOOKUP(B735,'Programmes lists'!B:B,'Programmes lists'!G:G,\"Not found\")","v":"Minimum grade 12 pass in\n•\tIsiZulu HL 50% \n•\tEnglish FAL 50%"},{"$f":"_xlfn.XLOOKUP(B735,'Programmes lists'!B:B,'Programmes lists'!F:F,\"Not found\")","v":660}]
["Intermediate Phase Extended Progamme","EXT - Specialising in Life Skills, Social Sciences & IsiZulu Home Language","LSTI4705",{"$f":"_xlfn.XLOOKUP(C736,'RAW module list'!A:A,'RAW module list'!B:B, \"Not found\")","v":"Teaching of Life Skills 2"},{"$f":"_xlfn.XLOOKUP(C736,'RAW module list'!A:A,'RAW module list'!C:C, \"Not found\")","v":7},{"$f":"_xlfn.XLOOKUP(C736,'RAW module list'!A:A,'RAW module list'!D:D, \"Not found\")","v":20},{"$f":"_xlfn.XLOOKUP(C736,'RAW module list'!A:A,'RAW module list'!E:E, \"Not found\")","v":"LSTI3604"},"Fifth Year",{"$f":"_xlfn.XLOOKUP(B736,'Programmes lists'!B:B,'Programmes lists'!D:D)","v":0},{"$f":"_xlfn.XLOOKUP(B736,'Programmes lists'!B:B,'Programmes lists'!E:E, \"Not found\")","v":"QC7357E2"},{"$f":"_xlfn.XLOOKUP(B736,'Programmes lists'!B:B,'Programmes lists'!G:G,\"Not found\")","v":"Minimum grade 12 pass in\n•\tIsiZulu HL 50% \n•\tEnglish FAL 50%"},{"$f":"_xlfn.XLOOKUP(B736,'Programmes lists'!B:B,'Programmes lists'!F:F,\"Not found\")","v":660}]
["Intermediate Phase Extended Progamme","EXT - Specialising in Life Skills, Social Sciences & IsiZulu Home Language","SSTI4705",{"$f":"_xlfn.XLOOKUP(C737,'RAW module list'!A:A,'RAW module list'!B:B, \"Not found\")","v":"Teaching of Social Sciences 2"},{"$f":"_xlfn.XLOOKUP(C737,'RAW module list'!A:A,'RAW module list'!C:C, \"Not found\")","v":7},{"$f":"_xlfn.XLOOKUP(C737,'RAW module list'!A:A,'RAW module list'!D:D, \"Not found\")","v":20},{"$f":"_xlfn.XLOOKUP(C737,'RAW module list'!A:A,'RAW module list'!E:E, \"Not found\")","v":"SSTI3604"},"Fifth Year",{"$f":"_xlfn.XLOOKUP(B737,'Programmes lists'!B:B,'Programmes lists'!D:D)","v":0},{"$f":"_xlfn.XLOOKUP(B737,'Programmes lists'!B:B,'Programmes lists'!E:E, \"Not found\")","v":"QC7357E2"},{"$f":"_xlfn.XLOOKUP(B737,'Programmes lists'!B:B,'Programmes lists'!G:G,\"Not found\")","v":"Minimum grade 12 pass in\n•\tIsiZulu HL 50% \n•\tEnglish FAL 50%"},{"$f":"_xlfn.XLOOKUP(B737,'Programmes lists'!B:B,'Programmes lists'!F:F,\"Not found\")","v":660}]
["Intermediate Phase Extended Progamme","EXT - Specialising in Life Skills, Social Sciences & IsiZulu Home Language","ZHTI4705",{"$f":"_xlfn.XLOOKUP(C738,'RAW module list'!A:A,'RAW module list'!B:B, \"Not found\")","v":"IsiZulu Teaching 2 (Home Language)"},{"$f":"_xlfn.XLOOKUP(C738,'RAW module list'!A:A,'RAW module list'!C:C, \"Not found\")","v":7},{"$f":"_xlfn.XLOOKUP(C738,'RAW module list'!A:A,'RAW module list'!D:D, \"Not found\")","v":20},{"$f":"_xlfn.XLOOKUP(C738,'RAW module list'!A:A,'RAW module list'!E:E, \"Not found\")","v":"ZHTI3604"},"Fifth Year",{"$f":"_xlfn.XLOOKUP(B738,'Programmes lists'!B:B,'Programmes lists'!D:D)","v":0},{"$f":"_xlfn.XLOOKUP(B738,'Programmes lists'!B:B,'Programmes lists'!E:E, \"Not found\")","v":"QC7357E2"},{"$f":"_xlfn.XLOOKUP(B738,'Programmes lists'!B:B,'Programmes lists'!G:G,\"Not found\")","v":"Minimum grade 12 pass in\n•\tIsiZulu HL 50% \n•\tEnglish FAL 50%"},{"$f":"_xlfn.XLOOKUP(B738,'Programmes lists'!B:B,'Programmes lists'!F:F,\"Not found\")","v":660}]
["Intermediate Phase Extended Progamme","EXT - Specialising in Life Skills, Social Sciences & IsiZulu Home Language","CURS4502",{"$f":"_xlfn.XLOOKUP(C739,'RAW module list'!A:A,'RAW module list'!B:B, \"Not found\")","v":"Intermediate Phase School Curriculum"},{"$f":"_xlfn.XLOOKUP(C739,'RAW module list'!A:A,'RAW module list'!C:C, \"Not found\")","v":5},{"$f":"_xlfn.XLOOKUP(C739,'RAW module list'!A:A,'RAW module list'!D:D, \"Not found\")","v":8},{"$f":"_xlfn.XLOOKUP(C739,'RAW module list'!A:A,'RAW module list'!E:E, \"Not found\")","v":"CURS3502"},"Fifth Year",{"$f":"_xlfn.XLOOKUP(B739,'Programmes lists'!B:B,'Programmes lists'!D:D)","v":0},{"$f":"_xlfn.XLOOKUP(B739,'Programmes lists'!B:B,'Programmes lists'!E:E, \"Not found\")","v":"QC7357E2"},{"$f":"_xlfn.XLOOKUP(B739,'Programmes lists'!B:B,'Programmes lists'!G:G,\"Not found\")","v":"Minimum grade 12 pass in\n•\tIsiZulu HL 50% \n•\tEnglish FAL 50%"},{"$f":"_xlfn.XLOOKUP(B739,'Programmes lists'!B:B,'Programmes lists'!F:F,\"Not found\")","v":660}]
["Intermediate Phase Extended Progamme","EXT - Specialising in Life Skills, Social Sciences & IsiZulu Home Language","EATI4705",{"$f":"_xlfn.XLOOKUP(C740,'RAW module list'!A:A,'RAW module list'!B:B, \"Not found\")","v":"English additional language teaching 2"},{"$f":"_xlfn.XLOOKUP(C740,'RAW module list'!A:A,'RAW module list'!C:C, \"Not found\")","v":7},{"$f":"_xlfn.XLOOKUP(C740,'RAW module list'!A:A,'RAW module list'!D:D, \"Not found\")","v":20},{"$f":"_xlfn.XLOOKUP(C740,'RAW module list'!A:A,'RAW module list'!E:E, \"Not found\")","v":"EATI3604"},"Fifth Year",{"$f":"_xlfn.XLOOKUP(B740,'Programmes lists'!B:B,'Programmes lists'!D:D)","v":0},{"$f":"_xlfn.XLOOKUP(B740,'Programmes lists'!B:B,'Programmes lists'!E:E, \"Not found\")","v":"QC7357E2"},{"$f":"_xlfn.XLOOKUP(B740,'Programmes lists'!B:B,'Programmes lists'!G:G,\"Not found\")","v":"Minimum grade 12 pass in\n•\tIsiZulu HL 50% \n•\tEnglish FAL 50%"},{"$f":"_xlfn.XLOOKUP(B740,'Programmes lists'!B:B,'Programmes lists'!F:F,\"Not found\")","v":660}]
["Intermediate Phase Extended Progamme","EXT - Specialising in Life Skills, Social Sciences & IsiZulu Home Language","WILI4700",{"$f":"_xlfn.XLOOKUP(C741,'RAW module list'!A:A,'RAW module list'!B:B, \"Not found\")","v":"Teaching Practice 4"},{"$f":"_xlfn.XLOOKUP(C741,'RAW module list'!A:A,'RAW module list'!C:C, \"Not found\")","v":7},{"$f":"_xlfn.XLOOKUP(C741,'RAW module list'!A:A,'RAW module list'!D:D, \"Not found\")","v":40},{"$f":"_xlfn.XLOOKUP(C741,'RAW module list'!A:A,'RAW module list'!E:E, \"Not found\")","v":"WILI3606"},"Fifth Year",{"$f":"_xlfn.XLOOKUP(B741,'Programmes lists'!B:B,'Programmes lists'!D:D)","v":0},{"$f":"_xlfn.XLOOKUP(B741,'Programmes lists'!B:B,'Programmes lists'!E:E, \"Not found\")","v":"QC7357E2"},{"$f":"_xlfn.XLOOKUP(B741,'Programmes lists'!B:B,'Programmes lists'!G:G,\"Not found\")","v":"Minimum grade 12 pass in\n•\tIsiZulu HL 50% \n•\tEnglish FAL 50%"},{"$f":"_xlfn.XLOOKUP(B741,'Programmes lists'!B:B,'Programmes lists'!F:F,\"Not found\")","v":660}]
["Senior and FET ","Specialising in Accounting and Business Studies","EACC1614",{"$f":"_xlfn.XLOOKUP(C742,'RAW module list'!A:A,'RAW module list'!B:B, \"Not found\")","v":"Accounting"},{"$f":"_xlfn.XLOOKUP(C742,'RAW module list'!A:A,'RAW module list'!C:C, \"Not found\")","v":5},{"$f":"_xlfn.XLOOKUP(C742,'RAW module list'!A:A,'RAW module list'!D:D, \"Not found\")","v":16},{"$f":"_xlfn.XLOOKUP(C742,'RAW module list'!A:A,'RAW module list'!E:E, \"Not found\")","v":0},"First Year",{"$f":"_xlfn.XLOOKUP(B742,'Programmes lists'!B:B,'Programmes lists'!D:D)","v":"BC736101      "},{"$f":"_xlfn.XLOOKUP(B742,'Programmes lists'!B:B,'Programmes lists'!E:E, \"Not found\")","v":0},{"$f":"_xlfn.XLOOKUP(B742,'Programmes lists'!B:B,'Programmes lists'!G:G,\"Not found\")","v":"Minimum of 50% in grade 12 pass for\n•\tAccounting \n•\tBusiness Studies"},{"$f":"_xlfn.XLOOKUP(B742,'Programmes lists'!B:B,'Programmes lists'!F:F,\"Not found\")","v":512}]
["Senior and FET ","Specialising in Accounting and Business Studies","EBUS1514 OR EBUS1614",{"$f":"_xlfn.XLOOKUP(C743,'RAW module list'!A:A,'RAW module list'!B:B, \"Not found\")","v":"Business Functions OR Business Dynamics "},{"$f":"_xlfn.XLOOKUP(C743,'RAW module list'!A:A,'RAW module list'!C:C, \"Not found\")","v":5},{"$f":"_xlfn.XLOOKUP(C743,'RAW module list'!A:A,'RAW module list'!D:D, \"Not found\")","v":16},{"$f":"_xlfn.XLOOKUP(C743,'RAW module list'!A:A,'RAW module list'!E:E, \"Not found\")","v":0},"First Year",{"$f":"_xlfn.XLOOKUP(B743,'Programmes lists'!B:B,'Programmes lists'!D:D)","v":"BC736101      "},{"$f":"_xlfn.XLOOKUP(B743,'Programmes lists'!B:B,'Programmes lists'!E:E, \"Not found\")","v":0},{"$f":"_xlfn.XLOOKUP(B743,'Programmes lists'!B:B,'Programmes lists'!G:G,\"Not found\")","v":"Minimum of 50% in grade 12 pass for\n•\tAccounting \n•\tBusiness Studies"},{"$f":"_xlfn.XLOOKUP(B743,'Programmes lists'!B:B,'Programmes lists'!F:F,\"Not found\")","v":512}]
["Senior and FET ","Specialising in Accounting and Business Studies","LLST1513",{"$f":"_xlfn.XLOOKUP(C744,'RAW module list'!A:A,'RAW module list'!B:B, \"Not found\")","v":"Lifelong Learning Skills"},{"$f":"_xlfn.XLOOKUP(C744,'RAW module list'!A:A,'RAW module list'!C:C, \"Not found\")","v":5},{"$f":"_xlfn.XLOOKUP(C744,'RAW module list'!A:A,'RAW module list'!D:D, \"Not found\")","v":12},{"$f":"_xlfn.XLOOKUP(C744,'RAW module list'!A:A,'RAW module list'!E:E, \"Not found\")","v":0},"First Year",{"$f":"_xlfn.XLOOKUP(B744,'Programmes lists'!B:B,'Programmes lists'!D:D)","v":"BC736101      "},{"$f":"_xlfn.XLOOKUP(B744,'Programmes lists'!B:B,'Programmes lists'!E:E, \"Not found\")","v":0},{"$f":"_xlfn.XLOOKUP(B744,'Programmes lists'!B:B,'Programmes lists'!G:G,\"Not found\")","v":"Minimum of 50% in grade 12 pass for\n•\tAccounting \n•\tBusiness Studies"},{"$f":"_xlfn.XLOOKUP(B744,'Programmes lists'!B:B,'Programmes lists'!F:F,\"Not found\")","v":512}]
["Senior and FET ","Specialising in Accounting and Business Studies","EDUB1613",{"$f":"_xlfn.XLOOKUP(C745,'RAW module list'!A:A,'RAW module list'!B:B, \"Not found\")","v":"Education Studies 1.1 The Individual in the learning context"},{"$f":"_xlfn.XLOOKUP(C745,'RAW module list'!A:A,'RAW module list'!C:C, \"Not found\")","v":6},{"$f":"_xlfn.XLOOKUP(C745,'RAW module list'!A:A,'RAW module list'!D:D, \"Not found\")","v":12},{"$f":"_xlfn.XLOOKUP(C745,'RAW module list'!A:A,'RAW module list'!E:E, \"Not found\")","v":0},"First Year",{"$f":"_xlfn.XLOOKUP(B745,'Programmes lists'!B:B,'Programmes lists'!D:D)","v":"BC736101      "},{"$f":"_xlfn.XLOOKUP(B745,'Programmes lists'!B:B,'Programmes lists'!E:E, \"Not found\")","v":0},{"$f":"_xlfn.XLOOKUP(B745,'Programmes lists'!B:B,'Programmes lists'!G:G,\"Not found\")","v":"Minimum of 50% in grade 12 pass for\n•\tAccounting \n•\tBusiness Studies"},{"$f":"_xlfn.XLOOKUP(B745,'Programmes lists'!B:B,'Programmes lists'!F:F,\"Not found\")","v":512}]
["Senior and FET ","Specialising in Accounting and Business Studies","TPRV1502",{"$f":"_xlfn.XLOOKUP(C746,'RAW module list'!A:A,'RAW module list'!B:B, \"Not found\")","v":"Teaching Practice 1 "},{"$f":"_xlfn.XLOOKUP(C746,'RAW module list'!A:A,'RAW module list'!C:C, \"Not found\")","v":5},{"$f":"_xlfn.XLOOKUP(C746,'RAW module list'!A:A,'RAW module list'!D:D, \"Not found\")","v":8},{"$f":"_xlfn.XLOOKUP(C746,'RAW module list'!A:A,'RAW module list'!E:E, \"Not found\")","v":0},"First Year",{"$f":"_xlfn.XLOOKUP(B746,'Programmes lists'!B:B,'Programmes lists'!D:D)","v":"BC736101      "},{"$f":"_xlfn.XLOOKUP(B746,'Programmes lists'!B:B,'Programmes lists'!E:E, \"Not found\")","v":0},{"$f":"_xlfn.XLOOKUP(B746,'Programmes lists'!B:B,'Programmes lists'!G:G,\"Not found\")","v":"Minimum of 50% in grade 12 pass for\n•\tAccounting \n•\tBusiness Studies"},{"$f":"_xlfn.XLOOKUP(B746,'Programmes lists'!B:B,'Programmes lists'!F:F,\"Not found\")","v":512}]
["Senior and FET ","Specialising in Accounting and Business Studies","UFSS1504",{"$f":"_xlfn.XLOOKUP(C747,'RAW module list'!A:A,'RAW module list'!B:B, \"Not found\")","v":"Undergraduate core curriculum"},{"$f":"_xlfn.XLOOKUP(C747,'RAW module list'!A:A,'RAW module list'!C:C, \"Not found\")","v":5},{"$f":"_xlfn.XLOOKUP(C747,'RAW module list'!A:A,'RAW module list'!D:D, \"Not found\")","v":-16},{"$f":"_xlfn.XLOOKUP(C747,'RAW module list'!A:A,'RAW module list'!E:E, \"Not found\")","v":0},"First Year",{"$f":"_xlfn.XLOOKUP(B747,'Programmes lists'!B:B,'Programmes lists'!D:D)","v":"BC736101      "},{"$f":"_xlfn.XLOOKUP(B747,'Programmes lists'!B:B,'Programmes lists'!E:E, \"Not found\")","v":0},{"$f":"_xlfn.XLOOKUP(B747,'Programmes lists'!B:B,'Programmes lists'!G:G,\"Not found\")","v":"Minimum of 50% in grade 12 pass for\n•\tAccounting \n•\tBusiness Studies"},{"$f":"_xlfn.XLOOKUP(B747,'Programmes lists'!B:B,'Programmes lists'!F:F,\"Not found\")","v":512}]
["Senior and FET ","Specialising in Accounting and Business Studies","EALT1508 OR AGAE1508",{"$f":"_xlfn.XLOOKUP(C748,'RAW module list'!A:A,'RAW module list'!B:B, \"Not found\")","v":"English Academic Literacy for Education OR Academic Literacy in Afrikaans"},{"$f":"_xlfn.XLOOKUP(C748,'RAW module list'!A:A,'RAW module list'!C:C, \"Not found\")","v":5},{"$f":"_xlfn.XLOOKUP(C748,'RAW module list'!A:A,'RAW module list'!D:D, \"Not found\")","v":-32},{"$f":"_xlfn.XLOOKUP(C748,'RAW module list'!A:A,'RAW module list'!E:E, \"Not found\")","v":"NBT requirements not been met"},"First Year",{"$f":"_xlfn.XLOOKUP(B748,'Programmes lists'!B:B,'Programmes lists'!D:D)","v":"BC736101      "},{"$f":"_xlfn.XLOOKUP(B748,'Programmes lists'!B:B,'Programmes lists'!E:E, \"Not found\")","v":0},{"$f":"_xlfn.XLOOKUP(B748,'Programmes lists'!B:B,'Programmes lists'!G:G,\"Not found\")","v":"Minimum of 50% in grade 12 pass for\n•\tAccounting \n•\tBusiness Studies"},{"$f":"_xlfn.XLOOKUP(B748,'Programmes lists'!B:B,'Programmes lists'!F:F,\"Not found\")","v":512}]
["Senior and FET ","Specialising in Accounting and Business Studies","EACC1624",{"$f":"_xlfn.XLOOKUP(C749,'RAW module list'!A:A,'RAW module list'!B:B, \"Not found\")","v":"Accounting"},{"$f":"_xlfn.XLOOKUP(C749,'RAW module list'!A:A,'RAW module list'!C:C, \"Not found\")","v":6},{"$f":"_xlfn.XLOOKUP(C749,'RAW module list'!A:A,'RAW module list'!D:D, \"Not found\")","v":16},{"$f":"_xlfn.XLOOKUP(C749,'RAW module list'!A:A,'RAW module list'!E:E, \"Not found\")","v":0},"First Year",{"$f":"_xlfn.XLOOKUP(B749,'Programmes lists'!B:B,'Programmes lists'!D:D)","v":"BC736101      "},{"$f":"_xlfn.XLOOKUP(B749,'Programmes lists'!B:B,'Programmes lists'!E:E, \"Not found\")","v":0},{"$f":"_xlfn.XLOOKUP(B749,'Programmes lists'!B:B,'Programmes lists'!G:G,\"Not found\")","v":"Minimum of 50% in grade 12 pass for\n•\tAccounting \n•\tBusiness Studies"},{"$f":"_xlfn.XLOOKUP(B749,'Programmes lists'!B:B,'Programmes lists'!F:F,\"Not found\")","v":512}]
["Senior and FET ","Specialising in Accounting and Business Studies","EDUB1623",{"$f":"_xlfn.XLOOKUP(C750,'RAW module list'!A:A,'RAW module list'!B:B, \"Not found\")","v":"Education Studies 1.2 What it means to educate: Theoretical perspectives and their significance for SA education"},{"$f":"_xlfn.XLOOKUP(C750,'RAW module list'!A:A,'RAW module list'!C:C, \"Not found\")","v":6},{"$f":"_xlfn.XLOOKUP(C750,'RAW module list'!A:A,'RAW module list'!D:D, \"Not found\")","v":12},{"$f":"_xlfn.XLOOKUP(C750,'RAW module list'!A:A,'RAW module list'!E:E, \"Not found\")","v":0},"First Year",{"$f":"_xlfn.XLOOKUP(B750,'Programmes lists'!B:B,'Programmes lists'!D:D)","v":"BC736101      "},{"$f":"_xlfn.XLOOKUP(B750,'Programmes lists'!B:B,'Programmes lists'!E:E, \"Not found\")","v":0},{"$f":"_xlfn.XLOOKUP(B750,'Programmes lists'!B:B,'Programmes lists'!G:G,\"Not found\")","v":"Minimum of 50% in grade 12 pass for\n•\tAccounting \n•\tBusiness Studies"},{"$f":"_xlfn.XLOOKUP(B750,'Programmes lists'!B:B,'Programmes lists'!F:F,\"Not found\")","v":512}]
["Senior and FET ","Specialising in Accounting and Business Studies","EBUS1624",{"$f":"_xlfn.XLOOKUP(C751,'RAW module list'!A:A,'RAW module list'!B:B, \"Not found\")","v":"General Management"},{"$f":"_xlfn.XLOOKUP(C751,'RAW module list'!A:A,'RAW module list'!C:C, \"Not found\")","v":6},{"$f":"_xlfn.XLOOKUP(C751,'RAW module list'!A:A,'RAW module list'!D:D, \"Not found\")","v":16},{"$f":"_xlfn.XLOOKUP(C751,'RAW module list'!A:A,'RAW module list'!E:E, \"Not found\")","v":0},"First Year",{"$f":"_xlfn.XLOOKUP(B751,'Programmes lists'!B:B,'Programmes lists'!D:D)","v":"BC736101      "},{"$f":"_xlfn.XLOOKUP(B751,'Programmes lists'!B:B,'Programmes lists'!E:E, \"Not found\")","v":0},{"$f":"_xlfn.XLOOKUP(B751,'Programmes lists'!B:B,'Programmes lists'!G:G,\"Not found\")","v":"Minimum of 50% in grade 12 pass for\n•\tAccounting \n•\tBusiness Studies"},{"$f":"_xlfn.XLOOKUP(B751,'Programmes lists'!B:B,'Programmes lists'!F:F,\"Not found\")","v":512}]
["Senior and FET ","Specialising in Accounting and Business Studies","GPEV1623",{"$f":"_xlfn.XLOOKUP(C752,'RAW module list'!A:A,'RAW module list'!B:B, \"Not found\")","v":"General Pedagogy 1: Managing the Curriculum"},{"$f":"_xlfn.XLOOKUP(C752,'RAW module list'!A:A,'RAW module list'!C:C, \"Not found\")","v":6},{"$f":"_xlfn.XLOOKUP(C752,'RAW module list'!A:A,'RAW module list'!D:D, \"Not found\")","v":12},{"$f":"_xlfn.XLOOKUP(C752,'RAW module list'!A:A,'RAW module list'!E:E, \"Not found\")","v":0},"First Year",{"$f":"_xlfn.XLOOKUP(B752,'Programmes lists'!B:B,'Programmes lists'!D:D)","v":"BC736101      "},{"$f":"_xlfn.XLOOKUP(B752,'Programmes lists'!B:B,'Programmes lists'!E:E, \"Not found\")","v":0},{"$f":"_xlfn.XLOOKUP(B752,'Programmes lists'!B:B,'Programmes lists'!G:G,\"Not found\")","v":"Minimum of 50% in grade 12 pass for\n•\tAccounting \n•\tBusiness Studies"},{"$f":"_xlfn.XLOOKUP(B752,'Programmes lists'!B:B,'Programmes lists'!F:F,\"Not found\")","v":512}]
["Senior and FET ","Specialising in Accounting and Business Studies","EBUS2715 OR EBUS2714",{"$f":"_xlfn.XLOOKUP(C753,'RAW module list'!A:A,'RAW module list'!B:B, \"Not found\")","v":"Strategic Management OR Entrepreneurship"},{"$f":"_xlfn.XLOOKUP(C753,'RAW module list'!A:A,'RAW module list'!C:C, \"Not found\")","v":7},{"$f":"_xlfn.XLOOKUP(C753,'RAW module list'!A:A,'RAW module list'!D:D, \"Not found\")","v":16},{"$f":"_xlfn.XLOOKUP(C753,'RAW module list'!A:A,'RAW module list'!E:E, \"Not found\")","v":"EBUS1624"},"Second Year",{"$f":"_xlfn.XLOOKUP(B753,'Programmes lists'!B:B,'Programmes lists'!D:D)","v":"BC736101      "},{"$f":"_xlfn.XLOOKUP(B753,'Programmes lists'!B:B,'Programmes lists'!E:E, \"Not found\")","v":0},{"$f":"_xlfn.XLOOKUP(B753,'Programmes lists'!B:B,'Programmes lists'!G:G,\"Not found\")","v":"Minimum of 50% in grade 12 pass for\n•\tAccounting \n•\tBusiness Studies"},{"$f":"_xlfn.XLOOKUP(B753,'Programmes lists'!B:B,'Programmes lists'!F:F,\"Not found\")","v":512}]
["Senior and FET ","Specialising in Accounting and Business Studies","EACC2608",{"$f":"_xlfn.XLOOKUP(C754,'RAW module list'!A:A,'RAW module list'!B:B, \"Not found\")","v":"Accounting"},{"$f":"_xlfn.XLOOKUP(C754,'RAW module list'!A:A,'RAW module list'!C:C, \"Not found\")","v":6},{"$f":"_xlfn.XLOOKUP(C754,'RAW module list'!A:A,'RAW module list'!D:D, \"Not found\")","v":32},{"$f":"_xlfn.XLOOKUP(C754,'RAW module list'!A:A,'RAW module list'!E:E, \"Not found\")","v":"EACC1614 & EACC1624"},"Second Year",{"$f":"_xlfn.XLOOKUP(B754,'Programmes lists'!B:B,'Programmes lists'!D:D)","v":"BC736101      "},{"$f":"_xlfn.XLOOKUP(B754,'Programmes lists'!B:B,'Programmes lists'!E:E, \"Not found\")","v":0},{"$f":"_xlfn.XLOOKUP(B754,'Programmes lists'!B:B,'Programmes lists'!G:G,\"Not found\")","v":"Minimum of 50% in grade 12 pass for\n•\tAccounting \n•\tBusiness Studies"},{"$f":"_xlfn.XLOOKUP(B754,'Programmes lists'!B:B,'Programmes lists'!F:F,\"Not found\")","v":512}]
["Senior and FET ","Specialising in Accounting and Business Studies","EDUB2714",{"$f":"_xlfn.XLOOKUP(C755,'RAW module list'!A:A,'RAW module list'!B:B, \"Not found\")","v":"Education Studies 2: Teaching and Learning in Education Context"},{"$f":"_xlfn.XLOOKUP(C755,'RAW module list'!A:A,'RAW module list'!C:C, \"Not found\")","v":7},{"$f":"_xlfn.XLOOKUP(C755,'RAW module list'!A:A,'RAW module list'!D:D, \"Not found\")","v":16},{"$f":"_xlfn.XLOOKUP(C755,'RAW module list'!A:A,'RAW module list'!E:E, \"Not found\")","v":"EDUB1613 & EDUB1623"},"Second Year",{"$f":"_xlfn.XLOOKUP(B755,'Programmes lists'!B:B,'Programmes lists'!D:D)","v":"BC736101      "},{"$f":"_xlfn.XLOOKUP(B755,'Programmes lists'!B:B,'Programmes lists'!E:E, \"Not found\")","v":0},{"$f":"_xlfn.XLOOKUP(B755,'Programmes lists'!B:B,'Programmes lists'!G:G,\"Not found\")","v":"Minimum of 50% in grade 12 pass for\n•\tAccounting \n•\tBusiness Studies"},{"$f":"_xlfn.XLOOKUP(B755,'Programmes lists'!B:B,'Programmes lists'!F:F,\"Not found\")","v":512}]
["Senior and FET ","Specialising in Accounting and Business Studies","GPEV2613",{"$f":"_xlfn.XLOOKUP(C756,'RAW module list'!A:A,'RAW module list'!B:B, \"Not found\")","v":"General Pedagogy 2.1"},{"$f":"_xlfn.XLOOKUP(C756,'RAW module list'!A:A,'RAW module list'!C:C, \"Not found\")","v":6},{"$f":"_xlfn.XLOOKUP(C756,'RAW module list'!A:A,'RAW module list'!D:D, \"Not found\")","v":12},{"$f":"_xlfn.XLOOKUP(C756,'RAW module list'!A:A,'RAW module list'!E:E, \"Not found\")","v":"GPEV1623"},"Second Year",{"$f":"_xlfn.XLOOKUP(B756,'Programmes lists'!B:B,'Programmes lists'!D:D)","v":"BC736101      "},{"$f":"_xlfn.XLOOKUP(B756,'Programmes lists'!B:B,'Programmes lists'!E:E, \"Not found\")","v":0},{"$f":"_xlfn.XLOOKUP(B756,'Programmes lists'!B:B,'Programmes lists'!G:G,\"Not found\")","v":"Minimum of 50% in grade 12 pass for\n•\tAccounting \n•\tBusiness Studies"},{"$f":"_xlfn.XLOOKUP(B756,'Programmes lists'!B:B,'Programmes lists'!F:F,\"Not found\")","v":512}]
["Senior and FET ","Specialising in Accounting and Business Studies","ELLT2504 OR ALLT3504",{"$f":"_xlfn.XLOOKUP(C757,'RAW module list'!A:A,'RAW module list'!B:B, \"Not found\")","v":"English as medium of learning and teaching OR Afrikaans as medium of learning and teaching"},{"$f":"_xlfn.XLOOKUP(C757,'RAW module list'!A:A,'RAW module list'!C:C, \"Not found\")","v":5},{"$f":"_xlfn.XLOOKUP(C757,'RAW module list'!A:A,'RAW module list'!D:D, \"Not found\")","v":16},{"$f":"_xlfn.XLOOKUP(C757,'RAW module list'!A:A,'RAW module list'!E:E, \"Not found\")","v":0},"Second Year",{"$f":"_xlfn.XLOOKUP(B757,'Programmes lists'!B:B,'Programmes lists'!D:D)","v":"BC736101      "},{"$f":"_xlfn.XLOOKUP(B757,'Programmes lists'!B:B,'Programmes lists'!E:E, \"Not found\")","v":0},{"$f":"_xlfn.XLOOKUP(B757,'Programmes lists'!B:B,'Programmes lists'!G:G,\"Not found\")","v":"Minimum of 50% in grade 12 pass for\n•\tAccounting \n•\tBusiness Studies"},{"$f":"_xlfn.XLOOKUP(B757,'Programmes lists'!B:B,'Programmes lists'!F:F,\"Not found\")","v":512}]
["Senior and FET ","Specialising in Accounting and Business Studies","TPRV2502",{"$f":"_xlfn.XLOOKUP(C758,'RAW module list'!A:A,'RAW module list'!B:B, \"Not found\")","v":"Teaching Practice 2"},{"$f":"_xlfn.XLOOKUP(C758,'RAW module list'!A:A,'RAW module list'!C:C, \"Not found\")","v":5},{"$f":"_xlfn.XLOOKUP(C758,'RAW module list'!A:A,'RAW module list'!D:D, \"Not found\")","v":8},{"$f":"_xlfn.XLOOKUP(C758,'RAW module list'!A:A,'RAW module list'!E:E, \"Not found\")","v":"TPRV1502"},"Second Year",{"$f":"_xlfn.XLOOKUP(B758,'Programmes lists'!B:B,'Programmes lists'!D:D)","v":"BC736101      "},{"$f":"_xlfn.XLOOKUP(B758,'Programmes lists'!B:B,'Programmes lists'!E:E, \"Not found\")","v":0},{"$f":"_xlfn.XLOOKUP(B758,'Programmes lists'!B:B,'Programmes lists'!G:G,\"Not found\")","v":"Minimum of 50% in grade 12 pass for\n•\tAccounting \n•\tBusiness Studies"},{"$f":"_xlfn.XLOOKUP(B758,'Programmes lists'!B:B,'Programmes lists'!F:F,\"Not found\")","v":512}]
["Senior and FET ","Specialising in Accounting and Business Studies","ESBM2724 OR EBMA2624",{"$f":"_xlfn.XLOOKUP(C759,'RAW module list'!A:A,'RAW module list'!B:B, \"Not found\")","v":"Small Business Management OR Personal Selling"},{"$f":"_xlfn.XLOOKUP(C759,'RAW module list'!A:A,'RAW module list'!C:C, \"Not found\")","v":7},{"$f":"_xlfn.XLOOKUP(C759,'RAW module list'!A:A,'RAW module list'!D:D, \"Not found\")","v":16},{"$f":"_xlfn.XLOOKUP(C759,'RAW module list'!A:A,'RAW module list'!E:E, \"Not found\")","v":"EBUS2714 or EBUS2715"},"Second Year",{"$f":"_xlfn.XLOOKUP(B759,'Programmes lists'!B:B,'Programmes lists'!D:D)","v":"BC736101      "},{"$f":"_xlfn.XLOOKUP(B759,'Programmes lists'!B:B,'Programmes lists'!E:E, \"Not found\")","v":0},{"$f":"_xlfn.XLOOKUP(B759,'Programmes lists'!B:B,'Programmes lists'!G:G,\"Not found\")","v":"Minimum of 50% in grade 12 pass for\n•\tAccounting \n•\tBusiness Studies"},{"$f":"_xlfn.XLOOKUP(B759,'Programmes lists'!B:B,'Programmes lists'!F:F,\"Not found\")","v":512}]
["Senior and FET ","Specialising in Accounting and Business Studies","EDUB2724",{"$f":"_xlfn.XLOOKUP(C760,'RAW module list'!A:A,'RAW module list'!B:B, \"Not found\")","v":"Education Studies 2: Human Relationships in Education context"},{"$f":"_xlfn.XLOOKUP(C760,'RAW module list'!A:A,'RAW module list'!C:C, \"Not found\")","v":7},{"$f":"_xlfn.XLOOKUP(C760,'RAW module list'!A:A,'RAW module list'!D:D, \"Not found\")","v":16},{"$f":"_xlfn.XLOOKUP(C760,'RAW module list'!A:A,'RAW module list'!E:E, \"Not found\")","v":"EDUB2714"},"Second Year",{"$f":"_xlfn.XLOOKUP(B760,'Programmes lists'!B:B,'Programmes lists'!D:D)","v":"BC736101      "},{"$f":"_xlfn.XLOOKUP(B760,'Programmes lists'!B:B,'Programmes lists'!E:E, \"Not found\")","v":0},{"$f":"_xlfn.XLOOKUP(B760,'Programmes lists'!B:B,'Programmes lists'!G:G,\"Not found\")","v":"Minimum of 50% in grade 12 pass for\n•\tAccounting \n•\tBusiness Studies"},{"$f":"_xlfn.XLOOKUP(B760,'Programmes lists'!B:B,'Programmes lists'!F:F,\"Not found\")","v":512}]
["Senior and FET ","Specialising in Accounting and Business Studies","GPEV2623",{"$f":"_xlfn.XLOOKUP(C761,'RAW module list'!A:A,'RAW module list'!B:B, \"Not found\")","v":"General Pedagogy 2.2: Assessment"},{"$f":"_xlfn.XLOOKUP(C761,'RAW module list'!A:A,'RAW module list'!C:C, \"Not found\")","v":6},{"$f":"_xlfn.XLOOKUP(C761,'RAW module list'!A:A,'RAW module list'!D:D, \"Not found\")","v":12},{"$f":"_xlfn.XLOOKUP(C761,'RAW module list'!A:A,'RAW module list'!E:E, \"Not found\")","v":"GPEV2613"},"Second Year",{"$f":"_xlfn.XLOOKUP(B761,'Programmes lists'!B:B,'Programmes lists'!D:D)","v":"BC736101      "},{"$f":"_xlfn.XLOOKUP(B761,'Programmes lists'!B:B,'Programmes lists'!E:E, \"Not found\")","v":0},{"$f":"_xlfn.XLOOKUP(B761,'Programmes lists'!B:B,'Programmes lists'!G:G,\"Not found\")","v":"Minimum of 50% in grade 12 pass for\n•\tAccounting \n•\tBusiness Studies"},{"$f":"_xlfn.XLOOKUP(B761,'Programmes lists'!B:B,'Programmes lists'!F:F,\"Not found\")","v":512}]
["Senior and FET ","Specialising in Accounting and Business Studies","BSTV3605",{"$f":"_xlfn.XLOOKUP(C762,'RAW module list'!A:A,'RAW module list'!B:B, \"Not found\")","v":"Business Studies Teaching 1"},{"$f":"_xlfn.XLOOKUP(C762,'RAW module list'!A:A,'RAW module list'!C:C, \"Not found\")","v":6},{"$f":"_xlfn.XLOOKUP(C762,'RAW module list'!A:A,'RAW module list'!D:D, \"Not found\")","v":20},{"$f":"_xlfn.XLOOKUP(C762,'RAW module list'!A:A,'RAW module list'!E:E, \"Not found\")","v":"ESBM2724 / EBMA2624"},"Third Year",{"$f":"_xlfn.XLOOKUP(B762,'Programmes lists'!B:B,'Programmes lists'!D:D)","v":"BC736101      "},{"$f":"_xlfn.XLOOKUP(B762,'Programmes lists'!B:B,'Programmes lists'!E:E, \"Not found\")","v":0},{"$f":"_xlfn.XLOOKUP(B762,'Programmes lists'!B:B,'Programmes lists'!G:G,\"Not found\")","v":"Minimum of 50% in grade 12 pass for\n•\tAccounting \n•\tBusiness Studies"},{"$f":"_xlfn.XLOOKUP(B762,'Programmes lists'!B:B,'Programmes lists'!F:F,\"Not found\")","v":512}]
["Senior and FET ","Specialising in Accounting and Business Studies","ACTV3605",{"$f":"_xlfn.XLOOKUP(C763,'RAW module list'!A:A,'RAW module list'!B:B, \"Not found\")","v":"Accounting Teaching 1 "},{"$f":"_xlfn.XLOOKUP(C763,'RAW module list'!A:A,'RAW module list'!C:C, \"Not found\")","v":6},{"$f":"_xlfn.XLOOKUP(C763,'RAW module list'!A:A,'RAW module list'!D:D, \"Not found\")","v":20},{"$f":"_xlfn.XLOOKUP(C763,'RAW module list'!A:A,'RAW module list'!E:E, \"Not found\")","v":"EACC2608"},"Third Year",{"$f":"_xlfn.XLOOKUP(B763,'Programmes lists'!B:B,'Programmes lists'!D:D)","v":"BC736101      "},{"$f":"_xlfn.XLOOKUP(B763,'Programmes lists'!B:B,'Programmes lists'!E:E, \"Not found\")","v":0},{"$f":"_xlfn.XLOOKUP(B763,'Programmes lists'!B:B,'Programmes lists'!G:G,\"Not found\")","v":"Minimum of 50% in grade 12 pass for\n•\tAccounting \n•\tBusiness Studies"},{"$f":"_xlfn.XLOOKUP(B763,'Programmes lists'!B:B,'Programmes lists'!F:F,\"Not found\")","v":512}]
["Senior and FET ","Specialising in Accounting and Business Studies","EMST3605",{"$f":"_xlfn.XLOOKUP(C764,'RAW module list'!A:A,'RAW module list'!B:B, \"Not found\")","v":"Economic and Management Science Teaching Senior Phase"},{"$f":"_xlfn.XLOOKUP(C764,'RAW module list'!A:A,'RAW module list'!C:C, \"Not found\")","v":6},{"$f":"_xlfn.XLOOKUP(C764,'RAW module list'!A:A,'RAW module list'!D:D, \"Not found\")","v":20},{"$f":"_xlfn.XLOOKUP(C764,'RAW module list'!A:A,'RAW module list'!E:E, \"Not found\")","v":"EBUS1514/ 1624 & EBUS1624 or EACC1614 & EACC1624"},"Third Year",{"$f":"_xlfn.XLOOKUP(B764,'Programmes lists'!B:B,'Programmes lists'!D:D)","v":"BC736101      "},{"$f":"_xlfn.XLOOKUP(B764,'Programmes lists'!B:B,'Programmes lists'!E:E, \"Not found\")","v":0},{"$f":"_xlfn.XLOOKUP(B764,'Programmes lists'!B:B,'Programmes lists'!G:G,\"Not found\")","v":"Minimum of 50% in grade 12 pass for\n•\tAccounting \n•\tBusiness Studies"},{"$f":"_xlfn.XLOOKUP(B764,'Programmes lists'!B:B,'Programmes lists'!F:F,\"Not found\")","v":512}]
["Senior and FET ","Specialising in Accounting and Business Studies","LSPT3605",{"$f":"_xlfn.XLOOKUP(C765,'RAW module list'!A:A,'RAW module list'!B:B, \"Not found\")","v":"Learner support as third didactics "},{"$f":"_xlfn.XLOOKUP(C765,'RAW module list'!A:A,'RAW module list'!C:C, \"Not found\")","v":6},{"$f":"_xlfn.XLOOKUP(C765,'RAW module list'!A:A,'RAW module list'!D:D, \"Not found\")","v":20},{"$f":"_xlfn.XLOOKUP(C765,'RAW module list'!A:A,'RAW module list'!E:E, \"Not found\")","v":0},"Third Year",{"$f":"_xlfn.XLOOKUP(B765,'Programmes lists'!B:B,'Programmes lists'!D:D)","v":"BC736101      "},{"$f":"_xlfn.XLOOKUP(B765,'Programmes lists'!B:B,'Programmes lists'!E:E, \"Not found\")","v":0},{"$f":"_xlfn.XLOOKUP(B765,'Programmes lists'!B:B,'Programmes lists'!G:G,\"Not found\")","v":"Minimum of 50% in grade 12 pass for\n•\tAccounting \n•\tBusiness Studies"},{"$f":"_xlfn.XLOOKUP(B765,'Programmes lists'!B:B,'Programmes lists'!F:F,\"Not found\")","v":512}]
["Senior and FET ","Specialising in Accounting and Business Studies","ENED3514",{"$f":"_xlfn.XLOOKUP(C766,'RAW module list'!A:A,'RAW module list'!B:B, \"Not found\")","v":"Entrepreneurship in Education "},{"$f":"_xlfn.XLOOKUP(C766,'RAW module list'!A:A,'RAW module list'!C:C, \"Not found\")","v":5},{"$f":"_xlfn.XLOOKUP(C766,'RAW module list'!A:A,'RAW module list'!D:D, \"Not found\")","v":16},{"$f":"_xlfn.XLOOKUP(C766,'RAW module list'!A:A,'RAW module list'!E:E, \"Not found\")","v":0},"Third Year",{"$f":"_xlfn.XLOOKUP(B766,'Programmes lists'!B:B,'Programmes lists'!D:D)","v":"BC736101      "},{"$f":"_xlfn.XLOOKUP(B766,'Programmes lists'!B:B,'Programmes lists'!E:E, \"Not found\")","v":0},{"$f":"_xlfn.XLOOKUP(B766,'Programmes lists'!B:B,'Programmes lists'!G:G,\"Not found\")","v":"Minimum of 50% in grade 12 pass for\n•\tAccounting \n•\tBusiness Studies"},{"$f":"_xlfn.XLOOKUP(B766,'Programmes lists'!B:B,'Programmes lists'!F:F,\"Not found\")","v":512}]
["Senior and FET ","Specialising in Accounting and Business Studies","EDUB3714",{"$f":"_xlfn.XLOOKUP(C767,'RAW module list'!A:A,'RAW module list'!B:B, \"Not found\")","v":"Education Studies 3.1 Education systems in global and national context"},{"$f":"_xlfn.XLOOKUP(C767,'RAW module list'!A:A,'RAW module list'!C:C, \"Not found\")","v":7},{"$f":"_xlfn.XLOOKUP(C767,'RAW module list'!A:A,'RAW module list'!D:D, \"Not found\")","v":16},{"$f":"_xlfn.XLOOKUP(C767,'RAW module list'!A:A,'RAW module list'!E:E, \"Not found\")","v":"EDUB1613 & EDUB1623& EDUB2714 & EDUB2724"},"Third Year",{"$f":"_xlfn.XLOOKUP(B767,'Programmes lists'!B:B,'Programmes lists'!D:D)","v":"BC736101      "},{"$f":"_xlfn.XLOOKUP(B767,'Programmes lists'!B:B,'Programmes lists'!E:E, \"Not found\")","v":0},{"$f":"_xlfn.XLOOKUP(B767,'Programmes lists'!B:B,'Programmes lists'!G:G,\"Not found\")","v":"Minimum of 50% in grade 12 pass for\n•\tAccounting \n•\tBusiness Studies"},{"$f":"_xlfn.XLOOKUP(B767,'Programmes lists'!B:B,'Programmes lists'!F:F,\"Not found\")","v":512}]
["Senior and FET ","Specialising in Accounting and Business Studies","SICL3512 OR SCCL3512 OR GAFR3512",{"$f":"_xlfn.XLOOKUP(C768,'RAW module list'!A:A,'RAW module list'!B:B, \"Not found\")","v":"Conversational Sesotho OR Conversational Sign Language OR Conversational Afrikaans"},{"$f":"_xlfn.XLOOKUP(C768,'RAW module list'!A:A,'RAW module list'!C:C, \"Not found\")","v":5},{"$f":"_xlfn.XLOOKUP(C768,'RAW module list'!A:A,'RAW module list'!D:D, \"Not found\")","v":8},{"$f":"_xlfn.XLOOKUP(C768,'RAW module list'!A:A,'RAW module list'!E:E, \"Not found\")","v":"No previous exposure to the language"},"Third Year",{"$f":"_xlfn.XLOOKUP(B768,'Programmes lists'!B:B,'Programmes lists'!D:D)","v":"BC736101      "},{"$f":"_xlfn.XLOOKUP(B768,'Programmes lists'!B:B,'Programmes lists'!E:E, \"Not found\")","v":0},{"$f":"_xlfn.XLOOKUP(B768,'Programmes lists'!B:B,'Programmes lists'!G:G,\"Not found\")","v":"Minimum of 50% in grade 12 pass for\n•\tAccounting \n•\tBusiness Studies"},{"$f":"_xlfn.XLOOKUP(B768,'Programmes lists'!B:B,'Programmes lists'!F:F,\"Not found\")","v":512}]
["Senior and FET ","Specialising in Accounting and Business Studies","WILV3606",{"$f":"_xlfn.XLOOKUP(C769,'RAW module list'!A:A,'RAW module list'!B:B, \"Not found\")","v":"Teaching Practice 3"},{"$f":"_xlfn.XLOOKUP(C769,'RAW module list'!A:A,'RAW module list'!C:C, \"Not found\")","v":6},{"$f":"_xlfn.XLOOKUP(C769,'RAW module list'!A:A,'RAW module list'!D:D, \"Not found\")","v":24},{"$f":"_xlfn.XLOOKUP(C769,'RAW module list'!A:A,'RAW module list'!E:E, \"Not found\")","v":"TPRV2502"},"Third Year",{"$f":"_xlfn.XLOOKUP(B769,'Programmes lists'!B:B,'Programmes lists'!D:D)","v":"BC736101      "},{"$f":"_xlfn.XLOOKUP(B769,'Programmes lists'!B:B,'Programmes lists'!E:E, \"Not found\")","v":0},{"$f":"_xlfn.XLOOKUP(B769,'Programmes lists'!B:B,'Programmes lists'!G:G,\"Not found\")","v":"Minimum of 50% in grade 12 pass for\n•\tAccounting \n•\tBusiness Studies"},{"$f":"_xlfn.XLOOKUP(B769,'Programmes lists'!B:B,'Programmes lists'!F:F,\"Not found\")","v":512}]
["Senior and FET ","Specialising in Accounting and Business Studies","EDUB3724",{"$f":"_xlfn.XLOOKUP(C770,'RAW module list'!A:A,'RAW module list'!B:B, \"Not found\")","v":"Education Studies 3.2: Contemporary Education Theory in the current social context"},{"$f":"_xlfn.XLOOKUP(C770,'RAW module list'!A:A,'RAW module list'!C:C, \"Not found\")","v":7},{"$f":"_xlfn.XLOOKUP(C770,'RAW module list'!A:A,'RAW module list'!D:D, \"Not found\")","v":16},{"$f":"_xlfn.XLOOKUP(C770,'RAW module list'!A:A,'RAW module list'!E:E, \"Not found\")","v":"EDUB1613 & EDUB1623 & EDUB2714 & EDUB2724 & EDUB3714"},"Third Year",{"$f":"_xlfn.XLOOKUP(B770,'Programmes lists'!B:B,'Programmes lists'!D:D)","v":"BC736101      "},{"$f":"_xlfn.XLOOKUP(B770,'Programmes lists'!B:B,'Programmes lists'!E:E, \"Not found\")","v":0},{"$f":"_xlfn.XLOOKUP(B770,'Programmes lists'!B:B,'Programmes lists'!G:G,\"Not found\")","v":"Minimum of 50% in grade 12 pass for\n•\tAccounting \n•\tBusiness Studies"},{"$f":"_xlfn.XLOOKUP(B770,'Programmes lists'!B:B,'Programmes lists'!F:F,\"Not found\")","v":512}]
["Senior and FET ","Specialising in Accounting and Business Studies","SICL3522 OR SSCL3522 OR GAFR3522",{"$f":"_xlfn.XLOOKUP(C771,'RAW module list'!A:A,'RAW module list'!B:B, \"Not found\")","v":"Conversational Sesotho OR Conversational Sign Language OR Conversational Afrikaans"},{"$f":"_xlfn.XLOOKUP(C771,'RAW module list'!A:A,'RAW module list'!C:C, \"Not found\")","v":5},{"$f":"_xlfn.XLOOKUP(C771,'RAW module list'!A:A,'RAW module list'!D:D, \"Not found\")","v":8},{"$f":"_xlfn.XLOOKUP(C771,'RAW module list'!A:A,'RAW module list'!E:E, \"Not found\")","v":"Continue with the conversational language chosen in Semester 1"},"Third Year",{"$f":"_xlfn.XLOOKUP(B771,'Programmes lists'!B:B,'Programmes lists'!D:D)","v":"BC736101      "},{"$f":"_xlfn.XLOOKUP(B771,'Programmes lists'!B:B,'Programmes lists'!E:E, \"Not found\")","v":0},{"$f":"_xlfn.XLOOKUP(B771,'Programmes lists'!B:B,'Programmes lists'!G:G,\"Not found\")","v":"Minimum of 50% in grade 12 pass for\n•\tAccounting \n•\tBusiness Studies"},{"$f":"_xlfn.XLOOKUP(B771,'Programmes lists'!B:B,'Programmes lists'!F:F,\"Not found\")","v":512}]
["Senior and FET ","Specialising in Accounting and Business Studies","Special Requirement:","Three didactics modules according to subjects taken in previous years.",null,null,null,"Third Year",{"$f":"_xlfn.XLOOKUP(B772,'Programmes lists'!B:B,'Programmes lists'!D:D)","v":"BC736101      "},{"$f":"_xlfn.XLOOKUP(B772,'Programmes lists'!B:B,'Programmes lists'!E:E, \"Not found\")","v":0},{"$f":"_xlfn.XLOOKUP(B772,'Programmes lists'!B:B,'Programmes lists'!G:G,\"Not found\")","v":"Minimum of 50% in grade 12 pass for\n•\tAccounting \n•\tBusiness Studies"},{"$f":"_xlfn.XLOOKUP(B772,'Programmes lists'!B:B,'Programmes lists'!F:F,\"Not found\")","v":512}]
["Senior and FET ","Specialising in Accounting and Business Studies","BSTV4705",{"$f":"_xlfn.XLOOKUP(C773,'RAW module list'!A:A,'RAW module list'!B:B, \"Not found\")","v":"Business Studies Teaching 2"},{"$f":"_xlfn.XLOOKUP(C773,'RAW module list'!A:A,'RAW module list'!C:C, \"Not found\")","v":7},{"$f":"_xlfn.XLOOKUP(C773,'RAW module list'!A:A,'RAW module list'!D:D, \"Not found\")","v":-20},{"$f":"_xlfn.XLOOKUP(C773,'RAW module list'!A:A,'RAW module list'!E:E, \"Not found\")","v":"BSTV3605"},"Fourth Year",{"$f":"_xlfn.XLOOKUP(B773,'Programmes lists'!B:B,'Programmes lists'!D:D)","v":"BC736101      "},{"$f":"_xlfn.XLOOKUP(B773,'Programmes lists'!B:B,'Programmes lists'!E:E, \"Not found\")","v":0},{"$f":"_xlfn.XLOOKUP(B773,'Programmes lists'!B:B,'Programmes lists'!G:G,\"Not found\")","v":"Minimum of 50% in grade 12 pass for\n•\tAccounting \n•\tBusiness Studies"},{"$f":"_xlfn.XLOOKUP(B773,'Programmes lists'!B:B,'Programmes lists'!F:F,\"Not found\")","v":512}]
["Senior and FET ","Specialising in Accounting and Business Studies","ACTV4705",{"$f":"_xlfn.XLOOKUP(C774,'RAW module list'!A:A,'RAW module list'!B:B, \"Not found\")","v":"Accounting Teaching 2: FET"},{"$f":"_xlfn.XLOOKUP(C774,'RAW module list'!A:A,'RAW module list'!C:C, \"Not found\")","v":7},{"$f":"_xlfn.XLOOKUP(C774,'RAW module list'!A:A,'RAW module list'!D:D, \"Not found\")","v":20},{"$f":"_xlfn.XLOOKUP(C774,'RAW module list'!A:A,'RAW module list'!E:E, \"Not found\")","v":"ACTV3605"},"Fourth Year",{"$f":"_xlfn.XLOOKUP(B774,'Programmes lists'!B:B,'Programmes lists'!D:D)","v":"BC736101      "},{"$f":"_xlfn.XLOOKUP(B774,'Programmes lists'!B:B,'Programmes lists'!E:E, \"Not found\")","v":0},{"$f":"_xlfn.XLOOKUP(B774,'Programmes lists'!B:B,'Programmes lists'!G:G,\"Not found\")","v":"Minimum of 50% in grade 12 pass for\n•\tAccounting \n•\tBusiness Studies"},{"$f":"_xlfn.XLOOKUP(B774,'Programmes lists'!B:B,'Programmes lists'!F:F,\"Not found\")","v":512}]
["Senior and FET ","Specialising in Accounting and Business Studies","EMST4705",{"$f":"_xlfn.XLOOKUP(C775,'RAW module list'!A:A,'RAW module list'!B:B, \"Not found\")","v":"Economic and Management Sciences Teaching Senior Phase 2"},{"$f":"_xlfn.XLOOKUP(C775,'RAW module list'!A:A,'RAW module list'!C:C, \"Not found\")","v":7},{"$f":"_xlfn.XLOOKUP(C775,'RAW module list'!A:A,'RAW module list'!D:D, \"Not found\")","v":20},{"$f":"_xlfn.XLOOKUP(C775,'RAW module list'!A:A,'RAW module list'!E:E, \"Not found\")","v":"EMST3605"},"Fourth Year",{"$f":"_xlfn.XLOOKUP(B775,'Programmes lists'!B:B,'Programmes lists'!D:D)","v":"BC736101      "},{"$f":"_xlfn.XLOOKUP(B775,'Programmes lists'!B:B,'Programmes lists'!E:E, \"Not found\")","v":0},{"$f":"_xlfn.XLOOKUP(B775,'Programmes lists'!B:B,'Programmes lists'!G:G,\"Not found\")","v":"Minimum of 50% in grade 12 pass for\n•\tAccounting \n•\tBusiness Studies"},{"$f":"_xlfn.XLOOKUP(B775,'Programmes lists'!B:B,'Programmes lists'!F:F,\"Not found\")","v":512}]
["Senior and FET ","Specialising in Accounting and Business Studies","LSPT4705",{"$f":"_xlfn.XLOOKUP(C776,'RAW module list'!A:A,'RAW module list'!B:B, \"Not found\")","v":"Third didactics subject"},{"$f":"_xlfn.XLOOKUP(C776,'RAW module list'!A:A,'RAW module list'!C:C, \"Not found\")","v":7},{"$f":"_xlfn.XLOOKUP(C776,'RAW module list'!A:A,'RAW module list'!D:D, \"Not found\")","v":20},{"$f":"_xlfn.XLOOKUP(C776,'RAW module list'!A:A,'RAW module list'!E:E, \"Not found\")","v":"LSPT3605"},"Fourth Year",{"$f":"_xlfn.XLOOKUP(B776,'Programmes lists'!B:B,'Programmes lists'!D:D)","v":"BC736101      "},{"$f":"_xlfn.XLOOKUP(B776,'Programmes lists'!B:B,'Programmes lists'!E:E, \"Not found\")","v":0},{"$f":"_xlfn.XLOOKUP(B776,'Programmes lists'!B:B,'Programmes lists'!G:G,\"Not found\")","v":"Minimum of 50% in grade 12 pass for\n•\tAccounting \n•\tBusiness Studies"},{"$f":"_xlfn.XLOOKUP(B776,'Programmes lists'!B:B,'Programmes lists'!F:F,\"Not found\")","v":512}]
["Senior and FET ","Specialising in Accounting and Business Studies","WILV4700",{"$f":"_xlfn.XLOOKUP(C777,'RAW module list'!A:A,'RAW module list'!B:B, \"Not found\")","v":"Teaching Practice 4"},{"$f":"_xlfn.XLOOKUP(C777,'RAW module list'!A:A,'RAW module list'!C:C, \"Not found\")","v":7},{"$f":"_xlfn.XLOOKUP(C777,'RAW module list'!A:A,'RAW module list'!D:D, \"Not found\")","v":40},{"$f":"_xlfn.XLOOKUP(C777,'RAW module list'!A:A,'RAW module list'!E:E, \"Not found\")","v":"WILV3606"},"Fourth Year",{"$f":"_xlfn.XLOOKUP(B777,'Programmes lists'!B:B,'Programmes lists'!D:D)","v":"BC736101      "},{"$f":"_xlfn.XLOOKUP(B777,'Programmes lists'!B:B,'Programmes lists'!E:E, \"Not found\")","v":0},{"$f":"_xlfn.XLOOKUP(B777,'Programmes lists'!B:B,'Programmes lists'!G:G,\"Not found\")","v":"Minimum of 50% in grade 12 pass for\n•\tAccounting \n•\tBusiness Studies"},{"$f":"_xlfn.XLOOKUP(B777,'Programmes lists'!B:B,'Programmes lists'!F:F,\"Not found\")","v":512}]
["Senior and FET ","Specialising in Accounting and Business Studies","Special Requirement:","Continue with three didactics chosen in year 3.",null,null,null,"Fourth Year",{"$f":"_xlfn.XLOOKUP(B778,'Programmes lists'!B:B,'Programmes lists'!D:D)","v":"BC736101      "},{"$f":"_xlfn.XLOOKUP(B778,'Programmes lists'!B:B,'Programmes lists'!E:E, \"Not found\")","v":0},{"$f":"_xlfn.XLOOKUP(B778,'Programmes lists'!B:B,'Programmes lists'!G:G,\"Not found\")","v":"Minimum of 50% in grade 12 pass for\n•\tAccounting \n•\tBusiness Studies"},{"$f":"_xlfn.XLOOKUP(B778,'Programmes lists'!B:B,'Programmes lists'!F:F,\"Not found\")","v":512}]
["Senior and FET ","Specialising in EMS and Business Studies","EACC1614",{"$f":"_xlfn.XLOOKUP(C779,'RAW module list'!A:A,'RAW module list'!B:B, \"Not found\")","v":"Accounting"},{"$f":"_xlfn.XLOOKUP(C779,'RAW module list'!A:A,'RAW module list'!C:C, \"Not found\")","v":5},{"$f":"_xlfn.XLOOKUP(C779,'RAW module list'!A:A,'RAW module list'!D:D, \"Not found\")","v":16},{"$f":"_xlfn.XLOOKUP(C779,'RAW module list'!A:A,'RAW module list'!E:E, \"Not found\")","v":0},"First Year",{"$f":"_xlfn.XLOOKUP(B779,'Programmes lists'!B:B,'Programmes lists'!D:D)","v":"BC736104"},{"$f":"_xlfn.XLOOKUP(B779,'Programmes lists'!B:B,'Programmes lists'!E:E, \"Not found\")","v":"QC736104        "},{"$f":"_xlfn.XLOOKUP(B779,'Programmes lists'!B:B,'Programmes lists'!G:G,\"Not found\")","v":"Minimum of 50% in grade 12 pass for\n•\tAccounting\n•\tBusiness Studies or Economics"},{"$f":"_xlfn.XLOOKUP(B779,'Programmes lists'!B:B,'Programmes lists'!F:F,\"Not found\")","v":512}]
["Senior and FET ","Specialising in EMS and Business Studies","EBUS1514 OR EBUS1614",{"$f":"_xlfn.XLOOKUP(C780,'RAW module list'!A:A,'RAW module list'!B:B, \"Not found\")","v":"Business Functions OR Business Dynamics "},{"$f":"_xlfn.XLOOKUP(C780,'RAW module list'!A:A,'RAW module list'!C:C, \"Not found\")","v":5},{"$f":"_xlfn.XLOOKUP(C780,'RAW module list'!A:A,'RAW module list'!D:D, \"Not found\")","v":16},{"$f":"_xlfn.XLOOKUP(C780,'RAW module list'!A:A,'RAW module list'!E:E, \"Not found\")","v":0},"First Year",{"$f":"_xlfn.XLOOKUP(B780,'Programmes lists'!B:B,'Programmes lists'!D:D)","v":"BC736104"},{"$f":"_xlfn.XLOOKUP(B780,'Programmes lists'!B:B,'Programmes lists'!E:E, \"Not found\")","v":"QC736104        "},{"$f":"_xlfn.XLOOKUP(B780,'Programmes lists'!B:B,'Programmes lists'!G:G,\"Not found\")","v":"Minimum of 50% in grade 12 pass for\n•\tAccounting\n•\tBusiness Studies or Economics"},{"$f":"_xlfn.XLOOKUP(B780,'Programmes lists'!B:B,'Programmes lists'!F:F,\"Not found\")","v":512}]
["Senior and FET ","Specialising in EMS and Business Studies","LLST1513",{"$f":"_xlfn.XLOOKUP(C781,'RAW module list'!A:A,'RAW module list'!B:B, \"Not found\")","v":"Lifelong Learning Skills"},{"$f":"_xlfn.XLOOKUP(C781,'RAW module list'!A:A,'RAW module list'!C:C, \"Not found\")","v":5},{"$f":"_xlfn.XLOOKUP(C781,'RAW module list'!A:A,'RAW module list'!D:D, \"Not found\")","v":12},{"$f":"_xlfn.XLOOKUP(C781,'RAW module list'!A:A,'RAW module list'!E:E, \"Not found\")","v":0},"First Year",{"$f":"_xlfn.XLOOKUP(B781,'Programmes lists'!B:B,'Programmes lists'!D:D)","v":"BC736104"},{"$f":"_xlfn.XLOOKUP(B781,'Programmes lists'!B:B,'Programmes lists'!E:E, \"Not found\")","v":"QC736104        "},{"$f":"_xlfn.XLOOKUP(B781,'Programmes lists'!B:B,'Programmes lists'!G:G,\"Not found\")","v":"Minimum of 50% in grade 12 pass for\n•\tAccounting\n•\tBusiness Studies or Economics"},{"$f":"_xlfn.XLOOKUP(B781,'Programmes lists'!B:B,'Programmes lists'!F:F,\"Not found\")","v":512}]
["Senior and FET ","Specialising in EMS and Business Studies","EDUB1613",{"$f":"_xlfn.XLOOKUP(C782,'RAW module list'!A:A,'RAW module list'!B:B, \"Not found\")","v":"Education Studies 1.1 The Individual in the learning context"},{"$f":"_xlfn.XLOOKUP(C782,'RAW module list'!A:A,'RAW module list'!C:C, \"Not found\")","v":6},{"$f":"_xlfn.XLOOKUP(C782,'RAW module list'!A:A,'RAW module list'!D:D, \"Not found\")","v":12},{"$f":"_xlfn.XLOOKUP(C782,'RAW module list'!A:A,'RAW module list'!E:E, \"Not found\")","v":0},"First Year",{"$f":"_xlfn.XLOOKUP(B782,'Programmes lists'!B:B,'Programmes lists'!D:D)","v":"BC736104"},{"$f":"_xlfn.XLOOKUP(B782,'Programmes lists'!B:B,'Programmes lists'!E:E, \"Not found\")","v":"QC736104        "},{"$f":"_xlfn.XLOOKUP(B782,'Programmes lists'!B:B,'Programmes lists'!G:G,\"Not found\")","v":"Minimum of 50% in grade 12 pass for\n•\tAccounting\n•\tBusiness Studies or Economics"},{"$f":"_xlfn.XLOOKUP(B782,'Programmes lists'!B:B,'Programmes lists'!F:F,\"Not found\")","v":512}]
["Senior and FET ","Specialising in EMS and Business Studies","TPRV1502",{"$f":"_xlfn.XLOOKUP(C783,'RAW module list'!A:A,'RAW module list'!B:B, \"Not found\")","v":"Teaching Practice 1 "},{"$f":"_xlfn.XLOOKUP(C783,'RAW module list'!A:A,'RAW module list'!C:C, \"Not found\")","v":5},{"$f":"_xlfn.XLOOKUP(C783,'RAW module list'!A:A,'RAW module list'!D:D, \"Not found\")","v":8},{"$f":"_xlfn.XLOOKUP(C783,'RAW module list'!A:A,'RAW module list'!E:E, \"Not found\")","v":0},"First Year",{"$f":"_xlfn.XLOOKUP(B783,'Programmes lists'!B:B,'Programmes lists'!D:D)","v":"BC736104"},{"$f":"_xlfn.XLOOKUP(B783,'Programmes lists'!B:B,'Programmes lists'!E:E, \"Not found\")","v":"QC736104        "},{"$f":"_xlfn.XLOOKUP(B783,'Programmes lists'!B:B,'Programmes lists'!G:G,\"Not found\")","v":"Minimum of 50% in grade 12 pass for\n•\tAccounting\n•\tBusiness Studies or Economics"},{"$f":"_xlfn.XLOOKUP(B783,'Programmes lists'!B:B,'Programmes lists'!F:F,\"Not found\")","v":512}]
["Senior and FET ","Specialising in EMS and Business Studies","UFSS1504",{"$f":"_xlfn.XLOOKUP(C784,'RAW module list'!A:A,'RAW module list'!B:B, \"Not found\")","v":"Undergraduate core curriculum"},{"$f":"_xlfn.XLOOKUP(C784,'RAW module list'!A:A,'RAW module list'!C:C, \"Not found\")","v":5},{"$f":"_xlfn.XLOOKUP(C784,'RAW module list'!A:A,'RAW module list'!D:D, \"Not found\")","v":-16},{"$f":"_xlfn.XLOOKUP(C784,'RAW module list'!A:A,'RAW module list'!E:E, \"Not found\")","v":0},"First Year",{"$f":"_xlfn.XLOOKUP(B784,'Programmes lists'!B:B,'Programmes lists'!D:D)","v":"BC736104"},{"$f":"_xlfn.XLOOKUP(B784,'Programmes lists'!B:B,'Programmes lists'!E:E, \"Not found\")","v":"QC736104        "},{"$f":"_xlfn.XLOOKUP(B784,'Programmes lists'!B:B,'Programmes lists'!G:G,\"Not found\")","v":"Minimum of 50% in grade 12 pass for\n•\tAccounting\n•\tBusiness Studies or Economics"},{"$f":"_xlfn.XLOOKUP(B784,'Programmes lists'!B:B,'Programmes lists'!F:F,\"Not found\")","v":512}]
["Senior and FET ","Specialising in EMS and Business Studies","EALT1508 OR AGAE1508",{"$f":"_xlfn.XLOOKUP(C785,'RAW module list'!A:A,'RAW module list'!B:B, \"Not found\")","v":"English Academic Literacy for Education OR Academic Literacy in Afrikaans"},{"$f":"_xlfn.XLOOKUP(C785,'RAW module list'!A:A,'RAW module list'!C:C, \"Not found\")","v":5},{"$f":"_xlfn.XLOOKUP(C785,'RAW module list'!A:A,'RAW module list'!D:D, \"Not found\")","v":-32},{"$f":"_xlfn.XLOOKUP(C785,'RAW module list'!A:A,'RAW module list'!E:E, \"Not found\")","v":"NBT requirements not been met"},"First Year",{"$f":"_xlfn.XLOOKUP(B785,'Programmes lists'!B:B,'Programmes lists'!D:D)","v":"BC736104"},{"$f":"_xlfn.XLOOKUP(B785,'Programmes lists'!B:B,'Programmes lists'!E:E, \"Not found\")","v":"QC736104        "},{"$f":"_xlfn.XLOOKUP(B785,'Programmes lists'!B:B,'Programmes lists'!G:G,\"Not found\")","v":"Minimum of 50% in grade 12 pass for\n•\tAccounting\n•\tBusiness Studies or Economics"},{"$f":"_xlfn.XLOOKUP(B785,'Programmes lists'!B:B,'Programmes lists'!F:F,\"Not found\")","v":512}]
["Senior and FET ","Specialising in EMS and Business Studies","EACC1624",{"$f":"_xlfn.XLOOKUP(C786,'RAW module list'!A:A,'RAW module list'!B:B, \"Not found\")","v":"Accounting"},{"$f":"_xlfn.XLOOKUP(C786,'RAW module list'!A:A,'RAW module list'!C:C, \"Not found\")","v":6},{"$f":"_xlfn.XLOOKUP(C786,'RAW module list'!A:A,'RAW module list'!D:D, \"Not found\")","v":16},{"$f":"_xlfn.XLOOKUP(C786,'RAW module list'!A:A,'RAW module list'!E:E, \"Not found\")","v":0},"First Year",{"$f":"_xlfn.XLOOKUP(B786,'Programmes lists'!B:B,'Programmes lists'!D:D)","v":"BC736104"},{"$f":"_xlfn.XLOOKUP(B786,'Programmes lists'!B:B,'Programmes lists'!E:E, \"Not found\")","v":"QC736104        "},{"$f":"_xlfn.XLOOKUP(B786,'Programmes lists'!B:B,'Programmes lists'!G:G,\"Not found\")","v":"Minimum of 50% in grade 12 pass for\n•\tAccounting\n•\tBusiness Studies or Economics"},{"$f":"_xlfn.XLOOKUP(B786,'Programmes lists'!B:B,'Programmes lists'!F:F,\"Not found\")","v":512}]
["Senior and FET ","Specialising in EMS and Business Studies","EDUB1623",{"$f":"_xlfn.XLOOKUP(C787,'RAW module list'!A:A,'RAW module list'!B:B, \"Not found\")","v":"Education Studies 1.2 What it means to educate: Theoretical perspectives and their significance for SA education"},{"$f":"_xlfn.XLOOKUP(C787,'RAW module list'!A:A,'RAW module list'!C:C, \"Not found\")","v":6},{"$f":"_xlfn.XLOOKUP(C787,'RAW module list'!A:A,'RAW module list'!D:D, \"Not found\")","v":12},{"$f":"_xlfn.XLOOKUP(C787,'RAW module list'!A:A,'RAW module list'!E:E, \"Not found\")","v":0},"First Year",{"$f":"_xlfn.XLOOKUP(B787,'Programmes lists'!B:B,'Programmes lists'!D:D)","v":"BC736104"},{"$f":"_xlfn.XLOOKUP(B787,'Programmes lists'!B:B,'Programmes lists'!E:E, \"Not found\")","v":"QC736104        "},{"$f":"_xlfn.XLOOKUP(B787,'Programmes lists'!B:B,'Programmes lists'!G:G,\"Not found\")","v":"Minimum of 50% in grade 12 pass for\n•\tAccounting\n•\tBusiness Studies or Economics"},{"$f":"_xlfn.XLOOKUP(B787,'Programmes lists'!B:B,'Programmes lists'!F:F,\"Not found\")","v":512}]
["Senior and FET ","Specialising in EMS and Business Studies","EBUS1624",{"$f":"_xlfn.XLOOKUP(C788,'RAW module list'!A:A,'RAW module list'!B:B, \"Not found\")","v":"General Management"},{"$f":"_xlfn.XLOOKUP(C788,'RAW module list'!A:A,'RAW module list'!C:C, \"Not found\")","v":6},{"$f":"_xlfn.XLOOKUP(C788,'RAW module list'!A:A,'RAW module list'!D:D, \"Not found\")","v":16},{"$f":"_xlfn.XLOOKUP(C788,'RAW module list'!A:A,'RAW module list'!E:E, \"Not found\")","v":0},"First Year",{"$f":"_xlfn.XLOOKUP(B788,'Programmes lists'!B:B,'Programmes lists'!D:D)","v":"BC736104"},{"$f":"_xlfn.XLOOKUP(B788,'Programmes lists'!B:B,'Programmes lists'!E:E, \"Not found\")","v":"QC736104        "},{"$f":"_xlfn.XLOOKUP(B788,'Programmes lists'!B:B,'Programmes lists'!G:G,\"Not found\")","v":"Minimum of 50% in grade 12 pass for\n•\tAccounting\n•\tBusiness Studies or Economics"},{"$f":"_xlfn.XLOOKUP(B788,'Programmes lists'!B:B,'Programmes lists'!F:F,\"Not found\")","v":512}]
["Senior and FET ","Specialising in EMS and Business Studies","GPEV1623",{"$f":"_xlfn.XLOOKUP(C789,'RAW module list'!A:A,'RAW module list'!B:B, \"Not found\")","v":"General Pedagogy 1: Managing the Curriculum"},{"$f":"_xlfn.XLOOKUP(C789,'RAW module list'!A:A,'RAW module list'!C:C, \"Not found\")","v":6},{"$f":"_xlfn.XLOOKUP(C789,'RAW module list'!A:A,'RAW module list'!D:D, \"Not found\")","v":12},{"$f":"_xlfn.XLOOKUP(C789,'RAW module list'!A:A,'RAW module list'!E:E, \"Not found\")","v":0},"First Year",{"$f":"_xlfn.XLOOKUP(B789,'Programmes lists'!B:B,'Programmes lists'!D:D)","v":"BC736104"},{"$f":"_xlfn.XLOOKUP(B789,'Programmes lists'!B:B,'Programmes lists'!E:E, \"Not found\")","v":"QC736104        "},{"$f":"_xlfn.XLOOKUP(B789,'Programmes lists'!B:B,'Programmes lists'!G:G,\"Not found\")","v":"Minimum of 50% in grade 12 pass for\n•\tAccounting\n•\tBusiness Studies or Economics"},{"$f":"_xlfn.XLOOKUP(B789,'Programmes lists'!B:B,'Programmes lists'!F:F,\"Not found\")","v":512}]
["Senior and FET ","Specialising in EMS and Business Studies","EACC2608",{"$f":"_xlfn.XLOOKUP(C790,'RAW module list'!A:A,'RAW module list'!B:B, \"Not found\")","v":"Accounting"},{"$f":"_xlfn.XLOOKUP(C790,'RAW module list'!A:A,'RAW module list'!C:C, \"Not found\")","v":6},{"$f":"_xlfn.XLOOKUP(C790,'RAW module list'!A:A,'RAW module list'!D:D, \"Not found\")","v":32},{"$f":"_xlfn.XLOOKUP(C790,'RAW module list'!A:A,'RAW module list'!E:E, \"Not found\")","v":"EACC1614 & EACC1624"},"Second Year",{"$f":"_xlfn.XLOOKUP(B790,'Programmes lists'!B:B,'Programmes lists'!D:D)","v":"BC736104"},{"$f":"_xlfn.XLOOKUP(B790,'Programmes lists'!B:B,'Programmes lists'!E:E, \"Not found\")","v":"QC736104        "},{"$f":"_xlfn.XLOOKUP(B790,'Programmes lists'!B:B,'Programmes lists'!G:G,\"Not found\")","v":"Minimum of 50% in grade 12 pass for\n•\tAccounting\n•\tBusiness Studies or Economics"},{"$f":"_xlfn.XLOOKUP(B790,'Programmes lists'!B:B,'Programmes lists'!F:F,\"Not found\")","v":512},"* If EACC2608 is taken, choose between EBUS2714 and EBUS2715 in the first semester. If EACC2608 is not taken, both modules are compulsory.\n\n* If EACC2608 is taken, choose between EBMA2624 and ESBM2724 in second semester. If EACC2608 is not taken, both modules are compulsory."]
["Senior and FET ","Specialising in EMS and Business Studies","EBUS2715 OR EBUS2714",{"$f":"_xlfn.XLOOKUP(C791,'RAW module list'!A:A,'RAW module list'!B:B, \"Not found\")","v":"Strategic Management OR Entrepreneurship"},{"$f":"_xlfn.XLOOKUP(C791,'RAW module list'!A:A,'RAW module list'!C:C, \"Not found\")","v":7},{"$f":"_xlfn.XLOOKUP(C791,'RAW module list'!A:A,'RAW module list'!D:D, \"Not found\")","v":16},{"$f":"_xlfn.XLOOKUP(C791,'RAW module list'!A:A,'RAW module list'!E:E, \"Not found\")","v":"EBUS1624"},"Second Year",{"$f":"_xlfn.XLOOKUP(B791,'Programmes lists'!B:B,'Programmes lists'!D:D)","v":"BC736104"},{"$f":"_xlfn.XLOOKUP(B791,'Programmes lists'!B:B,'Programmes lists'!E:E, \"Not found\")","v":"QC736104        "},{"$f":"_xlfn.XLOOKUP(B791,'Programmes lists'!B:B,'Programmes lists'!G:G,\"Not found\")","v":"Minimum of 50% in grade 12 pass for\n•\tAccounting\n•\tBusiness Studies or Economics"},{"$f":"_xlfn.XLOOKUP(B791,'Programmes lists'!B:B,'Programmes lists'!F:F,\"Not found\")","v":512}]
["Senior and FET ","Specialising in EMS and Business Studies","EDUB2714",{"$f":"_xlfn.XLOOKUP(C792,'RAW module list'!A:A,'RAW module list'!B:B, \"Not found\")","v":"Education Studies 2: Teaching and Learning in Education Context"},{"$f":"_xlfn.XLOOKUP(C792,'RAW module list'!A:A,'RAW module list'!C:C, \"Not found\")","v":7},{"$f":"_xlfn.XLOOKUP(C792,'RAW module list'!A:A,'RAW module list'!D:D, \"Not found\")","v":16},{"$f":"_xlfn.XLOOKUP(C792,'RAW module list'!A:A,'RAW module list'!E:E, \"Not found\")","v":"EDUB1613 & EDUB1623"},"Second Year",{"$f":"_xlfn.XLOOKUP(B792,'Programmes lists'!B:B,'Programmes lists'!D:D)","v":"BC736104"},{"$f":"_xlfn.XLOOKUP(B792,'Programmes lists'!B:B,'Programmes lists'!E:E, \"Not found\")","v":"QC736104        "},{"$f":"_xlfn.XLOOKUP(B792,'Programmes lists'!B:B,'Programmes lists'!G:G,\"Not found\")","v":"Minimum of 50% in grade 12 pass for\n•\tAccounting\n•\tBusiness Studies or Economics"},{"$f":"_xlfn.XLOOKUP(B792,'Programmes lists'!B:B,'Programmes lists'!F:F,\"Not found\")","v":512}]
["Senior and FET ","Specialising in EMS and Business Studies","GPEV2613",{"$f":"_xlfn.XLOOKUP(C793,'RAW module list'!A:A,'RAW module list'!B:B, \"Not found\")","v":"General Pedagogy 2.1"},{"$f":"_xlfn.XLOOKUP(C793,'RAW module list'!A:A,'RAW module list'!C:C, \"Not found\")","v":6},{"$f":"_xlfn.XLOOKUP(C793,'RAW module list'!A:A,'RAW module list'!D:D, \"Not found\")","v":12},{"$f":"_xlfn.XLOOKUP(C793,'RAW module list'!A:A,'RAW module list'!E:E, \"Not found\")","v":"GPEV1623"},"Second Year",{"$f":"_xlfn.XLOOKUP(B793,'Programmes lists'!B:B,'Programmes lists'!D:D)","v":"BC736104"},{"$f":"_xlfn.XLOOKUP(B793,'Programmes lists'!B:B,'Programmes lists'!E:E, \"Not found\")","v":"QC736104        "},{"$f":"_xlfn.XLOOKUP(B793,'Programmes lists'!B:B,'Programmes lists'!G:G,\"Not found\")","v":"Minimum of 50% in grade 12 pass for\n•\tAccounting\n•\tBusiness Studies or Economics"},{"$f":"_xlfn.XLOOKUP(B793,'Programmes lists'!B:B,'Programmes lists'!F:F,\"Not found\")","v":512}]
["Senior and FET ","Specialising in EMS and Business Studies","ELLT2504 OR ALLT3504",{"$f":"_xlfn.XLOOKUP(C794,'RAW module list'!A:A,'RAW module list'!B:B, \"Not found\")","v":"English as medium of learning and teaching OR Afrikaans as medium of learning and teaching"},{"$f":"_xlfn.XLOOKUP(C794,'RAW module list'!A:A,'RAW module list'!C:C, \"Not found\")","v":5},{"$f":"_xlfn.XLOOKUP(C794,'RAW module list'!A:A,'RAW module list'!D:D, \"Not found\")","v":16},{"$f":"_xlfn.XLOOKUP(C794,'RAW module list'!A:A,'RAW module list'!E:E, \"Not found\")","v":0},"Second Year",{"$f":"_xlfn.XLOOKUP(B794,'Programmes lists'!B:B,'Programmes lists'!D:D)","v":"BC736104"},{"$f":"_xlfn.XLOOKUP(B794,'Programmes lists'!B:B,'Programmes lists'!E:E, \"Not found\")","v":"QC736104        "},{"$f":"_xlfn.XLOOKUP(B794,'Programmes lists'!B:B,'Programmes lists'!G:G,\"Not found\")","v":"Minimum of 50% in grade 12 pass for\n•\tAccounting\n•\tBusiness Studies or Economics"},{"$f":"_xlfn.XLOOKUP(B794,'Programmes lists'!B:B,'Programmes lists'!F:F,\"Not found\")","v":512}]
["Senior and FET ","Specialising in EMS and Business Studies","TPRV2502",{"$f":"_xlfn.XLOOKUP(C795,'RAW module list'!A:A,'RAW module list'!B:B, \"Not found\")","v":"Teaching Practice 2"},{"$f":"_xlfn.XLOOKUP(C795,'RAW module list'!A:A,'RAW module list'!C:C, \"Not found\")","v":5},{"$f":"_xlfn.XLOOKUP(C795,'RAW module list'!A:A,'RAW module list'!D:D, \"Not found\")","v":8},{"$f":"_xlfn.XLOOKUP(C795,'RAW module list'!A:A,'RAW module list'!E:E, \"Not found\")","v":"TPRV1502"},"Second Year",{"$f":"_xlfn.XLOOKUP(B795,'Programmes lists'!B:B,'Programmes lists'!D:D)","v":"BC736104"},{"$f":"_xlfn.XLOOKUP(B795,'Programmes lists'!B:B,'Programmes lists'!E:E, \"Not found\")","v":"QC736104        "},{"$f":"_xlfn.XLOOKUP(B795,'Programmes lists'!B:B,'Programmes lists'!G:G,\"Not found\")","v":"Minimum of 50% in grade 12 pass for\n•\tAccounting\n•\tBusiness Studies or Economics"},{"$f":"_xlfn.XLOOKUP(B795,'Programmes lists'!B:B,'Programmes lists'!F:F,\"Not found\")","v":512}]
["Senior and FET ","Specialising in EMS and Business Studies","ESBM2724 OR EBMA2624",{"$f":"_xlfn.XLOOKUP(C796,'RAW module list'!A:A,'RAW module list'!B:B, \"Not found\")","v":"Small Business Management OR Personal Selling"},{"$f":"_xlfn.XLOOKUP(C796,'RAW module list'!A:A,'RAW module list'!C:C, \"Not found\")","v":7},{"$f":"_xlfn.XLOOKUP(C796,'RAW module list'!A:A,'RAW module list'!D:D, \"Not found\")","v":16},{"$f":"_xlfn.XLOOKUP(C796,'RAW module list'!A:A,'RAW module list'!E:E, \"Not found\")","v":"EBUS2714 or EBUS2715"},"Second Year",{"$f":"_xlfn.XLOOKUP(B796,'Programmes lists'!B:B,'Programmes lists'!D:D)","v":"BC736104"},{"$f":"_xlfn.XLOOKUP(B796,'Programmes lists'!B:B,'Programmes lists'!E:E, \"Not found\")","v":"QC736104        "},{"$f":"_xlfn.XLOOKUP(B796,'Programmes lists'!B:B,'Programmes lists'!G:G,\"Not found\")","v":"Minimum of 50% in grade 12 pass for\n•\tAccounting\n•\tBusiness Studies or Economics"},{"$f":"_xlfn.XLOOKUP(B796,'Programmes lists'!B:B,'Programmes lists'!F:F,\"Not found\")","v":512}]
["Senior and FET ","Specialising in EMS and Business Studies","EDUB2724",{"$f":"_xlfn.XLOOKUP(C797,'RAW module list'!A:A,'RAW module list'!B:B, \"Not found\")","v":"Education Studies 2: Human Relationships in Education context"},{"$f":"_xlfn.XLOOKUP(C797,'RAW module list'!A:A,'RAW module list'!C:C, \"Not found\")","v":7},{"$f":"_xlfn.XLOOKUP(C797,'RAW module list'!A:A,'RAW module list'!D:D, \"Not found\")","v":16},{"$f":"_xlfn.XLOOKUP(C797,'RAW module list'!A:A,'RAW module list'!E:E, \"Not found\")","v":"EDUB2714"},"Second Year",{"$f":"_xlfn.XLOOKUP(B797,'Programmes lists'!B:B,'Programmes lists'!D:D)","v":"BC736104"},{"$f":"_xlfn.XLOOKUP(B797,'Programmes lists'!B:B,'Programmes lists'!E:E, \"Not found\")","v":"QC736104        "},{"$f":"_xlfn.XLOOKUP(B797,'Programmes lists'!B:B,'Programmes lists'!G:G,\"Not found\")","v":"Minimum of 50% in grade 12 pass for\n•\tAccounting\n•\tBusiness Studies or Economics"},{"$f":"_xlfn.XLOOKUP(B797,'Programmes lists'!B:B,'Programmes lists'!F:F,\"Not found\")","v":512}]
["Senior and FET ","Specialising in EMS and Business Studies","GPEV2623",{"$f":"_xlfn.XLOOKUP(C798,'RAW module list'!A:A,'RAW module list'!B:B, \"Not found\")","v":"General Pedagogy 2.2: Assessment"},{"$f":"_xlfn.XLOOKUP(C798,'RAW module list'!A:A,'RAW module list'!C:C, \"Not found\")","v":6},{"$f":"_xlfn.XLOOKUP(C798,'RAW module list'!A:A,'RAW module list'!D:D, \"Not found\")","v":12},{"$f":"_xlfn.XLOOKUP(C798,'RAW module list'!A:A,'RAW module list'!E:E, \"Not found\")","v":"GPEV2613"},"Second Year",{"$f":"_xlfn.XLOOKUP(B798,'Programmes lists'!B:B,'Programmes lists'!D:D)","v":"BC736104"},{"$f":"_xlfn.XLOOKUP(B798,'Programmes lists'!B:B,'Programmes lists'!E:E, \"Not found\")","v":"QC736104        "},{"$f":"_xlfn.XLOOKUP(B798,'Programmes lists'!B:B,'Programmes lists'!G:G,\"Not found\")","v":"Minimum of 50% in grade 12 pass for\n•\tAccounting\n•\tBusiness Studies or Economics"},{"$f":"_xlfn.XLOOKUP(B798,'Programmes lists'!B:B,'Programmes lists'!F:F,\"Not found\")","v":512}]
["Senior and FET ","Specialising in EMS and Business Studies","Special Requirement 1:","Continue with two content subjects at second-year level",null,null,null,"Second Year",{"$f":"_xlfn.XLOOKUP(B799,'Programmes lists'!B:B,'Programmes lists'!D:D)","v":"BC736104"},{"$f":"_xlfn.XLOOKUP(B799,'Programmes lists'!B:B,'Programmes lists'!E:E, \"Not found\")","v":"QC736104        "},{"$f":"_xlfn.XLOOKUP(B799,'Programmes lists'!B:B,'Programmes lists'!G:G,\"Not found\")","v":"Minimum of 50% in grade 12 pass for\n•\tAccounting\n•\tBusiness Studies or Economics"},{"$f":"_xlfn.XLOOKUP(B799,'Programmes lists'!B:B,'Programmes lists'!F:F,\"Not found\")","v":512}]
["Senior and FET ","Specialising in EMS and Business Studies","Special Requirement 2:","* If EACC2608 is taken, choose between EBUS2714 and EBUS2715 in the first semester. If EACC2608 is not taken, both modules are compulsory.\n\n* If EACC2608 is taken, choose between EBMA2624 and ESBM2724 in second semester. If EACC2608 is not taken, both modules are compulsory.",null,null,null,"Second Year",{"$f":"_xlfn.XLOOKUP(B800,'Programmes lists'!B:B,'Programmes lists'!D:D)","v":"BC736104"},{"$f":"_xlfn.XLOOKUP(B800,'Programmes lists'!B:B,'Programmes lists'!E:E, \"Not found\")","v":"QC736104        "},{"$f":"_xlfn.XLOOKUP(B800,'Programmes lists'!B:B,'Programmes lists'!G:G,\"Not found\")","v":"Minimum of 50% in grade 12 pass for\n•\tAccounting\n•\tBusiness Studies or Economics"},{"$f":"_xlfn.XLOOKUP(B800,'Programmes lists'!B:B,'Programmes lists'!F:F,\"Not found\")","v":512}]
["Senior and FET ","Specialising in EMS and Business Studies","BSTV3605",{"$f":"_xlfn.XLOOKUP(C801,'RAW module list'!A:A,'RAW module list'!B:B, \"Not found\")","v":"Business Studies Teaching 1"},{"$f":"_xlfn.XLOOKUP(C801,'RAW module list'!A:A,'RAW module list'!C:C, \"Not found\")","v":6},{"$f":"_xlfn.XLOOKUP(C801,'RAW module list'!A:A,'RAW module list'!D:D, \"Not found\")","v":20},{"$f":"_xlfn.XLOOKUP(C801,'RAW module list'!A:A,'RAW module list'!E:E, \"Not found\")","v":"ESBM2724 / EBMA2624"},"Third Year",{"$f":"_xlfn.XLOOKUP(B801,'Programmes lists'!B:B,'Programmes lists'!D:D)","v":"BC736104"},{"$f":"_xlfn.XLOOKUP(B801,'Programmes lists'!B:B,'Programmes lists'!E:E, \"Not found\")","v":"QC736104        "},{"$f":"_xlfn.XLOOKUP(B801,'Programmes lists'!B:B,'Programmes lists'!G:G,\"Not found\")","v":"Minimum of 50% in grade 12 pass for\n•\tAccounting\n•\tBusiness Studies or Economics"},{"$f":"_xlfn.XLOOKUP(B801,'Programmes lists'!B:B,'Programmes lists'!F:F,\"Not found\")","v":512}]
["Senior and FET ","Specialising in EMS and Business Studies","ACTV3605",{"$f":"_xlfn.XLOOKUP(C802,'RAW module list'!A:A,'RAW module list'!B:B, \"Not found\")","v":"Accounting Teaching 1 "},{"$f":"_xlfn.XLOOKUP(C802,'RAW module list'!A:A,'RAW module list'!C:C, \"Not found\")","v":6},{"$f":"_xlfn.XLOOKUP(C802,'RAW module list'!A:A,'RAW module list'!D:D, \"Not found\")","v":20},{"$f":"_xlfn.XLOOKUP(C802,'RAW module list'!A:A,'RAW module list'!E:E, \"Not found\")","v":"EACC2608"},"Third Year",{"$f":"_xlfn.XLOOKUP(B802,'Programmes lists'!B:B,'Programmes lists'!D:D)","v":"BC736104"},{"$f":"_xlfn.XLOOKUP(B802,'Programmes lists'!B:B,'Programmes lists'!E:E, \"Not found\")","v":"QC736104        "},{"$f":"_xlfn.XLOOKUP(B802,'Programmes lists'!B:B,'Programmes lists'!G:G,\"Not found\")","v":"Minimum of 50% in grade 12 pass for\n•\tAccounting\n•\tBusiness Studies or Economics"},{"$f":"_xlfn.XLOOKUP(B802,'Programmes lists'!B:B,'Programmes lists'!F:F,\"Not found\")","v":512}]
["Senior and FET ","Specialising in EMS and Business Studies","LSPT3605",{"$f":"_xlfn.XLOOKUP(C803,'RAW module list'!A:A,'RAW module list'!B:B, \"Not found\")","v":"Learner support as third didactics "},{"$f":"_xlfn.XLOOKUP(C803,'RAW module list'!A:A,'RAW module list'!C:C, \"Not found\")","v":6},{"$f":"_xlfn.XLOOKUP(C803,'RAW module list'!A:A,'RAW module list'!D:D, \"Not found\")","v":20},{"$f":"_xlfn.XLOOKUP(C803,'RAW module list'!A:A,'RAW module list'!E:E, \"Not found\")","v":0},"Third Year",{"$f":"_xlfn.XLOOKUP(B803,'Programmes lists'!B:B,'Programmes lists'!D:D)","v":"BC736104"},{"$f":"_xlfn.XLOOKUP(B803,'Programmes lists'!B:B,'Programmes lists'!E:E, \"Not found\")","v":"QC736104        "},{"$f":"_xlfn.XLOOKUP(B803,'Programmes lists'!B:B,'Programmes lists'!G:G,\"Not found\")","v":"Minimum of 50% in grade 12 pass for\n•\tAccounting\n•\tBusiness Studies or Economics"},{"$f":"_xlfn.XLOOKUP(B803,'Programmes lists'!B:B,'Programmes lists'!F:F,\"Not found\")","v":512}]
["Senior and FET ","Specialising in EMS and Business Studies","EMST3605",{"$f":"_xlfn.XLOOKUP(C804,'RAW module list'!A:A,'RAW module list'!B:B, \"Not found\")","v":"Economic and Management Science Teaching Senior Phase"},{"$f":"_xlfn.XLOOKUP(C804,'RAW module list'!A:A,'RAW module list'!C:C, \"Not found\")","v":6},{"$f":"_xlfn.XLOOKUP(C804,'RAW module list'!A:A,'RAW module list'!D:D, \"Not found\")","v":20},{"$f":"_xlfn.XLOOKUP(C804,'RAW module list'!A:A,'RAW module list'!E:E, \"Not found\")","v":"EBUS1514/ 1624 & EBUS1624 or EACC1614 & EACC1624"},"Third Year",{"$f":"_xlfn.XLOOKUP(B804,'Programmes lists'!B:B,'Programmes lists'!D:D)","v":"BC736104"},{"$f":"_xlfn.XLOOKUP(B804,'Programmes lists'!B:B,'Programmes lists'!E:E, \"Not found\")","v":"QC736104        "},{"$f":"_xlfn.XLOOKUP(B804,'Programmes lists'!B:B,'Programmes lists'!G:G,\"Not found\")","v":"Minimum of 50% in grade 12 pass for\n•\tAccounting\n•\tBusiness Studies or Economics"},{"$f":"_xlfn.XLOOKUP(B804,'Programmes lists'!B:B,'Programmes lists'!F:F,\"Not found\")","v":512}]
["Senior and FET ","Specialising in EMS and Business Studies","EDUB3714",{"$f":"_xlfn.XLOOKUP(C805,'RAW module list'!A:A,'RAW module list'!B:B, \"Not found\")","v":"Education Studies 3.1 Education systems in global and national context"},{"$f":"_xlfn.XLOOKUP(C805,'RAW module list'!A:A,'RAW module list'!C:C, \"Not found\")","v":7},{"$f":"_xlfn.XLOOKUP(C805,'RAW module list'!A:A,'RAW module list'!D:D, \"Not found\")","v":16},{"$f":"_xlfn.XLOOKUP(C805,'RAW module list'!A:A,'RAW module list'!E:E, \"Not found\")","v":"EDUB1613 & EDUB1623& EDUB2714 & EDUB2724"},"Third Year",{"$f":"_xlfn.XLOOKUP(B805,'Programmes lists'!B:B,'Programmes lists'!D:D)","v":"BC736104"},{"$f":"_xlfn.XLOOKUP(B805,'Programmes lists'!B:B,'Programmes lists'!E:E, \"Not found\")","v":"QC736104        "},{"$f":"_xlfn.XLOOKUP(B805,'Programmes lists'!B:B,'Programmes lists'!G:G,\"Not found\")","v":"Minimum of 50% in grade 12 pass for\n•\tAccounting\n•\tBusiness Studies or Economics"},{"$f":"_xlfn.XLOOKUP(B805,'Programmes lists'!B:B,'Programmes lists'!F:F,\"Not found\")","v":512}]
["Senior and FET ","Specialising in EMS and Business Studies","SICL3512 OR SSCL3512 OR GAFR3512 OR ZUCL3512",{"$f":"_xlfn.XLOOKUP(C806,'RAW module list'!A:A,'RAW module list'!B:B, \"Not found\")","v":"Conversational Sign Language OR Conversational Sesotho OR Conversational Afrikaans OR Conversational IsiZulu"},{"$f":"_xlfn.XLOOKUP(C806,'RAW module list'!A:A,'RAW module list'!C:C, \"Not found\")","v":5},{"$f":"_xlfn.XLOOKUP(C806,'RAW module list'!A:A,'RAW module list'!D:D, \"Not found\")","v":8},{"$f":"_xlfn.XLOOKUP(C806,'RAW module list'!A:A,'RAW module list'!E:E, \"Not found\")","v":"No previous exposure to the language"},"Third Year",{"$f":"_xlfn.XLOOKUP(B806,'Programmes lists'!B:B,'Programmes lists'!D:D)","v":"BC736104"},{"$f":"_xlfn.XLOOKUP(B806,'Programmes lists'!B:B,'Programmes lists'!E:E, \"Not found\")","v":"QC736104        "},{"$f":"_xlfn.XLOOKUP(B806,'Programmes lists'!B:B,'Programmes lists'!G:G,\"Not found\")","v":"Minimum of 50% in grade 12 pass for\n•\tAccounting\n•\tBusiness Studies or Economics"},{"$f":"_xlfn.XLOOKUP(B806,'Programmes lists'!B:B,'Programmes lists'!F:F,\"Not found\")","v":512}]
["Senior and FET ","Specialising in EMS and Business Studies","WILV3606",{"$f":"_xlfn.XLOOKUP(C807,'RAW module list'!A:A,'RAW module list'!B:B, \"Not found\")","v":"Teaching Practice 3"},{"$f":"_xlfn.XLOOKUP(C807,'RAW module list'!A:A,'RAW module list'!C:C, \"Not found\")","v":6},{"$f":"_xlfn.XLOOKUP(C807,'RAW module list'!A:A,'RAW module list'!D:D, \"Not found\")","v":24},{"$f":"_xlfn.XLOOKUP(C807,'RAW module list'!A:A,'RAW module list'!E:E, \"Not found\")","v":"TPRV2502"},"Third Year",{"$f":"_xlfn.XLOOKUP(B807,'Programmes lists'!B:B,'Programmes lists'!D:D)","v":"BC736104"},{"$f":"_xlfn.XLOOKUP(B807,'Programmes lists'!B:B,'Programmes lists'!E:E, \"Not found\")","v":"QC736104        "},{"$f":"_xlfn.XLOOKUP(B807,'Programmes lists'!B:B,'Programmes lists'!G:G,\"Not found\")","v":"Minimum of 50% in grade 12 pass for\n•\tAccounting\n•\tBusiness Studies or Economics"},{"$f":"_xlfn.XLOOKUP(B807,'Programmes lists'!B:B,'Programmes lists'!F:F,\"Not found\")","v":512}]
["Senior and FET ","Specialising in EMS and Business Studies","EDUB3724",{"$f":"_xlfn.XLOOKUP(C808,'RAW module list'!A:A,'RAW module list'!B:B, \"Not found\")","v":"Education Studies 3.2: Contemporary Education Theory in the current social context"},{"$f":"_xlfn.XLOOKUP(C808,'RAW module list'!A:A,'RAW module list'!C:C, \"Not found\")","v":7},{"$f":"_xlfn.XLOOKUP(C808,'RAW module list'!A:A,'RAW module list'!D:D, \"Not found\")","v":16},{"$f":"_xlfn.XLOOKUP(C808,'RAW module list'!A:A,'RAW module list'!E:E, \"Not found\")","v":"EDUB1613 & EDUB1623 & EDUB2714 & EDUB2724 & EDUB3714"},"Third Year",{"$f":"_xlfn.XLOOKUP(B808,'Programmes lists'!B:B,'Programmes lists'!D:D)","v":"BC736104"},{"$f":"_xlfn.XLOOKUP(B808,'Programmes lists'!B:B,'Programmes lists'!E:E, \"Not found\")","v":"QC736104        "},{"$f":"_xlfn.XLOOKUP(B808,'Programmes lists'!B:B,'Programmes lists'!G:G,\"Not found\")","v":"Minimum of 50% in grade 12 pass for\n•\tAccounting\n•\tBusiness Studies or Economics"},{"$f":"_xlfn.XLOOKUP(B808,'Programmes lists'!B:B,'Programmes lists'!F:F,\"Not found\")","v":512}]
["Senior and FET ","Specialising in EMS and Business Studies","SICL3522 OR SSCL3522 OR GAFR3522 OR ZUCL3522",{"$f":"_xlfn.XLOOKUP(C809,'RAW module list'!A:A,'RAW module list'!B:B, \"Not found\")","v":"Conversational Sign Language OR Conversational Sesotho OR Conversational Afrikaans OR Conversational IsiZulu"},{"$f":"_xlfn.XLOOKUP(C809,'RAW module list'!A:A,'RAW module list'!C:C, \"Not found\")","v":5},{"$f":"_xlfn.XLOOKUP(C809,'RAW module list'!A:A,'RAW module list'!D:D, \"Not found\")","v":8},{"$f":"_xlfn.XLOOKUP(C809,'RAW module list'!A:A,'RAW module list'!E:E, \"Not found\")","v":"Continue with the conversational language chosen in Semester 1"},"Third Year",{"$f":"_xlfn.XLOOKUP(B809,'Programmes lists'!B:B,'Programmes lists'!D:D)","v":"BC736104"},{"$f":"_xlfn.XLOOKUP(B809,'Programmes lists'!B:B,'Programmes lists'!E:E, \"Not found\")","v":"QC736104        "},{"$f":"_xlfn.XLOOKUP(B809,'Programmes lists'!B:B,'Programmes lists'!G:G,\"Not found\")","v":"Minimum of 50% in grade 12 pass for\n•\tAccounting\n•\tBusiness Studies or Economics"},{"$f":"_xlfn.XLOOKUP(B809,'Programmes lists'!B:B,'Programmes lists'!F:F,\"Not found\")","v":512}]
["Senior and FET ","Specialising in EMS and Business Studies","Special Requirement:","Choose three didactics modules according to subjects passed in year 1 and 2",null,null,null,"Third Year",{"$f":"_xlfn.XLOOKUP(B810,'Programmes lists'!B:B,'Programmes lists'!D:D)","v":"BC736104"},{"$f":"_xlfn.XLOOKUP(B810,'Programmes lists'!B:B,'Programmes lists'!E:E, \"Not found\")","v":"QC736104        "},{"$f":"_xlfn.XLOOKUP(B810,'Programmes lists'!B:B,'Programmes lists'!G:G,\"Not found\")","v":"Minimum of 50% in grade 12 pass for\n•\tAccounting\n•\tBusiness Studies or Economics"},{"$f":"_xlfn.XLOOKUP(B810,'Programmes lists'!B:B,'Programmes lists'!F:F,\"Not found\")","v":512}]
["Senior and FET ","Specialising in EMS and Business Studies","EMST4705",{"$f":"_xlfn.XLOOKUP(C811,'RAW module list'!A:A,'RAW module list'!B:B, \"Not found\")","v":"Economic and Management Sciences Teaching Senior Phase 2"},{"$f":"_xlfn.XLOOKUP(C811,'RAW module list'!A:A,'RAW module list'!C:C, \"Not found\")","v":7},{"$f":"_xlfn.XLOOKUP(C811,'RAW module list'!A:A,'RAW module list'!D:D, \"Not found\")","v":20},{"$f":"_xlfn.XLOOKUP(C811,'RAW module list'!A:A,'RAW module list'!E:E, \"Not found\")","v":"EMST3605"},"Fourth Year",{"$f":"_xlfn.XLOOKUP(B811,'Programmes lists'!B:B,'Programmes lists'!D:D)","v":"BC736104"},{"$f":"_xlfn.XLOOKUP(B811,'Programmes lists'!B:B,'Programmes lists'!E:E, \"Not found\")","v":"QC736104        "},{"$f":"_xlfn.XLOOKUP(B811,'Programmes lists'!B:B,'Programmes lists'!G:G,\"Not found\")","v":"Minimum of 50% in grade 12 pass for\n•\tAccounting\n•\tBusiness Studies or Economics"},{"$f":"_xlfn.XLOOKUP(B811,'Programmes lists'!B:B,'Programmes lists'!F:F,\"Not found\")","v":512}]
["Senior and FET ","Specialising in EMS and Business Studies","BSTV4705",{"$f":"_xlfn.XLOOKUP(C812,'RAW module list'!A:A,'RAW module list'!B:B, \"Not found\")","v":"Business Studies Teaching 2"},{"$f":"_xlfn.XLOOKUP(C812,'RAW module list'!A:A,'RAW module list'!C:C, \"Not found\")","v":7},{"$f":"_xlfn.XLOOKUP(C812,'RAW module list'!A:A,'RAW module list'!D:D, \"Not found\")","v":-20},{"$f":"_xlfn.XLOOKUP(C812,'RAW module list'!A:A,'RAW module list'!E:E, \"Not found\")","v":"BSTV3605"},"Fourth Year",{"$f":"_xlfn.XLOOKUP(B812,'Programmes lists'!B:B,'Programmes lists'!D:D)","v":"BC736104"},{"$f":"_xlfn.XLOOKUP(B812,'Programmes lists'!B:B,'Programmes lists'!E:E, \"Not found\")","v":"QC736104        "},{"$f":"_xlfn.XLOOKUP(B812,'Programmes lists'!B:B,'Programmes lists'!G:G,\"Not found\")","v":"Minimum of 50% in grade 12 pass for\n•\tAccounting\n•\tBusiness Studies or Economics"},{"$f":"_xlfn.XLOOKUP(B812,'Programmes lists'!B:B,'Programmes lists'!F:F,\"Not found\")","v":512}]
["Senior and FET ","Specialising in EMS and Business Studies","ACTV4705",{"$f":"_xlfn.XLOOKUP(C813,'RAW module list'!A:A,'RAW module list'!B:B, \"Not found\")","v":"Accounting Teaching 2: FET"},{"$f":"_xlfn.XLOOKUP(C813,'RAW module list'!A:A,'RAW module list'!C:C, \"Not found\")","v":7},{"$f":"_xlfn.XLOOKUP(C813,'RAW module list'!A:A,'RAW module list'!D:D, \"Not found\")","v":20},{"$f":"_xlfn.XLOOKUP(C813,'RAW module list'!A:A,'RAW module list'!E:E, \"Not found\")","v":"ACTV3605"},"Fourth Year",{"$f":"_xlfn.XLOOKUP(B813,'Programmes lists'!B:B,'Programmes lists'!D:D)","v":"BC736104"},{"$f":"_xlfn.XLOOKUP(B813,'Programmes lists'!B:B,'Programmes lists'!E:E, \"Not found\")","v":"QC736104        "},{"$f":"_xlfn.XLOOKUP(B813,'Programmes lists'!B:B,'Programmes lists'!G:G,\"Not found\")","v":"Minimum of 50% in grade 12 pass for\n•\tAccounting\n•\tBusiness Studies or Economics"},{"$f":"_xlfn.XLOOKUP(B813,'Programmes lists'!B:B,'Programmes lists'!F:F,\"Not found\")","v":512}]
["Senior and FET ","Specialising in EMS and Business Studies","LSPT4705",{"$f":"_xlfn.XLOOKUP(C814,'RAW module list'!A:A,'RAW module list'!B:B, \"Not found\")","v":"Third didactics subject"},{"$f":"_xlfn.XLOOKUP(C814,'RAW module list'!A:A,'RAW module list'!C:C, \"Not found\")","v":7},{"$f":"_xlfn.XLOOKUP(C814,'RAW module list'!A:A,'RAW module list'!D:D, \"Not found\")","v":20},{"$f":"_xlfn.XLOOKUP(C814,'RAW module list'!A:A,'RAW module list'!E:E, \"Not found\")","v":"LSPT3605"},"Fourth Year",{"$f":"_xlfn.XLOOKUP(B814,'Programmes lists'!B:B,'Programmes lists'!D:D)","v":"BC736104"},{"$f":"_xlfn.XLOOKUP(B814,'Programmes lists'!B:B,'Programmes lists'!E:E, \"Not found\")","v":"QC736104        "},{"$f":"_xlfn.XLOOKUP(B814,'Programmes lists'!B:B,'Programmes lists'!G:G,\"Not found\")","v":"Minimum of 50% in grade 12 pass for\n•\tAccounting\n•\tBusiness Studies or Economics"},{"$f":"_xlfn.XLOOKUP(B814,'Programmes lists'!B:B,'Programmes lists'!F:F,\"Not found\")","v":512}]
["Senior and FET ","Specialising in EMS and Business Studies","WILV4700",{"$f":"_xlfn.XLOOKUP(C815,'RAW module list'!A:A,'RAW module list'!B:B, \"Not found\")","v":"Teaching Practice 4"},{"$f":"_xlfn.XLOOKUP(C815,'RAW module list'!A:A,'RAW module list'!C:C, \"Not found\")","v":7},{"$f":"_xlfn.XLOOKUP(C815,'RAW module list'!A:A,'RAW module list'!D:D, \"Not found\")","v":40},{"$f":"_xlfn.XLOOKUP(C815,'RAW module list'!A:A,'RAW module list'!E:E, \"Not found\")","v":"WILV3606"},"Fourth Year",{"$f":"_xlfn.XLOOKUP(B815,'Programmes lists'!B:B,'Programmes lists'!D:D)","v":"BC736104"},{"$f":"_xlfn.XLOOKUP(B815,'Programmes lists'!B:B,'Programmes lists'!E:E, \"Not found\")","v":"QC736104        "},{"$f":"_xlfn.XLOOKUP(B815,'Programmes lists'!B:B,'Programmes lists'!G:G,\"Not found\")","v":"Minimum of 50% in grade 12 pass for\n•\tAccounting\n•\tBusiness Studies or Economics"},{"$f":"_xlfn.XLOOKUP(B815,'Programmes lists'!B:B,'Programmes lists'!F:F,\"Not found\")","v":512}]
["Senior and FET ","Specialising in EMS and Business Studies","Special Requirement:","Continue with three didactics chosen in year 3.",null,null,null,"Fourth Year",{"$f":"_xlfn.XLOOKUP(B816,'Programmes lists'!B:B,'Programmes lists'!D:D)","v":"BC736104"},{"$f":"_xlfn.XLOOKUP(B816,'Programmes lists'!B:B,'Programmes lists'!E:E, \"Not found\")","v":"QC736104        "},{"$f":"_xlfn.XLOOKUP(B816,'Programmes lists'!B:B,'Programmes lists'!G:G,\"Not found\")","v":"Minimum of 50% in grade 12 pass for\n•\tAccounting\n•\tBusiness Studies or Economics"},{"$f":"_xlfn.XLOOKUP(B816,'Programmes lists'!B:B,'Programmes lists'!F:F,\"Not found\")","v":512}]
["Senior and FET ","Specialising in Technology and Engineering and Graphic Design","EGDC1614",{"$f":"_xlfn.XLOOKUP(C817,'RAW module list'!A:A,'RAW module list'!B:B, \"Not found\")","v":"Engineering Graphics 1.1"},{"$f":"_xlfn.XLOOKUP(C817,'RAW module list'!A:A,'RAW module list'!C:C, \"Not found\")","v":6},{"$f":"_xlfn.XLOOKUP(C817,'RAW module list'!A:A,'RAW module list'!D:D, \"Not found\")","v":16},{"$f":"_xlfn.XLOOKUP(C817,'RAW module list'!A:A,'RAW module list'!E:E, \"Not found\")","v":"Engineering and Graphics Design at NSC level 4 (50% ) "},"First Year",{"$f":"_xlfn.XLOOKUP(B817,'Programmes lists'!B:B,'Programmes lists'!D:D)","v":"BC736301"},{"$f":"_xlfn.XLOOKUP(B817,'Programmes lists'!B:B,'Programmes lists'!E:E, \"Not found\")","v":0},{"$f":"_xlfn.XLOOKUP(B817,'Programmes lists'!B:B,'Programmes lists'!G:G,\"Not found\")","v":"Minimum of 50% in grade 12 pass for \n•\tEngineering Graphics and Design"},{"$f":"_xlfn.XLOOKUP(B817,'Programmes lists'!B:B,'Programmes lists'!F:F,\"Not found\")","v":512}]
["Senior and FET ","Specialising in Technology and Engineering and Graphic Design","TEGC1614",{"$f":"_xlfn.XLOOKUP(C818,'RAW module list'!A:A,'RAW module list'!B:B, \"Not found\")","v":"Technology"},{"$f":"_xlfn.XLOOKUP(C818,'RAW module list'!A:A,'RAW module list'!C:C, \"Not found\")","v":6},{"$f":"_xlfn.XLOOKUP(C818,'RAW module list'!A:A,'RAW module list'!D:D, \"Not found\")","v":16},{"$f":"_xlfn.XLOOKUP(C818,'RAW module list'!A:A,'RAW module list'!E:E, \"Not found\")","v":0},"First Year",{"$f":"_xlfn.XLOOKUP(B818,'Programmes lists'!B:B,'Programmes lists'!D:D)","v":"BC736301"},{"$f":"_xlfn.XLOOKUP(B818,'Programmes lists'!B:B,'Programmes lists'!E:E, \"Not found\")","v":0},{"$f":"_xlfn.XLOOKUP(B818,'Programmes lists'!B:B,'Programmes lists'!G:G,\"Not found\")","v":"Minimum of 50% in grade 12 pass for \n•\tEngineering Graphics and Design"},{"$f":"_xlfn.XLOOKUP(B818,'Programmes lists'!B:B,'Programmes lists'!F:F,\"Not found\")","v":512}]
["Senior and FET ","Specialising in Technology and Engineering and Graphic Design","LLST1513",{"$f":"_xlfn.XLOOKUP(C819,'RAW module list'!A:A,'RAW module list'!B:B, \"Not found\")","v":"Lifelong Learning Skills"},{"$f":"_xlfn.XLOOKUP(C819,'RAW module list'!A:A,'RAW module list'!C:C, \"Not found\")","v":5},{"$f":"_xlfn.XLOOKUP(C819,'RAW module list'!A:A,'RAW module list'!D:D, \"Not found\")","v":12},{"$f":"_xlfn.XLOOKUP(C819,'RAW module list'!A:A,'RAW module list'!E:E, \"Not found\")","v":0},"First Year",{"$f":"_xlfn.XLOOKUP(B819,'Programmes lists'!B:B,'Programmes lists'!D:D)","v":"BC736301"},{"$f":"_xlfn.XLOOKUP(B819,'Programmes lists'!B:B,'Programmes lists'!E:E, \"Not found\")","v":0},{"$f":"_xlfn.XLOOKUP(B819,'Programmes lists'!B:B,'Programmes lists'!G:G,\"Not found\")","v":"Minimum of 50% in grade 12 pass for \n•\tEngineering Graphics and Design"},{"$f":"_xlfn.XLOOKUP(B819,'Programmes lists'!B:B,'Programmes lists'!F:F,\"Not found\")","v":512}]
["Senior and FET ","Specialising in Technology and Engineering and Graphic Design","EDUB1613",{"$f":"_xlfn.XLOOKUP(C820,'RAW module list'!A:A,'RAW module list'!B:B, \"Not found\")","v":"Education Studies 1.1 The Individual in the learning context"},{"$f":"_xlfn.XLOOKUP(C820,'RAW module list'!A:A,'RAW module list'!C:C, \"Not found\")","v":6},{"$f":"_xlfn.XLOOKUP(C820,'RAW module list'!A:A,'RAW module list'!D:D, \"Not found\")","v":12},{"$f":"_xlfn.XLOOKUP(C820,'RAW module list'!A:A,'RAW module list'!E:E, \"Not found\")","v":0},"First Year",{"$f":"_xlfn.XLOOKUP(B820,'Programmes lists'!B:B,'Programmes lists'!D:D)","v":"BC736301"},{"$f":"_xlfn.XLOOKUP(B820,'Programmes lists'!B:B,'Programmes lists'!E:E, \"Not found\")","v":0},{"$f":"_xlfn.XLOOKUP(B820,'Programmes lists'!B:B,'Programmes lists'!G:G,\"Not found\")","v":"Minimum of 50% in grade 12 pass for \n•\tEngineering Graphics and Design"},{"$f":"_xlfn.XLOOKUP(B820,'Programmes lists'!B:B,'Programmes lists'!F:F,\"Not found\")","v":512}]
["Senior and FET ","Specialising in Technology and Engineering and Graphic Design","TPRV1502",{"$f":"_xlfn.XLOOKUP(C821,'RAW module list'!A:A,'RAW module list'!B:B, \"Not found\")","v":"Teaching Practice 1 "},{"$f":"_xlfn.XLOOKUP(C821,'RAW module list'!A:A,'RAW module list'!C:C, \"Not found\")","v":5},{"$f":"_xlfn.XLOOKUP(C821,'RAW module list'!A:A,'RAW module list'!D:D, \"Not found\")","v":8},{"$f":"_xlfn.XLOOKUP(C821,'RAW module list'!A:A,'RAW module list'!E:E, \"Not found\")","v":0},"First Year",{"$f":"_xlfn.XLOOKUP(B821,'Programmes lists'!B:B,'Programmes lists'!D:D)","v":"BC736301"},{"$f":"_xlfn.XLOOKUP(B821,'Programmes lists'!B:B,'Programmes lists'!E:E, \"Not found\")","v":0},{"$f":"_xlfn.XLOOKUP(B821,'Programmes lists'!B:B,'Programmes lists'!G:G,\"Not found\")","v":"Minimum of 50% in grade 12 pass for \n•\tEngineering Graphics and Design"},{"$f":"_xlfn.XLOOKUP(B821,'Programmes lists'!B:B,'Programmes lists'!F:F,\"Not found\")","v":512}]
["Senior and FET ","Specialising in Technology and Engineering and Graphic Design","UFSS1504",{"$f":"_xlfn.XLOOKUP(C822,'RAW module list'!A:A,'RAW module list'!B:B, \"Not found\")","v":"Undergraduate core curriculum"},{"$f":"_xlfn.XLOOKUP(C822,'RAW module list'!A:A,'RAW module list'!C:C, \"Not found\")","v":5},{"$f":"_xlfn.XLOOKUP(C822,'RAW module list'!A:A,'RAW module list'!D:D, \"Not found\")","v":-16},{"$f":"_xlfn.XLOOKUP(C822,'RAW module list'!A:A,'RAW module list'!E:E, \"Not found\")","v":0},"First Year",{"$f":"_xlfn.XLOOKUP(B822,'Programmes lists'!B:B,'Programmes lists'!D:D)","v":"BC736301"},{"$f":"_xlfn.XLOOKUP(B822,'Programmes lists'!B:B,'Programmes lists'!E:E, \"Not found\")","v":0},{"$f":"_xlfn.XLOOKUP(B822,'Programmes lists'!B:B,'Programmes lists'!G:G,\"Not found\")","v":"Minimum of 50% in grade 12 pass for \n•\tEngineering Graphics and Design"},{"$f":"_xlfn.XLOOKUP(B822,'Programmes lists'!B:B,'Programmes lists'!F:F,\"Not found\")","v":512}]
["Senior and FET ","Specialising in Technology and Engineering and Graphic Design","EALT1508 OR AGAE1508",{"$f":"_xlfn.XLOOKUP(C823,'RAW module list'!A:A,'RAW module list'!B:B, \"Not found\")","v":"English Academic Literacy for Education OR Academic Literacy in Afrikaans"},{"$f":"_xlfn.XLOOKUP(C823,'RAW module list'!A:A,'RAW module list'!C:C, \"Not found\")","v":5},{"$f":"_xlfn.XLOOKUP(C823,'RAW module list'!A:A,'RAW module list'!D:D, \"Not found\")","v":-32},{"$f":"_xlfn.XLOOKUP(C823,'RAW module list'!A:A,'RAW module list'!E:E, \"Not found\")","v":"NBT requirements not been met"},"First Year",{"$f":"_xlfn.XLOOKUP(B823,'Programmes lists'!B:B,'Programmes lists'!D:D)","v":"BC736301"},{"$f":"_xlfn.XLOOKUP(B823,'Programmes lists'!B:B,'Programmes lists'!E:E, \"Not found\")","v":0},{"$f":"_xlfn.XLOOKUP(B823,'Programmes lists'!B:B,'Programmes lists'!G:G,\"Not found\")","v":"Minimum of 50% in grade 12 pass for \n•\tEngineering Graphics and Design"},{"$f":"_xlfn.XLOOKUP(B823,'Programmes lists'!B:B,'Programmes lists'!F:F,\"Not found\")","v":512}]
["Senior and FET ","Specialising in Technology and Engineering and Graphic Design","EGDC1624",{"$f":"_xlfn.XLOOKUP(C824,'RAW module list'!A:A,'RAW module list'!B:B, \"Not found\")","v":"Engineering Graphics and Design 1.2"},{"$f":"_xlfn.XLOOKUP(C824,'RAW module list'!A:A,'RAW module list'!C:C, \"Not found\")","v":6},{"$f":"_xlfn.XLOOKUP(C824,'RAW module list'!A:A,'RAW module list'!D:D, \"Not found\")","v":16},{"$f":"_xlfn.XLOOKUP(C824,'RAW module list'!A:A,'RAW module list'!E:E, \"Not found\")","v":"EGDC1614"},"First Year",{"$f":"_xlfn.XLOOKUP(B824,'Programmes lists'!B:B,'Programmes lists'!D:D)","v":"BC736301"},{"$f":"_xlfn.XLOOKUP(B824,'Programmes lists'!B:B,'Programmes lists'!E:E, \"Not found\")","v":0},{"$f":"_xlfn.XLOOKUP(B824,'Programmes lists'!B:B,'Programmes lists'!G:G,\"Not found\")","v":"Minimum of 50% in grade 12 pass for \n•\tEngineering Graphics and Design"},{"$f":"_xlfn.XLOOKUP(B824,'Programmes lists'!B:B,'Programmes lists'!F:F,\"Not found\")","v":512}]
["Senior and FET ","Specialising in Technology and Engineering and Graphic Design","TEGC1624",{"$f":"_xlfn.XLOOKUP(C825,'RAW module list'!A:A,'RAW module list'!B:B, \"Not found\")","v":"Technology Education"},{"$f":"_xlfn.XLOOKUP(C825,'RAW module list'!A:A,'RAW module list'!C:C, \"Not found\")","v":6},{"$f":"_xlfn.XLOOKUP(C825,'RAW module list'!A:A,'RAW module list'!D:D, \"Not found\")","v":16},{"$f":"_xlfn.XLOOKUP(C825,'RAW module list'!A:A,'RAW module list'!E:E, \"Not found\")","v":"TEGC1614"},"First Year",{"$f":"_xlfn.XLOOKUP(B825,'Programmes lists'!B:B,'Programmes lists'!D:D)","v":"BC736301"},{"$f":"_xlfn.XLOOKUP(B825,'Programmes lists'!B:B,'Programmes lists'!E:E, \"Not found\")","v":0},{"$f":"_xlfn.XLOOKUP(B825,'Programmes lists'!B:B,'Programmes lists'!G:G,\"Not found\")","v":"Minimum of 50% in grade 12 pass for \n•\tEngineering Graphics and Design"},{"$f":"_xlfn.XLOOKUP(B825,'Programmes lists'!B:B,'Programmes lists'!F:F,\"Not found\")","v":512}]
["Senior and FET ","Specialising in Technology and Engineering and Graphic Design","EDUB1623",{"$f":"_xlfn.XLOOKUP(C826,'RAW module list'!A:A,'RAW module list'!B:B, \"Not found\")","v":"Education Studies 1.2 What it means to educate: Theoretical perspectives and their significance for SA education"},{"$f":"_xlfn.XLOOKUP(C826,'RAW module list'!A:A,'RAW module list'!C:C, \"Not found\")","v":6},{"$f":"_xlfn.XLOOKUP(C826,'RAW module list'!A:A,'RAW module list'!D:D, \"Not found\")","v":12},{"$f":"_xlfn.XLOOKUP(C826,'RAW module list'!A:A,'RAW module list'!E:E, \"Not found\")","v":0},"First Year",{"$f":"_xlfn.XLOOKUP(B826,'Programmes lists'!B:B,'Programmes lists'!D:D)","v":"BC736301"},{"$f":"_xlfn.XLOOKUP(B826,'Programmes lists'!B:B,'Programmes lists'!E:E, \"Not found\")","v":0},{"$f":"_xlfn.XLOOKUP(B826,'Programmes lists'!B:B,'Programmes lists'!G:G,\"Not found\")","v":"Minimum of 50% in grade 12 pass for \n•\tEngineering Graphics and Design"},{"$f":"_xlfn.XLOOKUP(B826,'Programmes lists'!B:B,'Programmes lists'!F:F,\"Not found\")","v":512}]
["Senior and FET ","Specialising in Technology and Engineering and Graphic Design","GPEV1623",{"$f":"_xlfn.XLOOKUP(C827,'RAW module list'!A:A,'RAW module list'!B:B, \"Not found\")","v":"General Pedagogy 1: Managing the Curriculum"},{"$f":"_xlfn.XLOOKUP(C827,'RAW module list'!A:A,'RAW module list'!C:C, \"Not found\")","v":6},{"$f":"_xlfn.XLOOKUP(C827,'RAW module list'!A:A,'RAW module list'!D:D, \"Not found\")","v":12},{"$f":"_xlfn.XLOOKUP(C827,'RAW module list'!A:A,'RAW module list'!E:E, \"Not found\")","v":0},"First Year",{"$f":"_xlfn.XLOOKUP(B827,'Programmes lists'!B:B,'Programmes lists'!D:D)","v":"BC736301"},{"$f":"_xlfn.XLOOKUP(B827,'Programmes lists'!B:B,'Programmes lists'!E:E, \"Not found\")","v":0},{"$f":"_xlfn.XLOOKUP(B827,'Programmes lists'!B:B,'Programmes lists'!G:G,\"Not found\")","v":"Minimum of 50% in grade 12 pass for \n•\tEngineering Graphics and Design"},{"$f":"_xlfn.XLOOKUP(B827,'Programmes lists'!B:B,'Programmes lists'!F:F,\"Not found\")","v":512}]
["Senior and FET ","Specialising in Technology and Engineering and Graphic Design","EGDC2714",{"$f":"_xlfn.XLOOKUP(C828,'RAW module list'!A:A,'RAW module list'!B:B, \"Not found\")","v":"Engineering Graphics  and Design 2.1"},{"$f":"_xlfn.XLOOKUP(C828,'RAW module list'!A:A,'RAW module list'!C:C, \"Not found\")","v":6},{"$f":"_xlfn.XLOOKUP(C828,'RAW module list'!A:A,'RAW module list'!D:D, \"Not found\")","v":16},{"$f":"_xlfn.XLOOKUP(C828,'RAW module list'!A:A,'RAW module list'!E:E, \"Not found\")","v":"EGDC1614 & EGDC1624"},"Second Year",{"$f":"_xlfn.XLOOKUP(B828,'Programmes lists'!B:B,'Programmes lists'!D:D)","v":"BC736301"},{"$f":"_xlfn.XLOOKUP(B828,'Programmes lists'!B:B,'Programmes lists'!E:E, \"Not found\")","v":0},{"$f":"_xlfn.XLOOKUP(B828,'Programmes lists'!B:B,'Programmes lists'!G:G,\"Not found\")","v":"Minimum of 50% in grade 12 pass for \n•\tEngineering Graphics and Design"},{"$f":"_xlfn.XLOOKUP(B828,'Programmes lists'!B:B,'Programmes lists'!F:F,\"Not found\")","v":512}]
["Senior and FET ","Specialising in Technology and Engineering and Graphic Design","TEGC2714",{"$f":"_xlfn.XLOOKUP(C829,'RAW module list'!A:A,'RAW module list'!B:B, \"Not found\")","v":"Technology"},{"$f":"_xlfn.XLOOKUP(C829,'RAW module list'!A:A,'RAW module list'!C:C, \"Not found\")","v":7},{"$f":"_xlfn.XLOOKUP(C829,'RAW module list'!A:A,'RAW module list'!D:D, \"Not found\")","v":16},{"$f":"_xlfn.XLOOKUP(C829,'RAW module list'!A:A,'RAW module list'!E:E, \"Not found\")","v":"TEGC1614 & TEGC1624"},"Second Year",{"$f":"_xlfn.XLOOKUP(B829,'Programmes lists'!B:B,'Programmes lists'!D:D)","v":"BC736301"},{"$f":"_xlfn.XLOOKUP(B829,'Programmes lists'!B:B,'Programmes lists'!E:E, \"Not found\")","v":0},{"$f":"_xlfn.XLOOKUP(B829,'Programmes lists'!B:B,'Programmes lists'!G:G,\"Not found\")","v":"Minimum of 50% in grade 12 pass for \n•\tEngineering Graphics and Design"},{"$f":"_xlfn.XLOOKUP(B829,'Programmes lists'!B:B,'Programmes lists'!F:F,\"Not found\")","v":512}]
["Senior and FET ","Specialising in Technology and Engineering and Graphic Design","EDUB2714",{"$f":"_xlfn.XLOOKUP(C830,'RAW module list'!A:A,'RAW module list'!B:B, \"Not found\")","v":"Education Studies 2: Teaching and Learning in Education Context"},{"$f":"_xlfn.XLOOKUP(C830,'RAW module list'!A:A,'RAW module list'!C:C, \"Not found\")","v":7},{"$f":"_xlfn.XLOOKUP(C830,'RAW module list'!A:A,'RAW module list'!D:D, \"Not found\")","v":16},{"$f":"_xlfn.XLOOKUP(C830,'RAW module list'!A:A,'RAW module list'!E:E, \"Not found\")","v":"EDUB1613 & EDUB1623"},"Second Year",{"$f":"_xlfn.XLOOKUP(B830,'Programmes lists'!B:B,'Programmes lists'!D:D)","v":"BC736301"},{"$f":"_xlfn.XLOOKUP(B830,'Programmes lists'!B:B,'Programmes lists'!E:E, \"Not found\")","v":0},{"$f":"_xlfn.XLOOKUP(B830,'Programmes lists'!B:B,'Programmes lists'!G:G,\"Not found\")","v":"Minimum of 50% in grade 12 pass for \n•\tEngineering Graphics and Design"},{"$f":"_xlfn.XLOOKUP(B830,'Programmes lists'!B:B,'Programmes lists'!F:F,\"Not found\")","v":512}]
["Senior and FET ","Specialising in Technology and Engineering and Graphic Design","GPEV2613",{"$f":"_xlfn.XLOOKUP(C831,'RAW module list'!A:A,'RAW module list'!B:B, \"Not found\")","v":"General Pedagogy 2.1"},{"$f":"_xlfn.XLOOKUP(C831,'RAW module list'!A:A,'RAW module list'!C:C, \"Not found\")","v":6},{"$f":"_xlfn.XLOOKUP(C831,'RAW module list'!A:A,'RAW module list'!D:D, \"Not found\")","v":12},{"$f":"_xlfn.XLOOKUP(C831,'RAW module list'!A:A,'RAW module list'!E:E, \"Not found\")","v":"GPEV1623"},"Second Year",{"$f":"_xlfn.XLOOKUP(B831,'Programmes lists'!B:B,'Programmes lists'!D:D)","v":"BC736301"},{"$f":"_xlfn.XLOOKUP(B831,'Programmes lists'!B:B,'Programmes lists'!E:E, \"Not found\")","v":0},{"$f":"_xlfn.XLOOKUP(B831,'Programmes lists'!B:B,'Programmes lists'!G:G,\"Not found\")","v":"Minimum of 50% in grade 12 pass for \n•\tEngineering Graphics and Design"},{"$f":"_xlfn.XLOOKUP(B831,'Programmes lists'!B:B,'Programmes lists'!F:F,\"Not found\")","v":512}]
["Senior and FET ","Specialising in Technology and Engineering and Graphic Design","ELLT2504 OR ALLT3504",{"$f":"_xlfn.XLOOKUP(C832,'RAW module list'!A:A,'RAW module list'!B:B, \"Not found\")","v":"English as medium of learning and teaching OR Afrikaans as medium of learning and teaching"},{"$f":"_xlfn.XLOOKUP(C832,'RAW module list'!A:A,'RAW module list'!C:C, \"Not found\")","v":5},{"$f":"_xlfn.XLOOKUP(C832,'RAW module list'!A:A,'RAW module list'!D:D, \"Not found\")","v":16},{"$f":"_xlfn.XLOOKUP(C832,'RAW module list'!A:A,'RAW module list'!E:E, \"Not found\")","v":0},"Second Year",{"$f":"_xlfn.XLOOKUP(B832,'Programmes lists'!B:B,'Programmes lists'!D:D)","v":"BC736301"},{"$f":"_xlfn.XLOOKUP(B832,'Programmes lists'!B:B,'Programmes lists'!E:E, \"Not found\")","v":0},{"$f":"_xlfn.XLOOKUP(B832,'Programmes lists'!B:B,'Programmes lists'!G:G,\"Not found\")","v":"Minimum of 50% in grade 12 pass for \n•\tEngineering Graphics and Design"},{"$f":"_xlfn.XLOOKUP(B832,'Programmes lists'!B:B,'Programmes lists'!F:F,\"Not found\")","v":512}]
["Senior and FET ","Specialising in Technology and Engineering and Graphic Design","TPRV2502",{"$f":"_xlfn.XLOOKUP(C833,'RAW module list'!A:A,'RAW module list'!B:B, \"Not found\")","v":"Teaching Practice 2"},{"$f":"_xlfn.XLOOKUP(C833,'RAW module list'!A:A,'RAW module list'!C:C, \"Not found\")","v":5},{"$f":"_xlfn.XLOOKUP(C833,'RAW module list'!A:A,'RAW module list'!D:D, \"Not found\")","v":8},{"$f":"_xlfn.XLOOKUP(C833,'RAW module list'!A:A,'RAW module list'!E:E, \"Not found\")","v":"TPRV1502"},"Second Year",{"$f":"_xlfn.XLOOKUP(B833,'Programmes lists'!B:B,'Programmes lists'!D:D)","v":"BC736301"},{"$f":"_xlfn.XLOOKUP(B833,'Programmes lists'!B:B,'Programmes lists'!E:E, \"Not found\")","v":0},{"$f":"_xlfn.XLOOKUP(B833,'Programmes lists'!B:B,'Programmes lists'!G:G,\"Not found\")","v":"Minimum of 50% in grade 12 pass for \n•\tEngineering Graphics and Design"},{"$f":"_xlfn.XLOOKUP(B833,'Programmes lists'!B:B,'Programmes lists'!F:F,\"Not found\")","v":512}]
["Senior and FET ","Specialising in Technology and Engineering and Graphic Design","EGDC2724",{"$f":"_xlfn.XLOOKUP(C834,'RAW module list'!A:A,'RAW module list'!B:B, \"Not found\")","v":"Engineering Graphics 2.2"},{"$f":"_xlfn.XLOOKUP(C834,'RAW module list'!A:A,'RAW module list'!C:C, \"Not found\")","v":6},{"$f":"_xlfn.XLOOKUP(C834,'RAW module list'!A:A,'RAW module list'!D:D, \"Not found\")","v":16},{"$f":"_xlfn.XLOOKUP(C834,'RAW module list'!A:A,'RAW module list'!E:E, \"Not found\")","v":"EGDC2714"},"Second Year",{"$f":"_xlfn.XLOOKUP(B834,'Programmes lists'!B:B,'Programmes lists'!D:D)","v":"BC736301"},{"$f":"_xlfn.XLOOKUP(B834,'Programmes lists'!B:B,'Programmes lists'!E:E, \"Not found\")","v":0},{"$f":"_xlfn.XLOOKUP(B834,'Programmes lists'!B:B,'Programmes lists'!G:G,\"Not found\")","v":"Minimum of 50% in grade 12 pass for \n•\tEngineering Graphics and Design"},{"$f":"_xlfn.XLOOKUP(B834,'Programmes lists'!B:B,'Programmes lists'!F:F,\"Not found\")","v":512}]
["Senior and FET ","Specialising in Technology and Engineering and Graphic Design","TEGC2724",{"$f":"_xlfn.XLOOKUP(C835,'RAW module list'!A:A,'RAW module list'!B:B, \"Not found\")","v":"Technology"},{"$f":"_xlfn.XLOOKUP(C835,'RAW module list'!A:A,'RAW module list'!C:C, \"Not found\")","v":7},{"$f":"_xlfn.XLOOKUP(C835,'RAW module list'!A:A,'RAW module list'!D:D, \"Not found\")","v":16},{"$f":"_xlfn.XLOOKUP(C835,'RAW module list'!A:A,'RAW module list'!E:E, \"Not found\")","v":"TEGC2614"},"Second Year",{"$f":"_xlfn.XLOOKUP(B835,'Programmes lists'!B:B,'Programmes lists'!D:D)","v":"BC736301"},{"$f":"_xlfn.XLOOKUP(B835,'Programmes lists'!B:B,'Programmes lists'!E:E, \"Not found\")","v":0},{"$f":"_xlfn.XLOOKUP(B835,'Programmes lists'!B:B,'Programmes lists'!G:G,\"Not found\")","v":"Minimum of 50% in grade 12 pass for \n•\tEngineering Graphics and Design"},{"$f":"_xlfn.XLOOKUP(B835,'Programmes lists'!B:B,'Programmes lists'!F:F,\"Not found\")","v":512}]
["Senior and FET ","Specialising in Technology and Engineering and Graphic Design","EDUB2724",{"$f":"_xlfn.XLOOKUP(C836,'RAW module list'!A:A,'RAW module list'!B:B, \"Not found\")","v":"Education Studies 2: Human Relationships in Education context"},{"$f":"_xlfn.XLOOKUP(C836,'RAW module list'!A:A,'RAW module list'!C:C, \"Not found\")","v":7},{"$f":"_xlfn.XLOOKUP(C836,'RAW module list'!A:A,'RAW module list'!D:D, \"Not found\")","v":16},{"$f":"_xlfn.XLOOKUP(C836,'RAW module list'!A:A,'RAW module list'!E:E, \"Not found\")","v":"EDUB2714"},"Second Year",{"$f":"_xlfn.XLOOKUP(B836,'Programmes lists'!B:B,'Programmes lists'!D:D)","v":"BC736301"},{"$f":"_xlfn.XLOOKUP(B836,'Programmes lists'!B:B,'Programmes lists'!E:E, \"Not found\")","v":0},{"$f":"_xlfn.XLOOKUP(B836,'Programmes lists'!B:B,'Programmes lists'!G:G,\"Not found\")","v":"Minimum of 50% in grade 12 pass for \n•\tEngineering Graphics and Design"},{"$f":"_xlfn.XLOOKUP(B836,'Programmes lists'!B:B,'Programmes lists'!F:F,\"Not found\")","v":512}]
["Senior and FET ","Specialising in Technology and Engineering and Graphic Design","GPEV2623",{"$f":"_xlfn.XLOOKUP(C837,'RAW module list'!A:A,'RAW module list'!B:B, \"Not found\")","v":"General Pedagogy 2.2: Assessment"},{"$f":"_xlfn.XLOOKUP(C837,'RAW module list'!A:A,'RAW module list'!C:C, \"Not found\")","v":6},{"$f":"_xlfn.XLOOKUP(C837,'RAW module list'!A:A,'RAW module list'!D:D, \"Not found\")","v":12},{"$f":"_xlfn.XLOOKUP(C837,'RAW module list'!A:A,'RAW module list'!E:E, \"Not found\")","v":"GPEV2613"},"Second Year",{"$f":"_xlfn.XLOOKUP(B837,'Programmes lists'!B:B,'Programmes lists'!D:D)","v":"BC736301"},{"$f":"_xlfn.XLOOKUP(B837,'Programmes lists'!B:B,'Programmes lists'!E:E, \"Not found\")","v":0},{"$f":"_xlfn.XLOOKUP(B837,'Programmes lists'!B:B,'Programmes lists'!G:G,\"Not found\")","v":"Minimum of 50% in grade 12 pass for \n•\tEngineering Graphics and Design"},{"$f":"_xlfn.XLOOKUP(B837,'Programmes lists'!B:B,'Programmes lists'!F:F,\"Not found\")","v":512}]
["Senior and FET ","Specialising in Technology and Engineering and Graphic Design","EGTV3605",{"$f":"_xlfn.XLOOKUP(C838,'RAW module list'!A:A,'RAW module list'!B:B, \"Not found\")","v":"Engineering Graphics and Design Teaching 1: Further Education and Training"},{"$f":"_xlfn.XLOOKUP(C838,'RAW module list'!A:A,'RAW module list'!C:C, \"Not found\")","v":6},{"$f":"_xlfn.XLOOKUP(C838,'RAW module list'!A:A,'RAW module list'!D:D, \"Not found\")","v":20},{"$f":"_xlfn.XLOOKUP(C838,'RAW module list'!A:A,'RAW module list'!E:E, \"Not found\")","v":"EGDC2714 & EGDC2724"},"Third Year",{"$f":"_xlfn.XLOOKUP(B838,'Programmes lists'!B:B,'Programmes lists'!D:D)","v":"BC736301"},{"$f":"_xlfn.XLOOKUP(B838,'Programmes lists'!B:B,'Programmes lists'!E:E, \"Not found\")","v":0},{"$f":"_xlfn.XLOOKUP(B838,'Programmes lists'!B:B,'Programmes lists'!G:G,\"Not found\")","v":"Minimum of 50% in grade 12 pass for \n•\tEngineering Graphics and Design"},{"$f":"_xlfn.XLOOKUP(B838,'Programmes lists'!B:B,'Programmes lists'!F:F,\"Not found\")","v":512}]
["Senior and FET ","Specialising in Technology and Engineering and Graphic Design","TEGT3605",{"$f":"_xlfn.XLOOKUP(C839,'RAW module list'!A:A,'RAW module list'!B:B, \"Not found\")","v":"Technology Teaching 1: Senior Phase"},{"$f":"_xlfn.XLOOKUP(C839,'RAW module list'!A:A,'RAW module list'!C:C, \"Not found\")","v":6},{"$f":"_xlfn.XLOOKUP(C839,'RAW module list'!A:A,'RAW module list'!D:D, \"Not found\")","v":20},{"$f":"_xlfn.XLOOKUP(C839,'RAW module list'!A:A,'RAW module list'!E:E, \"Not found\")","v":"TEGC1614 & TEGC1624"},"Third Year",{"$f":"_xlfn.XLOOKUP(B839,'Programmes lists'!B:B,'Programmes lists'!D:D)","v":"BC736301"},{"$f":"_xlfn.XLOOKUP(B839,'Programmes lists'!B:B,'Programmes lists'!E:E, \"Not found\")","v":0},{"$f":"_xlfn.XLOOKUP(B839,'Programmes lists'!B:B,'Programmes lists'!G:G,\"Not found\")","v":"Minimum of 50% in grade 12 pass for \n•\tEngineering Graphics and Design"},{"$f":"_xlfn.XLOOKUP(B839,'Programmes lists'!B:B,'Programmes lists'!F:F,\"Not found\")","v":512}]
["Senior and FET ","Specialising in Technology and Engineering and Graphic Design","ENED3514",{"$f":"_xlfn.XLOOKUP(C840,'RAW module list'!A:A,'RAW module list'!B:B, \"Not found\")","v":"Entrepreneurship in Education "},{"$f":"_xlfn.XLOOKUP(C840,'RAW module list'!A:A,'RAW module list'!C:C, \"Not found\")","v":5},{"$f":"_xlfn.XLOOKUP(C840,'RAW module list'!A:A,'RAW module list'!D:D, \"Not found\")","v":16},{"$f":"_xlfn.XLOOKUP(C840,'RAW module list'!A:A,'RAW module list'!E:E, \"Not found\")","v":0},"Third Year",{"$f":"_xlfn.XLOOKUP(B840,'Programmes lists'!B:B,'Programmes lists'!D:D)","v":"BC736301"},{"$f":"_xlfn.XLOOKUP(B840,'Programmes lists'!B:B,'Programmes lists'!E:E, \"Not found\")","v":0},{"$f":"_xlfn.XLOOKUP(B840,'Programmes lists'!B:B,'Programmes lists'!G:G,\"Not found\")","v":"Minimum of 50% in grade 12 pass for \n•\tEngineering Graphics and Design"},{"$f":"_xlfn.XLOOKUP(B840,'Programmes lists'!B:B,'Programmes lists'!F:F,\"Not found\")","v":512}]
["Senior and FET ","Specialising in Technology and Engineering and Graphic Design","EDUB3714",{"$f":"_xlfn.XLOOKUP(C841,'RAW module list'!A:A,'RAW module list'!B:B, \"Not found\")","v":"Education Studies 3.1 Education systems in global and national context"},{"$f":"_xlfn.XLOOKUP(C841,'RAW module list'!A:A,'RAW module list'!C:C, \"Not found\")","v":7},{"$f":"_xlfn.XLOOKUP(C841,'RAW module list'!A:A,'RAW module list'!D:D, \"Not found\")","v":16},{"$f":"_xlfn.XLOOKUP(C841,'RAW module list'!A:A,'RAW module list'!E:E, \"Not found\")","v":"EDUB1613 & EDUB1623& EDUB2714 & EDUB2724"},"Third Year",{"$f":"_xlfn.XLOOKUP(B841,'Programmes lists'!B:B,'Programmes lists'!D:D)","v":"BC736301"},{"$f":"_xlfn.XLOOKUP(B841,'Programmes lists'!B:B,'Programmes lists'!E:E, \"Not found\")","v":0},{"$f":"_xlfn.XLOOKUP(B841,'Programmes lists'!B:B,'Programmes lists'!G:G,\"Not found\")","v":"Minimum of 50% in grade 12 pass for \n•\tEngineering Graphics and Design"},{"$f":"_xlfn.XLOOKUP(B841,'Programmes lists'!B:B,'Programmes lists'!F:F,\"Not found\")","v":512}]
["Senior and FET ","Specialising in Technology and Engineering and Graphic Design","LSPT3605",{"$f":"_xlfn.XLOOKUP(C842,'RAW module list'!A:A,'RAW module list'!B:B, \"Not found\")","v":"Learner support as third didactics "},{"$f":"_xlfn.XLOOKUP(C842,'RAW module list'!A:A,'RAW module list'!C:C, \"Not found\")","v":6},{"$f":"_xlfn.XLOOKUP(C842,'RAW module list'!A:A,'RAW module list'!D:D, \"Not found\")","v":20},{"$f":"_xlfn.XLOOKUP(C842,'RAW module list'!A:A,'RAW module list'!E:E, \"Not found\")","v":0},"Third Year",{"$f":"_xlfn.XLOOKUP(B842,'Programmes lists'!B:B,'Programmes lists'!D:D)","v":"BC736301"},{"$f":"_xlfn.XLOOKUP(B842,'Programmes lists'!B:B,'Programmes lists'!E:E, \"Not found\")","v":0},{"$f":"_xlfn.XLOOKUP(B842,'Programmes lists'!B:B,'Programmes lists'!G:G,\"Not found\")","v":"Minimum of 50% in grade 12 pass for \n•\tEngineering Graphics and Design"},{"$f":"_xlfn.XLOOKUP(B842,'Programmes lists'!B:B,'Programmes lists'!F:F,\"Not found\")","v":512}]
["Senior and FET ","Specialising in Technology and Engineering and Graphic Design","SICL3512 OR SSCL3512 OR GAFR3512 OR ZUCL3512",{"$f":"_xlfn.XLOOKUP(C843,'RAW module list'!A:A,'RAW module list'!B:B, \"Not found\")","v":"Conversational Sign Language OR Conversational Sesotho OR Conversational Afrikaans OR Conversational IsiZulu"},{"$f":"_xlfn.XLOOKUP(C843,'RAW module list'!A:A,'RAW module list'!C:C, \"Not found\")","v":5},{"$f":"_xlfn.XLOOKUP(C843,'RAW module list'!A:A,'RAW module list'!D:D, \"Not found\")","v":8},{"$f":"_xlfn.XLOOKUP(C843,'RAW module list'!A:A,'RAW module list'!E:E, \"Not found\")","v":"No previous exposure to the language"},"Third Year",{"$f":"_xlfn.XLOOKUP(B843,'Programmes lists'!B:B,'Programmes lists'!D:D)","v":"BC736301"},{"$f":"_xlfn.XLOOKUP(B843,'Programmes lists'!B:B,'Programmes lists'!E:E, \"Not found\")","v":0},{"$f":"_xlfn.XLOOKUP(B843,'Programmes lists'!B:B,'Programmes lists'!G:G,\"Not found\")","v":"Minimum of 50% in grade 12 pass for \n•\tEngineering Graphics and Design"},{"$f":"_xlfn.XLOOKUP(B843,'Programmes lists'!B:B,'Programmes lists'!F:F,\"Not found\")","v":512}]
["Senior and FET ","Specialising in Technology and Engineering and Graphic Design","WILV3606",{"$f":"_xlfn.XLOOKUP(C844,'RAW module list'!A:A,'RAW module list'!B:B, \"Not found\")","v":"Teaching Practice 3"},{"$f":"_xlfn.XLOOKUP(C844,'RAW module list'!A:A,'RAW module list'!C:C, \"Not found\")","v":6},{"$f":"_xlfn.XLOOKUP(C844,'RAW module list'!A:A,'RAW module list'!D:D, \"Not found\")","v":24},{"$f":"_xlfn.XLOOKUP(C844,'RAW module list'!A:A,'RAW module list'!E:E, \"Not found\")","v":"TPRV2502"},"Third Year",{"$f":"_xlfn.XLOOKUP(B844,'Programmes lists'!B:B,'Programmes lists'!D:D)","v":"BC736301"},{"$f":"_xlfn.XLOOKUP(B844,'Programmes lists'!B:B,'Programmes lists'!E:E, \"Not found\")","v":0},{"$f":"_xlfn.XLOOKUP(B844,'Programmes lists'!B:B,'Programmes lists'!G:G,\"Not found\")","v":"Minimum of 50% in grade 12 pass for \n•\tEngineering Graphics and Design"},{"$f":"_xlfn.XLOOKUP(B844,'Programmes lists'!B:B,'Programmes lists'!F:F,\"Not found\")","v":512}]
["Senior and FET ","Specialising in Technology and Engineering and Graphic Design","EDUB3724",{"$f":"_xlfn.XLOOKUP(C845,'RAW module list'!A:A,'RAW module list'!B:B, \"Not found\")","v":"Education Studies 3.2: Contemporary Education Theory in the current social context"},{"$f":"_xlfn.XLOOKUP(C845,'RAW module list'!A:A,'RAW module list'!C:C, \"Not found\")","v":7},{"$f":"_xlfn.XLOOKUP(C845,'RAW module list'!A:A,'RAW module list'!D:D, \"Not found\")","v":16},{"$f":"_xlfn.XLOOKUP(C845,'RAW module list'!A:A,'RAW module list'!E:E, \"Not found\")","v":"EDUB1613 & EDUB1623 & EDUB2714 & EDUB2724 & EDUB3714"},"Third Year",{"$f":"_xlfn.XLOOKUP(B845,'Programmes lists'!B:B,'Programmes lists'!D:D)","v":"BC736301"},{"$f":"_xlfn.XLOOKUP(B845,'Programmes lists'!B:B,'Programmes lists'!E:E, \"Not found\")","v":0},{"$f":"_xlfn.XLOOKUP(B845,'Programmes lists'!B:B,'Programmes lists'!G:G,\"Not found\")","v":"Minimum of 50% in grade 12 pass for \n•\tEngineering Graphics and Design"},{"$f":"_xlfn.XLOOKUP(B845,'Programmes lists'!B:B,'Programmes lists'!F:F,\"Not found\")","v":512}]
["Senior and FET ","Specialising in Technology and Engineering and Graphic Design","SICL3522 OR SSCL3522 OR GAFR3522 OR ZUCL3522",{"$f":"_xlfn.XLOOKUP(C846,'RAW module list'!A:A,'RAW module list'!B:B, \"Not found\")","v":"Conversational Sign Language OR Conversational Sesotho OR Conversational Afrikaans OR Conversational IsiZulu"},{"$f":"_xlfn.XLOOKUP(C846,'RAW module list'!A:A,'RAW module list'!C:C, \"Not found\")","v":5},{"$f":"_xlfn.XLOOKUP(C846,'RAW module list'!A:A,'RAW module list'!D:D, \"Not found\")","v":8},{"$f":"_xlfn.XLOOKUP(C846,'RAW module list'!A:A,'RAW module list'!E:E, \"Not found\")","v":"Continue with the conversational language chosen in Semester 1"},"Third Year",{"$f":"_xlfn.XLOOKUP(B846,'Programmes lists'!B:B,'Programmes lists'!D:D)","v":"BC736301"},{"$f":"_xlfn.XLOOKUP(B846,'Programmes lists'!B:B,'Programmes lists'!E:E, \"Not found\")","v":0},{"$f":"_xlfn.XLOOKUP(B846,'Programmes lists'!B:B,'Programmes lists'!G:G,\"Not found\")","v":"Minimum of 50% in grade 12 pass for \n•\tEngineering Graphics and Design"},{"$f":"_xlfn.XLOOKUP(B846,'Programmes lists'!B:B,'Programmes lists'!F:F,\"Not found\")","v":512}]
["Senior and FET ","Specialising in Technology and Engineering and Graphic Design","EGTV4705",{"$f":"_xlfn.XLOOKUP(C847,'RAW module list'!A:A,'RAW module list'!B:B, \"Not found\")","v":"Engineering Graphics and Design Teaching 2: Further Education and Training"},{"$f":"_xlfn.XLOOKUP(C847,'RAW module list'!A:A,'RAW module list'!C:C, \"Not found\")","v":7},{"$f":"_xlfn.XLOOKUP(C847,'RAW module list'!A:A,'RAW module list'!D:D, \"Not found\")","v":20},{"$f":"_xlfn.XLOOKUP(C847,'RAW module list'!A:A,'RAW module list'!E:E, \"Not found\")","v":"EGTV3605"},"Fourth Year",{"$f":"_xlfn.XLOOKUP(B847,'Programmes lists'!B:B,'Programmes lists'!D:D)","v":"BC736301"},{"$f":"_xlfn.XLOOKUP(B847,'Programmes lists'!B:B,'Programmes lists'!E:E, \"Not found\")","v":0},{"$f":"_xlfn.XLOOKUP(B847,'Programmes lists'!B:B,'Programmes lists'!G:G,\"Not found\")","v":"Minimum of 50% in grade 12 pass for \n•\tEngineering Graphics and Design"},{"$f":"_xlfn.XLOOKUP(B847,'Programmes lists'!B:B,'Programmes lists'!F:F,\"Not found\")","v":512}]
["Senior and FET ","Specialising in Technology and Engineering and Graphic Design","TEGT4705",{"$f":"_xlfn.XLOOKUP(C848,'RAW module list'!A:A,'RAW module list'!B:B, \"Not found\")","v":"Technology Teaching 2: Senior Phase"},{"$f":"_xlfn.XLOOKUP(C848,'RAW module list'!A:A,'RAW module list'!C:C, \"Not found\")","v":7},{"$f":"_xlfn.XLOOKUP(C848,'RAW module list'!A:A,'RAW module list'!D:D, \"Not found\")","v":20},{"$f":"_xlfn.XLOOKUP(C848,'RAW module list'!A:A,'RAW module list'!E:E, \"Not found\")","v":"TEGT3605"},"Fourth Year",{"$f":"_xlfn.XLOOKUP(B848,'Programmes lists'!B:B,'Programmes lists'!D:D)","v":"BC736301"},{"$f":"_xlfn.XLOOKUP(B848,'Programmes lists'!B:B,'Programmes lists'!E:E, \"Not found\")","v":0},{"$f":"_xlfn.XLOOKUP(B848,'Programmes lists'!B:B,'Programmes lists'!G:G,\"Not found\")","v":"Minimum of 50% in grade 12 pass for \n•\tEngineering Graphics and Design"},{"$f":"_xlfn.XLOOKUP(B848,'Programmes lists'!B:B,'Programmes lists'!F:F,\"Not found\")","v":512}]
["Senior and FET ","Specialising in Technology and Engineering and Graphic Design","LSPT4705",{"$f":"_xlfn.XLOOKUP(C849,'RAW module list'!A:A,'RAW module list'!B:B, \"Not found\")","v":"Third didactics subject"},{"$f":"_xlfn.XLOOKUP(C849,'RAW module list'!A:A,'RAW module list'!C:C, \"Not found\")","v":7},{"$f":"_xlfn.XLOOKUP(C849,'RAW module list'!A:A,'RAW module list'!D:D, \"Not found\")","v":20},{"$f":"_xlfn.XLOOKUP(C849,'RAW module list'!A:A,'RAW module list'!E:E, \"Not found\")","v":"LSPT3605"},"Fourth Year",{"$f":"_xlfn.XLOOKUP(B849,'Programmes lists'!B:B,'Programmes lists'!D:D)","v":"BC736301"},{"$f":"_xlfn.XLOOKUP(B849,'Programmes lists'!B:B,'Programmes lists'!E:E, \"Not found\")","v":0},{"$f":"_xlfn.XLOOKUP(B849,'Programmes lists'!B:B,'Programmes lists'!G:G,\"Not found\")","v":"Minimum of 50% in grade 12 pass for \n•\tEngineering Graphics and Design"},{"$f":"_xlfn.XLOOKUP(B849,'Programmes lists'!B:B,'Programmes lists'!F:F,\"Not found\")","v":512}]
["Senior and FET ","Specialising in Technology and Engineering and Graphic Design","WILV4700",{"$f":"_xlfn.XLOOKUP(C850,'RAW module list'!A:A,'RAW module list'!B:B, \"Not found\")","v":"Teaching Practice 4"},{"$f":"_xlfn.XLOOKUP(C850,'RAW module list'!A:A,'RAW module list'!C:C, \"Not found\")","v":7},{"$f":"_xlfn.XLOOKUP(C850,'RAW module list'!A:A,'RAW module list'!D:D, \"Not found\")","v":40},{"$f":"_xlfn.XLOOKUP(C850,'RAW module list'!A:A,'RAW module list'!E:E, \"Not found\")","v":"WILV3606"},"Fourth Year",{"$f":"_xlfn.XLOOKUP(B850,'Programmes lists'!B:B,'Programmes lists'!D:D)","v":"BC736301"},{"$f":"_xlfn.XLOOKUP(B850,'Programmes lists'!B:B,'Programmes lists'!E:E, \"Not found\")","v":0},{"$f":"_xlfn.XLOOKUP(B850,'Programmes lists'!B:B,'Programmes lists'!G:G,\"Not found\")","v":"Minimum of 50% in grade 12 pass for \n•\tEngineering Graphics and Design"},{"$f":"_xlfn.XLOOKUP(B850,'Programmes lists'!B:B,'Programmes lists'!F:F,\"Not found\")","v":512}]
["Senior and FET ","Specialising in Mathematics and Physical Sciences","MATM1534",{"$f":"_xlfn.XLOOKUP(C851,'RAW module list'!A:A,'RAW module list'!B:B, \"Not found\")","v":"Calculus"},{"$f":"_xlfn.XLOOKUP(C851,'RAW module list'!A:A,'RAW module list'!C:C, \"Not found\")","v":5},{"$f":"_xlfn.XLOOKUP(C851,'RAW module list'!A:A,'RAW module list'!D:D, \"Not found\")","v":16},{"$f":"_xlfn.XLOOKUP(C851,'RAW module list'!A:A,'RAW module list'!E:E, \"Not found\")","v":"Mathematics at NSC level 5 (60%)"},"First Year",{"$f":"_xlfn.XLOOKUP(B851,'Programmes lists'!B:B,'Programmes lists'!D:D)","v":"BC736314"},{"$f":"_xlfn.XLOOKUP(B851,'Programmes lists'!B:B,'Programmes lists'!E:E, \"Not found\")","v":"QC736314        "},{"$f":"_xlfn.XLOOKUP(B851,'Programmes lists'!B:B,'Programmes lists'!G:G,\"Not found\")","v":"Minimum grade 12 pass of 60% for \n•\tMathematics\n•\tPhysical Sciences "},{"$f":"_xlfn.XLOOKUP(B851,'Programmes lists'!B:B,'Programmes lists'!F:F,\"Not found\")","v":512}]
["Senior and FET ","Specialising in Mathematics and Physical Sciences","CHEM1513 & CHEM1551",{"$f":"_xlfn.XLOOKUP(C852,'RAW module list'!A:A,'RAW module list'!B:B, \"Not found\")","v":"Physical and Organic Chemistry"},{"$f":"_xlfn.XLOOKUP(C852,'RAW module list'!A:A,'RAW module list'!C:C, \"Not found\")","v":5},{"$f":"_xlfn.XLOOKUP(C852,'RAW module list'!A:A,'RAW module list'!D:D, \"Not found\")","v":16},{"$f":"_xlfn.XLOOKUP(C852,'RAW module list'!A:A,'RAW module list'!E:E, \"Not found\")","v":"Mathematics at NSC level 5 (60%) and Physical Sciences at NSC level 5 (60%)"},"First Year",{"$f":"_xlfn.XLOOKUP(B852,'Programmes lists'!B:B,'Programmes lists'!D:D)","v":"BC736314"},{"$f":"_xlfn.XLOOKUP(B852,'Programmes lists'!B:B,'Programmes lists'!E:E, \"Not found\")","v":"QC736314        "},{"$f":"_xlfn.XLOOKUP(B852,'Programmes lists'!B:B,'Programmes lists'!G:G,\"Not found\")","v":"Minimum grade 12 pass of 60% for \n•\tMathematics\n•\tPhysical Sciences "},{"$f":"_xlfn.XLOOKUP(B852,'Programmes lists'!B:B,'Programmes lists'!F:F,\"Not found\")","v":512}]
["Senior and FET ","Specialising in Mathematics and Physical Sciences","PHYS1514",{"$f":"_xlfn.XLOOKUP(C853,'RAW module list'!A:A,'RAW module list'!B:B, \"Not found\")","v":"Mechanics, Optics and Electricity"},{"$f":"_xlfn.XLOOKUP(C853,'RAW module list'!A:A,'RAW module list'!C:C, \"Not found\")","v":5},{"$f":"_xlfn.XLOOKUP(C853,'RAW module list'!A:A,'RAW module list'!D:D, \"Not found\")","v":16},{"$f":"_xlfn.XLOOKUP(C853,'RAW module list'!A:A,'RAW module list'!E:E, \"Not found\")","v":"Mathematics at NSC level 5 (60%) and Physical Sciences at NSC level 5 (60%) must be done in combination with MATM1534"},"First Year",{"$f":"_xlfn.XLOOKUP(B853,'Programmes lists'!B:B,'Programmes lists'!D:D)","v":"BC736314"},{"$f":"_xlfn.XLOOKUP(B853,'Programmes lists'!B:B,'Programmes lists'!E:E, \"Not found\")","v":"QC736314        "},{"$f":"_xlfn.XLOOKUP(B853,'Programmes lists'!B:B,'Programmes lists'!G:G,\"Not found\")","v":"Minimum grade 12 pass of 60% for \n•\tMathematics\n•\tPhysical Sciences "},{"$f":"_xlfn.XLOOKUP(B853,'Programmes lists'!B:B,'Programmes lists'!F:F,\"Not found\")","v":512}]
["Senior and FET ","Specialising in Mathematics and Physical Sciences","LLST1513",{"$f":"_xlfn.XLOOKUP(C854,'RAW module list'!A:A,'RAW module list'!B:B, \"Not found\")","v":"Lifelong Learning Skills"},{"$f":"_xlfn.XLOOKUP(C854,'RAW module list'!A:A,'RAW module list'!C:C, \"Not found\")","v":5},{"$f":"_xlfn.XLOOKUP(C854,'RAW module list'!A:A,'RAW module list'!D:D, \"Not found\")","v":12},{"$f":"_xlfn.XLOOKUP(C854,'RAW module list'!A:A,'RAW module list'!E:E, \"Not found\")","v":0},"First Year",{"$f":"_xlfn.XLOOKUP(B854,'Programmes lists'!B:B,'Programmes lists'!D:D)","v":"BC736314"},{"$f":"_xlfn.XLOOKUP(B854,'Programmes lists'!B:B,'Programmes lists'!E:E, \"Not found\")","v":"QC736314        "},{"$f":"_xlfn.XLOOKUP(B854,'Programmes lists'!B:B,'Programmes lists'!G:G,\"Not found\")","v":"Minimum grade 12 pass of 60% for \n•\tMathematics\n•\tPhysical Sciences "},{"$f":"_xlfn.XLOOKUP(B854,'Programmes lists'!B:B,'Programmes lists'!F:F,\"Not found\")","v":512}]
["Senior and FET ","Specialising in Mathematics and Physical Sciences","EDUB1613",{"$f":"_xlfn.XLOOKUP(C855,'RAW module list'!A:A,'RAW module list'!B:B, \"Not found\")","v":"Education Studies 1.1 The Individual in the learning context"},{"$f":"_xlfn.XLOOKUP(C855,'RAW module list'!A:A,'RAW module list'!C:C, \"Not found\")","v":6},{"$f":"_xlfn.XLOOKUP(C855,'RAW module list'!A:A,'RAW module list'!D:D, \"Not found\")","v":12},{"$f":"_xlfn.XLOOKUP(C855,'RAW module list'!A:A,'RAW module list'!E:E, \"Not found\")","v":0},"First Year",{"$f":"_xlfn.XLOOKUP(B855,'Programmes lists'!B:B,'Programmes lists'!D:D)","v":"BC736314"},{"$f":"_xlfn.XLOOKUP(B855,'Programmes lists'!B:B,'Programmes lists'!E:E, \"Not found\")","v":"QC736314        "},{"$f":"_xlfn.XLOOKUP(B855,'Programmes lists'!B:B,'Programmes lists'!G:G,\"Not found\")","v":"Minimum grade 12 pass of 60% for \n•\tMathematics\n•\tPhysical Sciences "},{"$f":"_xlfn.XLOOKUP(B855,'Programmes lists'!B:B,'Programmes lists'!F:F,\"Not found\")","v":512}]
["Senior and FET ","Specialising in Mathematics and Physical Sciences","TPRV1502",{"$f":"_xlfn.XLOOKUP(C856,'RAW module list'!A:A,'RAW module list'!B:B, \"Not found\")","v":"Teaching Practice 1 "},{"$f":"_xlfn.XLOOKUP(C856,'RAW module list'!A:A,'RAW module list'!C:C, \"Not found\")","v":5},{"$f":"_xlfn.XLOOKUP(C856,'RAW module list'!A:A,'RAW module list'!D:D, \"Not found\")","v":8},{"$f":"_xlfn.XLOOKUP(C856,'RAW module list'!A:A,'RAW module list'!E:E, \"Not found\")","v":0},"First Year",{"$f":"_xlfn.XLOOKUP(B856,'Programmes lists'!B:B,'Programmes lists'!D:D)","v":"BC736314"},{"$f":"_xlfn.XLOOKUP(B856,'Programmes lists'!B:B,'Programmes lists'!E:E, \"Not found\")","v":"QC736314        "},{"$f":"_xlfn.XLOOKUP(B856,'Programmes lists'!B:B,'Programmes lists'!G:G,\"Not found\")","v":"Minimum grade 12 pass of 60% for \n•\tMathematics\n•\tPhysical Sciences "},{"$f":"_xlfn.XLOOKUP(B856,'Programmes lists'!B:B,'Programmes lists'!F:F,\"Not found\")","v":512}]
["Senior and FET ","Specialising in Mathematics and Physical Sciences","UFSS1504",{"$f":"_xlfn.XLOOKUP(C857,'RAW module list'!A:A,'RAW module list'!B:B, \"Not found\")","v":"Undergraduate core curriculum"},{"$f":"_xlfn.XLOOKUP(C857,'RAW module list'!A:A,'RAW module list'!C:C, \"Not found\")","v":5},{"$f":"_xlfn.XLOOKUP(C857,'RAW module list'!A:A,'RAW module list'!D:D, \"Not found\")","v":-16},{"$f":"_xlfn.XLOOKUP(C857,'RAW module list'!A:A,'RAW module list'!E:E, \"Not found\")","v":0},"First Year",{"$f":"_xlfn.XLOOKUP(B857,'Programmes lists'!B:B,'Programmes lists'!D:D)","v":"BC736314"},{"$f":"_xlfn.XLOOKUP(B857,'Programmes lists'!B:B,'Programmes lists'!E:E, \"Not found\")","v":"QC736314        "},{"$f":"_xlfn.XLOOKUP(B857,'Programmes lists'!B:B,'Programmes lists'!G:G,\"Not found\")","v":"Minimum grade 12 pass of 60% for \n•\tMathematics\n•\tPhysical Sciences "},{"$f":"_xlfn.XLOOKUP(B857,'Programmes lists'!B:B,'Programmes lists'!F:F,\"Not found\")","v":512}]
["Senior and FET ","Specialising in Mathematics and Physical Sciences","EALT1508 OR AGAE1508",{"$f":"_xlfn.XLOOKUP(C858,'RAW module list'!A:A,'RAW module list'!B:B, \"Not found\")","v":"English Academic Literacy for Education OR Academic Literacy in Afrikaans"},{"$f":"_xlfn.XLOOKUP(C858,'RAW module list'!A:A,'RAW module list'!C:C, \"Not found\")","v":5},{"$f":"_xlfn.XLOOKUP(C858,'RAW module list'!A:A,'RAW module list'!D:D, \"Not found\")","v":-32},{"$f":"_xlfn.XLOOKUP(C858,'RAW module list'!A:A,'RAW module list'!E:E, \"Not found\")","v":"NBT requirements not been met"},"First Year",{"$f":"_xlfn.XLOOKUP(B858,'Programmes lists'!B:B,'Programmes lists'!D:D)","v":"BC736314"},{"$f":"_xlfn.XLOOKUP(B858,'Programmes lists'!B:B,'Programmes lists'!E:E, \"Not found\")","v":"QC736314        "},{"$f":"_xlfn.XLOOKUP(B858,'Programmes lists'!B:B,'Programmes lists'!G:G,\"Not found\")","v":"Minimum grade 12 pass of 60% for \n•\tMathematics\n•\tPhysical Sciences "},{"$f":"_xlfn.XLOOKUP(B858,'Programmes lists'!B:B,'Programmes lists'!F:F,\"Not found\")","v":512}]
["Senior and FET ","Specialising in Mathematics and Physical Sciences","MATM1644",{"$f":"_xlfn.XLOOKUP(C859,'RAW module list'!A:A,'RAW module list'!B:B, \"Not found\")","v":"Calculus and Algebra"},{"$f":"_xlfn.XLOOKUP(C859,'RAW module list'!A:A,'RAW module list'!C:C, \"Not found\")","v":6},{"$f":"_xlfn.XLOOKUP(C859,'RAW module list'!A:A,'RAW module list'!D:D, \"Not found\")","v":16},{"$f":"_xlfn.XLOOKUP(C859,'RAW module list'!A:A,'RAW module list'!E:E, \"Not found\")","v":"MATM1534"},"First Year",{"$f":"_xlfn.XLOOKUP(B859,'Programmes lists'!B:B,'Programmes lists'!D:D)","v":"BC736314"},{"$f":"_xlfn.XLOOKUP(B859,'Programmes lists'!B:B,'Programmes lists'!E:E, \"Not found\")","v":"QC736314        "},{"$f":"_xlfn.XLOOKUP(B859,'Programmes lists'!B:B,'Programmes lists'!G:G,\"Not found\")","v":"Minimum grade 12 pass of 60% for \n•\tMathematics\n•\tPhysical Sciences "},{"$f":"_xlfn.XLOOKUP(B859,'Programmes lists'!B:B,'Programmes lists'!F:F,\"Not found\")","v":512}]
["Senior and FET ","Specialising in Mathematics and Physical Sciences","CHEM1623 & CHEM1661",{"$f":"_xlfn.XLOOKUP(C860,'RAW module list'!A:A,'RAW module list'!B:B, \"Not found\")","v":"Physical and Organic Chemistry"},{"$f":"_xlfn.XLOOKUP(C860,'RAW module list'!A:A,'RAW module list'!C:C, \"Not found\")","v":6},{"$f":"_xlfn.XLOOKUP(C860,'RAW module list'!A:A,'RAW module list'!D:D, \"Not found\")","v":16},{"$f":"_xlfn.XLOOKUP(C860,'RAW module list'!A:A,'RAW module list'!E:E, \"Not found\")","v":"CHEM1513 & CHEM1551"},"First Year",{"$f":"_xlfn.XLOOKUP(B860,'Programmes lists'!B:B,'Programmes lists'!D:D)","v":"BC736314"},{"$f":"_xlfn.XLOOKUP(B860,'Programmes lists'!B:B,'Programmes lists'!E:E, \"Not found\")","v":"QC736314        "},{"$f":"_xlfn.XLOOKUP(B860,'Programmes lists'!B:B,'Programmes lists'!G:G,\"Not found\")","v":"Minimum grade 12 pass of 60% for \n•\tMathematics\n•\tPhysical Sciences "},{"$f":"_xlfn.XLOOKUP(B860,'Programmes lists'!B:B,'Programmes lists'!F:F,\"Not found\")","v":512}]
["Senior and FET ","Specialising in Mathematics and Physical Sciences","PHYS1624",{"$f":"_xlfn.XLOOKUP(C861,'RAW module list'!A:A,'RAW module list'!B:B, \"Not found\")","v":"Mechanics Thermodynamics Electricity Magnetism"},{"$f":"_xlfn.XLOOKUP(C861,'RAW module list'!A:A,'RAW module list'!C:C, \"Not found\")","v":6},{"$f":"_xlfn.XLOOKUP(C861,'RAW module list'!A:A,'RAW module list'!D:D, \"Not found\")","v":16},{"$f":"_xlfn.XLOOKUP(C861,'RAW module list'!A:A,'RAW module list'!E:E, \"Not found\")","v":"PHYS1514"},"First Year",{"$f":"_xlfn.XLOOKUP(B861,'Programmes lists'!B:B,'Programmes lists'!D:D)","v":"BC736314"},{"$f":"_xlfn.XLOOKUP(B861,'Programmes lists'!B:B,'Programmes lists'!E:E, \"Not found\")","v":"QC736314        "},{"$f":"_xlfn.XLOOKUP(B861,'Programmes lists'!B:B,'Programmes lists'!G:G,\"Not found\")","v":"Minimum grade 12 pass of 60% for \n•\tMathematics\n•\tPhysical Sciences "},{"$f":"_xlfn.XLOOKUP(B861,'Programmes lists'!B:B,'Programmes lists'!F:F,\"Not found\")","v":512}]
["Senior and FET ","Specialising in Mathematics and Physical Sciences","EDUB1623",{"$f":"_xlfn.XLOOKUP(C862,'RAW module list'!A:A,'RAW module list'!B:B, \"Not found\")","v":"Education Studies 1.2 What it means to educate: Theoretical perspectives and their significance for SA education"},{"$f":"_xlfn.XLOOKUP(C862,'RAW module list'!A:A,'RAW module list'!C:C, \"Not found\")","v":6},{"$f":"_xlfn.XLOOKUP(C862,'RAW module list'!A:A,'RAW module list'!D:D, \"Not found\")","v":12},{"$f":"_xlfn.XLOOKUP(C862,'RAW module list'!A:A,'RAW module list'!E:E, \"Not found\")","v":0},"First Year",{"$f":"_xlfn.XLOOKUP(B862,'Programmes lists'!B:B,'Programmes lists'!D:D)","v":"BC736314"},{"$f":"_xlfn.XLOOKUP(B862,'Programmes lists'!B:B,'Programmes lists'!E:E, \"Not found\")","v":"QC736314        "},{"$f":"_xlfn.XLOOKUP(B862,'Programmes lists'!B:B,'Programmes lists'!G:G,\"Not found\")","v":"Minimum grade 12 pass of 60% for \n•\tMathematics\n•\tPhysical Sciences "},{"$f":"_xlfn.XLOOKUP(B862,'Programmes lists'!B:B,'Programmes lists'!F:F,\"Not found\")","v":512}]
["Senior and FET ","Specialising in Mathematics and Physical Sciences","GPEV1623",{"$f":"_xlfn.XLOOKUP(C863,'RAW module list'!A:A,'RAW module list'!B:B, \"Not found\")","v":"General Pedagogy 1: Managing the Curriculum"},{"$f":"_xlfn.XLOOKUP(C863,'RAW module list'!A:A,'RAW module list'!C:C, \"Not found\")","v":6},{"$f":"_xlfn.XLOOKUP(C863,'RAW module list'!A:A,'RAW module list'!D:D, \"Not found\")","v":12},{"$f":"_xlfn.XLOOKUP(C863,'RAW module list'!A:A,'RAW module list'!E:E, \"Not found\")","v":0},"First Year",{"$f":"_xlfn.XLOOKUP(B863,'Programmes lists'!B:B,'Programmes lists'!D:D)","v":"BC736314"},{"$f":"_xlfn.XLOOKUP(B863,'Programmes lists'!B:B,'Programmes lists'!E:E, \"Not found\")","v":"QC736314        "},{"$f":"_xlfn.XLOOKUP(B863,'Programmes lists'!B:B,'Programmes lists'!G:G,\"Not found\")","v":"Minimum grade 12 pass of 60% for \n•\tMathematics\n•\tPhysical Sciences "},{"$f":"_xlfn.XLOOKUP(B863,'Programmes lists'!B:B,'Programmes lists'!F:F,\"Not found\")","v":512}]
["Senior and FET ","Specialising in Mathematics and Physical Sciences","PHYS2614 OR CHEM2613 & CHEM2611",{"$f":"_xlfn.XLOOKUP(C864,'RAW module list'!A:A,'RAW module list'!B:B, \"Not found\")","v":"Mechanics, Waves and Optics OR Physical Chemistry"},{"$f":"_xlfn.XLOOKUP(C864,'RAW module list'!A:A,'RAW module list'!C:C, \"Not found\")","v":6},{"$f":"_xlfn.XLOOKUP(C864,'RAW module list'!A:A,'RAW module list'!D:D, \"Not found\")","v":16},{"$f":"_xlfn.XLOOKUP(C864,'RAW module list'!A:A,'RAW module list'!E:E, \"Not found\")","v":"PHYS1624 OR CHEM1623, CHEM1661 & MATM1534"},"Second Year",{"$f":"_xlfn.XLOOKUP(B864,'Programmes lists'!B:B,'Programmes lists'!D:D)","v":"BC736314"},{"$f":"_xlfn.XLOOKUP(B864,'Programmes lists'!B:B,'Programmes lists'!E:E, \"Not found\")","v":"QC736314        "},{"$f":"_xlfn.XLOOKUP(B864,'Programmes lists'!B:B,'Programmes lists'!G:G,\"Not found\")","v":"Minimum grade 12 pass of 60% for \n•\tMathematics\n•\tPhysical Sciences "},{"$f":"_xlfn.XLOOKUP(B864,'Programmes lists'!B:B,'Programmes lists'!F:F,\"Not found\")","v":512},"*Due to the requirement of both Chemistry and Physics at level 2, a choice of ELLT or ALLT must be made, and ENED3514 is not required"]
["Senior and FET ","Specialising in Mathematics and Physical Sciences","EDUB2714",{"$f":"_xlfn.XLOOKUP(C865,'RAW module list'!A:A,'RAW module list'!B:B, \"Not found\")","v":"Education Studies 2: Teaching and Learning in Education Context"},{"$f":"_xlfn.XLOOKUP(C865,'RAW module list'!A:A,'RAW module list'!C:C, \"Not found\")","v":7},{"$f":"_xlfn.XLOOKUP(C865,'RAW module list'!A:A,'RAW module list'!D:D, \"Not found\")","v":16},{"$f":"_xlfn.XLOOKUP(C865,'RAW module list'!A:A,'RAW module list'!E:E, \"Not found\")","v":"EDUB1613 & EDUB1623"},"Second Year",{"$f":"_xlfn.XLOOKUP(B865,'Programmes lists'!B:B,'Programmes lists'!D:D)","v":"BC736314"},{"$f":"_xlfn.XLOOKUP(B865,'Programmes lists'!B:B,'Programmes lists'!E:E, \"Not found\")","v":"QC736314        "},{"$f":"_xlfn.XLOOKUP(B865,'Programmes lists'!B:B,'Programmes lists'!G:G,\"Not found\")","v":"Minimum grade 12 pass of 60% for \n•\tMathematics\n•\tPhysical Sciences "},{"$f":"_xlfn.XLOOKUP(B865,'Programmes lists'!B:B,'Programmes lists'!F:F,\"Not found\")","v":512}]
["Senior and FET ","Specialising in Mathematics and Physical Sciences","GPEV2613",{"$f":"_xlfn.XLOOKUP(C866,'RAW module list'!A:A,'RAW module list'!B:B, \"Not found\")","v":"General Pedagogy 2.1"},{"$f":"_xlfn.XLOOKUP(C866,'RAW module list'!A:A,'RAW module list'!C:C, \"Not found\")","v":6},{"$f":"_xlfn.XLOOKUP(C866,'RAW module list'!A:A,'RAW module list'!D:D, \"Not found\")","v":12},{"$f":"_xlfn.XLOOKUP(C866,'RAW module list'!A:A,'RAW module list'!E:E, \"Not found\")","v":"GPEV1623"},"Second Year",{"$f":"_xlfn.XLOOKUP(B866,'Programmes lists'!B:B,'Programmes lists'!D:D)","v":"BC736314"},{"$f":"_xlfn.XLOOKUP(B866,'Programmes lists'!B:B,'Programmes lists'!E:E, \"Not found\")","v":"QC736314        "},{"$f":"_xlfn.XLOOKUP(B866,'Programmes lists'!B:B,'Programmes lists'!G:G,\"Not found\")","v":"Minimum grade 12 pass of 60% for \n•\tMathematics\n•\tPhysical Sciences "},{"$f":"_xlfn.XLOOKUP(B866,'Programmes lists'!B:B,'Programmes lists'!F:F,\"Not found\")","v":512}]
["Senior and FET ","Specialising in Mathematics and Physical Sciences","ELLT2504 OR ALLT3504",{"$f":"_xlfn.XLOOKUP(C867,'RAW module list'!A:A,'RAW module list'!B:B, \"Not found\")","v":"English as medium of learning and teaching OR Afrikaans as medium of learning and teaching"},{"$f":"_xlfn.XLOOKUP(C867,'RAW module list'!A:A,'RAW module list'!C:C, \"Not found\")","v":5},{"$f":"_xlfn.XLOOKUP(C867,'RAW module list'!A:A,'RAW module list'!D:D, \"Not found\")","v":16},{"$f":"_xlfn.XLOOKUP(C867,'RAW module list'!A:A,'RAW module list'!E:E, \"Not found\")","v":0},"Second Year",{"$f":"_xlfn.XLOOKUP(B867,'Programmes lists'!B:B,'Programmes lists'!D:D)","v":"BC736314"},{"$f":"_xlfn.XLOOKUP(B867,'Programmes lists'!B:B,'Programmes lists'!E:E, \"Not found\")","v":"QC736314        "},{"$f":"_xlfn.XLOOKUP(B867,'Programmes lists'!B:B,'Programmes lists'!G:G,\"Not found\")","v":"Minimum grade 12 pass of 60% for \n•\tMathematics\n•\tPhysical Sciences "},{"$f":"_xlfn.XLOOKUP(B867,'Programmes lists'!B:B,'Programmes lists'!F:F,\"Not found\")","v":512}]
["Senior and FET ","Specialising in Mathematics and Physical Sciences","TPRV2502",{"$f":"_xlfn.XLOOKUP(C868,'RAW module list'!A:A,'RAW module list'!B:B, \"Not found\")","v":"Teaching Practice 2"},{"$f":"_xlfn.XLOOKUP(C868,'RAW module list'!A:A,'RAW module list'!C:C, \"Not found\")","v":5},{"$f":"_xlfn.XLOOKUP(C868,'RAW module list'!A:A,'RAW module list'!D:D, \"Not found\")","v":8},{"$f":"_xlfn.XLOOKUP(C868,'RAW module list'!A:A,'RAW module list'!E:E, \"Not found\")","v":"TPRV1502"},"Second Year",{"$f":"_xlfn.XLOOKUP(B868,'Programmes lists'!B:B,'Programmes lists'!D:D)","v":"BC736314"},{"$f":"_xlfn.XLOOKUP(B868,'Programmes lists'!B:B,'Programmes lists'!E:E, \"Not found\")","v":"QC736314        "},{"$f":"_xlfn.XLOOKUP(B868,'Programmes lists'!B:B,'Programmes lists'!G:G,\"Not found\")","v":"Minimum grade 12 pass of 60% for \n•\tMathematics\n•\tPhysical Sciences "},{"$f":"_xlfn.XLOOKUP(B868,'Programmes lists'!B:B,'Programmes lists'!F:F,\"Not found\")","v":512}]
["Senior and FET ","Specialising in Mathematics and Physical Sciences","PHYS2624 OR CHEM2623 & CHEM2621",{"$f":"_xlfn.XLOOKUP(C869,'RAW module list'!A:A,'RAW module list'!B:B, \"Not found\")","v":"Electronics OR Organic Chemistry"},{"$f":"_xlfn.XLOOKUP(C869,'RAW module list'!A:A,'RAW module list'!C:C, \"Not found\")","v":6},{"$f":"_xlfn.XLOOKUP(C869,'RAW module list'!A:A,'RAW module list'!D:D, \"Not found\")","v":16},{"$f":"_xlfn.XLOOKUP(C869,'RAW module list'!A:A,'RAW module list'!E:E, \"Not found\")","v":"PHYS1534 (60%) + OR MATM1534 (60%) + OR MATM1644 (60%)"},"Second Year",{"$f":"_xlfn.XLOOKUP(B869,'Programmes lists'!B:B,'Programmes lists'!D:D)","v":"BC736314"},{"$f":"_xlfn.XLOOKUP(B869,'Programmes lists'!B:B,'Programmes lists'!E:E, \"Not found\")","v":"QC736314        "},{"$f":"_xlfn.XLOOKUP(B869,'Programmes lists'!B:B,'Programmes lists'!G:G,\"Not found\")","v":"Minimum grade 12 pass of 60% for \n•\tMathematics\n•\tPhysical Sciences "},{"$f":"_xlfn.XLOOKUP(B869,'Programmes lists'!B:B,'Programmes lists'!F:F,\"Not found\")","v":512}]
["Senior and FET ","Specialising in Mathematics and Physical Sciences","EDUB2724",{"$f":"_xlfn.XLOOKUP(C870,'RAW module list'!A:A,'RAW module list'!B:B, \"Not found\")","v":"Education Studies 2: Human Relationships in Education context"},{"$f":"_xlfn.XLOOKUP(C870,'RAW module list'!A:A,'RAW module list'!C:C, \"Not found\")","v":7},{"$f":"_xlfn.XLOOKUP(C870,'RAW module list'!A:A,'RAW module list'!D:D, \"Not found\")","v":16},{"$f":"_xlfn.XLOOKUP(C870,'RAW module list'!A:A,'RAW module list'!E:E, \"Not found\")","v":"EDUB2714"},"Second Year",{"$f":"_xlfn.XLOOKUP(B870,'Programmes lists'!B:B,'Programmes lists'!D:D)","v":"BC736314"},{"$f":"_xlfn.XLOOKUP(B870,'Programmes lists'!B:B,'Programmes lists'!E:E, \"Not found\")","v":"QC736314        "},{"$f":"_xlfn.XLOOKUP(B870,'Programmes lists'!B:B,'Programmes lists'!G:G,\"Not found\")","v":"Minimum grade 12 pass of 60% for \n•\tMathematics\n•\tPhysical Sciences "},{"$f":"_xlfn.XLOOKUP(B870,'Programmes lists'!B:B,'Programmes lists'!F:F,\"Not found\")","v":512}]
["Senior and FET ","Specialising in Mathematics and Physical Sciences","GPEV2623",{"$f":"_xlfn.XLOOKUP(C871,'RAW module list'!A:A,'RAW module list'!B:B, \"Not found\")","v":"General Pedagogy 2.2: Assessment"},{"$f":"_xlfn.XLOOKUP(C871,'RAW module list'!A:A,'RAW module list'!C:C, \"Not found\")","v":6},{"$f":"_xlfn.XLOOKUP(C871,'RAW module list'!A:A,'RAW module list'!D:D, \"Not found\")","v":12},{"$f":"_xlfn.XLOOKUP(C871,'RAW module list'!A:A,'RAW module list'!E:E, \"Not found\")","v":"GPEV2613"},"Second Year",{"$f":"_xlfn.XLOOKUP(B871,'Programmes lists'!B:B,'Programmes lists'!D:D)","v":"BC736314"},{"$f":"_xlfn.XLOOKUP(B871,'Programmes lists'!B:B,'Programmes lists'!E:E, \"Not found\")","v":"QC736314        "},{"$f":"_xlfn.XLOOKUP(B871,'Programmes lists'!B:B,'Programmes lists'!G:G,\"Not found\")","v":"Minimum grade 12 pass of 60% for \n•\tMathematics\n•\tPhysical Sciences "},{"$f":"_xlfn.XLOOKUP(B871,'Programmes lists'!B:B,'Programmes lists'!F:F,\"Not found\")","v":512}]
["Senior and FET ","Specialising in Mathematics and Physical Sciences","Special Requirement:","*Due to the requirement of both Chemistry and Physics at level 2, a choice of ELLT or ALLT must be made, and ENED3514 is not required",null,null,null,"Second Year",{"$f":"_xlfn.XLOOKUP(B872,'Programmes lists'!B:B,'Programmes lists'!D:D)","v":"BC736314"},{"$f":"_xlfn.XLOOKUP(B872,'Programmes lists'!B:B,'Programmes lists'!E:E, \"Not found\")","v":"QC736314        "},{"$f":"_xlfn.XLOOKUP(B872,'Programmes lists'!B:B,'Programmes lists'!G:G,\"Not found\")","v":"Minimum grade 12 pass of 60% for \n•\tMathematics\n•\tPhysical Sciences "},{"$f":"_xlfn.XLOOKUP(B872,'Programmes lists'!B:B,'Programmes lists'!F:F,\"Not found\")","v":512}]
["Senior and FET ","Specialising in Mathematics and Physical Sciences","MSTS3605",{"$f":"_xlfn.XLOOKUP(C873,'RAW module list'!A:A,'RAW module list'!B:B, \"Not found\")","v":"Mathematics Teaching 1: Senior Phase"},{"$f":"_xlfn.XLOOKUP(C873,'RAW module list'!A:A,'RAW module list'!C:C, \"Not found\")","v":6},{"$f":"_xlfn.XLOOKUP(C873,'RAW module list'!A:A,'RAW module list'!D:D, \"Not found\")","v":20},{"$f":"_xlfn.XLOOKUP(C873,'RAW module list'!A:A,'RAW module list'!E:E, \"Not found\")","v":"MATM1534 & MATM1644"},"Third Year",{"$f":"_xlfn.XLOOKUP(B873,'Programmes lists'!B:B,'Programmes lists'!D:D)","v":"BC736314"},{"$f":"_xlfn.XLOOKUP(B873,'Programmes lists'!B:B,'Programmes lists'!E:E, \"Not found\")","v":"QC736314        "},{"$f":"_xlfn.XLOOKUP(B873,'Programmes lists'!B:B,'Programmes lists'!G:G,\"Not found\")","v":"Minimum grade 12 pass of 60% for \n•\tMathematics\n•\tPhysical Sciences "},{"$f":"_xlfn.XLOOKUP(B873,'Programmes lists'!B:B,'Programmes lists'!F:F,\"Not found\")","v":512}]
["Senior and FET ","Specialising in Mathematics and Physical Sciences","PSTV3605",{"$f":"_xlfn.XLOOKUP(C874,'RAW module list'!A:A,'RAW module list'!B:B, \"Not found\")","v":"Physical Science Teaching 1: Further Education and Training"},{"$f":"_xlfn.XLOOKUP(C874,'RAW module list'!A:A,'RAW module list'!C:C, \"Not found\")","v":6},{"$f":"_xlfn.XLOOKUP(C874,'RAW module list'!A:A,'RAW module list'!D:D, \"Not found\")","v":20},{"$f":"_xlfn.XLOOKUP(C874,'RAW module list'!A:A,'RAW module list'!E:E, \"Not found\")","v":"PHYS1534 & CHEM2623 & CHEM2621 OR OR PHYS2614 & PHYS2624 & CHEM1513 & CHEM1661"},"Third Year",{"$f":"_xlfn.XLOOKUP(B874,'Programmes lists'!B:B,'Programmes lists'!D:D)","v":"BC736314"},{"$f":"_xlfn.XLOOKUP(B874,'Programmes lists'!B:B,'Programmes lists'!E:E, \"Not found\")","v":"QC736314        "},{"$f":"_xlfn.XLOOKUP(B874,'Programmes lists'!B:B,'Programmes lists'!G:G,\"Not found\")","v":"Minimum grade 12 pass of 60% for \n•\tMathematics\n•\tPhysical Sciences "},{"$f":"_xlfn.XLOOKUP(B874,'Programmes lists'!B:B,'Programmes lists'!F:F,\"Not found\")","v":512}]
["Senior and FET ","Specialising in Mathematics and Physical Sciences","LSPT3605",{"$f":"_xlfn.XLOOKUP(C875,'RAW module list'!A:A,'RAW module list'!B:B, \"Not found\")","v":"Learner support as third didactics "},{"$f":"_xlfn.XLOOKUP(C875,'RAW module list'!A:A,'RAW module list'!C:C, \"Not found\")","v":6},{"$f":"_xlfn.XLOOKUP(C875,'RAW module list'!A:A,'RAW module list'!D:D, \"Not found\")","v":20},{"$f":"_xlfn.XLOOKUP(C875,'RAW module list'!A:A,'RAW module list'!E:E, \"Not found\")","v":0},"Third Year",{"$f":"_xlfn.XLOOKUP(B875,'Programmes lists'!B:B,'Programmes lists'!D:D)","v":"BC736314"},{"$f":"_xlfn.XLOOKUP(B875,'Programmes lists'!B:B,'Programmes lists'!E:E, \"Not found\")","v":"QC736314        "},{"$f":"_xlfn.XLOOKUP(B875,'Programmes lists'!B:B,'Programmes lists'!G:G,\"Not found\")","v":"Minimum grade 12 pass of 60% for \n•\tMathematics\n•\tPhysical Sciences "},{"$f":"_xlfn.XLOOKUP(B875,'Programmes lists'!B:B,'Programmes lists'!F:F,\"Not found\")","v":512}]
["Senior and FET ","Specialising in Mathematics and Physical Sciences","EDUB3714",{"$f":"_xlfn.XLOOKUP(C876,'RAW module list'!A:A,'RAW module list'!B:B, \"Not found\")","v":"Education Studies 3.1 Education systems in global and national context"},{"$f":"_xlfn.XLOOKUP(C876,'RAW module list'!A:A,'RAW module list'!C:C, \"Not found\")","v":7},{"$f":"_xlfn.XLOOKUP(C876,'RAW module list'!A:A,'RAW module list'!D:D, \"Not found\")","v":16},{"$f":"_xlfn.XLOOKUP(C876,'RAW module list'!A:A,'RAW module list'!E:E, \"Not found\")","v":"EDUB1613 & EDUB1623& EDUB2714 & EDUB2724"},"Third Year",{"$f":"_xlfn.XLOOKUP(B876,'Programmes lists'!B:B,'Programmes lists'!D:D)","v":"BC736314"},{"$f":"_xlfn.XLOOKUP(B876,'Programmes lists'!B:B,'Programmes lists'!E:E, \"Not found\")","v":"QC736314        "},{"$f":"_xlfn.XLOOKUP(B876,'Programmes lists'!B:B,'Programmes lists'!G:G,\"Not found\")","v":"Minimum grade 12 pass of 60% for \n•\tMathematics\n•\tPhysical Sciences "},{"$f":"_xlfn.XLOOKUP(B876,'Programmes lists'!B:B,'Programmes lists'!F:F,\"Not found\")","v":512}]
["Senior and FET ","Specialising in Mathematics and Physical Sciences","SICL3512 OR SSCL3512 OR GAFR3512 OR ZUCL3512",{"$f":"_xlfn.XLOOKUP(C877,'RAW module list'!A:A,'RAW module list'!B:B, \"Not found\")","v":"Conversational Sign Language OR Conversational Sesotho OR Conversational Afrikaans OR Conversational IsiZulu"},{"$f":"_xlfn.XLOOKUP(C877,'RAW module list'!A:A,'RAW module list'!C:C, \"Not found\")","v":5},{"$f":"_xlfn.XLOOKUP(C877,'RAW module list'!A:A,'RAW module list'!D:D, \"Not found\")","v":8},{"$f":"_xlfn.XLOOKUP(C877,'RAW module list'!A:A,'RAW module list'!E:E, \"Not found\")","v":"No previous exposure to the language"},"Third Year",{"$f":"_xlfn.XLOOKUP(B877,'Programmes lists'!B:B,'Programmes lists'!D:D)","v":"BC736314"},{"$f":"_xlfn.XLOOKUP(B877,'Programmes lists'!B:B,'Programmes lists'!E:E, \"Not found\")","v":"QC736314        "},{"$f":"_xlfn.XLOOKUP(B877,'Programmes lists'!B:B,'Programmes lists'!G:G,\"Not found\")","v":"Minimum grade 12 pass of 60% for \n•\tMathematics\n•\tPhysical Sciences "},{"$f":"_xlfn.XLOOKUP(B877,'Programmes lists'!B:B,'Programmes lists'!F:F,\"Not found\")","v":512}]
["Senior and FET ","Specialising in Mathematics and Physical Sciences","WILV3606",{"$f":"_xlfn.XLOOKUP(C878,'RAW module list'!A:A,'RAW module list'!B:B, \"Not found\")","v":"Teaching Practice 3"},{"$f":"_xlfn.XLOOKUP(C878,'RAW module list'!A:A,'RAW module list'!C:C, \"Not found\")","v":6},{"$f":"_xlfn.XLOOKUP(C878,'RAW module list'!A:A,'RAW module list'!D:D, \"Not found\")","v":24},{"$f":"_xlfn.XLOOKUP(C878,'RAW module list'!A:A,'RAW module list'!E:E, \"Not found\")","v":"TPRV2502"},"Third Year",{"$f":"_xlfn.XLOOKUP(B878,'Programmes lists'!B:B,'Programmes lists'!D:D)","v":"BC736314"},{"$f":"_xlfn.XLOOKUP(B878,'Programmes lists'!B:B,'Programmes lists'!E:E, \"Not found\")","v":"QC736314        "},{"$f":"_xlfn.XLOOKUP(B878,'Programmes lists'!B:B,'Programmes lists'!G:G,\"Not found\")","v":"Minimum grade 12 pass of 60% for \n•\tMathematics\n•\tPhysical Sciences "},{"$f":"_xlfn.XLOOKUP(B878,'Programmes lists'!B:B,'Programmes lists'!F:F,\"Not found\")","v":512}]
["Senior and FET ","Specialising in Mathematics and Physical Sciences","ENED3514",{"$f":"_xlfn.XLOOKUP(C879,'RAW module list'!A:A,'RAW module list'!B:B, \"Not found\")","v":"Entrepreneurship in Education "},{"$f":"_xlfn.XLOOKUP(C879,'RAW module list'!A:A,'RAW module list'!C:C, \"Not found\")","v":5},{"$f":"_xlfn.XLOOKUP(C879,'RAW module list'!A:A,'RAW module list'!D:D, \"Not found\")","v":16},{"$f":"_xlfn.XLOOKUP(C879,'RAW module list'!A:A,'RAW module list'!E:E, \"Not found\")","v":0},"Third Year",{"$f":"_xlfn.XLOOKUP(B879,'Programmes lists'!B:B,'Programmes lists'!D:D)","v":"BC736314"},{"$f":"_xlfn.XLOOKUP(B879,'Programmes lists'!B:B,'Programmes lists'!E:E, \"Not found\")","v":"QC736314        "},{"$f":"_xlfn.XLOOKUP(B879,'Programmes lists'!B:B,'Programmes lists'!G:G,\"Not found\")","v":"Minimum grade 12 pass of 60% for \n•\tMathematics\n•\tPhysical Sciences "},{"$f":"_xlfn.XLOOKUP(B879,'Programmes lists'!B:B,'Programmes lists'!F:F,\"Not found\")","v":512}]
["Senior and FET ","Specialising in Mathematics and Physical Sciences","EDUB3724",{"$f":"_xlfn.XLOOKUP(C880,'RAW module list'!A:A,'RAW module list'!B:B, \"Not found\")","v":"Education Studies 3.2: Contemporary Education Theory in the current social context"},{"$f":"_xlfn.XLOOKUP(C880,'RAW module list'!A:A,'RAW module list'!C:C, \"Not found\")","v":7},{"$f":"_xlfn.XLOOKUP(C880,'RAW module list'!A:A,'RAW module list'!D:D, \"Not found\")","v":16},{"$f":"_xlfn.XLOOKUP(C880,'RAW module list'!A:A,'RAW module list'!E:E, \"Not found\")","v":"EDUB1613 & EDUB1623 & EDUB2714 & EDUB2724 & EDUB3714"},"Third Year",{"$f":"_xlfn.XLOOKUP(B880,'Programmes lists'!B:B,'Programmes lists'!D:D)","v":"BC736314"},{"$f":"_xlfn.XLOOKUP(B880,'Programmes lists'!B:B,'Programmes lists'!E:E, \"Not found\")","v":"QC736314        "},{"$f":"_xlfn.XLOOKUP(B880,'Programmes lists'!B:B,'Programmes lists'!G:G,\"Not found\")","v":"Minimum grade 12 pass of 60% for \n•\tMathematics\n•\tPhysical Sciences "},{"$f":"_xlfn.XLOOKUP(B880,'Programmes lists'!B:B,'Programmes lists'!F:F,\"Not found\")","v":512}]
["Senior and FET ","Specialising in Mathematics and Physical Sciences","SICL3522 OR SSCL3522 OR GAFR3522 OR ZUCL3522",{"$f":"_xlfn.XLOOKUP(C881,'RAW module list'!A:A,'RAW module list'!B:B, \"Not found\")","v":"Conversational Sign Language OR Conversational Sesotho OR Conversational Afrikaans OR Conversational IsiZulu"},{"$f":"_xlfn.XLOOKUP(C881,'RAW module list'!A:A,'RAW module list'!C:C, \"Not found\")","v":5},{"$f":"_xlfn.XLOOKUP(C881,'RAW module list'!A:A,'RAW module list'!D:D, \"Not found\")","v":8},{"$f":"_xlfn.XLOOKUP(C881,'RAW module list'!A:A,'RAW module list'!E:E, \"Not found\")","v":"Continue with the conversational language chosen in Semester 1"},"Third Year",{"$f":"_xlfn.XLOOKUP(B881,'Programmes lists'!B:B,'Programmes lists'!D:D)","v":"BC736314"},{"$f":"_xlfn.XLOOKUP(B881,'Programmes lists'!B:B,'Programmes lists'!E:E, \"Not found\")","v":"QC736314        "},{"$f":"_xlfn.XLOOKUP(B881,'Programmes lists'!B:B,'Programmes lists'!G:G,\"Not found\")","v":"Minimum grade 12 pass of 60% for \n•\tMathematics\n•\tPhysical Sciences "},{"$f":"_xlfn.XLOOKUP(B881,'Programmes lists'!B:B,'Programmes lists'!F:F,\"Not found\")","v":512}]
["Senior and FET ","Specialising in Mathematics and Physical Sciences","MSTS4705",{"$f":"_xlfn.XLOOKUP(C882,'RAW module list'!A:A,'RAW module list'!B:B, \"Not found\")","v":"Mathematics Teaching 2: Senior Phase"},{"$f":"_xlfn.XLOOKUP(C882,'RAW module list'!A:A,'RAW module list'!C:C, \"Not found\")","v":7},{"$f":"_xlfn.XLOOKUP(C882,'RAW module list'!A:A,'RAW module list'!D:D, \"Not found\")","v":-20},{"$f":"_xlfn.XLOOKUP(C882,'RAW module list'!A:A,'RAW module list'!E:E, \"Not found\")","v":"MSTS3605"},"Fourth Year",{"$f":"_xlfn.XLOOKUP(B882,'Programmes lists'!B:B,'Programmes lists'!D:D)","v":"BC736314"},{"$f":"_xlfn.XLOOKUP(B882,'Programmes lists'!B:B,'Programmes lists'!E:E, \"Not found\")","v":"QC736314        "},{"$f":"_xlfn.XLOOKUP(B882,'Programmes lists'!B:B,'Programmes lists'!G:G,\"Not found\")","v":"Minimum grade 12 pass of 60% for \n•\tMathematics\n•\tPhysical Sciences "},{"$f":"_xlfn.XLOOKUP(B882,'Programmes lists'!B:B,'Programmes lists'!F:F,\"Not found\")","v":512}]
["Senior and FET ","Specialising in Mathematics and Physical Sciences","PSTV4705",{"$f":"_xlfn.XLOOKUP(C883,'RAW module list'!A:A,'RAW module list'!B:B, \"Not found\")","v":"Physical Science Teaching 2: Further Education and Training"},{"$f":"_xlfn.XLOOKUP(C883,'RAW module list'!A:A,'RAW module list'!C:C, \"Not found\")","v":7},{"$f":"_xlfn.XLOOKUP(C883,'RAW module list'!A:A,'RAW module list'!D:D, \"Not found\")","v":20},{"$f":"_xlfn.XLOOKUP(C883,'RAW module list'!A:A,'RAW module list'!E:E, \"Not found\")","v":"PSTV3605"},"Fourth Year",{"$f":"_xlfn.XLOOKUP(B883,'Programmes lists'!B:B,'Programmes lists'!D:D)","v":"BC736314"},{"$f":"_xlfn.XLOOKUP(B883,'Programmes lists'!B:B,'Programmes lists'!E:E, \"Not found\")","v":"QC736314        "},{"$f":"_xlfn.XLOOKUP(B883,'Programmes lists'!B:B,'Programmes lists'!G:G,\"Not found\")","v":"Minimum grade 12 pass of 60% for \n•\tMathematics\n•\tPhysical Sciences "},{"$f":"_xlfn.XLOOKUP(B883,'Programmes lists'!B:B,'Programmes lists'!F:F,\"Not found\")","v":512}]
["Senior and FET ","Specialising in Mathematics and Physical Sciences","LSPT4705",{"$f":"_xlfn.XLOOKUP(C884,'RAW module list'!A:A,'RAW module list'!B:B, \"Not found\")","v":"Third didactics subject"},{"$f":"_xlfn.XLOOKUP(C884,'RAW module list'!A:A,'RAW module list'!C:C, \"Not found\")","v":7},{"$f":"_xlfn.XLOOKUP(C884,'RAW module list'!A:A,'RAW module list'!D:D, \"Not found\")","v":20},{"$f":"_xlfn.XLOOKUP(C884,'RAW module list'!A:A,'RAW module list'!E:E, \"Not found\")","v":"LSPT3605"},"Fourth Year",{"$f":"_xlfn.XLOOKUP(B884,'Programmes lists'!B:B,'Programmes lists'!D:D)","v":"BC736314"},{"$f":"_xlfn.XLOOKUP(B884,'Programmes lists'!B:B,'Programmes lists'!E:E, \"Not found\")","v":"QC736314        "},{"$f":"_xlfn.XLOOKUP(B884,'Programmes lists'!B:B,'Programmes lists'!G:G,\"Not found\")","v":"Minimum grade 12 pass of 60% for \n•\tMathematics\n•\tPhysical Sciences "},{"$f":"_xlfn.XLOOKUP(B884,'Programmes lists'!B:B,'Programmes lists'!F:F,\"Not found\")","v":512}]
["Senior and FET ","Specialising in Mathematics and Physical Sciences","WILV4700",{"$f":"_xlfn.XLOOKUP(C885,'RAW module list'!A:A,'RAW module list'!B:B, \"Not found\")","v":"Teaching Practice 4"},{"$f":"_xlfn.XLOOKUP(C885,'RAW module list'!A:A,'RAW module list'!C:C, \"Not found\")","v":7},{"$f":"_xlfn.XLOOKUP(C885,'RAW module list'!A:A,'RAW module list'!D:D, \"Not found\")","v":40},{"$f":"_xlfn.XLOOKUP(C885,'RAW module list'!A:A,'RAW module list'!E:E, \"Not found\")","v":"WILV3606"},"Fourth Year",{"$f":"_xlfn.XLOOKUP(B885,'Programmes lists'!B:B,'Programmes lists'!D:D)","v":"BC736314"},{"$f":"_xlfn.XLOOKUP(B885,'Programmes lists'!B:B,'Programmes lists'!E:E, \"Not found\")","v":"QC736314        "},{"$f":"_xlfn.XLOOKUP(B885,'Programmes lists'!B:B,'Programmes lists'!G:G,\"Not found\")","v":"Minimum grade 12 pass of 60% for \n•\tMathematics\n•\tPhysical Sciences "},{"$f":"_xlfn.XLOOKUP(B885,'Programmes lists'!B:B,'Programmes lists'!F:F,\"Not found\")","v":512}]
["Senior and FET ","Specialising in Mathematics and Physical Sciences","Special Requirement:","Continue with three didactics as chosen in year 3",null,null,null,"Fourth Year",{"$f":"_xlfn.XLOOKUP(B886,'Programmes lists'!B:B,'Programmes lists'!D:D)","v":"BC736314"},{"$f":"_xlfn.XLOOKUP(B886,'Programmes lists'!B:B,'Programmes lists'!E:E, \"Not found\")","v":"QC736314        "},{"$f":"_xlfn.XLOOKUP(B886,'Programmes lists'!B:B,'Programmes lists'!G:G,\"Not found\")","v":"Minimum grade 12 pass of 60% for \n•\tMathematics\n•\tPhysical Sciences "},{"$f":"_xlfn.XLOOKUP(B886,'Programmes lists'!B:B,'Programmes lists'!F:F,\"Not found\")","v":512}]
["Senior and FET ","Specialising in Mathematics and Life Sciences (QQ)","BIOL1514",{"$f":"_xlfn.XLOOKUP(C887,'RAW module list'!A:A,'RAW module list'!B:B, \"Not found\")","v":"Lower Life and Molecular Biology"},{"$f":"_xlfn.XLOOKUP(C887,'RAW module list'!A:A,'RAW module list'!C:C, \"Not found\")","v":5},{"$f":"_xlfn.XLOOKUP(C887,'RAW module list'!A:A,'RAW module list'!D:D, \"Not found\")","v":16},{"$f":"_xlfn.XLOOKUP(C887,'RAW module list'!A:A,'RAW module list'!E:E, \"Not found\")","v":"Life Sciences at NSC level 5 (60%)"},"First Year",{"$f":"_xlfn.XLOOKUP(B887,'Programmes lists'!B:B,'Programmes lists'!D:D)","v":0},{"$f":"_xlfn.XLOOKUP(B887,'Programmes lists'!B:B,'Programmes lists'!E:E, \"Not found\")","v":"QC736305"},{"$f":"_xlfn.XLOOKUP(B887,'Programmes lists'!B:B,'Programmes lists'!G:G,\"Not found\")","v":"Minimum of 60% in grade 12 pass for \n•\tMathematics \n•\tLife Sciences "},{"$f":"_xlfn.XLOOKUP(B887,'Programmes lists'!B:B,'Programmes lists'!F:F,\"Not found\")","v":520}]
["Senior and FET ","Specialising in Mathematics and Life Sciences (QQ)","MATM1534",{"$f":"_xlfn.XLOOKUP(C888,'RAW module list'!A:A,'RAW module list'!B:B, \"Not found\")","v":"Calculus"},{"$f":"_xlfn.XLOOKUP(C888,'RAW module list'!A:A,'RAW module list'!C:C, \"Not found\")","v":5},{"$f":"_xlfn.XLOOKUP(C888,'RAW module list'!A:A,'RAW module list'!D:D, \"Not found\")","v":16},{"$f":"_xlfn.XLOOKUP(C888,'RAW module list'!A:A,'RAW module list'!E:E, \"Not found\")","v":"Mathematics at NSC level 5 (60%)"},"First Year",{"$f":"_xlfn.XLOOKUP(B888,'Programmes lists'!B:B,'Programmes lists'!D:D)","v":0},{"$f":"_xlfn.XLOOKUP(B888,'Programmes lists'!B:B,'Programmes lists'!E:E, \"Not found\")","v":"QC736305"},{"$f":"_xlfn.XLOOKUP(B888,'Programmes lists'!B:B,'Programmes lists'!G:G,\"Not found\")","v":"Minimum of 60% in grade 12 pass for \n•\tMathematics \n•\tLife Sciences "},{"$f":"_xlfn.XLOOKUP(B888,'Programmes lists'!B:B,'Programmes lists'!F:F,\"Not found\")","v":520}]
["Senior and FET ","Specialising in Mathematics and Life Sciences (QQ)","LLST1513",{"$f":"_xlfn.XLOOKUP(C889,'RAW module list'!A:A,'RAW module list'!B:B, \"Not found\")","v":"Lifelong Learning Skills"},{"$f":"_xlfn.XLOOKUP(C889,'RAW module list'!A:A,'RAW module list'!C:C, \"Not found\")","v":5},{"$f":"_xlfn.XLOOKUP(C889,'RAW module list'!A:A,'RAW module list'!D:D, \"Not found\")","v":12},{"$f":"_xlfn.XLOOKUP(C889,'RAW module list'!A:A,'RAW module list'!E:E, \"Not found\")","v":0},"First Year",{"$f":"_xlfn.XLOOKUP(B889,'Programmes lists'!B:B,'Programmes lists'!D:D)","v":0},{"$f":"_xlfn.XLOOKUP(B889,'Programmes lists'!B:B,'Programmes lists'!E:E, \"Not found\")","v":"QC736305"},{"$f":"_xlfn.XLOOKUP(B889,'Programmes lists'!B:B,'Programmes lists'!G:G,\"Not found\")","v":"Minimum of 60% in grade 12 pass for \n•\tMathematics \n•\tLife Sciences "},{"$f":"_xlfn.XLOOKUP(B889,'Programmes lists'!B:B,'Programmes lists'!F:F,\"Not found\")","v":520}]
["Senior and FET ","Specialising in Mathematics and Life Sciences (QQ)","EDUB1613",{"$f":"_xlfn.XLOOKUP(C890,'RAW module list'!A:A,'RAW module list'!B:B, \"Not found\")","v":"Education Studies 1.1 The Individual in the learning context"},{"$f":"_xlfn.XLOOKUP(C890,'RAW module list'!A:A,'RAW module list'!C:C, \"Not found\")","v":6},{"$f":"_xlfn.XLOOKUP(C890,'RAW module list'!A:A,'RAW module list'!D:D, \"Not found\")","v":12},{"$f":"_xlfn.XLOOKUP(C890,'RAW module list'!A:A,'RAW module list'!E:E, \"Not found\")","v":0},"First Year",{"$f":"_xlfn.XLOOKUP(B890,'Programmes lists'!B:B,'Programmes lists'!D:D)","v":0},{"$f":"_xlfn.XLOOKUP(B890,'Programmes lists'!B:B,'Programmes lists'!E:E, \"Not found\")","v":"QC736305"},{"$f":"_xlfn.XLOOKUP(B890,'Programmes lists'!B:B,'Programmes lists'!G:G,\"Not found\")","v":"Minimum of 60% in grade 12 pass for \n•\tMathematics \n•\tLife Sciences "},{"$f":"_xlfn.XLOOKUP(B890,'Programmes lists'!B:B,'Programmes lists'!F:F,\"Not found\")","v":520}]
["Senior and FET ","Specialising in Mathematics and Life Sciences (QQ)","TPRV1502",{"$f":"_xlfn.XLOOKUP(C891,'RAW module list'!A:A,'RAW module list'!B:B, \"Not found\")","v":"Teaching Practice 1 "},{"$f":"_xlfn.XLOOKUP(C891,'RAW module list'!A:A,'RAW module list'!C:C, \"Not found\")","v":5},{"$f":"_xlfn.XLOOKUP(C891,'RAW module list'!A:A,'RAW module list'!D:D, \"Not found\")","v":8},{"$f":"_xlfn.XLOOKUP(C891,'RAW module list'!A:A,'RAW module list'!E:E, \"Not found\")","v":0},"First Year",{"$f":"_xlfn.XLOOKUP(B891,'Programmes lists'!B:B,'Programmes lists'!D:D)","v":0},{"$f":"_xlfn.XLOOKUP(B891,'Programmes lists'!B:B,'Programmes lists'!E:E, \"Not found\")","v":"QC736305"},{"$f":"_xlfn.XLOOKUP(B891,'Programmes lists'!B:B,'Programmes lists'!G:G,\"Not found\")","v":"Minimum of 60% in grade 12 pass for \n•\tMathematics \n•\tLife Sciences "},{"$f":"_xlfn.XLOOKUP(B891,'Programmes lists'!B:B,'Programmes lists'!F:F,\"Not found\")","v":520}]
["Senior and FET ","Specialising in Mathematics and Life Sciences (QQ)","UFSS1504",{"$f":"_xlfn.XLOOKUP(C892,'RAW module list'!A:A,'RAW module list'!B:B, \"Not found\")","v":"Undergraduate core curriculum"},{"$f":"_xlfn.XLOOKUP(C892,'RAW module list'!A:A,'RAW module list'!C:C, \"Not found\")","v":5},{"$f":"_xlfn.XLOOKUP(C892,'RAW module list'!A:A,'RAW module list'!D:D, \"Not found\")","v":-16},{"$f":"_xlfn.XLOOKUP(C892,'RAW module list'!A:A,'RAW module list'!E:E, \"Not found\")","v":0},"First Year",{"$f":"_xlfn.XLOOKUP(B892,'Programmes lists'!B:B,'Programmes lists'!D:D)","v":0},{"$f":"_xlfn.XLOOKUP(B892,'Programmes lists'!B:B,'Programmes lists'!E:E, \"Not found\")","v":"QC736305"},{"$f":"_xlfn.XLOOKUP(B892,'Programmes lists'!B:B,'Programmes lists'!G:G,\"Not found\")","v":"Minimum of 60% in grade 12 pass for \n•\tMathematics \n•\tLife Sciences "},{"$f":"_xlfn.XLOOKUP(B892,'Programmes lists'!B:B,'Programmes lists'!F:F,\"Not found\")","v":520}]
["Senior and FET ","Specialising in Mathematics and Life Sciences (QQ)","EALT1508",{"$f":"_xlfn.XLOOKUP(C893,'RAW module list'!A:A,'RAW module list'!B:B, \"Not found\")","v":"English Academic Literacy for Education "},{"$f":"_xlfn.XLOOKUP(C893,'RAW module list'!A:A,'RAW module list'!C:C, \"Not found\")","v":5},{"$f":"_xlfn.XLOOKUP(C893,'RAW module list'!A:A,'RAW module list'!D:D, \"Not found\")","v":-32},{"$f":"_xlfn.XLOOKUP(C893,'RAW module list'!A:A,'RAW module list'!E:E, \"Not found\")","v":"NBT requirements not met"},"First Year",{"$f":"_xlfn.XLOOKUP(B893,'Programmes lists'!B:B,'Programmes lists'!D:D)","v":0},{"$f":"_xlfn.XLOOKUP(B893,'Programmes lists'!B:B,'Programmes lists'!E:E, \"Not found\")","v":"QC736305"},{"$f":"_xlfn.XLOOKUP(B893,'Programmes lists'!B:B,'Programmes lists'!G:G,\"Not found\")","v":"Minimum of 60% in grade 12 pass for \n•\tMathematics \n•\tLife Sciences "},{"$f":"_xlfn.XLOOKUP(B893,'Programmes lists'!B:B,'Programmes lists'!F:F,\"Not found\")","v":520}]
["Senior and FET ","Specialising in Mathematics and Life Sciences (QQ)","BIOL1624",{"$f":"_xlfn.XLOOKUP(C894,'RAW module list'!A:A,'RAW module list'!B:B, \"Not found\")","v":"Plant Biology"},{"$f":"_xlfn.XLOOKUP(C894,'RAW module list'!A:A,'RAW module list'!C:C, \"Not found\")","v":6},{"$f":"_xlfn.XLOOKUP(C894,'RAW module list'!A:A,'RAW module list'!D:D, \"Not found\")","v":16},{"$f":"_xlfn.XLOOKUP(C894,'RAW module list'!A:A,'RAW module list'!E:E, \"Not found\")","v":"BIOL1514"},"First Year",{"$f":"_xlfn.XLOOKUP(B894,'Programmes lists'!B:B,'Programmes lists'!D:D)","v":0},{"$f":"_xlfn.XLOOKUP(B894,'Programmes lists'!B:B,'Programmes lists'!E:E, \"Not found\")","v":"QC736305"},{"$f":"_xlfn.XLOOKUP(B894,'Programmes lists'!B:B,'Programmes lists'!G:G,\"Not found\")","v":"Minimum of 60% in grade 12 pass for \n•\tMathematics \n•\tLife Sciences "},{"$f":"_xlfn.XLOOKUP(B894,'Programmes lists'!B:B,'Programmes lists'!F:F,\"Not found\")","v":520}]
["Senior and FET ","Specialising in Mathematics and Life Sciences (QQ)","BIOL1644",{"$f":"_xlfn.XLOOKUP(C895,'RAW module list'!A:A,'RAW module list'!B:B, \"Not found\")","v":"Animal Biology"},{"$f":"_xlfn.XLOOKUP(C895,'RAW module list'!A:A,'RAW module list'!C:C, \"Not found\")","v":6},{"$f":"_xlfn.XLOOKUP(C895,'RAW module list'!A:A,'RAW module list'!D:D, \"Not found\")","v":16},{"$f":"_xlfn.XLOOKUP(C895,'RAW module list'!A:A,'RAW module list'!E:E, \"Not found\")","v":"BIOL1514"},"First Year",{"$f":"_xlfn.XLOOKUP(B895,'Programmes lists'!B:B,'Programmes lists'!D:D)","v":0},{"$f":"_xlfn.XLOOKUP(B895,'Programmes lists'!B:B,'Programmes lists'!E:E, \"Not found\")","v":"QC736305"},{"$f":"_xlfn.XLOOKUP(B895,'Programmes lists'!B:B,'Programmes lists'!G:G,\"Not found\")","v":"Minimum of 60% in grade 12 pass for \n•\tMathematics \n•\tLife Sciences "},{"$f":"_xlfn.XLOOKUP(B895,'Programmes lists'!B:B,'Programmes lists'!F:F,\"Not found\")","v":520}]
["Senior and FET ","Specialising in Mathematics and Life Sciences (QQ)","MATM1644",{"$f":"_xlfn.XLOOKUP(C896,'RAW module list'!A:A,'RAW module list'!B:B, \"Not found\")","v":"Calculus and Algebra"},{"$f":"_xlfn.XLOOKUP(C896,'RAW module list'!A:A,'RAW module list'!C:C, \"Not found\")","v":6},{"$f":"_xlfn.XLOOKUP(C896,'RAW module list'!A:A,'RAW module list'!D:D, \"Not found\")","v":16},{"$f":"_xlfn.XLOOKUP(C896,'RAW module list'!A:A,'RAW module list'!E:E, \"Not found\")","v":"MATM1534"},"First Year",{"$f":"_xlfn.XLOOKUP(B896,'Programmes lists'!B:B,'Programmes lists'!D:D)","v":0},{"$f":"_xlfn.XLOOKUP(B896,'Programmes lists'!B:B,'Programmes lists'!E:E, \"Not found\")","v":"QC736305"},{"$f":"_xlfn.XLOOKUP(B896,'Programmes lists'!B:B,'Programmes lists'!G:G,\"Not found\")","v":"Minimum of 60% in grade 12 pass for \n•\tMathematics \n•\tLife Sciences "},{"$f":"_xlfn.XLOOKUP(B896,'Programmes lists'!B:B,'Programmes lists'!F:F,\"Not found\")","v":520}]
["Senior and FET ","Specialising in Mathematics and Life Sciences (QQ)","MATM1622",{"$f":"_xlfn.XLOOKUP(C897,'RAW module list'!A:A,'RAW module list'!B:B, \"Not found\")","v":"Prerequisite for MATM2614"},{"$f":"_xlfn.XLOOKUP(C897,'RAW module list'!A:A,'RAW module list'!C:C, \"Not found\")","v":6},{"$f":"_xlfn.XLOOKUP(C897,'RAW module list'!A:A,'RAW module list'!D:D, \"Not found\")","v":8},{"$f":"_xlfn.XLOOKUP(C897,'RAW module list'!A:A,'RAW module list'!E:E, \"Not found\")","v":0},"First Year",{"$f":"_xlfn.XLOOKUP(B897,'Programmes lists'!B:B,'Programmes lists'!D:D)","v":0},{"$f":"_xlfn.XLOOKUP(B897,'Programmes lists'!B:B,'Programmes lists'!E:E, \"Not found\")","v":"QC736305"},{"$f":"_xlfn.XLOOKUP(B897,'Programmes lists'!B:B,'Programmes lists'!G:G,\"Not found\")","v":"Minimum of 60% in grade 12 pass for \n•\tMathematics \n•\tLife Sciences "},{"$f":"_xlfn.XLOOKUP(B897,'Programmes lists'!B:B,'Programmes lists'!F:F,\"Not found\")","v":520}]
["Senior and FET ","Specialising in Mathematics and Life Sciences (QQ)","EDUB1623",{"$f":"_xlfn.XLOOKUP(C898,'RAW module list'!A:A,'RAW module list'!B:B, \"Not found\")","v":"Education Studies 1.2 What it means to educate: Theoretical perspectives and their significance for SA education"},{"$f":"_xlfn.XLOOKUP(C898,'RAW module list'!A:A,'RAW module list'!C:C, \"Not found\")","v":6},{"$f":"_xlfn.XLOOKUP(C898,'RAW module list'!A:A,'RAW module list'!D:D, \"Not found\")","v":12},{"$f":"_xlfn.XLOOKUP(C898,'RAW module list'!A:A,'RAW module list'!E:E, \"Not found\")","v":0},"First Year",{"$f":"_xlfn.XLOOKUP(B898,'Programmes lists'!B:B,'Programmes lists'!D:D)","v":0},{"$f":"_xlfn.XLOOKUP(B898,'Programmes lists'!B:B,'Programmes lists'!E:E, \"Not found\")","v":"QC736305"},{"$f":"_xlfn.XLOOKUP(B898,'Programmes lists'!B:B,'Programmes lists'!G:G,\"Not found\")","v":"Minimum of 60% in grade 12 pass for \n•\tMathematics \n•\tLife Sciences "},{"$f":"_xlfn.XLOOKUP(B898,'Programmes lists'!B:B,'Programmes lists'!F:F,\"Not found\")","v":520}]
["Senior and FET ","Specialising in Mathematics and Life Sciences (QQ)","GPEV1623",{"$f":"_xlfn.XLOOKUP(C899,'RAW module list'!A:A,'RAW module list'!B:B, \"Not found\")","v":"General Pedagogy 1: Managing the Curriculum"},{"$f":"_xlfn.XLOOKUP(C899,'RAW module list'!A:A,'RAW module list'!C:C, \"Not found\")","v":6},{"$f":"_xlfn.XLOOKUP(C899,'RAW module list'!A:A,'RAW module list'!D:D, \"Not found\")","v":12},{"$f":"_xlfn.XLOOKUP(C899,'RAW module list'!A:A,'RAW module list'!E:E, \"Not found\")","v":0},"First Year",{"$f":"_xlfn.XLOOKUP(B899,'Programmes lists'!B:B,'Programmes lists'!D:D)","v":0},{"$f":"_xlfn.XLOOKUP(B899,'Programmes lists'!B:B,'Programmes lists'!E:E, \"Not found\")","v":"QC736305"},{"$f":"_xlfn.XLOOKUP(B899,'Programmes lists'!B:B,'Programmes lists'!G:G,\"Not found\")","v":"Minimum of 60% in grade 12 pass for \n•\tMathematics \n•\tLife Sciences "},{"$f":"_xlfn.XLOOKUP(B899,'Programmes lists'!B:B,'Programmes lists'!F:F,\"Not found\")","v":520}]
["Senior and FET ","Specialising in Mathematics and Life Sciences (QQ)","BOTA2654",{"$f":"_xlfn.XLOOKUP(C900,'RAW module list'!A:A,'RAW module list'!B:B, \"Not found\")","v":"Introduction to plant anatomy and Morphology"},{"$f":"_xlfn.XLOOKUP(C900,'RAW module list'!A:A,'RAW module list'!C:C, \"Not found\")","v":6},{"$f":"_xlfn.XLOOKUP(C900,'RAW module list'!A:A,'RAW module list'!D:D, \"Not found\")","v":16},{"$f":"_xlfn.XLOOKUP(C900,'RAW module list'!A:A,'RAW module list'!E:E, \"Not found\")","v":"Any two of: BIOL1514/BIOL1644/BIOL1624"},"Second Year",{"$f":"_xlfn.XLOOKUP(B900,'Programmes lists'!B:B,'Programmes lists'!D:D)","v":0},{"$f":"_xlfn.XLOOKUP(B900,'Programmes lists'!B:B,'Programmes lists'!E:E, \"Not found\")","v":"QC736305"},{"$f":"_xlfn.XLOOKUP(B900,'Programmes lists'!B:B,'Programmes lists'!G:G,\"Not found\")","v":"Minimum of 60% in grade 12 pass for \n•\tMathematics \n•\tLife Sciences "},{"$f":"_xlfn.XLOOKUP(B900,'Programmes lists'!B:B,'Programmes lists'!F:F,\"Not found\")","v":520}]
["Senior and FET ","Specialising in Mathematics and Life Sciences (QQ)","MATM2614",{"$f":"_xlfn.XLOOKUP(C901,'RAW module list'!A:A,'RAW module list'!B:B, \"Not found\")","v":"Vector Analysis"},{"$f":"_xlfn.XLOOKUP(C901,'RAW module list'!A:A,'RAW module list'!C:C, \"Not found\")","v":6},{"$f":"_xlfn.XLOOKUP(C901,'RAW module list'!A:A,'RAW module list'!D:D, \"Not found\")","v":16},{"$f":"_xlfn.XLOOKUP(C901,'RAW module list'!A:A,'RAW module list'!E:E, \"Not found\")","v":"> 60% for MATM1622 & MATM1644"},"Second Year",{"$f":"_xlfn.XLOOKUP(B901,'Programmes lists'!B:B,'Programmes lists'!D:D)","v":0},{"$f":"_xlfn.XLOOKUP(B901,'Programmes lists'!B:B,'Programmes lists'!E:E, \"Not found\")","v":"QC736305"},{"$f":"_xlfn.XLOOKUP(B901,'Programmes lists'!B:B,'Programmes lists'!G:G,\"Not found\")","v":"Minimum of 60% in grade 12 pass for \n•\tMathematics \n•\tLife Sciences "},{"$f":"_xlfn.XLOOKUP(B901,'Programmes lists'!B:B,'Programmes lists'!F:F,\"Not found\")","v":520}]
["Senior and FET ","Specialising in Mathematics and Life Sciences (QQ)","EDUB2714",{"$f":"_xlfn.XLOOKUP(C902,'RAW module list'!A:A,'RAW module list'!B:B, \"Not found\")","v":"Education Studies 2: Teaching and Learning in Education Context"},{"$f":"_xlfn.XLOOKUP(C902,'RAW module list'!A:A,'RAW module list'!C:C, \"Not found\")","v":7},{"$f":"_xlfn.XLOOKUP(C902,'RAW module list'!A:A,'RAW module list'!D:D, \"Not found\")","v":16},{"$f":"_xlfn.XLOOKUP(C902,'RAW module list'!A:A,'RAW module list'!E:E, \"Not found\")","v":"EDUB1613 & EDUB1623"},"Second Year",{"$f":"_xlfn.XLOOKUP(B902,'Programmes lists'!B:B,'Programmes lists'!D:D)","v":0},{"$f":"_xlfn.XLOOKUP(B902,'Programmes lists'!B:B,'Programmes lists'!E:E, \"Not found\")","v":"QC736305"},{"$f":"_xlfn.XLOOKUP(B902,'Programmes lists'!B:B,'Programmes lists'!G:G,\"Not found\")","v":"Minimum of 60% in grade 12 pass for \n•\tMathematics \n•\tLife Sciences "},{"$f":"_xlfn.XLOOKUP(B902,'Programmes lists'!B:B,'Programmes lists'!F:F,\"Not found\")","v":520}]
["Senior and FET ","Specialising in Mathematics and Life Sciences (QQ)","GPEV2613",{"$f":"_xlfn.XLOOKUP(C903,'RAW module list'!A:A,'RAW module list'!B:B, \"Not found\")","v":"General Pedagogy 2.1"},{"$f":"_xlfn.XLOOKUP(C903,'RAW module list'!A:A,'RAW module list'!C:C, \"Not found\")","v":6},{"$f":"_xlfn.XLOOKUP(C903,'RAW module list'!A:A,'RAW module list'!D:D, \"Not found\")","v":12},{"$f":"_xlfn.XLOOKUP(C903,'RAW module list'!A:A,'RAW module list'!E:E, \"Not found\")","v":"GPEV1623"},"Second Year",{"$f":"_xlfn.XLOOKUP(B903,'Programmes lists'!B:B,'Programmes lists'!D:D)","v":0},{"$f":"_xlfn.XLOOKUP(B903,'Programmes lists'!B:B,'Programmes lists'!E:E, \"Not found\")","v":"QC736305"},{"$f":"_xlfn.XLOOKUP(B903,'Programmes lists'!B:B,'Programmes lists'!G:G,\"Not found\")","v":"Minimum of 60% in grade 12 pass for \n•\tMathematics \n•\tLife Sciences "},{"$f":"_xlfn.XLOOKUP(B903,'Programmes lists'!B:B,'Programmes lists'!F:F,\"Not found\")","v":520}]
["Senior and FET ","Specialising in Mathematics and Life Sciences (QQ)","ELLT2504",{"$f":"_xlfn.XLOOKUP(C904,'RAW module list'!A:A,'RAW module list'!B:B, \"Not found\")","v":"English language skills for teaching"},{"$f":"_xlfn.XLOOKUP(C904,'RAW module list'!A:A,'RAW module list'!C:C, \"Not found\")","v":5},{"$f":"_xlfn.XLOOKUP(C904,'RAW module list'!A:A,'RAW module list'!D:D, \"Not found\")","v":16},{"$f":"_xlfn.XLOOKUP(C904,'RAW module list'!A:A,'RAW module list'!E:E, \"Not found\")","v":0},"Second Year",{"$f":"_xlfn.XLOOKUP(B904,'Programmes lists'!B:B,'Programmes lists'!D:D)","v":0},{"$f":"_xlfn.XLOOKUP(B904,'Programmes lists'!B:B,'Programmes lists'!E:E, \"Not found\")","v":"QC736305"},{"$f":"_xlfn.XLOOKUP(B904,'Programmes lists'!B:B,'Programmes lists'!G:G,\"Not found\")","v":"Minimum of 60% in grade 12 pass for \n•\tMathematics \n•\tLife Sciences "},{"$f":"_xlfn.XLOOKUP(B904,'Programmes lists'!B:B,'Programmes lists'!F:F,\"Not found\")","v":520}]
["Senior and FET ","Specialising in Mathematics and Life Sciences (QQ)","TPRV2502",{"$f":"_xlfn.XLOOKUP(C905,'RAW module list'!A:A,'RAW module list'!B:B, \"Not found\")","v":"Teaching Practice 2"},{"$f":"_xlfn.XLOOKUP(C905,'RAW module list'!A:A,'RAW module list'!C:C, \"Not found\")","v":5},{"$f":"_xlfn.XLOOKUP(C905,'RAW module list'!A:A,'RAW module list'!D:D, \"Not found\")","v":8},{"$f":"_xlfn.XLOOKUP(C905,'RAW module list'!A:A,'RAW module list'!E:E, \"Not found\")","v":"TPRV1502"},"Second Year",{"$f":"_xlfn.XLOOKUP(B905,'Programmes lists'!B:B,'Programmes lists'!D:D)","v":0},{"$f":"_xlfn.XLOOKUP(B905,'Programmes lists'!B:B,'Programmes lists'!E:E, \"Not found\")","v":"QC736305"},{"$f":"_xlfn.XLOOKUP(B905,'Programmes lists'!B:B,'Programmes lists'!G:G,\"Not found\")","v":"Minimum of 60% in grade 12 pass for \n•\tMathematics \n•\tLife Sciences "},{"$f":"_xlfn.XLOOKUP(B905,'Programmes lists'!B:B,'Programmes lists'!F:F,\"Not found\")","v":520}]
["Senior and FET ","Specialising in Mathematics and Life Sciences (QQ)","MATM2624",{"$f":"_xlfn.XLOOKUP(C906,'RAW module list'!A:A,'RAW module list'!B:B, \"Not found\")","v":"Linear Algebra"},{"$f":"_xlfn.XLOOKUP(C906,'RAW module list'!A:A,'RAW module list'!C:C, \"Not found\")","v":6},{"$f":"_xlfn.XLOOKUP(C906,'RAW module list'!A:A,'RAW module list'!D:D, \"Not found\")","v":16},{"$f":"_xlfn.XLOOKUP(C906,'RAW module list'!A:A,'RAW module list'!E:E, \"Not found\")","v":"MATM1622 & MATM1644"},"Second Year",{"$f":"_xlfn.XLOOKUP(B906,'Programmes lists'!B:B,'Programmes lists'!D:D)","v":0},{"$f":"_xlfn.XLOOKUP(B906,'Programmes lists'!B:B,'Programmes lists'!E:E, \"Not found\")","v":"QC736305"},{"$f":"_xlfn.XLOOKUP(B906,'Programmes lists'!B:B,'Programmes lists'!G:G,\"Not found\")","v":"Minimum of 60% in grade 12 pass for \n•\tMathematics \n•\tLife Sciences "},{"$f":"_xlfn.XLOOKUP(B906,'Programmes lists'!B:B,'Programmes lists'!F:F,\"Not found\")","v":520}]
["Senior and FET ","Specialising in Mathematics and Life Sciences (QQ)","BOTA2684 OR BIOL2644",{"$f":"_xlfn.XLOOKUP(C907,'RAW module list'!A:A,'RAW module list'!B:B, \"Not found\")","v":"Plant Physiology and Biotechnology OR The Physical Environment: Natural Resources, ecology and sustainability"},{"$f":"_xlfn.XLOOKUP(C907,'RAW module list'!A:A,'RAW module list'!C:C, \"Not found\")","v":6},{"$f":"_xlfn.XLOOKUP(C907,'RAW module list'!A:A,'RAW module list'!D:D, \"Not found\")","v":16},{"$f":"_xlfn.XLOOKUP(C907,'RAW module list'!A:A,'RAW module list'!E:E, \"Not found\")","v":"BIOL1514 & BIOL2614"},"Second Year",{"$f":"_xlfn.XLOOKUP(B907,'Programmes lists'!B:B,'Programmes lists'!D:D)","v":0},{"$f":"_xlfn.XLOOKUP(B907,'Programmes lists'!B:B,'Programmes lists'!E:E, \"Not found\")","v":"QC736305"},{"$f":"_xlfn.XLOOKUP(B907,'Programmes lists'!B:B,'Programmes lists'!G:G,\"Not found\")","v":"Minimum of 60% in grade 12 pass for \n•\tMathematics \n•\tLife Sciences "},{"$f":"_xlfn.XLOOKUP(B907,'Programmes lists'!B:B,'Programmes lists'!F:F,\"Not found\")","v":520}]
["Senior and FET ","Specialising in Mathematics and Life Sciences (QQ)","EDUB2724",{"$f":"_xlfn.XLOOKUP(C908,'RAW module list'!A:A,'RAW module list'!B:B, \"Not found\")","v":"Education Studies 2: Human Relationships in Education context"},{"$f":"_xlfn.XLOOKUP(C908,'RAW module list'!A:A,'RAW module list'!C:C, \"Not found\")","v":7},{"$f":"_xlfn.XLOOKUP(C908,'RAW module list'!A:A,'RAW module list'!D:D, \"Not found\")","v":16},{"$f":"_xlfn.XLOOKUP(C908,'RAW module list'!A:A,'RAW module list'!E:E, \"Not found\")","v":"EDUB2714"},"Second Year",{"$f":"_xlfn.XLOOKUP(B908,'Programmes lists'!B:B,'Programmes lists'!D:D)","v":0},{"$f":"_xlfn.XLOOKUP(B908,'Programmes lists'!B:B,'Programmes lists'!E:E, \"Not found\")","v":"QC736305"},{"$f":"_xlfn.XLOOKUP(B908,'Programmes lists'!B:B,'Programmes lists'!G:G,\"Not found\")","v":"Minimum of 60% in grade 12 pass for \n•\tMathematics \n•\tLife Sciences "},{"$f":"_xlfn.XLOOKUP(B908,'Programmes lists'!B:B,'Programmes lists'!F:F,\"Not found\")","v":520}]
["Senior and FET ","Specialising in Mathematics and Life Sciences (QQ)","GPEV2623",{"$f":"_xlfn.XLOOKUP(C909,'RAW module list'!A:A,'RAW module list'!B:B, \"Not found\")","v":"General Pedagogy 2.2: Assessment"},{"$f":"_xlfn.XLOOKUP(C909,'RAW module list'!A:A,'RAW module list'!C:C, \"Not found\")","v":6},{"$f":"_xlfn.XLOOKUP(C909,'RAW module list'!A:A,'RAW module list'!D:D, \"Not found\")","v":12},{"$f":"_xlfn.XLOOKUP(C909,'RAW module list'!A:A,'RAW module list'!E:E, \"Not found\")","v":"GPEV2613"},"Second Year",{"$f":"_xlfn.XLOOKUP(B909,'Programmes lists'!B:B,'Programmes lists'!D:D)","v":0},{"$f":"_xlfn.XLOOKUP(B909,'Programmes lists'!B:B,'Programmes lists'!E:E, \"Not found\")","v":"QC736305"},{"$f":"_xlfn.XLOOKUP(B909,'Programmes lists'!B:B,'Programmes lists'!G:G,\"Not found\")","v":"Minimum of 60% in grade 12 pass for \n•\tMathematics \n•\tLife Sciences "},{"$f":"_xlfn.XLOOKUP(B909,'Programmes lists'!B:B,'Programmes lists'!F:F,\"Not found\")","v":520}]
["Senior and FET ","Specialising in Mathematics and Life Sciences (QQ)","LSTV3605",{"$f":"_xlfn.XLOOKUP(C910,'RAW module list'!A:A,'RAW module list'!B:B, \"Not found\")","v":"Life Sciences Teaching 1: Further Education and Training phase"},{"$f":"_xlfn.XLOOKUP(C910,'RAW module list'!A:A,'RAW module list'!C:C, \"Not found\")","v":6},{"$f":"_xlfn.XLOOKUP(C910,'RAW module list'!A:A,'RAW module list'!D:D, \"Not found\")","v":20},{"$f":"_xlfn.XLOOKUP(C910,'RAW module list'!A:A,'RAW module list'!E:E, \"Not found\")","v":"At least 64 credits of Biology modules up to level 6"},"Third Year",{"$f":"_xlfn.XLOOKUP(B910,'Programmes lists'!B:B,'Programmes lists'!D:D)","v":0},{"$f":"_xlfn.XLOOKUP(B910,'Programmes lists'!B:B,'Programmes lists'!E:E, \"Not found\")","v":"QC736305"},{"$f":"_xlfn.XLOOKUP(B910,'Programmes lists'!B:B,'Programmes lists'!G:G,\"Not found\")","v":"Minimum of 60% in grade 12 pass for \n•\tMathematics \n•\tLife Sciences "},{"$f":"_xlfn.XLOOKUP(B910,'Programmes lists'!B:B,'Programmes lists'!F:F,\"Not found\")","v":520}]
["Senior and FET ","Specialising in Mathematics and Life Sciences (QQ)","MSTS3605 OR MSTV3605",{"$f":"_xlfn.XLOOKUP(C911,'RAW module list'!A:A,'RAW module list'!B:B, \"Not found\")","v":"Mathematics Teaching 1: Senior Phase OR Mathematics Teaching 1: FET"},{"$f":"_xlfn.XLOOKUP(C911,'RAW module list'!A:A,'RAW module list'!C:C, \"Not found\")","v":6},{"$f":"_xlfn.XLOOKUP(C911,'RAW module list'!A:A,'RAW module list'!D:D, \"Not found\")","v":20},{"$f":"_xlfn.XLOOKUP(C911,'RAW module list'!A:A,'RAW module list'!E:E, \"Not found\")","v":"MATM1534 & MATM1644 OR MATM2614 & MATM2624"},"Third Year",{"$f":"_xlfn.XLOOKUP(B911,'Programmes lists'!B:B,'Programmes lists'!D:D)","v":0},{"$f":"_xlfn.XLOOKUP(B911,'Programmes lists'!B:B,'Programmes lists'!E:E, \"Not found\")","v":"QC736305"},{"$f":"_xlfn.XLOOKUP(B911,'Programmes lists'!B:B,'Programmes lists'!G:G,\"Not found\")","v":"Minimum of 60% in grade 12 pass for \n•\tMathematics \n•\tLife Sciences "},{"$f":"_xlfn.XLOOKUP(B911,'Programmes lists'!B:B,'Programmes lists'!F:F,\"Not found\")","v":520}]
["Senior and FET ","Specialising in Mathematics and Life Sciences (QQ)","LSPT3605",{"$f":"_xlfn.XLOOKUP(C912,'RAW module list'!A:A,'RAW module list'!B:B, \"Not found\")","v":"Learner support as third didactics "},{"$f":"_xlfn.XLOOKUP(C912,'RAW module list'!A:A,'RAW module list'!C:C, \"Not found\")","v":6},{"$f":"_xlfn.XLOOKUP(C912,'RAW module list'!A:A,'RAW module list'!D:D, \"Not found\")","v":20},{"$f":"_xlfn.XLOOKUP(C912,'RAW module list'!A:A,'RAW module list'!E:E, \"Not found\")","v":0},"Third Year",{"$f":"_xlfn.XLOOKUP(B912,'Programmes lists'!B:B,'Programmes lists'!D:D)","v":0},{"$f":"_xlfn.XLOOKUP(B912,'Programmes lists'!B:B,'Programmes lists'!E:E, \"Not found\")","v":"QC736305"},{"$f":"_xlfn.XLOOKUP(B912,'Programmes lists'!B:B,'Programmes lists'!G:G,\"Not found\")","v":"Minimum of 60% in grade 12 pass for \n•\tMathematics \n•\tLife Sciences "},{"$f":"_xlfn.XLOOKUP(B912,'Programmes lists'!B:B,'Programmes lists'!F:F,\"Not found\")","v":520}]
["Senior and FET ","Specialising in Mathematics and Life Sciences (QQ)","EDUB3714",{"$f":"_xlfn.XLOOKUP(C913,'RAW module list'!A:A,'RAW module list'!B:B, \"Not found\")","v":"Education Studies 3.1 Education systems in global and national context"},{"$f":"_xlfn.XLOOKUP(C913,'RAW module list'!A:A,'RAW module list'!C:C, \"Not found\")","v":7},{"$f":"_xlfn.XLOOKUP(C913,'RAW module list'!A:A,'RAW module list'!D:D, \"Not found\")","v":16},{"$f":"_xlfn.XLOOKUP(C913,'RAW module list'!A:A,'RAW module list'!E:E, \"Not found\")","v":"EDUB1613 & EDUB1623& EDUB2714 & EDUB2724"},"Third Year",{"$f":"_xlfn.XLOOKUP(B913,'Programmes lists'!B:B,'Programmes lists'!D:D)","v":0},{"$f":"_xlfn.XLOOKUP(B913,'Programmes lists'!B:B,'Programmes lists'!E:E, \"Not found\")","v":"QC736305"},{"$f":"_xlfn.XLOOKUP(B913,'Programmes lists'!B:B,'Programmes lists'!G:G,\"Not found\")","v":"Minimum of 60% in grade 12 pass for \n•\tMathematics \n•\tLife Sciences "},{"$f":"_xlfn.XLOOKUP(B913,'Programmes lists'!B:B,'Programmes lists'!F:F,\"Not found\")","v":520}]
["Senior and FET ","Specialising in Mathematics and Life Sciences (QQ)","SICL3512 OR SSCL3512 OR GAFR3512 OR ZUCL3512",{"$f":"_xlfn.XLOOKUP(C914,'RAW module list'!A:A,'RAW module list'!B:B, \"Not found\")","v":"Conversational Sign Language OR Conversational Sesotho OR Conversational Afrikaans OR Conversational IsiZulu"},{"$f":"_xlfn.XLOOKUP(C914,'RAW module list'!A:A,'RAW module list'!C:C, \"Not found\")","v":5},{"$f":"_xlfn.XLOOKUP(C914,'RAW module list'!A:A,'RAW module list'!D:D, \"Not found\")","v":8},{"$f":"_xlfn.XLOOKUP(C914,'RAW module list'!A:A,'RAW module list'!E:E, \"Not found\")","v":"No previous exposure to the language"},"Third Year",{"$f":"_xlfn.XLOOKUP(B914,'Programmes lists'!B:B,'Programmes lists'!D:D)","v":0},{"$f":"_xlfn.XLOOKUP(B914,'Programmes lists'!B:B,'Programmes lists'!E:E, \"Not found\")","v":"QC736305"},{"$f":"_xlfn.XLOOKUP(B914,'Programmes lists'!B:B,'Programmes lists'!G:G,\"Not found\")","v":"Minimum of 60% in grade 12 pass for \n•\tMathematics \n•\tLife Sciences "},{"$f":"_xlfn.XLOOKUP(B914,'Programmes lists'!B:B,'Programmes lists'!F:F,\"Not found\")","v":520}]
["Senior and FET ","Specialising in Mathematics and Life Sciences (QQ)","WILV3606",{"$f":"_xlfn.XLOOKUP(C915,'RAW module list'!A:A,'RAW module list'!B:B, \"Not found\")","v":"Teaching Practice 3"},{"$f":"_xlfn.XLOOKUP(C915,'RAW module list'!A:A,'RAW module list'!C:C, \"Not found\")","v":6},{"$f":"_xlfn.XLOOKUP(C915,'RAW module list'!A:A,'RAW module list'!D:D, \"Not found\")","v":24},{"$f":"_xlfn.XLOOKUP(C915,'RAW module list'!A:A,'RAW module list'!E:E, \"Not found\")","v":"TPRV2502"},"Third Year",{"$f":"_xlfn.XLOOKUP(B915,'Programmes lists'!B:B,'Programmes lists'!D:D)","v":0},{"$f":"_xlfn.XLOOKUP(B915,'Programmes lists'!B:B,'Programmes lists'!E:E, \"Not found\")","v":"QC736305"},{"$f":"_xlfn.XLOOKUP(B915,'Programmes lists'!B:B,'Programmes lists'!G:G,\"Not found\")","v":"Minimum of 60% in grade 12 pass for \n•\tMathematics \n•\tLife Sciences "},{"$f":"_xlfn.XLOOKUP(B915,'Programmes lists'!B:B,'Programmes lists'!F:F,\"Not found\")","v":520}]
["Senior and FET ","Specialising in Mathematics and Life Sciences (QQ)","EDUB3724",{"$f":"_xlfn.XLOOKUP(C916,'RAW module list'!A:A,'RAW module list'!B:B, \"Not found\")","v":"Education Studies 3.2: Contemporary Education Theory in the current social context"},{"$f":"_xlfn.XLOOKUP(C916,'RAW module list'!A:A,'RAW module list'!C:C, \"Not found\")","v":7},{"$f":"_xlfn.XLOOKUP(C916,'RAW module list'!A:A,'RAW module list'!D:D, \"Not found\")","v":16},{"$f":"_xlfn.XLOOKUP(C916,'RAW module list'!A:A,'RAW module list'!E:E, \"Not found\")","v":"EDUB1613 & EDUB1623 & EDUB2714 & EDUB2724 & EDUB3714"},"Third Year",{"$f":"_xlfn.XLOOKUP(B916,'Programmes lists'!B:B,'Programmes lists'!D:D)","v":0},{"$f":"_xlfn.XLOOKUP(B916,'Programmes lists'!B:B,'Programmes lists'!E:E, \"Not found\")","v":"QC736305"},{"$f":"_xlfn.XLOOKUP(B916,'Programmes lists'!B:B,'Programmes lists'!G:G,\"Not found\")","v":"Minimum of 60% in grade 12 pass for \n•\tMathematics \n•\tLife Sciences "},{"$f":"_xlfn.XLOOKUP(B916,'Programmes lists'!B:B,'Programmes lists'!F:F,\"Not found\")","v":520}]
["Senior and FET ","Specialising in Mathematics and Life Sciences (QQ)","SICL3522 OR SSCL3522 OR GAFR3522 OR ZUCL3522",{"$f":"_xlfn.XLOOKUP(C917,'RAW module list'!A:A,'RAW module list'!B:B, \"Not found\")","v":"Conversational Sign Language OR Conversational Sesotho OR Conversational Afrikaans OR Conversational IsiZulu"},{"$f":"_xlfn.XLOOKUP(C917,'RAW module list'!A:A,'RAW module list'!C:C, \"Not found\")","v":5},{"$f":"_xlfn.XLOOKUP(C917,'RAW module list'!A:A,'RAW module list'!D:D, \"Not found\")","v":8},{"$f":"_xlfn.XLOOKUP(C917,'RAW module list'!A:A,'RAW module list'!E:E, \"Not found\")","v":"Continue with the conversational language chosen in Semester 1"},"Third Year",{"$f":"_xlfn.XLOOKUP(B917,'Programmes lists'!B:B,'Programmes lists'!D:D)","v":0},{"$f":"_xlfn.XLOOKUP(B917,'Programmes lists'!B:B,'Programmes lists'!E:E, \"Not found\")","v":"QC736305"},{"$f":"_xlfn.XLOOKUP(B917,'Programmes lists'!B:B,'Programmes lists'!G:G,\"Not found\")","v":"Minimum of 60% in grade 12 pass for \n•\tMathematics \n•\tLife Sciences "},{"$f":"_xlfn.XLOOKUP(B917,'Programmes lists'!B:B,'Programmes lists'!F:F,\"Not found\")","v":520}]
["Senior and FET ","Specialising in Mathematics and Life Sciences (QQ)","Special Requirement:","Choose three didactics modules according to subjects in previous years of study; LSTV is compulsory",null,null,null,"Third Year",{"$f":"_xlfn.XLOOKUP(B918,'Programmes lists'!B:B,'Programmes lists'!D:D)","v":0},{"$f":"_xlfn.XLOOKUP(B918,'Programmes lists'!B:B,'Programmes lists'!E:E, \"Not found\")","v":"QC736305"},{"$f":"_xlfn.XLOOKUP(B918,'Programmes lists'!B:B,'Programmes lists'!G:G,\"Not found\")","v":"Minimum of 60% in grade 12 pass for \n•\tMathematics \n•\tLife Sciences "},{"$f":"_xlfn.XLOOKUP(B918,'Programmes lists'!B:B,'Programmes lists'!F:F,\"Not found\")","v":520}]
["Senior and FET ","Specialising in Mathematics and Life Sciences (QQ)","LSTV4705",{"$f":"_xlfn.XLOOKUP(C919,'RAW module list'!A:A,'RAW module list'!B:B, \"Not found\")","v":"Life Sciences Teaching 2: Further Education and Training phase"},{"$f":"_xlfn.XLOOKUP(C919,'RAW module list'!A:A,'RAW module list'!C:C, \"Not found\")","v":7},{"$f":"_xlfn.XLOOKUP(C919,'RAW module list'!A:A,'RAW module list'!D:D, \"Not found\")","v":20},{"$f":"_xlfn.XLOOKUP(C919,'RAW module list'!A:A,'RAW module list'!E:E, \"Not found\")","v":"LSTV3605"},"Fourth Year",{"$f":"_xlfn.XLOOKUP(B919,'Programmes lists'!B:B,'Programmes lists'!D:D)","v":0},{"$f":"_xlfn.XLOOKUP(B919,'Programmes lists'!B:B,'Programmes lists'!E:E, \"Not found\")","v":"QC736305"},{"$f":"_xlfn.XLOOKUP(B919,'Programmes lists'!B:B,'Programmes lists'!G:G,\"Not found\")","v":"Minimum of 60% in grade 12 pass for \n•\tMathematics \n•\tLife Sciences "},{"$f":"_xlfn.XLOOKUP(B919,'Programmes lists'!B:B,'Programmes lists'!F:F,\"Not found\")","v":520}]
["Senior and FET ","Specialising in Mathematics and Life Sciences (QQ)","MSTS4705",{"$f":"_xlfn.XLOOKUP(C920,'RAW module list'!A:A,'RAW module list'!B:B, \"Not found\")","v":"Mathematics Teaching 2: Senior Phase"},{"$f":"_xlfn.XLOOKUP(C920,'RAW module list'!A:A,'RAW module list'!C:C, \"Not found\")","v":7},{"$f":"_xlfn.XLOOKUP(C920,'RAW module list'!A:A,'RAW module list'!D:D, \"Not found\")","v":-20},{"$f":"_xlfn.XLOOKUP(C920,'RAW module list'!A:A,'RAW module list'!E:E, \"Not found\")","v":"MSTS3605"},"Fourth Year",{"$f":"_xlfn.XLOOKUP(B920,'Programmes lists'!B:B,'Programmes lists'!D:D)","v":0},{"$f":"_xlfn.XLOOKUP(B920,'Programmes lists'!B:B,'Programmes lists'!E:E, \"Not found\")","v":"QC736305"},{"$f":"_xlfn.XLOOKUP(B920,'Programmes lists'!B:B,'Programmes lists'!G:G,\"Not found\")","v":"Minimum of 60% in grade 12 pass for \n•\tMathematics \n•\tLife Sciences "},{"$f":"_xlfn.XLOOKUP(B920,'Programmes lists'!B:B,'Programmes lists'!F:F,\"Not found\")","v":520}]
["Senior and FET ","Specialising in Mathematics and Life Sciences (QQ)","MSTV4705",{"$f":"_xlfn.XLOOKUP(C921,'RAW module list'!A:A,'RAW module list'!B:B, \"Not found\")","v":"Mathematics Teaching 2: FET"},{"$f":"_xlfn.XLOOKUP(C921,'RAW module list'!A:A,'RAW module list'!C:C, \"Not found\")","v":7},{"$f":"_xlfn.XLOOKUP(C921,'RAW module list'!A:A,'RAW module list'!D:D, \"Not found\")","v":20},{"$f":"_xlfn.XLOOKUP(C921,'RAW module list'!A:A,'RAW module list'!E:E, \"Not found\")","v":"MSTV3605"},"Fourth Year",{"$f":"_xlfn.XLOOKUP(B921,'Programmes lists'!B:B,'Programmes lists'!D:D)","v":0},{"$f":"_xlfn.XLOOKUP(B921,'Programmes lists'!B:B,'Programmes lists'!E:E, \"Not found\")","v":"QC736305"},{"$f":"_xlfn.XLOOKUP(B921,'Programmes lists'!B:B,'Programmes lists'!G:G,\"Not found\")","v":"Minimum of 60% in grade 12 pass for \n•\tMathematics \n•\tLife Sciences "},{"$f":"_xlfn.XLOOKUP(B921,'Programmes lists'!B:B,'Programmes lists'!F:F,\"Not found\")","v":520}]
["Senior and FET ","Specialising in Mathematics and Life Sciences (QQ)","LSPT4705",{"$f":"_xlfn.XLOOKUP(C922,'RAW module list'!A:A,'RAW module list'!B:B, \"Not found\")","v":"Third didactics subject"},{"$f":"_xlfn.XLOOKUP(C922,'RAW module list'!A:A,'RAW module list'!C:C, \"Not found\")","v":7},{"$f":"_xlfn.XLOOKUP(C922,'RAW module list'!A:A,'RAW module list'!D:D, \"Not found\")","v":20},{"$f":"_xlfn.XLOOKUP(C922,'RAW module list'!A:A,'RAW module list'!E:E, \"Not found\")","v":"LSPT3605"},"Fourth Year",{"$f":"_xlfn.XLOOKUP(B922,'Programmes lists'!B:B,'Programmes lists'!D:D)","v":0},{"$f":"_xlfn.XLOOKUP(B922,'Programmes lists'!B:B,'Programmes lists'!E:E, \"Not found\")","v":"QC736305"},{"$f":"_xlfn.XLOOKUP(B922,'Programmes lists'!B:B,'Programmes lists'!G:G,\"Not found\")","v":"Minimum of 60% in grade 12 pass for \n•\tMathematics \n•\tLife Sciences "},{"$f":"_xlfn.XLOOKUP(B922,'Programmes lists'!B:B,'Programmes lists'!F:F,\"Not found\")","v":520}]
["Senior and FET ","Specialising in Mathematics and Life Sciences (QQ)","WILV4700",{"$f":"_xlfn.XLOOKUP(C923,'RAW module list'!A:A,'RAW module list'!B:B, \"Not found\")","v":"Teaching Practice 4"},{"$f":"_xlfn.XLOOKUP(C923,'RAW module list'!A:A,'RAW module list'!C:C, \"Not found\")","v":7},{"$f":"_xlfn.XLOOKUP(C923,'RAW module list'!A:A,'RAW module list'!D:D, \"Not found\")","v":40},{"$f":"_xlfn.XLOOKUP(C923,'RAW module list'!A:A,'RAW module list'!E:E, \"Not found\")","v":"WILV3606"},"Fourth Year",{"$f":"_xlfn.XLOOKUP(B923,'Programmes lists'!B:B,'Programmes lists'!D:D)","v":0},{"$f":"_xlfn.XLOOKUP(B923,'Programmes lists'!B:B,'Programmes lists'!E:E, \"Not found\")","v":"QC736305"},{"$f":"_xlfn.XLOOKUP(B923,'Programmes lists'!B:B,'Programmes lists'!G:G,\"Not found\")","v":"Minimum of 60% in grade 12 pass for \n•\tMathematics \n•\tLife Sciences "},{"$f":"_xlfn.XLOOKUP(B923,'Programmes lists'!B:B,'Programmes lists'!F:F,\"Not found\")","v":520}]
["Senior and FET ","Specialising in Mathematics and Life Sciences (QQ)","Special Requirement:","Continue with three didactics as chosen in year 3 according to subjects in previous years of study; LSTV is compulsory",null,null,null,"Fourth Year",{"$f":"_xlfn.XLOOKUP(B924,'Programmes lists'!B:B,'Programmes lists'!D:D)","v":0},{"$f":"_xlfn.XLOOKUP(B924,'Programmes lists'!B:B,'Programmes lists'!E:E, \"Not found\")","v":"QC736305"},{"$f":"_xlfn.XLOOKUP(B924,'Programmes lists'!B:B,'Programmes lists'!G:G,\"Not found\")","v":"Minimum of 60% in grade 12 pass for \n•\tMathematics \n•\tLife Sciences "},{"$f":"_xlfn.XLOOKUP(B924,'Programmes lists'!B:B,'Programmes lists'!F:F,\"Not found\")","v":520}]
["Senior and FET ","Specialising In Mathematics and Life Sciences (BFN)","BLGY1513",{"$f":"_xlfn.XLOOKUP(C925,'RAW module list'!A:A,'RAW module list'!B:B, \"Not found\")","v":"Introduction to Biology"},{"$f":"_xlfn.XLOOKUP(C925,'RAW module list'!A:A,'RAW module list'!C:C, \"Not found\")","v":5},{"$f":"_xlfn.XLOOKUP(C925,'RAW module list'!A:A,'RAW module list'!D:D, \"Not found\")","v":12},{"$f":"_xlfn.XLOOKUP(C925,'RAW module list'!A:A,'RAW module list'!E:E, \"Not found\")","v":"Life Sciences at NSC level 5 (60%)"},"First Year",{"$f":"_xlfn.XLOOKUP(B925,'Programmes lists'!B:B,'Programmes lists'!D:D)","v":"BC736305"},{"$f":"_xlfn.XLOOKUP(B925,'Programmes lists'!B:B,'Programmes lists'!E:E, \"Not found\")","v":0},{"$f":"_xlfn.XLOOKUP(B925,'Programmes lists'!B:B,'Programmes lists'!G:G,\"Not found\")","v":"Minimum of 60% in grade 12 pass for \n•\tMathematics\n•\tLife Sciences "},{"$f":"_xlfn.XLOOKUP(B925,'Programmes lists'!B:B,'Programmes lists'!F:F,\"Not found\")","v":512}]
["Senior and FET ","Specialising In Mathematics and Life Sciences (BFN)","MATM1534",{"$f":"_xlfn.XLOOKUP(C926,'RAW module list'!A:A,'RAW module list'!B:B, \"Not found\")","v":"Calculus"},{"$f":"_xlfn.XLOOKUP(C926,'RAW module list'!A:A,'RAW module list'!C:C, \"Not found\")","v":5},{"$f":"_xlfn.XLOOKUP(C926,'RAW module list'!A:A,'RAW module list'!D:D, \"Not found\")","v":16},{"$f":"_xlfn.XLOOKUP(C926,'RAW module list'!A:A,'RAW module list'!E:E, \"Not found\")","v":"Mathematics at NSC level 5 (60%)"},"First Year",{"$f":"_xlfn.XLOOKUP(B926,'Programmes lists'!B:B,'Programmes lists'!D:D)","v":"BC736305"},{"$f":"_xlfn.XLOOKUP(B926,'Programmes lists'!B:B,'Programmes lists'!E:E, \"Not found\")","v":0},{"$f":"_xlfn.XLOOKUP(B926,'Programmes lists'!B:B,'Programmes lists'!G:G,\"Not found\")","v":"Minimum of 60% in grade 12 pass for \n•\tMathematics\n•\tLife Sciences "},{"$f":"_xlfn.XLOOKUP(B926,'Programmes lists'!B:B,'Programmes lists'!F:F,\"Not found\")","v":512}]
["Senior and FET ","Specialising In Mathematics and Life Sciences (BFN)","LLST1513",{"$f":"_xlfn.XLOOKUP(C927,'RAW module list'!A:A,'RAW module list'!B:B, \"Not found\")","v":"Lifelong Learning Skills"},{"$f":"_xlfn.XLOOKUP(C927,'RAW module list'!A:A,'RAW module list'!C:C, \"Not found\")","v":5},{"$f":"_xlfn.XLOOKUP(C927,'RAW module list'!A:A,'RAW module list'!D:D, \"Not found\")","v":12},{"$f":"_xlfn.XLOOKUP(C927,'RAW module list'!A:A,'RAW module list'!E:E, \"Not found\")","v":0},"First Year",{"$f":"_xlfn.XLOOKUP(B927,'Programmes lists'!B:B,'Programmes lists'!D:D)","v":"BC736305"},{"$f":"_xlfn.XLOOKUP(B927,'Programmes lists'!B:B,'Programmes lists'!E:E, \"Not found\")","v":0},{"$f":"_xlfn.XLOOKUP(B927,'Programmes lists'!B:B,'Programmes lists'!G:G,\"Not found\")","v":"Minimum of 60% in grade 12 pass for \n•\tMathematics\n•\tLife Sciences "},{"$f":"_xlfn.XLOOKUP(B927,'Programmes lists'!B:B,'Programmes lists'!F:F,\"Not found\")","v":512}]
["Senior and FET ","Specialising In Mathematics and Life Sciences (BFN)","EDUB1613",{"$f":"_xlfn.XLOOKUP(C928,'RAW module list'!A:A,'RAW module list'!B:B, \"Not found\")","v":"Education Studies 1.1 The Individual in the learning context"},{"$f":"_xlfn.XLOOKUP(C928,'RAW module list'!A:A,'RAW module list'!C:C, \"Not found\")","v":6},{"$f":"_xlfn.XLOOKUP(C928,'RAW module list'!A:A,'RAW module list'!D:D, \"Not found\")","v":12},{"$f":"_xlfn.XLOOKUP(C928,'RAW module list'!A:A,'RAW module list'!E:E, \"Not found\")","v":0},"First Year",{"$f":"_xlfn.XLOOKUP(B928,'Programmes lists'!B:B,'Programmes lists'!D:D)","v":"BC736305"},{"$f":"_xlfn.XLOOKUP(B928,'Programmes lists'!B:B,'Programmes lists'!E:E, \"Not found\")","v":0},{"$f":"_xlfn.XLOOKUP(B928,'Programmes lists'!B:B,'Programmes lists'!G:G,\"Not found\")","v":"Minimum of 60% in grade 12 pass for \n•\tMathematics\n•\tLife Sciences "},{"$f":"_xlfn.XLOOKUP(B928,'Programmes lists'!B:B,'Programmes lists'!F:F,\"Not found\")","v":512}]
["Senior and FET ","Specialising In Mathematics and Life Sciences (BFN)","TPRV1502",{"$f":"_xlfn.XLOOKUP(C929,'RAW module list'!A:A,'RAW module list'!B:B, \"Not found\")","v":"Teaching Practice 1 "},{"$f":"_xlfn.XLOOKUP(C929,'RAW module list'!A:A,'RAW module list'!C:C, \"Not found\")","v":5},{"$f":"_xlfn.XLOOKUP(C929,'RAW module list'!A:A,'RAW module list'!D:D, \"Not found\")","v":8},{"$f":"_xlfn.XLOOKUP(C929,'RAW module list'!A:A,'RAW module list'!E:E, \"Not found\")","v":0},"First Year",{"$f":"_xlfn.XLOOKUP(B929,'Programmes lists'!B:B,'Programmes lists'!D:D)","v":"BC736305"},{"$f":"_xlfn.XLOOKUP(B929,'Programmes lists'!B:B,'Programmes lists'!E:E, \"Not found\")","v":0},{"$f":"_xlfn.XLOOKUP(B929,'Programmes lists'!B:B,'Programmes lists'!G:G,\"Not found\")","v":"Minimum of 60% in grade 12 pass for \n•\tMathematics\n•\tLife Sciences "},{"$f":"_xlfn.XLOOKUP(B929,'Programmes lists'!B:B,'Programmes lists'!F:F,\"Not found\")","v":512}]
["Senior and FET ","Specialising In Mathematics and Life Sciences (BFN)","UFSS1504",{"$f":"_xlfn.XLOOKUP(C930,'RAW module list'!A:A,'RAW module list'!B:B, \"Not found\")","v":"Undergraduate core curriculum"},{"$f":"_xlfn.XLOOKUP(C930,'RAW module list'!A:A,'RAW module list'!C:C, \"Not found\")","v":5},{"$f":"_xlfn.XLOOKUP(C930,'RAW module list'!A:A,'RAW module list'!D:D, \"Not found\")","v":-16},{"$f":"_xlfn.XLOOKUP(C930,'RAW module list'!A:A,'RAW module list'!E:E, \"Not found\")","v":0},"First Year",{"$f":"_xlfn.XLOOKUP(B930,'Programmes lists'!B:B,'Programmes lists'!D:D)","v":"BC736305"},{"$f":"_xlfn.XLOOKUP(B930,'Programmes lists'!B:B,'Programmes lists'!E:E, \"Not found\")","v":0},{"$f":"_xlfn.XLOOKUP(B930,'Programmes lists'!B:B,'Programmes lists'!G:G,\"Not found\")","v":"Minimum of 60% in grade 12 pass for \n•\tMathematics\n•\tLife Sciences "},{"$f":"_xlfn.XLOOKUP(B930,'Programmes lists'!B:B,'Programmes lists'!F:F,\"Not found\")","v":512}]
["Senior and FET ","Specialising In Mathematics and Life Sciences (BFN)","EALT1508 OR AGAE1508",{"$f":"_xlfn.XLOOKUP(C931,'RAW module list'!A:A,'RAW module list'!B:B, \"Not found\")","v":"English Academic Literacy for Education OR Academic Literacy in Afrikaans"},{"$f":"_xlfn.XLOOKUP(C931,'RAW module list'!A:A,'RAW module list'!C:C, \"Not found\")","v":5},{"$f":"_xlfn.XLOOKUP(C931,'RAW module list'!A:A,'RAW module list'!D:D, \"Not found\")","v":-32},{"$f":"_xlfn.XLOOKUP(C931,'RAW module list'!A:A,'RAW module list'!E:E, \"Not found\")","v":"NBT requirements not been met"},"First Year",{"$f":"_xlfn.XLOOKUP(B931,'Programmes lists'!B:B,'Programmes lists'!D:D)","v":"BC736305"},{"$f":"_xlfn.XLOOKUP(B931,'Programmes lists'!B:B,'Programmes lists'!E:E, \"Not found\")","v":0},{"$f":"_xlfn.XLOOKUP(B931,'Programmes lists'!B:B,'Programmes lists'!G:G,\"Not found\")","v":"Minimum of 60% in grade 12 pass for \n•\tMathematics\n•\tLife Sciences "},{"$f":"_xlfn.XLOOKUP(B931,'Programmes lists'!B:B,'Programmes lists'!F:F,\"Not found\")","v":512}]
["Senior and FET ","Specialising In Mathematics and Life Sciences (BFN)","BLGY1643",{"$f":"_xlfn.XLOOKUP(C932,'RAW module list'!A:A,'RAW module list'!B:B, \"Not found\")","v":"Introduction to Zoology and Etymology "},{"$f":"_xlfn.XLOOKUP(C932,'RAW module list'!A:A,'RAW module list'!C:C, \"Not found\")","v":6},{"$f":"_xlfn.XLOOKUP(C932,'RAW module list'!A:A,'RAW module list'!D:D, \"Not found\")","v":12},{"$f":"_xlfn.XLOOKUP(C932,'RAW module list'!A:A,'RAW module list'!E:E, \"Not found\")","v":"BLGY1513"},"First Year",{"$f":"_xlfn.XLOOKUP(B932,'Programmes lists'!B:B,'Programmes lists'!D:D)","v":"BC736305"},{"$f":"_xlfn.XLOOKUP(B932,'Programmes lists'!B:B,'Programmes lists'!E:E, \"Not found\")","v":0},{"$f":"_xlfn.XLOOKUP(B932,'Programmes lists'!B:B,'Programmes lists'!G:G,\"Not found\")","v":"Minimum of 60% in grade 12 pass for \n•\tMathematics\n•\tLife Sciences "},{"$f":"_xlfn.XLOOKUP(B932,'Programmes lists'!B:B,'Programmes lists'!F:F,\"Not found\")","v":512}]
["Senior and FET ","Specialising In Mathematics and Life Sciences (BFN)","BLGY1663",{"$f":"_xlfn.XLOOKUP(C933,'RAW module list'!A:A,'RAW module list'!B:B, \"Not found\")","v":"Introduction to Biochemistry and Microbiology"},{"$f":"_xlfn.XLOOKUP(C933,'RAW module list'!A:A,'RAW module list'!C:C, \"Not found\")","v":6},{"$f":"_xlfn.XLOOKUP(C933,'RAW module list'!A:A,'RAW module list'!D:D, \"Not found\")","v":12},{"$f":"_xlfn.XLOOKUP(C933,'RAW module list'!A:A,'RAW module list'!E:E, \"Not found\")","v":"BLGY1513"},"First Year",{"$f":"_xlfn.XLOOKUP(B933,'Programmes lists'!B:B,'Programmes lists'!D:D)","v":"BC736305"},{"$f":"_xlfn.XLOOKUP(B933,'Programmes lists'!B:B,'Programmes lists'!E:E, \"Not found\")","v":0},{"$f":"_xlfn.XLOOKUP(B933,'Programmes lists'!B:B,'Programmes lists'!G:G,\"Not found\")","v":"Minimum of 60% in grade 12 pass for \n•\tMathematics\n•\tLife Sciences "},{"$f":"_xlfn.XLOOKUP(B933,'Programmes lists'!B:B,'Programmes lists'!F:F,\"Not found\")","v":512}]
["Senior and FET ","Specialising In Mathematics and Life Sciences (BFN)","BLGY1623 OR BLGY1683",{"$f":"_xlfn.XLOOKUP(C934,'RAW module list'!A:A,'RAW module list'!B:B, \"Not found\")","v":"Introduction of Genetics: The Independence of plants and life on earth OR Introduction to Zoology and Etymology "},{"$f":"_xlfn.XLOOKUP(C934,'RAW module list'!A:A,'RAW module list'!C:C, \"Not found\")","v":6},{"$f":"_xlfn.XLOOKUP(C934,'RAW module list'!A:A,'RAW module list'!D:D, \"Not found\")","v":12},{"$f":"_xlfn.XLOOKUP(C934,'RAW module list'!A:A,'RAW module list'!E:E, \"Not found\")","v":"BLGY1513"},"First Year",{"$f":"_xlfn.XLOOKUP(B934,'Programmes lists'!B:B,'Programmes lists'!D:D)","v":"BC736305"},{"$f":"_xlfn.XLOOKUP(B934,'Programmes lists'!B:B,'Programmes lists'!E:E, \"Not found\")","v":0},{"$f":"_xlfn.XLOOKUP(B934,'Programmes lists'!B:B,'Programmes lists'!G:G,\"Not found\")","v":"Minimum of 60% in grade 12 pass for \n•\tMathematics\n•\tLife Sciences "},{"$f":"_xlfn.XLOOKUP(B934,'Programmes lists'!B:B,'Programmes lists'!F:F,\"Not found\")","v":512}]
["Senior and FET ","Specialising In Mathematics and Life Sciences (BFN)","MATM1644",{"$f":"_xlfn.XLOOKUP(C935,'RAW module list'!A:A,'RAW module list'!B:B, \"Not found\")","v":"Calculus and Algebra"},{"$f":"_xlfn.XLOOKUP(C935,'RAW module list'!A:A,'RAW module list'!C:C, \"Not found\")","v":6},{"$f":"_xlfn.XLOOKUP(C935,'RAW module list'!A:A,'RAW module list'!D:D, \"Not found\")","v":16},{"$f":"_xlfn.XLOOKUP(C935,'RAW module list'!A:A,'RAW module list'!E:E, \"Not found\")","v":"MATM1534"},"First Year",{"$f":"_xlfn.XLOOKUP(B935,'Programmes lists'!B:B,'Programmes lists'!D:D)","v":"BC736305"},{"$f":"_xlfn.XLOOKUP(B935,'Programmes lists'!B:B,'Programmes lists'!E:E, \"Not found\")","v":0},{"$f":"_xlfn.XLOOKUP(B935,'Programmes lists'!B:B,'Programmes lists'!G:G,\"Not found\")","v":"Minimum of 60% in grade 12 pass for \n•\tMathematics\n•\tLife Sciences "},{"$f":"_xlfn.XLOOKUP(B935,'Programmes lists'!B:B,'Programmes lists'!F:F,\"Not found\")","v":512}]
["Senior and FET ","Specialising In Mathematics and Life Sciences (BFN)","EDUB1623",{"$f":"_xlfn.XLOOKUP(C936,'RAW module list'!A:A,'RAW module list'!B:B, \"Not found\")","v":"Education Studies 1.2 What it means to educate: Theoretical perspectives and their significance for SA education"},{"$f":"_xlfn.XLOOKUP(C936,'RAW module list'!A:A,'RAW module list'!C:C, \"Not found\")","v":6},{"$f":"_xlfn.XLOOKUP(C936,'RAW module list'!A:A,'RAW module list'!D:D, \"Not found\")","v":12},{"$f":"_xlfn.XLOOKUP(C936,'RAW module list'!A:A,'RAW module list'!E:E, \"Not found\")","v":0},"First Year",{"$f":"_xlfn.XLOOKUP(B936,'Programmes lists'!B:B,'Programmes lists'!D:D)","v":"BC736305"},{"$f":"_xlfn.XLOOKUP(B936,'Programmes lists'!B:B,'Programmes lists'!E:E, \"Not found\")","v":0},{"$f":"_xlfn.XLOOKUP(B936,'Programmes lists'!B:B,'Programmes lists'!G:G,\"Not found\")","v":"Minimum of 60% in grade 12 pass for \n•\tMathematics\n•\tLife Sciences "},{"$f":"_xlfn.XLOOKUP(B936,'Programmes lists'!B:B,'Programmes lists'!F:F,\"Not found\")","v":512}]
["Senior and FET ","Specialising In Mathematics and Life Sciences (BFN)","GPEV1623",{"$f":"_xlfn.XLOOKUP(C937,'RAW module list'!A:A,'RAW module list'!B:B, \"Not found\")","v":"General Pedagogy 1: Managing the Curriculum"},{"$f":"_xlfn.XLOOKUP(C937,'RAW module list'!A:A,'RAW module list'!C:C, \"Not found\")","v":6},{"$f":"_xlfn.XLOOKUP(C937,'RAW module list'!A:A,'RAW module list'!D:D, \"Not found\")","v":12},{"$f":"_xlfn.XLOOKUP(C937,'RAW module list'!A:A,'RAW module list'!E:E, \"Not found\")","v":0},"First Year",{"$f":"_xlfn.XLOOKUP(B937,'Programmes lists'!B:B,'Programmes lists'!D:D)","v":"BC736305"},{"$f":"_xlfn.XLOOKUP(B937,'Programmes lists'!B:B,'Programmes lists'!E:E, \"Not found\")","v":0},{"$f":"_xlfn.XLOOKUP(B937,'Programmes lists'!B:B,'Programmes lists'!G:G,\"Not found\")","v":"Minimum of 60% in grade 12 pass for \n•\tMathematics\n•\tLife Sciences "},{"$f":"_xlfn.XLOOKUP(B937,'Programmes lists'!B:B,'Programmes lists'!F:F,\"Not found\")","v":512}]
["Senior and FET ","Specialising In Mathematics and Life Sciences (BFN)","BLGY2615",{"$f":"_xlfn.XLOOKUP(C938,'RAW module list'!A:A,'RAW module list'!B:B, \"Not found\")","v":"Biology for Education 1"},{"$f":"_xlfn.XLOOKUP(C938,'RAW module list'!A:A,'RAW module list'!C:C, \"Not found\")","v":6},{"$f":"_xlfn.XLOOKUP(C938,'RAW module list'!A:A,'RAW module list'!D:D, \"Not found\")","v":20},{"$f":"_xlfn.XLOOKUP(C938,'RAW module list'!A:A,'RAW module list'!E:E, \"Not found\")","v":"BLGY1643 & BLGY1663"},"Second Year",{"$f":"_xlfn.XLOOKUP(B938,'Programmes lists'!B:B,'Programmes lists'!D:D)","v":"BC736305"},{"$f":"_xlfn.XLOOKUP(B938,'Programmes lists'!B:B,'Programmes lists'!E:E, \"Not found\")","v":0},{"$f":"_xlfn.XLOOKUP(B938,'Programmes lists'!B:B,'Programmes lists'!G:G,\"Not found\")","v":"Minimum of 60% in grade 12 pass for \n•\tMathematics\n•\tLife Sciences "},{"$f":"_xlfn.XLOOKUP(B938,'Programmes lists'!B:B,'Programmes lists'!F:F,\"Not found\")","v":512},"* a choice must be made between ALLT3504 and ELLT subject: ENED3514 is not required"]
["Senior and FET ","Specialising In Mathematics and Life Sciences (BFN)","EDUB2714",{"$f":"_xlfn.XLOOKUP(C939,'RAW module list'!A:A,'RAW module list'!B:B, \"Not found\")","v":"Education Studies 2: Teaching and Learning in Education Context"},{"$f":"_xlfn.XLOOKUP(C939,'RAW module list'!A:A,'RAW module list'!C:C, \"Not found\")","v":7},{"$f":"_xlfn.XLOOKUP(C939,'RAW module list'!A:A,'RAW module list'!D:D, \"Not found\")","v":16},{"$f":"_xlfn.XLOOKUP(C939,'RAW module list'!A:A,'RAW module list'!E:E, \"Not found\")","v":"EDUB1613 & EDUB1623"},"Second Year",{"$f":"_xlfn.XLOOKUP(B939,'Programmes lists'!B:B,'Programmes lists'!D:D)","v":"BC736305"},{"$f":"_xlfn.XLOOKUP(B939,'Programmes lists'!B:B,'Programmes lists'!E:E, \"Not found\")","v":0},{"$f":"_xlfn.XLOOKUP(B939,'Programmes lists'!B:B,'Programmes lists'!G:G,\"Not found\")","v":"Minimum of 60% in grade 12 pass for \n•\tMathematics\n•\tLife Sciences "},{"$f":"_xlfn.XLOOKUP(B939,'Programmes lists'!B:B,'Programmes lists'!F:F,\"Not found\")","v":512}]
["Senior and FET ","Specialising In Mathematics and Life Sciences (BFN)","GPEV2613",{"$f":"_xlfn.XLOOKUP(C940,'RAW module list'!A:A,'RAW module list'!B:B, \"Not found\")","v":"General Pedagogy 2.1"},{"$f":"_xlfn.XLOOKUP(C940,'RAW module list'!A:A,'RAW module list'!C:C, \"Not found\")","v":6},{"$f":"_xlfn.XLOOKUP(C940,'RAW module list'!A:A,'RAW module list'!D:D, \"Not found\")","v":12},{"$f":"_xlfn.XLOOKUP(C940,'RAW module list'!A:A,'RAW module list'!E:E, \"Not found\")","v":"GPEV1623"},"Second Year",{"$f":"_xlfn.XLOOKUP(B940,'Programmes lists'!B:B,'Programmes lists'!D:D)","v":"BC736305"},{"$f":"_xlfn.XLOOKUP(B940,'Programmes lists'!B:B,'Programmes lists'!E:E, \"Not found\")","v":0},{"$f":"_xlfn.XLOOKUP(B940,'Programmes lists'!B:B,'Programmes lists'!G:G,\"Not found\")","v":"Minimum of 60% in grade 12 pass for \n•\tMathematics\n•\tLife Sciences "},{"$f":"_xlfn.XLOOKUP(B940,'Programmes lists'!B:B,'Programmes lists'!F:F,\"Not found\")","v":512}]
["Senior and FET ","Specialising In Mathematics and Life Sciences (BFN)","MATA2654",{"$f":"_xlfn.XLOOKUP(C941,'RAW module list'!A:A,'RAW module list'!B:B, \"Not found\")","v":"Ordinary differential equations"},{"$f":"_xlfn.XLOOKUP(C941,'RAW module list'!A:A,'RAW module list'!C:C, \"Not found\")","v":6},{"$f":"_xlfn.XLOOKUP(C941,'RAW module list'!A:A,'RAW module list'!D:D, \"Not found\")","v":16},{"$f":"_xlfn.XLOOKUP(C941,'RAW module list'!A:A,'RAW module list'!E:E, \"Not found\")","v":">60% for MATM1622 & MATM1644"},"Second Year",{"$f":"_xlfn.XLOOKUP(B941,'Programmes lists'!B:B,'Programmes lists'!D:D)","v":"BC736305"},{"$f":"_xlfn.XLOOKUP(B941,'Programmes lists'!B:B,'Programmes lists'!E:E, \"Not found\")","v":0},{"$f":"_xlfn.XLOOKUP(B941,'Programmes lists'!B:B,'Programmes lists'!G:G,\"Not found\")","v":"Minimum of 60% in grade 12 pass for \n•\tMathematics\n•\tLife Sciences "},{"$f":"_xlfn.XLOOKUP(B941,'Programmes lists'!B:B,'Programmes lists'!F:F,\"Not found\")","v":512}]
["Senior and FET ","Specialising In Mathematics and Life Sciences (BFN)","ELLT2504 OR ALLT3504",{"$f":"_xlfn.XLOOKUP(C942,'RAW module list'!A:A,'RAW module list'!B:B, \"Not found\")","v":"English as medium of learning and teaching OR Afrikaans as medium of learning and teaching"},{"$f":"_xlfn.XLOOKUP(C942,'RAW module list'!A:A,'RAW module list'!C:C, \"Not found\")","v":5},{"$f":"_xlfn.XLOOKUP(C942,'RAW module list'!A:A,'RAW module list'!D:D, \"Not found\")","v":16},{"$f":"_xlfn.XLOOKUP(C942,'RAW module list'!A:A,'RAW module list'!E:E, \"Not found\")","v":0},"Second Year",{"$f":"_xlfn.XLOOKUP(B942,'Programmes lists'!B:B,'Programmes lists'!D:D)","v":"BC736305"},{"$f":"_xlfn.XLOOKUP(B942,'Programmes lists'!B:B,'Programmes lists'!E:E, \"Not found\")","v":0},{"$f":"_xlfn.XLOOKUP(B942,'Programmes lists'!B:B,'Programmes lists'!G:G,\"Not found\")","v":"Minimum of 60% in grade 12 pass for \n•\tMathematics\n•\tLife Sciences "},{"$f":"_xlfn.XLOOKUP(B942,'Programmes lists'!B:B,'Programmes lists'!F:F,\"Not found\")","v":512}]
["Senior and FET ","Specialising In Mathematics and Life Sciences (BFN)","TPRV2502",{"$f":"_xlfn.XLOOKUP(C943,'RAW module list'!A:A,'RAW module list'!B:B, \"Not found\")","v":"Teaching Practice 2"},{"$f":"_xlfn.XLOOKUP(C943,'RAW module list'!A:A,'RAW module list'!C:C, \"Not found\")","v":5},{"$f":"_xlfn.XLOOKUP(C943,'RAW module list'!A:A,'RAW module list'!D:D, \"Not found\")","v":8},{"$f":"_xlfn.XLOOKUP(C943,'RAW module list'!A:A,'RAW module list'!E:E, \"Not found\")","v":"TPRV1502"},"Second Year",{"$f":"_xlfn.XLOOKUP(B943,'Programmes lists'!B:B,'Programmes lists'!D:D)","v":"BC736305"},{"$f":"_xlfn.XLOOKUP(B943,'Programmes lists'!B:B,'Programmes lists'!E:E, \"Not found\")","v":0},{"$f":"_xlfn.XLOOKUP(B943,'Programmes lists'!B:B,'Programmes lists'!G:G,\"Not found\")","v":"Minimum of 60% in grade 12 pass for \n•\tMathematics\n•\tLife Sciences "},{"$f":"_xlfn.XLOOKUP(B943,'Programmes lists'!B:B,'Programmes lists'!F:F,\"Not found\")","v":512}]
["Senior and FET ","Specialising In Mathematics and Life Sciences (BFN)","BLGY2625",{"$f":"_xlfn.XLOOKUP(C944,'RAW module list'!A:A,'RAW module list'!B:B, \"Not found\")","v":"Biology for Education 2"},{"$f":"_xlfn.XLOOKUP(C944,'RAW module list'!A:A,'RAW module list'!C:C, \"Not found\")","v":6},{"$f":"_xlfn.XLOOKUP(C944,'RAW module list'!A:A,'RAW module list'!D:D, \"Not found\")","v":20},{"$f":"_xlfn.XLOOKUP(C944,'RAW module list'!A:A,'RAW module list'!E:E, \"Not found\")","v":"BLGY2615"},"Second Year",{"$f":"_xlfn.XLOOKUP(B944,'Programmes lists'!B:B,'Programmes lists'!D:D)","v":"BC736305"},{"$f":"_xlfn.XLOOKUP(B944,'Programmes lists'!B:B,'Programmes lists'!E:E, \"Not found\")","v":0},{"$f":"_xlfn.XLOOKUP(B944,'Programmes lists'!B:B,'Programmes lists'!G:G,\"Not found\")","v":"Minimum of 60% in grade 12 pass for \n•\tMathematics\n•\tLife Sciences "},{"$f":"_xlfn.XLOOKUP(B944,'Programmes lists'!B:B,'Programmes lists'!F:F,\"Not found\")","v":512}]
["Senior and FET ","Specialising In Mathematics and Life Sciences (BFN)","EDUB2714",{"$f":"_xlfn.XLOOKUP(C945,'RAW module list'!A:A,'RAW module list'!B:B, \"Not found\")","v":"Education Studies 2: Teaching and Learning in Education Context"},{"$f":"_xlfn.XLOOKUP(C945,'RAW module list'!A:A,'RAW module list'!C:C, \"Not found\")","v":7},{"$f":"_xlfn.XLOOKUP(C945,'RAW module list'!A:A,'RAW module list'!D:D, \"Not found\")","v":16},{"$f":"_xlfn.XLOOKUP(C945,'RAW module list'!A:A,'RAW module list'!E:E, \"Not found\")","v":"EDUB1613 & EDUB1623"},"Second Year",{"$f":"_xlfn.XLOOKUP(B945,'Programmes lists'!B:B,'Programmes lists'!D:D)","v":"BC736305"},{"$f":"_xlfn.XLOOKUP(B945,'Programmes lists'!B:B,'Programmes lists'!E:E, \"Not found\")","v":0},{"$f":"_xlfn.XLOOKUP(B945,'Programmes lists'!B:B,'Programmes lists'!G:G,\"Not found\")","v":"Minimum of 60% in grade 12 pass for \n•\tMathematics\n•\tLife Sciences "},{"$f":"_xlfn.XLOOKUP(B945,'Programmes lists'!B:B,'Programmes lists'!F:F,\"Not found\")","v":512}]
["Senior and FET ","Specialising In Mathematics and Life Sciences (BFN)","GPEV2623",{"$f":"_xlfn.XLOOKUP(C946,'RAW module list'!A:A,'RAW module list'!B:B, \"Not found\")","v":"General Pedagogy 2.2: Assessment"},{"$f":"_xlfn.XLOOKUP(C946,'RAW module list'!A:A,'RAW module list'!C:C, \"Not found\")","v":6},{"$f":"_xlfn.XLOOKUP(C946,'RAW module list'!A:A,'RAW module list'!D:D, \"Not found\")","v":12},{"$f":"_xlfn.XLOOKUP(C946,'RAW module list'!A:A,'RAW module list'!E:E, \"Not found\")","v":"GPEV2613"},"Second Year",{"$f":"_xlfn.XLOOKUP(B946,'Programmes lists'!B:B,'Programmes lists'!D:D)","v":"BC736305"},{"$f":"_xlfn.XLOOKUP(B946,'Programmes lists'!B:B,'Programmes lists'!E:E, \"Not found\")","v":0},{"$f":"_xlfn.XLOOKUP(B946,'Programmes lists'!B:B,'Programmes lists'!G:G,\"Not found\")","v":"Minimum of 60% in grade 12 pass for \n•\tMathematics\n•\tLife Sciences "},{"$f":"_xlfn.XLOOKUP(B946,'Programmes lists'!B:B,'Programmes lists'!F:F,\"Not found\")","v":512}]
["Senior and FET ","Specialising In Mathematics and Life Sciences (BFN)","MATA2664",{"$f":"_xlfn.XLOOKUP(C947,'RAW module list'!A:A,'RAW module list'!B:B, \"Not found\")","v":"Introduction to mathematical modelling"},{"$f":"_xlfn.XLOOKUP(C947,'RAW module list'!A:A,'RAW module list'!C:C, \"Not found\")","v":6},{"$f":"_xlfn.XLOOKUP(C947,'RAW module list'!A:A,'RAW module list'!D:D, \"Not found\")","v":16},{"$f":"_xlfn.XLOOKUP(C947,'RAW module list'!A:A,'RAW module list'!E:E, \"Not found\")","v":"MATM1622 & MATM1644"},"Second Year",{"$f":"_xlfn.XLOOKUP(B947,'Programmes lists'!B:B,'Programmes lists'!D:D)","v":"BC736305"},{"$f":"_xlfn.XLOOKUP(B947,'Programmes lists'!B:B,'Programmes lists'!E:E, \"Not found\")","v":0},{"$f":"_xlfn.XLOOKUP(B947,'Programmes lists'!B:B,'Programmes lists'!G:G,\"Not found\")","v":"Minimum of 60% in grade 12 pass for \n•\tMathematics\n•\tLife Sciences "},{"$f":"_xlfn.XLOOKUP(B947,'Programmes lists'!B:B,'Programmes lists'!F:F,\"Not found\")","v":512}]
["Senior and FET ","Specialising In Mathematics and Life Sciences (BFN)","Special Requirement:","* a choice must be made between ALLT3504 and ELLT2504: ENED3514 is not required",null,null,null,"Second Year",{"$f":"_xlfn.XLOOKUP(B948,'Programmes lists'!B:B,'Programmes lists'!D:D)","v":"BC736305"},{"$f":"_xlfn.XLOOKUP(B948,'Programmes lists'!B:B,'Programmes lists'!E:E, \"Not found\")","v":0},{"$f":"_xlfn.XLOOKUP(B948,'Programmes lists'!B:B,'Programmes lists'!G:G,\"Not found\")","v":"Minimum of 60% in grade 12 pass for \n•\tMathematics\n•\tLife Sciences "},{"$f":"_xlfn.XLOOKUP(B948,'Programmes lists'!B:B,'Programmes lists'!F:F,\"Not found\")","v":512}]
["Senior and FET ","Specialising In Mathematics and Life Sciences (BFN)","EDUB2724",{"$f":"_xlfn.XLOOKUP(C949,'RAW module list'!A:A,'RAW module list'!B:B, \"Not found\")","v":"Education Studies 2: Human Relationships in Education context"},{"$f":"_xlfn.XLOOKUP(C949,'RAW module list'!A:A,'RAW module list'!C:C, \"Not found\")","v":7},{"$f":"_xlfn.XLOOKUP(C949,'RAW module list'!A:A,'RAW module list'!D:D, \"Not found\")","v":16},{"$f":"_xlfn.XLOOKUP(C949,'RAW module list'!A:A,'RAW module list'!E:E, \"Not found\")","v":"EDUB2714"},"Third Year",{"$f":"_xlfn.XLOOKUP(B949,'Programmes lists'!B:B,'Programmes lists'!D:D)","v":"BC736305"},{"$f":"_xlfn.XLOOKUP(B949,'Programmes lists'!B:B,'Programmes lists'!E:E, \"Not found\")","v":0},{"$f":"_xlfn.XLOOKUP(B949,'Programmes lists'!B:B,'Programmes lists'!G:G,\"Not found\")","v":"Minimum of 60% in grade 12 pass for \n•\tMathematics\n•\tLife Sciences "},{"$f":"_xlfn.XLOOKUP(B949,'Programmes lists'!B:B,'Programmes lists'!F:F,\"Not found\")","v":512},"* If the option is exercised to continue with Mathematics to the 200 level (MATA2654 and MATA2664), the LSPT module will be replaced by MSTV3605 and MSTV4705"]
["Senior and FET ","Specialising In Mathematics and Life Sciences (BFN)","GPEV2623",{"$f":"_xlfn.XLOOKUP(C950,'RAW module list'!A:A,'RAW module list'!B:B, \"Not found\")","v":"General Pedagogy 2.2: Assessment"},{"$f":"_xlfn.XLOOKUP(C950,'RAW module list'!A:A,'RAW module list'!C:C, \"Not found\")","v":6},{"$f":"_xlfn.XLOOKUP(C950,'RAW module list'!A:A,'RAW module list'!D:D, \"Not found\")","v":12},{"$f":"_xlfn.XLOOKUP(C950,'RAW module list'!A:A,'RAW module list'!E:E, \"Not found\")","v":"GPEV2613"},"Third Year",{"$f":"_xlfn.XLOOKUP(B950,'Programmes lists'!B:B,'Programmes lists'!D:D)","v":"BC736305"},{"$f":"_xlfn.XLOOKUP(B950,'Programmes lists'!B:B,'Programmes lists'!E:E, \"Not found\")","v":0},{"$f":"_xlfn.XLOOKUP(B950,'Programmes lists'!B:B,'Programmes lists'!G:G,\"Not found\")","v":"Minimum of 60% in grade 12 pass for \n•\tMathematics\n•\tLife Sciences "},{"$f":"_xlfn.XLOOKUP(B950,'Programmes lists'!B:B,'Programmes lists'!F:F,\"Not found\")","v":512}]
["Senior and FET ","Specialising In Mathematics and Life Sciences (BFN)","MATA2664",{"$f":"_xlfn.XLOOKUP(C951,'RAW module list'!A:A,'RAW module list'!B:B, \"Not found\")","v":"Introduction to mathematical modelling"},{"$f":"_xlfn.XLOOKUP(C951,'RAW module list'!A:A,'RAW module list'!C:C, \"Not found\")","v":6},{"$f":"_xlfn.XLOOKUP(C951,'RAW module list'!A:A,'RAW module list'!D:D, \"Not found\")","v":16},{"$f":"_xlfn.XLOOKUP(C951,'RAW module list'!A:A,'RAW module list'!E:E, \"Not found\")","v":"MATM1622 & MATM1644"},"Third Year",{"$f":"_xlfn.XLOOKUP(B951,'Programmes lists'!B:B,'Programmes lists'!D:D)","v":"BC736305"},{"$f":"_xlfn.XLOOKUP(B951,'Programmes lists'!B:B,'Programmes lists'!E:E, \"Not found\")","v":0},{"$f":"_xlfn.XLOOKUP(B951,'Programmes lists'!B:B,'Programmes lists'!G:G,\"Not found\")","v":"Minimum of 60% in grade 12 pass for \n•\tMathematics\n•\tLife Sciences "},{"$f":"_xlfn.XLOOKUP(B951,'Programmes lists'!B:B,'Programmes lists'!F:F,\"Not found\")","v":512}]
["Senior and FET ","Specialising In Mathematics and Life Sciences (BFN)","LSTV3605",{"$f":"_xlfn.XLOOKUP(C952,'RAW module list'!A:A,'RAW module list'!B:B, \"Not found\")","v":"Life Sciences Teaching 1: Further Education and Training phase"},{"$f":"_xlfn.XLOOKUP(C952,'RAW module list'!A:A,'RAW module list'!C:C, \"Not found\")","v":6},{"$f":"_xlfn.XLOOKUP(C952,'RAW module list'!A:A,'RAW module list'!D:D, \"Not found\")","v":20},{"$f":"_xlfn.XLOOKUP(C952,'RAW module list'!A:A,'RAW module list'!E:E, \"Not found\")","v":"At least 64 credits of Biology modules up to level 6"},"Third Year",{"$f":"_xlfn.XLOOKUP(B952,'Programmes lists'!B:B,'Programmes lists'!D:D)","v":"BC736305"},{"$f":"_xlfn.XLOOKUP(B952,'Programmes lists'!B:B,'Programmes lists'!E:E, \"Not found\")","v":0},{"$f":"_xlfn.XLOOKUP(B952,'Programmes lists'!B:B,'Programmes lists'!G:G,\"Not found\")","v":"Minimum of 60% in grade 12 pass for \n•\tMathematics\n•\tLife Sciences "},{"$f":"_xlfn.XLOOKUP(B952,'Programmes lists'!B:B,'Programmes lists'!F:F,\"Not found\")","v":512}]
["Senior and FET ","Specialising In Mathematics and Life Sciences (BFN)","MSTS3605",{"$f":"_xlfn.XLOOKUP(C953,'RAW module list'!A:A,'RAW module list'!B:B, \"Not found\")","v":"Mathematics Teaching 1: Senior Phase"},{"$f":"_xlfn.XLOOKUP(C953,'RAW module list'!A:A,'RAW module list'!C:C, \"Not found\")","v":6},{"$f":"_xlfn.XLOOKUP(C953,'RAW module list'!A:A,'RAW module list'!D:D, \"Not found\")","v":20},{"$f":"_xlfn.XLOOKUP(C953,'RAW module list'!A:A,'RAW module list'!E:E, \"Not found\")","v":"MATM1534 & MATM1644"},"Third Year",{"$f":"_xlfn.XLOOKUP(B953,'Programmes lists'!B:B,'Programmes lists'!D:D)","v":"BC736305"},{"$f":"_xlfn.XLOOKUP(B953,'Programmes lists'!B:B,'Programmes lists'!E:E, \"Not found\")","v":0},{"$f":"_xlfn.XLOOKUP(B953,'Programmes lists'!B:B,'Programmes lists'!G:G,\"Not found\")","v":"Minimum of 60% in grade 12 pass for \n•\tMathematics\n•\tLife Sciences "},{"$f":"_xlfn.XLOOKUP(B953,'Programmes lists'!B:B,'Programmes lists'!F:F,\"Not found\")","v":512}]
["Senior and FET ","Specialising In Mathematics and Life Sciences (BFN)","MSTV3605",{"$f":"_xlfn.XLOOKUP(C954,'RAW module list'!A:A,'RAW module list'!B:B, \"Not found\")","v":"Mathematics Teaching 1: FET"},{"$f":"_xlfn.XLOOKUP(C954,'RAW module list'!A:A,'RAW module list'!C:C, \"Not found\")","v":6},{"$f":"_xlfn.XLOOKUP(C954,'RAW module list'!A:A,'RAW module list'!D:D, \"Not found\")","v":20},{"$f":"_xlfn.XLOOKUP(C954,'RAW module list'!A:A,'RAW module list'!E:E, \"Not found\")","v":"MATA2644 & MATA2654"},"Third Year",{"$f":"_xlfn.XLOOKUP(B954,'Programmes lists'!B:B,'Programmes lists'!D:D)","v":"BC736305"},{"$f":"_xlfn.XLOOKUP(B954,'Programmes lists'!B:B,'Programmes lists'!E:E, \"Not found\")","v":0},{"$f":"_xlfn.XLOOKUP(B954,'Programmes lists'!B:B,'Programmes lists'!G:G,\"Not found\")","v":"Minimum of 60% in grade 12 pass for \n•\tMathematics\n•\tLife Sciences "},{"$f":"_xlfn.XLOOKUP(B954,'Programmes lists'!B:B,'Programmes lists'!F:F,\"Not found\")","v":512}]
["Senior and FET ","Specialising In Mathematics and Life Sciences (BFN)","LSPT3605",{"$f":"_xlfn.XLOOKUP(C955,'RAW module list'!A:A,'RAW module list'!B:B, \"Not found\")","v":"Learner support as third didactics "},{"$f":"_xlfn.XLOOKUP(C955,'RAW module list'!A:A,'RAW module list'!C:C, \"Not found\")","v":6},{"$f":"_xlfn.XLOOKUP(C955,'RAW module list'!A:A,'RAW module list'!D:D, \"Not found\")","v":20},{"$f":"_xlfn.XLOOKUP(C955,'RAW module list'!A:A,'RAW module list'!E:E, \"Not found\")","v":0},"Third Year",{"$f":"_xlfn.XLOOKUP(B955,'Programmes lists'!B:B,'Programmes lists'!D:D)","v":"BC736305"},{"$f":"_xlfn.XLOOKUP(B955,'Programmes lists'!B:B,'Programmes lists'!E:E, \"Not found\")","v":0},{"$f":"_xlfn.XLOOKUP(B955,'Programmes lists'!B:B,'Programmes lists'!G:G,\"Not found\")","v":"Minimum of 60% in grade 12 pass for \n•\tMathematics\n•\tLife Sciences "},{"$f":"_xlfn.XLOOKUP(B955,'Programmes lists'!B:B,'Programmes lists'!F:F,\"Not found\")","v":512}]
["Senior and FET ","Specialising In Mathematics and Life Sciences (BFN)","EDUB3714",{"$f":"_xlfn.XLOOKUP(C956,'RAW module list'!A:A,'RAW module list'!B:B, \"Not found\")","v":"Education Studies 3.1 Education systems in global and national context"},{"$f":"_xlfn.XLOOKUP(C956,'RAW module list'!A:A,'RAW module list'!C:C, \"Not found\")","v":7},{"$f":"_xlfn.XLOOKUP(C956,'RAW module list'!A:A,'RAW module list'!D:D, \"Not found\")","v":16},{"$f":"_xlfn.XLOOKUP(C956,'RAW module list'!A:A,'RAW module list'!E:E, \"Not found\")","v":"EDUB1613 & EDUB1623& EDUB2714 & EDUB2724"},"Third Year",{"$f":"_xlfn.XLOOKUP(B956,'Programmes lists'!B:B,'Programmes lists'!D:D)","v":"BC736305"},{"$f":"_xlfn.XLOOKUP(B956,'Programmes lists'!B:B,'Programmes lists'!E:E, \"Not found\")","v":0},{"$f":"_xlfn.XLOOKUP(B956,'Programmes lists'!B:B,'Programmes lists'!G:G,\"Not found\")","v":"Minimum of 60% in grade 12 pass for \n•\tMathematics\n•\tLife Sciences "},{"$f":"_xlfn.XLOOKUP(B956,'Programmes lists'!B:B,'Programmes lists'!F:F,\"Not found\")","v":512}]
["Senior and FET ","Specialising In Mathematics and Life Sciences (BFN)","SICL3512 OR SSCL3512 OR GAFR3512 OR ZUCL3512",{"$f":"_xlfn.XLOOKUP(C957,'RAW module list'!A:A,'RAW module list'!B:B, \"Not found\")","v":"Conversational Sign Language OR Conversational Sesotho OR Conversational Afrikaans OR Conversational IsiZulu"},{"$f":"_xlfn.XLOOKUP(C957,'RAW module list'!A:A,'RAW module list'!C:C, \"Not found\")","v":5},{"$f":"_xlfn.XLOOKUP(C957,'RAW module list'!A:A,'RAW module list'!D:D, \"Not found\")","v":8},{"$f":"_xlfn.XLOOKUP(C957,'RAW module list'!A:A,'RAW module list'!E:E, \"Not found\")","v":"No previous exposure to the language"},"Third Year",{"$f":"_xlfn.XLOOKUP(B957,'Programmes lists'!B:B,'Programmes lists'!D:D)","v":"BC736305"},{"$f":"_xlfn.XLOOKUP(B957,'Programmes lists'!B:B,'Programmes lists'!E:E, \"Not found\")","v":0},{"$f":"_xlfn.XLOOKUP(B957,'Programmes lists'!B:B,'Programmes lists'!G:G,\"Not found\")","v":"Minimum of 60% in grade 12 pass for \n•\tMathematics\n•\tLife Sciences "},{"$f":"_xlfn.XLOOKUP(B957,'Programmes lists'!B:B,'Programmes lists'!F:F,\"Not found\")","v":512}]
["Senior and FET ","Specialising In Mathematics and Life Sciences (BFN)","WILV3606",{"$f":"_xlfn.XLOOKUP(C958,'RAW module list'!A:A,'RAW module list'!B:B, \"Not found\")","v":"Teaching Practice 3"},{"$f":"_xlfn.XLOOKUP(C958,'RAW module list'!A:A,'RAW module list'!C:C, \"Not found\")","v":6},{"$f":"_xlfn.XLOOKUP(C958,'RAW module list'!A:A,'RAW module list'!D:D, \"Not found\")","v":24},{"$f":"_xlfn.XLOOKUP(C958,'RAW module list'!A:A,'RAW module list'!E:E, \"Not found\")","v":"TPRV2502"},"Third Year",{"$f":"_xlfn.XLOOKUP(B958,'Programmes lists'!B:B,'Programmes lists'!D:D)","v":"BC736305"},{"$f":"_xlfn.XLOOKUP(B958,'Programmes lists'!B:B,'Programmes lists'!E:E, \"Not found\")","v":0},{"$f":"_xlfn.XLOOKUP(B958,'Programmes lists'!B:B,'Programmes lists'!G:G,\"Not found\")","v":"Minimum of 60% in grade 12 pass for \n•\tMathematics\n•\tLife Sciences "},{"$f":"_xlfn.XLOOKUP(B958,'Programmes lists'!B:B,'Programmes lists'!F:F,\"Not found\")","v":512}]
["Senior and FET ","Specialising In Mathematics and Life Sciences (BFN)","EDUB3724",{"$f":"_xlfn.XLOOKUP(C959,'RAW module list'!A:A,'RAW module list'!B:B, \"Not found\")","v":"Education Studies 3.2: Contemporary Education Theory in the current social context"},{"$f":"_xlfn.XLOOKUP(C959,'RAW module list'!A:A,'RAW module list'!C:C, \"Not found\")","v":7},{"$f":"_xlfn.XLOOKUP(C959,'RAW module list'!A:A,'RAW module list'!D:D, \"Not found\")","v":16},{"$f":"_xlfn.XLOOKUP(C959,'RAW module list'!A:A,'RAW module list'!E:E, \"Not found\")","v":"EDUB1613 & EDUB1623 & EDUB2714 & EDUB2724 & EDUB3714"},"Third Year",{"$f":"_xlfn.XLOOKUP(B959,'Programmes lists'!B:B,'Programmes lists'!D:D)","v":"BC736305"},{"$f":"_xlfn.XLOOKUP(B959,'Programmes lists'!B:B,'Programmes lists'!E:E, \"Not found\")","v":0},{"$f":"_xlfn.XLOOKUP(B959,'Programmes lists'!B:B,'Programmes lists'!G:G,\"Not found\")","v":"Minimum of 60% in grade 12 pass for \n•\tMathematics\n•\tLife Sciences "},{"$f":"_xlfn.XLOOKUP(B959,'Programmes lists'!B:B,'Programmes lists'!F:F,\"Not found\")","v":512}]
["Senior and FET ","Specialising In Mathematics and Life Sciences (BFN)","SICL3522 OR SSCL3522 OR GAFR3522 OR ZUCL3522",{"$f":"_xlfn.XLOOKUP(C960,'RAW module list'!A:A,'RAW module list'!B:B, \"Not found\")","v":"Conversational Sign Language OR Conversational Sesotho OR Conversational Afrikaans OR Conversational IsiZulu"},{"$f":"_xlfn.XLOOKUP(C960,'RAW module list'!A:A,'RAW module list'!C:C, \"Not found\")","v":5},{"$f":"_xlfn.XLOOKUP(C960,'RAW module list'!A:A,'RAW module list'!D:D, \"Not found\")","v":8},{"$f":"_xlfn.XLOOKUP(C960,'RAW module list'!A:A,'RAW module list'!E:E, \"Not found\")","v":"Continue with the conversational language chosen in Semester 1"},"Third Year",{"$f":"_xlfn.XLOOKUP(B960,'Programmes lists'!B:B,'Programmes lists'!D:D)","v":"BC736305"},{"$f":"_xlfn.XLOOKUP(B960,'Programmes lists'!B:B,'Programmes lists'!E:E, \"Not found\")","v":0},{"$f":"_xlfn.XLOOKUP(B960,'Programmes lists'!B:B,'Programmes lists'!G:G,\"Not found\")","v":"Minimum of 60% in grade 12 pass for \n•\tMathematics\n•\tLife Sciences "},{"$f":"_xlfn.XLOOKUP(B960,'Programmes lists'!B:B,'Programmes lists'!F:F,\"Not found\")","v":512}]
["Senior and FET ","Specialising In Mathematics and Life Sciences (BFN)","Special Requirement:","Choose three didactics modules according to subjects in previous years of study; LSTV is compulsory",null,null,null,"Third Year",{"$f":"_xlfn.XLOOKUP(B961,'Programmes lists'!B:B,'Programmes lists'!D:D)","v":"BC736305"},{"$f":"_xlfn.XLOOKUP(B961,'Programmes lists'!B:B,'Programmes lists'!E:E, \"Not found\")","v":0},{"$f":"_xlfn.XLOOKUP(B961,'Programmes lists'!B:B,'Programmes lists'!G:G,\"Not found\")","v":"Minimum of 60% in grade 12 pass for \n•\tMathematics\n•\tLife Sciences "},{"$f":"_xlfn.XLOOKUP(B961,'Programmes lists'!B:B,'Programmes lists'!F:F,\"Not found\")","v":512}]
["Senior and FET ","Specialising In Mathematics and Life Sciences (BFN)","LSTV4705",{"$f":"_xlfn.XLOOKUP(C962,'RAW module list'!A:A,'RAW module list'!B:B, \"Not found\")","v":"Life Sciences Teaching 2: Further Education and Training phase"},{"$f":"_xlfn.XLOOKUP(C962,'RAW module list'!A:A,'RAW module list'!C:C, \"Not found\")","v":7},{"$f":"_xlfn.XLOOKUP(C962,'RAW module list'!A:A,'RAW module list'!D:D, \"Not found\")","v":20},{"$f":"_xlfn.XLOOKUP(C962,'RAW module list'!A:A,'RAW module list'!E:E, \"Not found\")","v":"LSTV3605"},"Fourth Year",{"$f":"_xlfn.XLOOKUP(B962,'Programmes lists'!B:B,'Programmes lists'!D:D)","v":"BC736305"},{"$f":"_xlfn.XLOOKUP(B962,'Programmes lists'!B:B,'Programmes lists'!E:E, \"Not found\")","v":0},{"$f":"_xlfn.XLOOKUP(B962,'Programmes lists'!B:B,'Programmes lists'!G:G,\"Not found\")","v":"Minimum of 60% in grade 12 pass for \n•\tMathematics\n•\tLife Sciences "},{"$f":"_xlfn.XLOOKUP(B962,'Programmes lists'!B:B,'Programmes lists'!F:F,\"Not found\")","v":512},"Continue with three didactics as chosen in year 3 according to subjects in previous years of study; LSTV is compulsory"]
["Senior and FET ","Specialising In Mathematics and Life Sciences (BFN)","MSTS4705",{"$f":"_xlfn.XLOOKUP(C963,'RAW module list'!A:A,'RAW module list'!B:B, \"Not found\")","v":"Mathematics Teaching 2: Senior Phase"},{"$f":"_xlfn.XLOOKUP(C963,'RAW module list'!A:A,'RAW module list'!C:C, \"Not found\")","v":7},{"$f":"_xlfn.XLOOKUP(C963,'RAW module list'!A:A,'RAW module list'!D:D, \"Not found\")","v":-20},{"$f":"_xlfn.XLOOKUP(C963,'RAW module list'!A:A,'RAW module list'!E:E, \"Not found\")","v":"MSTS3605"},"Fourth Year",{"$f":"_xlfn.XLOOKUP(B963,'Programmes lists'!B:B,'Programmes lists'!D:D)","v":"BC736305"},{"$f":"_xlfn.XLOOKUP(B963,'Programmes lists'!B:B,'Programmes lists'!E:E, \"Not found\")","v":0},{"$f":"_xlfn.XLOOKUP(B963,'Programmes lists'!B:B,'Programmes lists'!G:G,\"Not found\")","v":"Minimum of 60% in grade 12 pass for \n•\tMathematics\n•\tLife Sciences "},{"$f":"_xlfn.XLOOKUP(B963,'Programmes lists'!B:B,'Programmes lists'!F:F,\"Not found\")","v":512}]
["Senior and FET ","Specialising In Mathematics and Life Sciences (BFN)","MSTV4705",{"$f":"_xlfn.XLOOKUP(C964,'RAW module list'!A:A,'RAW module list'!B:B, \"Not found\")","v":"Mathematics Teaching 2: FET"},{"$f":"_xlfn.XLOOKUP(C964,'RAW module list'!A:A,'RAW module list'!C:C, \"Not found\")","v":7},{"$f":"_xlfn.XLOOKUP(C964,'RAW module list'!A:A,'RAW module list'!D:D, \"Not found\")","v":20},{"$f":"_xlfn.XLOOKUP(C964,'RAW module list'!A:A,'RAW module list'!E:E, \"Not found\")","v":"MSTV3605"},"Fourth Year",{"$f":"_xlfn.XLOOKUP(B964,'Programmes lists'!B:B,'Programmes lists'!D:D)","v":"BC736305"},{"$f":"_xlfn.XLOOKUP(B964,'Programmes lists'!B:B,'Programmes lists'!E:E, \"Not found\")","v":0},{"$f":"_xlfn.XLOOKUP(B964,'Programmes lists'!B:B,'Programmes lists'!G:G,\"Not found\")","v":"Minimum of 60% in grade 12 pass for \n•\tMathematics\n•\tLife Sciences "},{"$f":"_xlfn.XLOOKUP(B964,'Programmes lists'!B:B,'Programmes lists'!F:F,\"Not found\")","v":512}]
["Senior and FET ","Specialising In Mathematics and Life Sciences (BFN)","LSPT4705",{"$f":"_xlfn.XLOOKUP(C965,'RAW module list'!A:A,'RAW module list'!B:B, \"Not found\")","v":"Third didactics subject"},{"$f":"_xlfn.XLOOKUP(C965,'RAW module list'!A:A,'RAW module list'!C:C, \"Not found\")","v":7},{"$f":"_xlfn.XLOOKUP(C965,'RAW module list'!A:A,'RAW module list'!D:D, \"Not found\")","v":20},{"$f":"_xlfn.XLOOKUP(C965,'RAW module list'!A:A,'RAW module list'!E:E, \"Not found\")","v":"LSPT3605"},"Fourth Year",{"$f":"_xlfn.XLOOKUP(B965,'Programmes lists'!B:B,'Programmes lists'!D:D)","v":"BC736305"},{"$f":"_xlfn.XLOOKUP(B965,'Programmes lists'!B:B,'Programmes lists'!E:E, \"Not found\")","v":0},{"$f":"_xlfn.XLOOKUP(B965,'Programmes lists'!B:B,'Programmes lists'!G:G,\"Not found\")","v":"Minimum of 60% in grade 12 pass for \n•\tMathematics\n•\tLife Sciences "},{"$f":"_xlfn.XLOOKUP(B965,'Programmes lists'!B:B,'Programmes lists'!F:F,\"Not found\")","v":512}]
["Senior and FET ","Specialising In Mathematics and Life Sciences (BFN)","WILV4700",{"$f":"_xlfn.XLOOKUP(C966,'RAW module list'!A:A,'RAW module list'!B:B, \"Not found\")","v":"Teaching Practice 4"},{"$f":"_xlfn.XLOOKUP(C966,'RAW module list'!A:A,'RAW module list'!C:C, \"Not found\")","v":7},{"$f":"_xlfn.XLOOKUP(C966,'RAW module list'!A:A,'RAW module list'!D:D, \"Not found\")","v":40},{"$f":"_xlfn.XLOOKUP(C966,'RAW module list'!A:A,'RAW module list'!E:E, \"Not found\")","v":"WILV3606"},"Fourth Year",{"$f":"_xlfn.XLOOKUP(B966,'Programmes lists'!B:B,'Programmes lists'!D:D)","v":"BC736305"},{"$f":"_xlfn.XLOOKUP(B966,'Programmes lists'!B:B,'Programmes lists'!E:E, \"Not found\")","v":0},{"$f":"_xlfn.XLOOKUP(B966,'Programmes lists'!B:B,'Programmes lists'!G:G,\"Not found\")","v":"Minimum of 60% in grade 12 pass for \n•\tMathematics\n•\tLife Sciences "},{"$f":"_xlfn.XLOOKUP(B966,'Programmes lists'!B:B,'Programmes lists'!F:F,\"Not found\")","v":512}]
["Senior and FET ","Specialising In Mathematics and Life Sciences (BFN)","Special Requirement:","Continue with three didactics as chosen in year 3 according to subjects in previous years of study; LSTV is compulsory",null,null,null,"Fourth Year",{"$f":"_xlfn.XLOOKUP(B967,'Programmes lists'!B:B,'Programmes lists'!D:D)","v":"BC736305"},{"$f":"_xlfn.XLOOKUP(B967,'Programmes lists'!B:B,'Programmes lists'!E:E, \"Not found\")","v":0},{"$f":"_xlfn.XLOOKUP(B967,'Programmes lists'!B:B,'Programmes lists'!G:G,\"Not found\")","v":"Minimum of 60% in grade 12 pass for \n•\tMathematics\n•\tLife Sciences "},{"$f":"_xlfn.XLOOKUP(B967,'Programmes lists'!B:B,'Programmes lists'!F:F,\"Not found\")","v":512}]
["Senior and FET ","Specialising In Technology and Life Sciences (BFN)","BLGY1513",{"$f":"_xlfn.XLOOKUP(C968,'RAW module list'!A:A,'RAW module list'!B:B, \"Not found\")","v":"Introduction to Biology"},{"$f":"_xlfn.XLOOKUP(C968,'RAW module list'!A:A,'RAW module list'!C:C, \"Not found\")","v":5},{"$f":"_xlfn.XLOOKUP(C968,'RAW module list'!A:A,'RAW module list'!D:D, \"Not found\")","v":12},{"$f":"_xlfn.XLOOKUP(C968,'RAW module list'!A:A,'RAW module list'!E:E, \"Not found\")","v":"Life Sciences at NSC level 5 (60%)"},"First Year",{"$f":"_xlfn.XLOOKUP(B968,'Programmes lists'!B:B,'Programmes lists'!D:D)","v":"BC736308"},{"$f":"_xlfn.XLOOKUP(B968,'Programmes lists'!B:B,'Programmes lists'!E:E, \"Not found\")","v":0},{"$f":"_xlfn.XLOOKUP(B968,'Programmes lists'!B:B,'Programmes lists'!G:G,\"Not found\")","v":"Minimum grade 12 pass at 60% for \n•\tLife Sciences "},{"$f":"_xlfn.XLOOKUP(B968,'Programmes lists'!B:B,'Programmes lists'!F:F,\"Not found\")","v":520}]
["Senior and FET ","Specialising In Technology and Life Sciences (BFN)","TEGC1614",{"$f":"_xlfn.XLOOKUP(C969,'RAW module list'!A:A,'RAW module list'!B:B, \"Not found\")","v":"Technology"},{"$f":"_xlfn.XLOOKUP(C969,'RAW module list'!A:A,'RAW module list'!C:C, \"Not found\")","v":6},{"$f":"_xlfn.XLOOKUP(C969,'RAW module list'!A:A,'RAW module list'!D:D, \"Not found\")","v":16},{"$f":"_xlfn.XLOOKUP(C969,'RAW module list'!A:A,'RAW module list'!E:E, \"Not found\")","v":0},"First Year",{"$f":"_xlfn.XLOOKUP(B969,'Programmes lists'!B:B,'Programmes lists'!D:D)","v":"BC736308"},{"$f":"_xlfn.XLOOKUP(B969,'Programmes lists'!B:B,'Programmes lists'!E:E, \"Not found\")","v":0},{"$f":"_xlfn.XLOOKUP(B969,'Programmes lists'!B:B,'Programmes lists'!G:G,\"Not found\")","v":"Minimum grade 12 pass at 60% for \n•\tLife Sciences "},{"$f":"_xlfn.XLOOKUP(B969,'Programmes lists'!B:B,'Programmes lists'!F:F,\"Not found\")","v":520}]
["Senior and FET ","Specialising In Technology and Life Sciences (BFN)","LLST1513",{"$f":"_xlfn.XLOOKUP(C970,'RAW module list'!A:A,'RAW module list'!B:B, \"Not found\")","v":"Lifelong Learning Skills"},{"$f":"_xlfn.XLOOKUP(C970,'RAW module list'!A:A,'RAW module list'!C:C, \"Not found\")","v":5},{"$f":"_xlfn.XLOOKUP(C970,'RAW module list'!A:A,'RAW module list'!D:D, \"Not found\")","v":12},{"$f":"_xlfn.XLOOKUP(C970,'RAW module list'!A:A,'RAW module list'!E:E, \"Not found\")","v":0},"First Year",{"$f":"_xlfn.XLOOKUP(B970,'Programmes lists'!B:B,'Programmes lists'!D:D)","v":"BC736308"},{"$f":"_xlfn.XLOOKUP(B970,'Programmes lists'!B:B,'Programmes lists'!E:E, \"Not found\")","v":0},{"$f":"_xlfn.XLOOKUP(B970,'Programmes lists'!B:B,'Programmes lists'!G:G,\"Not found\")","v":"Minimum grade 12 pass at 60% for \n•\tLife Sciences "},{"$f":"_xlfn.XLOOKUP(B970,'Programmes lists'!B:B,'Programmes lists'!F:F,\"Not found\")","v":520}]
["Senior and FET ","Specialising In Technology and Life Sciences (BFN)","EDUB1613",{"$f":"_xlfn.XLOOKUP(C971,'RAW module list'!A:A,'RAW module list'!B:B, \"Not found\")","v":"Education Studies 1.1 The Individual in the learning context"},{"$f":"_xlfn.XLOOKUP(C971,'RAW module list'!A:A,'RAW module list'!C:C, \"Not found\")","v":6},{"$f":"_xlfn.XLOOKUP(C971,'RAW module list'!A:A,'RAW module list'!D:D, \"Not found\")","v":12},{"$f":"_xlfn.XLOOKUP(C971,'RAW module list'!A:A,'RAW module list'!E:E, \"Not found\")","v":0},"First Year",{"$f":"_xlfn.XLOOKUP(B971,'Programmes lists'!B:B,'Programmes lists'!D:D)","v":"BC736308"},{"$f":"_xlfn.XLOOKUP(B971,'Programmes lists'!B:B,'Programmes lists'!E:E, \"Not found\")","v":0},{"$f":"_xlfn.XLOOKUP(B971,'Programmes lists'!B:B,'Programmes lists'!G:G,\"Not found\")","v":"Minimum grade 12 pass at 60% for \n•\tLife Sciences "},{"$f":"_xlfn.XLOOKUP(B971,'Programmes lists'!B:B,'Programmes lists'!F:F,\"Not found\")","v":520}]
["Senior and FET ","Specialising In Technology and Life Sciences (BFN)","TPRV1502",{"$f":"_xlfn.XLOOKUP(C972,'RAW module list'!A:A,'RAW module list'!B:B, \"Not found\")","v":"Teaching Practice 1 "},{"$f":"_xlfn.XLOOKUP(C972,'RAW module list'!A:A,'RAW module list'!C:C, \"Not found\")","v":5},{"$f":"_xlfn.XLOOKUP(C972,'RAW module list'!A:A,'RAW module list'!D:D, \"Not found\")","v":8},{"$f":"_xlfn.XLOOKUP(C972,'RAW module list'!A:A,'RAW module list'!E:E, \"Not found\")","v":0},"First Year",{"$f":"_xlfn.XLOOKUP(B972,'Programmes lists'!B:B,'Programmes lists'!D:D)","v":"BC736308"},{"$f":"_xlfn.XLOOKUP(B972,'Programmes lists'!B:B,'Programmes lists'!E:E, \"Not found\")","v":0},{"$f":"_xlfn.XLOOKUP(B972,'Programmes lists'!B:B,'Programmes lists'!G:G,\"Not found\")","v":"Minimum grade 12 pass at 60% for \n•\tLife Sciences "},{"$f":"_xlfn.XLOOKUP(B972,'Programmes lists'!B:B,'Programmes lists'!F:F,\"Not found\")","v":520}]
["Senior and FET ","Specialising In Technology and Life Sciences (BFN)","UFSS1504",{"$f":"_xlfn.XLOOKUP(C973,'RAW module list'!A:A,'RAW module list'!B:B, \"Not found\")","v":"Undergraduate core curriculum"},{"$f":"_xlfn.XLOOKUP(C973,'RAW module list'!A:A,'RAW module list'!C:C, \"Not found\")","v":5},{"$f":"_xlfn.XLOOKUP(C973,'RAW module list'!A:A,'RAW module list'!D:D, \"Not found\")","v":-16},{"$f":"_xlfn.XLOOKUP(C973,'RAW module list'!A:A,'RAW module list'!E:E, \"Not found\")","v":0},"First Year",{"$f":"_xlfn.XLOOKUP(B973,'Programmes lists'!B:B,'Programmes lists'!D:D)","v":"BC736308"},{"$f":"_xlfn.XLOOKUP(B973,'Programmes lists'!B:B,'Programmes lists'!E:E, \"Not found\")","v":0},{"$f":"_xlfn.XLOOKUP(B973,'Programmes lists'!B:B,'Programmes lists'!G:G,\"Not found\")","v":"Minimum grade 12 pass at 60% for \n•\tLife Sciences "},{"$f":"_xlfn.XLOOKUP(B973,'Programmes lists'!B:B,'Programmes lists'!F:F,\"Not found\")","v":520}]
["Senior and FET ","Specialising In Technology and Life Sciences (BFN)","EALT1508 OR AGAE1508",{"$f":"_xlfn.XLOOKUP(C974,'RAW module list'!A:A,'RAW module list'!B:B, \"Not found\")","v":"English Academic Literacy for Education OR Academic Literacy in Afrikaans"},{"$f":"_xlfn.XLOOKUP(C974,'RAW module list'!A:A,'RAW module list'!C:C, \"Not found\")","v":5},{"$f":"_xlfn.XLOOKUP(C974,'RAW module list'!A:A,'RAW module list'!D:D, \"Not found\")","v":-32},{"$f":"_xlfn.XLOOKUP(C974,'RAW module list'!A:A,'RAW module list'!E:E, \"Not found\")","v":"NBT requirements not been met"},"First Year",{"$f":"_xlfn.XLOOKUP(B974,'Programmes lists'!B:B,'Programmes lists'!D:D)","v":"BC736308"},{"$f":"_xlfn.XLOOKUP(B974,'Programmes lists'!B:B,'Programmes lists'!E:E, \"Not found\")","v":0},{"$f":"_xlfn.XLOOKUP(B974,'Programmes lists'!B:B,'Programmes lists'!G:G,\"Not found\")","v":"Minimum grade 12 pass at 60% for \n•\tLife Sciences "},{"$f":"_xlfn.XLOOKUP(B974,'Programmes lists'!B:B,'Programmes lists'!F:F,\"Not found\")","v":520}]
["Senior and FET ","Specialising In Technology and Life Sciences (BFN)","BLGY1643",{"$f":"_xlfn.XLOOKUP(C975,'RAW module list'!A:A,'RAW module list'!B:B, \"Not found\")","v":"Introduction to Zoology and Etymology "},{"$f":"_xlfn.XLOOKUP(C975,'RAW module list'!A:A,'RAW module list'!C:C, \"Not found\")","v":6},{"$f":"_xlfn.XLOOKUP(C975,'RAW module list'!A:A,'RAW module list'!D:D, \"Not found\")","v":12},{"$f":"_xlfn.XLOOKUP(C975,'RAW module list'!A:A,'RAW module list'!E:E, \"Not found\")","v":"BLGY1513"},"First Year",{"$f":"_xlfn.XLOOKUP(B975,'Programmes lists'!B:B,'Programmes lists'!D:D)","v":"BC736308"},{"$f":"_xlfn.XLOOKUP(B975,'Programmes lists'!B:B,'Programmes lists'!E:E, \"Not found\")","v":0},{"$f":"_xlfn.XLOOKUP(B975,'Programmes lists'!B:B,'Programmes lists'!G:G,\"Not found\")","v":"Minimum grade 12 pass at 60% for \n•\tLife Sciences "},{"$f":"_xlfn.XLOOKUP(B975,'Programmes lists'!B:B,'Programmes lists'!F:F,\"Not found\")","v":520}]
["Senior and FET ","Specialising In Technology and Life Sciences (BFN)","BLGY1663",{"$f":"_xlfn.XLOOKUP(C976,'RAW module list'!A:A,'RAW module list'!B:B, \"Not found\")","v":"Introduction to Biochemistry and Microbiology"},{"$f":"_xlfn.XLOOKUP(C976,'RAW module list'!A:A,'RAW module list'!C:C, \"Not found\")","v":6},{"$f":"_xlfn.XLOOKUP(C976,'RAW module list'!A:A,'RAW module list'!D:D, \"Not found\")","v":12},{"$f":"_xlfn.XLOOKUP(C976,'RAW module list'!A:A,'RAW module list'!E:E, \"Not found\")","v":"BLGY1513"},"First Year",{"$f":"_xlfn.XLOOKUP(B976,'Programmes lists'!B:B,'Programmes lists'!D:D)","v":"BC736308"},{"$f":"_xlfn.XLOOKUP(B976,'Programmes lists'!B:B,'Programmes lists'!E:E, \"Not found\")","v":0},{"$f":"_xlfn.XLOOKUP(B976,'Programmes lists'!B:B,'Programmes lists'!G:G,\"Not found\")","v":"Minimum grade 12 pass at 60% for \n•\tLife Sciences "},{"$f":"_xlfn.XLOOKUP(B976,'Programmes lists'!B:B,'Programmes lists'!F:F,\"Not found\")","v":520}]
["Senior and FET ","Specialising In Technology and Life Sciences (BFN)","BLGY1623 OR BLGY1683",{"$f":"_xlfn.XLOOKUP(C977,'RAW module list'!A:A,'RAW module list'!B:B, \"Not found\")","v":"Introduction of Genetics: The Independence of plants and life on earth OR Introduction to Zoology and Etymology "},{"$f":"_xlfn.XLOOKUP(C977,'RAW module list'!A:A,'RAW module list'!C:C, \"Not found\")","v":6},{"$f":"_xlfn.XLOOKUP(C977,'RAW module list'!A:A,'RAW module list'!D:D, \"Not found\")","v":12},{"$f":"_xlfn.XLOOKUP(C977,'RAW module list'!A:A,'RAW module list'!E:E, \"Not found\")","v":"BLGY1513"},"First Year",{"$f":"_xlfn.XLOOKUP(B977,'Programmes lists'!B:B,'Programmes lists'!D:D)","v":"BC736308"},{"$f":"_xlfn.XLOOKUP(B977,'Programmes lists'!B:B,'Programmes lists'!E:E, \"Not found\")","v":0},{"$f":"_xlfn.XLOOKUP(B977,'Programmes lists'!B:B,'Programmes lists'!G:G,\"Not found\")","v":"Minimum grade 12 pass at 60% for \n•\tLife Sciences "},{"$f":"_xlfn.XLOOKUP(B977,'Programmes lists'!B:B,'Programmes lists'!F:F,\"Not found\")","v":520}]
["Senior and FET ","Specialising In Technology and Life Sciences (BFN)","TEGC1624",{"$f":"_xlfn.XLOOKUP(C978,'RAW module list'!A:A,'RAW module list'!B:B, \"Not found\")","v":"Technology Education"},{"$f":"_xlfn.XLOOKUP(C978,'RAW module list'!A:A,'RAW module list'!C:C, \"Not found\")","v":6},{"$f":"_xlfn.XLOOKUP(C978,'RAW module list'!A:A,'RAW module list'!D:D, \"Not found\")","v":16},{"$f":"_xlfn.XLOOKUP(C978,'RAW module list'!A:A,'RAW module list'!E:E, \"Not found\")","v":"TEGC1614"},"First Year",{"$f":"_xlfn.XLOOKUP(B978,'Programmes lists'!B:B,'Programmes lists'!D:D)","v":"BC736308"},{"$f":"_xlfn.XLOOKUP(B978,'Programmes lists'!B:B,'Programmes lists'!E:E, \"Not found\")","v":0},{"$f":"_xlfn.XLOOKUP(B978,'Programmes lists'!B:B,'Programmes lists'!G:G,\"Not found\")","v":"Minimum grade 12 pass at 60% for \n•\tLife Sciences "},{"$f":"_xlfn.XLOOKUP(B978,'Programmes lists'!B:B,'Programmes lists'!F:F,\"Not found\")","v":520}]
["Senior and FET ","Specialising In Technology and Life Sciences (BFN)","EDUB1623",{"$f":"_xlfn.XLOOKUP(C979,'RAW module list'!A:A,'RAW module list'!B:B, \"Not found\")","v":"Education Studies 1.2 What it means to educate: Theoretical perspectives and their significance for SA education"},{"$f":"_xlfn.XLOOKUP(C979,'RAW module list'!A:A,'RAW module list'!C:C, \"Not found\")","v":6},{"$f":"_xlfn.XLOOKUP(C979,'RAW module list'!A:A,'RAW module list'!D:D, \"Not found\")","v":12},{"$f":"_xlfn.XLOOKUP(C979,'RAW module list'!A:A,'RAW module list'!E:E, \"Not found\")","v":0},"First Year",{"$f":"_xlfn.XLOOKUP(B979,'Programmes lists'!B:B,'Programmes lists'!D:D)","v":"BC736308"},{"$f":"_xlfn.XLOOKUP(B979,'Programmes lists'!B:B,'Programmes lists'!E:E, \"Not found\")","v":0},{"$f":"_xlfn.XLOOKUP(B979,'Programmes lists'!B:B,'Programmes lists'!G:G,\"Not found\")","v":"Minimum grade 12 pass at 60% for \n•\tLife Sciences "},{"$f":"_xlfn.XLOOKUP(B979,'Programmes lists'!B:B,'Programmes lists'!F:F,\"Not found\")","v":520}]
["Senior and FET ","Specialising In Technology and Life Sciences (BFN)","GPEV1623",{"$f":"_xlfn.XLOOKUP(C980,'RAW module list'!A:A,'RAW module list'!B:B, \"Not found\")","v":"General Pedagogy 1: Managing the Curriculum"},{"$f":"_xlfn.XLOOKUP(C980,'RAW module list'!A:A,'RAW module list'!C:C, \"Not found\")","v":6},{"$f":"_xlfn.XLOOKUP(C980,'RAW module list'!A:A,'RAW module list'!D:D, \"Not found\")","v":12},{"$f":"_xlfn.XLOOKUP(C980,'RAW module list'!A:A,'RAW module list'!E:E, \"Not found\")","v":0},"First Year",{"$f":"_xlfn.XLOOKUP(B980,'Programmes lists'!B:B,'Programmes lists'!D:D)","v":"BC736308"},{"$f":"_xlfn.XLOOKUP(B980,'Programmes lists'!B:B,'Programmes lists'!E:E, \"Not found\")","v":0},{"$f":"_xlfn.XLOOKUP(B980,'Programmes lists'!B:B,'Programmes lists'!G:G,\"Not found\")","v":"Minimum grade 12 pass at 60% for \n•\tLife Sciences "},{"$f":"_xlfn.XLOOKUP(B980,'Programmes lists'!B:B,'Programmes lists'!F:F,\"Not found\")","v":520}]
["Senior and FET ","Specialising In Technology and Life Sciences (BFN)","BLGY2615",{"$f":"_xlfn.XLOOKUP(C981,'RAW module list'!A:A,'RAW module list'!B:B, \"Not found\")","v":"Biology for Education 1"},{"$f":"_xlfn.XLOOKUP(C981,'RAW module list'!A:A,'RAW module list'!C:C, \"Not found\")","v":6},{"$f":"_xlfn.XLOOKUP(C981,'RAW module list'!A:A,'RAW module list'!D:D, \"Not found\")","v":20},{"$f":"_xlfn.XLOOKUP(C981,'RAW module list'!A:A,'RAW module list'!E:E, \"Not found\")","v":"BLGY1643 & BLGY1663"},"Second Year",{"$f":"_xlfn.XLOOKUP(B981,'Programmes lists'!B:B,'Programmes lists'!D:D)","v":"BC736308"},{"$f":"_xlfn.XLOOKUP(B981,'Programmes lists'!B:B,'Programmes lists'!E:E, \"Not found\")","v":0},{"$f":"_xlfn.XLOOKUP(B981,'Programmes lists'!B:B,'Programmes lists'!G:G,\"Not found\")","v":"Minimum grade 12 pass at 60% for \n•\tLife Sciences "},{"$f":"_xlfn.XLOOKUP(B981,'Programmes lists'!B:B,'Programmes lists'!F:F,\"Not found\")","v":520},"*Due to the credit load of Biology first-year modules, a choice is made between ELLT and ALLT and ENED3514 is not required"]
["Senior and FET ","Specialising In Technology and Life Sciences (BFN)","TEGC2614",{"$f":"_xlfn.XLOOKUP(C982,'RAW module list'!A:A,'RAW module list'!B:B, \"Not found\")","v":"Technology "},{"$f":"_xlfn.XLOOKUP(C982,'RAW module list'!A:A,'RAW module list'!C:C, \"Not found\")","v":6},{"$f":"_xlfn.XLOOKUP(C982,'RAW module list'!A:A,'RAW module list'!D:D, \"Not found\")","v":16},{"$f":"_xlfn.XLOOKUP(C982,'RAW module list'!A:A,'RAW module list'!E:E, \"Not found\")","v":"TEGC1624"},"Second Year",{"$f":"_xlfn.XLOOKUP(B982,'Programmes lists'!B:B,'Programmes lists'!D:D)","v":"BC736308"},{"$f":"_xlfn.XLOOKUP(B982,'Programmes lists'!B:B,'Programmes lists'!E:E, \"Not found\")","v":0},{"$f":"_xlfn.XLOOKUP(B982,'Programmes lists'!B:B,'Programmes lists'!G:G,\"Not found\")","v":"Minimum grade 12 pass at 60% for \n•\tLife Sciences "},{"$f":"_xlfn.XLOOKUP(B982,'Programmes lists'!B:B,'Programmes lists'!F:F,\"Not found\")","v":520}]
["Senior and FET ","Specialising In Technology and Life Sciences (BFN)","EDUB2714",{"$f":"_xlfn.XLOOKUP(C983,'RAW module list'!A:A,'RAW module list'!B:B, \"Not found\")","v":"Education Studies 2: Teaching and Learning in Education Context"},{"$f":"_xlfn.XLOOKUP(C983,'RAW module list'!A:A,'RAW module list'!C:C, \"Not found\")","v":7},{"$f":"_xlfn.XLOOKUP(C983,'RAW module list'!A:A,'RAW module list'!D:D, \"Not found\")","v":16},{"$f":"_xlfn.XLOOKUP(C983,'RAW module list'!A:A,'RAW module list'!E:E, \"Not found\")","v":"EDUB1613 & EDUB1623"},"Second Year",{"$f":"_xlfn.XLOOKUP(B983,'Programmes lists'!B:B,'Programmes lists'!D:D)","v":"BC736308"},{"$f":"_xlfn.XLOOKUP(B983,'Programmes lists'!B:B,'Programmes lists'!E:E, \"Not found\")","v":0},{"$f":"_xlfn.XLOOKUP(B983,'Programmes lists'!B:B,'Programmes lists'!G:G,\"Not found\")","v":"Minimum grade 12 pass at 60% for \n•\tLife Sciences "},{"$f":"_xlfn.XLOOKUP(B983,'Programmes lists'!B:B,'Programmes lists'!F:F,\"Not found\")","v":520}]
["Senior and FET ","Specialising In Technology and Life Sciences (BFN)","GPEV2613",{"$f":"_xlfn.XLOOKUP(C984,'RAW module list'!A:A,'RAW module list'!B:B, \"Not found\")","v":"General Pedagogy 2.1"},{"$f":"_xlfn.XLOOKUP(C984,'RAW module list'!A:A,'RAW module list'!C:C, \"Not found\")","v":6},{"$f":"_xlfn.XLOOKUP(C984,'RAW module list'!A:A,'RAW module list'!D:D, \"Not found\")","v":12},{"$f":"_xlfn.XLOOKUP(C984,'RAW module list'!A:A,'RAW module list'!E:E, \"Not found\")","v":"GPEV1623"},"Second Year",{"$f":"_xlfn.XLOOKUP(B984,'Programmes lists'!B:B,'Programmes lists'!D:D)","v":"BC736308"},{"$f":"_xlfn.XLOOKUP(B984,'Programmes lists'!B:B,'Programmes lists'!E:E, \"Not found\")","v":0},{"$f":"_xlfn.XLOOKUP(B984,'Programmes lists'!B:B,'Programmes lists'!G:G,\"Not found\")","v":"Minimum grade 12 pass at 60% for \n•\tLife Sciences "},{"$f":"_xlfn.XLOOKUP(B984,'Programmes lists'!B:B,'Programmes lists'!F:F,\"Not found\")","v":520}]
["Senior and FET ","Specialising In Technology and Life Sciences (BFN)","ELLT2504 OR ALLT3504",{"$f":"_xlfn.XLOOKUP(C985,'RAW module list'!A:A,'RAW module list'!B:B, \"Not found\")","v":"English as medium of learning and teaching OR Afrikaans as medium of learning and teaching"},{"$f":"_xlfn.XLOOKUP(C985,'RAW module list'!A:A,'RAW module list'!C:C, \"Not found\")","v":5},{"$f":"_xlfn.XLOOKUP(C985,'RAW module list'!A:A,'RAW module list'!D:D, \"Not found\")","v":16},{"$f":"_xlfn.XLOOKUP(C985,'RAW module list'!A:A,'RAW module list'!E:E, \"Not found\")","v":0},"Second Year",{"$f":"_xlfn.XLOOKUP(B985,'Programmes lists'!B:B,'Programmes lists'!D:D)","v":"BC736308"},{"$f":"_xlfn.XLOOKUP(B985,'Programmes lists'!B:B,'Programmes lists'!E:E, \"Not found\")","v":0},{"$f":"_xlfn.XLOOKUP(B985,'Programmes lists'!B:B,'Programmes lists'!G:G,\"Not found\")","v":"Minimum grade 12 pass at 60% for \n•\tLife Sciences "},{"$f":"_xlfn.XLOOKUP(B985,'Programmes lists'!B:B,'Programmes lists'!F:F,\"Not found\")","v":520}]
["Senior and FET ","Specialising In Technology and Life Sciences (BFN)","TPRV2502",{"$f":"_xlfn.XLOOKUP(C986,'RAW module list'!A:A,'RAW module list'!B:B, \"Not found\")","v":"Teaching Practice 2"},{"$f":"_xlfn.XLOOKUP(C986,'RAW module list'!A:A,'RAW module list'!C:C, \"Not found\")","v":5},{"$f":"_xlfn.XLOOKUP(C986,'RAW module list'!A:A,'RAW module list'!D:D, \"Not found\")","v":8},{"$f":"_xlfn.XLOOKUP(C986,'RAW module list'!A:A,'RAW module list'!E:E, \"Not found\")","v":"TPRV1502"},"Second Year",{"$f":"_xlfn.XLOOKUP(B986,'Programmes lists'!B:B,'Programmes lists'!D:D)","v":"BC736308"},{"$f":"_xlfn.XLOOKUP(B986,'Programmes lists'!B:B,'Programmes lists'!E:E, \"Not found\")","v":0},{"$f":"_xlfn.XLOOKUP(B986,'Programmes lists'!B:B,'Programmes lists'!G:G,\"Not found\")","v":"Minimum grade 12 pass at 60% for \n•\tLife Sciences "},{"$f":"_xlfn.XLOOKUP(B986,'Programmes lists'!B:B,'Programmes lists'!F:F,\"Not found\")","v":520}]
["Senior and FET ","Specialising In Technology and Life Sciences (BFN)","BLGY2625",{"$f":"_xlfn.XLOOKUP(C987,'RAW module list'!A:A,'RAW module list'!B:B, \"Not found\")","v":"Biology for Education 2"},{"$f":"_xlfn.XLOOKUP(C987,'RAW module list'!A:A,'RAW module list'!C:C, \"Not found\")","v":6},{"$f":"_xlfn.XLOOKUP(C987,'RAW module list'!A:A,'RAW module list'!D:D, \"Not found\")","v":20},{"$f":"_xlfn.XLOOKUP(C987,'RAW module list'!A:A,'RAW module list'!E:E, \"Not found\")","v":"BLGY2615"},"Second Year",{"$f":"_xlfn.XLOOKUP(B987,'Programmes lists'!B:B,'Programmes lists'!D:D)","v":"BC736308"},{"$f":"_xlfn.XLOOKUP(B987,'Programmes lists'!B:B,'Programmes lists'!E:E, \"Not found\")","v":0},{"$f":"_xlfn.XLOOKUP(B987,'Programmes lists'!B:B,'Programmes lists'!G:G,\"Not found\")","v":"Minimum grade 12 pass at 60% for \n•\tLife Sciences "},{"$f":"_xlfn.XLOOKUP(B987,'Programmes lists'!B:B,'Programmes lists'!F:F,\"Not found\")","v":520}]
["Senior and FET ","Specialising In Technology and Life Sciences (BFN)","TEGC2724",{"$f":"_xlfn.XLOOKUP(C988,'RAW module list'!A:A,'RAW module list'!B:B, \"Not found\")","v":"Technology"},{"$f":"_xlfn.XLOOKUP(C988,'RAW module list'!A:A,'RAW module list'!C:C, \"Not found\")","v":7},{"$f":"_xlfn.XLOOKUP(C988,'RAW module list'!A:A,'RAW module list'!D:D, \"Not found\")","v":16},{"$f":"_xlfn.XLOOKUP(C988,'RAW module list'!A:A,'RAW module list'!E:E, \"Not found\")","v":"TEGC2614"},"Second Year",{"$f":"_xlfn.XLOOKUP(B988,'Programmes lists'!B:B,'Programmes lists'!D:D)","v":"BC736308"},{"$f":"_xlfn.XLOOKUP(B988,'Programmes lists'!B:B,'Programmes lists'!E:E, \"Not found\")","v":0},{"$f":"_xlfn.XLOOKUP(B988,'Programmes lists'!B:B,'Programmes lists'!G:G,\"Not found\")","v":"Minimum grade 12 pass at 60% for \n•\tLife Sciences "},{"$f":"_xlfn.XLOOKUP(B988,'Programmes lists'!B:B,'Programmes lists'!F:F,\"Not found\")","v":520}]
["Senior and FET ","Specialising In Technology and Life Sciences (BFN)","EDUB2724",{"$f":"_xlfn.XLOOKUP(C989,'RAW module list'!A:A,'RAW module list'!B:B, \"Not found\")","v":"Education Studies 2: Human Relationships in Education context"},{"$f":"_xlfn.XLOOKUP(C989,'RAW module list'!A:A,'RAW module list'!C:C, \"Not found\")","v":7},{"$f":"_xlfn.XLOOKUP(C989,'RAW module list'!A:A,'RAW module list'!D:D, \"Not found\")","v":16},{"$f":"_xlfn.XLOOKUP(C989,'RAW module list'!A:A,'RAW module list'!E:E, \"Not found\")","v":"EDUB2714"},"Second Year",{"$f":"_xlfn.XLOOKUP(B989,'Programmes lists'!B:B,'Programmes lists'!D:D)","v":"BC736308"},{"$f":"_xlfn.XLOOKUP(B989,'Programmes lists'!B:B,'Programmes lists'!E:E, \"Not found\")","v":0},{"$f":"_xlfn.XLOOKUP(B989,'Programmes lists'!B:B,'Programmes lists'!G:G,\"Not found\")","v":"Minimum grade 12 pass at 60% for \n•\tLife Sciences "},{"$f":"_xlfn.XLOOKUP(B989,'Programmes lists'!B:B,'Programmes lists'!F:F,\"Not found\")","v":520}]
["Senior and FET ","Specialising In Technology and Life Sciences (BFN)","GPEV2623",{"$f":"_xlfn.XLOOKUP(C990,'RAW module list'!A:A,'RAW module list'!B:B, \"Not found\")","v":"General Pedagogy 2.2: Assessment"},{"$f":"_xlfn.XLOOKUP(C990,'RAW module list'!A:A,'RAW module list'!C:C, \"Not found\")","v":6},{"$f":"_xlfn.XLOOKUP(C990,'RAW module list'!A:A,'RAW module list'!D:D, \"Not found\")","v":12},{"$f":"_xlfn.XLOOKUP(C990,'RAW module list'!A:A,'RAW module list'!E:E, \"Not found\")","v":"GPEV2613"},"Second Year",{"$f":"_xlfn.XLOOKUP(B990,'Programmes lists'!B:B,'Programmes lists'!D:D)","v":"BC736308"},{"$f":"_xlfn.XLOOKUP(B990,'Programmes lists'!B:B,'Programmes lists'!E:E, \"Not found\")","v":0},{"$f":"_xlfn.XLOOKUP(B990,'Programmes lists'!B:B,'Programmes lists'!G:G,\"Not found\")","v":"Minimum grade 12 pass at 60% for \n•\tLife Sciences "},{"$f":"_xlfn.XLOOKUP(B990,'Programmes lists'!B:B,'Programmes lists'!F:F,\"Not found\")","v":520}]
["Senior and FET ","Specialising In Technology and Life Sciences (BFN)","Special Requirement:","*Due to the credit load of Biology first-year modules, a choice is made between ELLT and ALLT and ENED3514 is not required",null,null,null,"Second Year",{"$f":"_xlfn.XLOOKUP(B991,'Programmes lists'!B:B,'Programmes lists'!D:D)","v":"BC736308"},{"$f":"_xlfn.XLOOKUP(B991,'Programmes lists'!B:B,'Programmes lists'!E:E, \"Not found\")","v":0},{"$f":"_xlfn.XLOOKUP(B991,'Programmes lists'!B:B,'Programmes lists'!G:G,\"Not found\")","v":"Minimum grade 12 pass at 60% for \n•\tLife Sciences "},{"$f":"_xlfn.XLOOKUP(B991,'Programmes lists'!B:B,'Programmes lists'!F:F,\"Not found\")","v":520}]
["Senior and FET ","Specialising In Technology and Life Sciences (BFN)","TEGT3605",{"$f":"_xlfn.XLOOKUP(C992,'RAW module list'!A:A,'RAW module list'!B:B, \"Not found\")","v":"Technology Teaching 1: Senior Phase"},{"$f":"_xlfn.XLOOKUP(C992,'RAW module list'!A:A,'RAW module list'!C:C, \"Not found\")","v":6},{"$f":"_xlfn.XLOOKUP(C992,'RAW module list'!A:A,'RAW module list'!D:D, \"Not found\")","v":20},{"$f":"_xlfn.XLOOKUP(C992,'RAW module list'!A:A,'RAW module list'!E:E, \"Not found\")","v":"TEGC1614 & TEGC1624"},"Third Year",{"$f":"_xlfn.XLOOKUP(B992,'Programmes lists'!B:B,'Programmes lists'!D:D)","v":"BC736308"},{"$f":"_xlfn.XLOOKUP(B992,'Programmes lists'!B:B,'Programmes lists'!E:E, \"Not found\")","v":0},{"$f":"_xlfn.XLOOKUP(B992,'Programmes lists'!B:B,'Programmes lists'!G:G,\"Not found\")","v":"Minimum grade 12 pass at 60% for \n•\tLife Sciences "},{"$f":"_xlfn.XLOOKUP(B992,'Programmes lists'!B:B,'Programmes lists'!F:F,\"Not found\")","v":520},"Choose three didactics modules according to subjects in previous years of study; LSTV is compulsory"]
["Senior and FET ","Specialising In Technology and Life Sciences (BFN)","LSPT3605",{"$f":"_xlfn.XLOOKUP(C993,'RAW module list'!A:A,'RAW module list'!B:B, \"Not found\")","v":"Learner support as third didactics "},{"$f":"_xlfn.XLOOKUP(C993,'RAW module list'!A:A,'RAW module list'!C:C, \"Not found\")","v":6},{"$f":"_xlfn.XLOOKUP(C993,'RAW module list'!A:A,'RAW module list'!D:D, \"Not found\")","v":20},{"$f":"_xlfn.XLOOKUP(C993,'RAW module list'!A:A,'RAW module list'!E:E, \"Not found\")","v":0},"Third Year",{"$f":"_xlfn.XLOOKUP(B993,'Programmes lists'!B:B,'Programmes lists'!D:D)","v":"BC736308"},{"$f":"_xlfn.XLOOKUP(B993,'Programmes lists'!B:B,'Programmes lists'!E:E, \"Not found\")","v":0},{"$f":"_xlfn.XLOOKUP(B993,'Programmes lists'!B:B,'Programmes lists'!G:G,\"Not found\")","v":"Minimum grade 12 pass at 60% for \n•\tLife Sciences "},{"$f":"_xlfn.XLOOKUP(B993,'Programmes lists'!B:B,'Programmes lists'!F:F,\"Not found\")","v":520}]
["Senior and FET ","Specialising In Technology and Life Sciences (BFN)","LSTV3605",{"$f":"_xlfn.XLOOKUP(C994,'RAW module list'!A:A,'RAW module list'!B:B, \"Not found\")","v":"Life Sciences Teaching 1: Further Education and Training phase"},{"$f":"_xlfn.XLOOKUP(C994,'RAW module list'!A:A,'RAW module list'!C:C, \"Not found\")","v":6},{"$f":"_xlfn.XLOOKUP(C994,'RAW module list'!A:A,'RAW module list'!D:D, \"Not found\")","v":20},{"$f":"_xlfn.XLOOKUP(C994,'RAW module list'!A:A,'RAW module list'!E:E, \"Not found\")","v":"At least 64 credits of Biology modules up to level 6"},"Third Year",{"$f":"_xlfn.XLOOKUP(B994,'Programmes lists'!B:B,'Programmes lists'!D:D)","v":"BC736308"},{"$f":"_xlfn.XLOOKUP(B994,'Programmes lists'!B:B,'Programmes lists'!E:E, \"Not found\")","v":0},{"$f":"_xlfn.XLOOKUP(B994,'Programmes lists'!B:B,'Programmes lists'!G:G,\"Not found\")","v":"Minimum grade 12 pass at 60% for \n•\tLife Sciences "},{"$f":"_xlfn.XLOOKUP(B994,'Programmes lists'!B:B,'Programmes lists'!F:F,\"Not found\")","v":520}]
["Senior and FET ","Specialising In Technology and Life Sciences (BFN)","EDUB3714",{"$f":"_xlfn.XLOOKUP(C995,'RAW module list'!A:A,'RAW module list'!B:B, \"Not found\")","v":"Education Studies 3.1 Education systems in global and national context"},{"$f":"_xlfn.XLOOKUP(C995,'RAW module list'!A:A,'RAW module list'!C:C, \"Not found\")","v":7},{"$f":"_xlfn.XLOOKUP(C995,'RAW module list'!A:A,'RAW module list'!D:D, \"Not found\")","v":16},{"$f":"_xlfn.XLOOKUP(C995,'RAW module list'!A:A,'RAW module list'!E:E, \"Not found\")","v":"EDUB1613 & EDUB1623& EDUB2714 & EDUB2724"},"Third Year",{"$f":"_xlfn.XLOOKUP(B995,'Programmes lists'!B:B,'Programmes lists'!D:D)","v":"BC736308"},{"$f":"_xlfn.XLOOKUP(B995,'Programmes lists'!B:B,'Programmes lists'!E:E, \"Not found\")","v":0},{"$f":"_xlfn.XLOOKUP(B995,'Programmes lists'!B:B,'Programmes lists'!G:G,\"Not found\")","v":"Minimum grade 12 pass at 60% for \n•\tLife Sciences "},{"$f":"_xlfn.XLOOKUP(B995,'Programmes lists'!B:B,'Programmes lists'!F:F,\"Not found\")","v":520}]
["Senior and FET ","Specialising In Technology and Life Sciences (BFN)","SICL3512 OR SSCL3512 OR GAFR3512 OR ZUCL3512",{"$f":"_xlfn.XLOOKUP(C996,'RAW module list'!A:A,'RAW module list'!B:B, \"Not found\")","v":"Conversational Sign Language OR Conversational Sesotho OR Conversational Afrikaans OR Conversational IsiZulu"},{"$f":"_xlfn.XLOOKUP(C996,'RAW module list'!A:A,'RAW module list'!C:C, \"Not found\")","v":5},{"$f":"_xlfn.XLOOKUP(C996,'RAW module list'!A:A,'RAW module list'!D:D, \"Not found\")","v":8},{"$f":"_xlfn.XLOOKUP(C996,'RAW module list'!A:A,'RAW module list'!E:E, \"Not found\")","v":"No previous exposure to the language"},"Third Year",{"$f":"_xlfn.XLOOKUP(B996,'Programmes lists'!B:B,'Programmes lists'!D:D)","v":"BC736308"},{"$f":"_xlfn.XLOOKUP(B996,'Programmes lists'!B:B,'Programmes lists'!E:E, \"Not found\")","v":0},{"$f":"_xlfn.XLOOKUP(B996,'Programmes lists'!B:B,'Programmes lists'!G:G,\"Not found\")","v":"Minimum grade 12 pass at 60% for \n•\tLife Sciences "},{"$f":"_xlfn.XLOOKUP(B996,'Programmes lists'!B:B,'Programmes lists'!F:F,\"Not found\")","v":520}]
["Senior and FET ","Specialising In Technology and Life Sciences (BFN)","WILV3606",{"$f":"_xlfn.XLOOKUP(C997,'RAW module list'!A:A,'RAW module list'!B:B, \"Not found\")","v":"Teaching Practice 3"},{"$f":"_xlfn.XLOOKUP(C997,'RAW module list'!A:A,'RAW module list'!C:C, \"Not found\")","v":6},{"$f":"_xlfn.XLOOKUP(C997,'RAW module list'!A:A,'RAW module list'!D:D, \"Not found\")","v":24},{"$f":"_xlfn.XLOOKUP(C997,'RAW module list'!A:A,'RAW module list'!E:E, \"Not found\")","v":"TPRV2502"},"Third Year",{"$f":"_xlfn.XLOOKUP(B997,'Programmes lists'!B:B,'Programmes lists'!D:D)","v":"BC736308"},{"$f":"_xlfn.XLOOKUP(B997,'Programmes lists'!B:B,'Programmes lists'!E:E, \"Not found\")","v":0},{"$f":"_xlfn.XLOOKUP(B997,'Programmes lists'!B:B,'Programmes lists'!G:G,\"Not found\")","v":"Minimum grade 12 pass at 60% for \n•\tLife Sciences "},{"$f":"_xlfn.XLOOKUP(B997,'Programmes lists'!B:B,'Programmes lists'!F:F,\"Not found\")","v":520}]
["Senior and FET ","Specialising In Technology and Life Sciences (BFN)","EDUB3724",{"$f":"_xlfn.XLOOKUP(C998,'RAW module list'!A:A,'RAW module list'!B:B, \"Not found\")","v":"Education Studies 3.2: Contemporary Education Theory in the current social context"},{"$f":"_xlfn.XLOOKUP(C998,'RAW module list'!A:A,'RAW module list'!C:C, \"Not found\")","v":7},{"$f":"_xlfn.XLOOKUP(C998,'RAW module list'!A:A,'RAW module list'!D:D, \"Not found\")","v":16},{"$f":"_xlfn.XLOOKUP(C998,'RAW module list'!A:A,'RAW module list'!E:E, \"Not found\")","v":"EDUB1613 & EDUB1623 & EDUB2714 & EDUB2724 & EDUB3714"},"Third Year",{"$f":"_xlfn.XLOOKUP(B998,'Programmes lists'!B:B,'Programmes lists'!D:D)","v":"BC736308"},{"$f":"_xlfn.XLOOKUP(B998,'Programmes lists'!B:B,'Programmes lists'!E:E, \"Not found\")","v":0},{"$f":"_xlfn.XLOOKUP(B998,'Programmes lists'!B:B,'Programmes lists'!G:G,\"Not found\")","v":"Minimum grade 12 pass at 60% for \n•\tLife Sciences "},{"$f":"_xlfn.XLOOKUP(B998,'Programmes lists'!B:B,'Programmes lists'!F:F,\"Not found\")","v":520}]
["Senior and FET ","Specialising In Technology and Life Sciences (BFN)","SICL3522 OR SSCL3522 OR GAFR3522 OR ZUCL3522",{"$f":"_xlfn.XLOOKUP(C999,'RAW module list'!A:A,'RAW module list'!B:B, \"Not found\")","v":"Conversational Sign Language OR Conversational Sesotho OR Conversational Afrikaans OR Conversational IsiZulu"},{"$f":"_xlfn.XLOOKUP(C999,'RAW module list'!A:A,'RAW module list'!C:C, \"Not found\")","v":5},{"$f":"_xlfn.XLOOKUP(C999,'RAW module list'!A:A,'RAW module list'!D:D, \"Not found\")","v":8},{"$f":"_xlfn.XLOOKUP(C999,'RAW module list'!A:A,'RAW module list'!E:E, \"Not found\")","v":"Continue with the conversational language chosen in Semester 1"},"Third Year",{"$f":"_xlfn.XLOOKUP(B999,'Programmes lists'!B:B,'Programmes lists'!D:D)","v":"BC736308"},{"$f":"_xlfn.XLOOKUP(B999,'Programmes lists'!B:B,'Programmes lists'!E:E, \"Not found\")","v":0},{"$f":"_xlfn.XLOOKUP(B999,'Programmes lists'!B:B,'Programmes lists'!G:G,\"Not found\")","v":"Minimum grade 12 pass at 60% for \n•\tLife Sciences "},{"$f":"_xlfn.XLOOKUP(B999,'Programmes lists'!B:B,'Programmes lists'!F:F,\"Not found\")","v":520}]
["Senior and FET ","Specialising In Technology and Life Sciences (BFN)","Special Requirement:","Choose three didactics modules according to subjects in previous years of study; LSTV is compulsory",null,null,null,"Third Year",{"$f":"_xlfn.XLOOKUP(B1000,'Programmes lists'!B:B,'Programmes lists'!D:D)","v":"BC736308"},{"$f":"_xlfn.XLOOKUP(B1000,'Programmes lists'!B:B,'Programmes lists'!E:E, \"Not found\")","v":0},{"$f":"_xlfn.XLOOKUP(B1000,'Programmes lists'!B:B,'Programmes lists'!G:G,\"Not found\")","v":"Minimum grade 12 pass at 60% for \n•\tLife Sciences "},{"$f":"_xlfn.XLOOKUP(B1000,'Programmes lists'!B:B,'Programmes lists'!F:F,\"Not found\")","v":520}]
["Senior and FET ","Specialising In Technology and Life Sciences (BFN)","LSTV4705",{"$f":"_xlfn.XLOOKUP(C1001,'RAW module list'!A:A,'RAW module list'!B:B, \"Not found\")","v":"Life Sciences Teaching 2: Further Education and Training phase"},{"$f":"_xlfn.XLOOKUP(C1001,'RAW module list'!A:A,'RAW module list'!C:C, \"Not found\")","v":7},{"$f":"_xlfn.XLOOKUP(C1001,'RAW module list'!A:A,'RAW module list'!D:D, \"Not found\")","v":20},{"$f":"_xlfn.XLOOKUP(C1001,'RAW module list'!A:A,'RAW module list'!E:E, \"Not found\")","v":"LSTV3605"},"Fourth Year",{"$f":"_xlfn.XLOOKUP(B1001,'Programmes lists'!B:B,'Programmes lists'!D:D)","v":"BC736308"},{"$f":"_xlfn.XLOOKUP(B1001,'Programmes lists'!B:B,'Programmes lists'!E:E, \"Not found\")","v":0},{"$f":"_xlfn.XLOOKUP(B1001,'Programmes lists'!B:B,'Programmes lists'!G:G,\"Not found\")","v":"Minimum grade 12 pass at 60% for \n•\tLife Sciences "},{"$f":"_xlfn.XLOOKUP(B1001,'Programmes lists'!B:B,'Programmes lists'!F:F,\"Not found\")","v":520},"Continue with three didactics according to subjects in previous years of study"]
["Senior and FET ","Specialising In Technology and Life Sciences (BFN)","TEGT4705",{"$f":"_xlfn.XLOOKUP(C1002,'RAW module list'!A:A,'RAW module list'!B:B, \"Not found\")","v":"Technology Teaching 2: Senior Phase"},{"$f":"_xlfn.XLOOKUP(C1002,'RAW module list'!A:A,'RAW module list'!C:C, \"Not found\")","v":7},{"$f":"_xlfn.XLOOKUP(C1002,'RAW module list'!A:A,'RAW module list'!D:D, \"Not found\")","v":20},{"$f":"_xlfn.XLOOKUP(C1002,'RAW module list'!A:A,'RAW module list'!E:E, \"Not found\")","v":"TEGT3605"},"Fourth Year",{"$f":"_xlfn.XLOOKUP(B1002,'Programmes lists'!B:B,'Programmes lists'!D:D)","v":"BC736308"},{"$f":"_xlfn.XLOOKUP(B1002,'Programmes lists'!B:B,'Programmes lists'!E:E, \"Not found\")","v":0},{"$f":"_xlfn.XLOOKUP(B1002,'Programmes lists'!B:B,'Programmes lists'!G:G,\"Not found\")","v":"Minimum grade 12 pass at 60% for \n•\tLife Sciences "},{"$f":"_xlfn.XLOOKUP(B1002,'Programmes lists'!B:B,'Programmes lists'!F:F,\"Not found\")","v":520}]
["Senior and FET ","Specialising In Technology and Life Sciences (BFN)","LSPT4705",{"$f":"_xlfn.XLOOKUP(C1003,'RAW module list'!A:A,'RAW module list'!B:B, \"Not found\")","v":"Third didactics subject"},{"$f":"_xlfn.XLOOKUP(C1003,'RAW module list'!A:A,'RAW module list'!C:C, \"Not found\")","v":7},{"$f":"_xlfn.XLOOKUP(C1003,'RAW module list'!A:A,'RAW module list'!D:D, \"Not found\")","v":20},{"$f":"_xlfn.XLOOKUP(C1003,'RAW module list'!A:A,'RAW module list'!E:E, \"Not found\")","v":"LSPT3605"},"Fourth Year",{"$f":"_xlfn.XLOOKUP(B1003,'Programmes lists'!B:B,'Programmes lists'!D:D)","v":"BC736308"},{"$f":"_xlfn.XLOOKUP(B1003,'Programmes lists'!B:B,'Programmes lists'!E:E, \"Not found\")","v":0},{"$f":"_xlfn.XLOOKUP(B1003,'Programmes lists'!B:B,'Programmes lists'!G:G,\"Not found\")","v":"Minimum grade 12 pass at 60% for \n•\tLife Sciences "},{"$f":"_xlfn.XLOOKUP(B1003,'Programmes lists'!B:B,'Programmes lists'!F:F,\"Not found\")","v":520}]
["Senior and FET ","Specialising In Technology and Life Sciences (BFN)","WILV4700",{"$f":"_xlfn.XLOOKUP(C1004,'RAW module list'!A:A,'RAW module list'!B:B, \"Not found\")","v":"Teaching Practice 4"},{"$f":"_xlfn.XLOOKUP(C1004,'RAW module list'!A:A,'RAW module list'!C:C, \"Not found\")","v":7},{"$f":"_xlfn.XLOOKUP(C1004,'RAW module list'!A:A,'RAW module list'!D:D, \"Not found\")","v":40},{"$f":"_xlfn.XLOOKUP(C1004,'RAW module list'!A:A,'RAW module list'!E:E, \"Not found\")","v":"WILV3606"},"Fourth Year",{"$f":"_xlfn.XLOOKUP(B1004,'Programmes lists'!B:B,'Programmes lists'!D:D)","v":"BC736308"},{"$f":"_xlfn.XLOOKUP(B1004,'Programmes lists'!B:B,'Programmes lists'!E:E, \"Not found\")","v":0},{"$f":"_xlfn.XLOOKUP(B1004,'Programmes lists'!B:B,'Programmes lists'!G:G,\"Not found\")","v":"Minimum grade 12 pass at 60% for \n•\tLife Sciences "},{"$f":"_xlfn.XLOOKUP(B1004,'Programmes lists'!B:B,'Programmes lists'!F:F,\"Not found\")","v":520}]
["Senior and FET ","Specialising In Technology and Life Sciences (BFN)","Special Requirement:","Continue with three didactics according to subjects in previous years of study",null,null,null,"Fourth Year",{"$f":"_xlfn.XLOOKUP(B1005,'Programmes lists'!B:B,'Programmes lists'!D:D)","v":"BC736308"},{"$f":"_xlfn.XLOOKUP(B1005,'Programmes lists'!B:B,'Programmes lists'!E:E, \"Not found\")","v":0},{"$f":"_xlfn.XLOOKUP(B1005,'Programmes lists'!B:B,'Programmes lists'!G:G,\"Not found\")","v":"Minimum grade 12 pass at 60% for \n•\tLife Sciences "},{"$f":"_xlfn.XLOOKUP(B1005,'Programmes lists'!B:B,'Programmes lists'!F:F,\"Not found\")","v":520}]
["Senior and FET ","Specialising in IsiZulu Home Language and English First Additional Language (QQ)","ZULL1514",{"$f":"_xlfn.XLOOKUP(C1006,'RAW module list'!A:A,'RAW module list'!B:B, \"Not found\")","v":"IsiZulu: Introduction to Linguistics"},{"$f":"_xlfn.XLOOKUP(C1006,'RAW module list'!A:A,'RAW module list'!C:C, \"Not found\")","v":5},{"$f":"_xlfn.XLOOKUP(C1006,'RAW module list'!A:A,'RAW module list'!D:D, \"Not found\")","v":16},{"$f":"_xlfn.XLOOKUP(C1006,'RAW module list'!A:A,'RAW module list'!E:E, \"Not found\")","v":0},"First Year",{"$f":"_xlfn.XLOOKUP(B1006,'Programmes lists'!B:B,'Programmes lists'!D:D)","v":0},{"$f":"_xlfn.XLOOKUP(B1006,'Programmes lists'!B:B,'Programmes lists'!E:E, \"Not found\")","v":"QC736403"},{"$f":"_xlfn.XLOOKUP(B1006,'Programmes lists'!B:B,'Programmes lists'!G:G,\"Not found\")","v":"Minimum of 50% in grade 12 pass for \n•\tSesotho HL \n•\tEnglish FAL "},{"$f":"_xlfn.XLOOKUP(B1006,'Programmes lists'!B:B,'Programmes lists'!F:F,\"Not found\")","v":512}]
["Senior and FET ","Specialising in IsiZulu Home Language and English First Additional Language (QQ)","ENGL1514",{"$f":"_xlfn.XLOOKUP(C1007,'RAW module list'!A:A,'RAW module list'!B:B, \"Not found\")","v":"Reading Literature: An Introduction to Reading, Writing and Critical Textual Analysis"},{"$f":"_xlfn.XLOOKUP(C1007,'RAW module list'!A:A,'RAW module list'!C:C, \"Not found\")","v":5},{"$f":"_xlfn.XLOOKUP(C1007,'RAW module list'!A:A,'RAW module list'!D:D, \"Not found\")","v":16},{"$f":"_xlfn.XLOOKUP(C1007,'RAW module list'!A:A,'RAW module list'!E:E, \"Not found\")","v":0},"First Year",{"$f":"_xlfn.XLOOKUP(B1007,'Programmes lists'!B:B,'Programmes lists'!D:D)","v":0},{"$f":"_xlfn.XLOOKUP(B1007,'Programmes lists'!B:B,'Programmes lists'!E:E, \"Not found\")","v":"QC736403"},{"$f":"_xlfn.XLOOKUP(B1007,'Programmes lists'!B:B,'Programmes lists'!G:G,\"Not found\")","v":"Minimum of 50% in grade 12 pass for \n•\tSesotho HL \n•\tEnglish FAL "},{"$f":"_xlfn.XLOOKUP(B1007,'Programmes lists'!B:B,'Programmes lists'!F:F,\"Not found\")","v":512}]
["Senior and FET ","Specialising in IsiZulu Home Language and English First Additional Language (QQ)","LLST1513",{"$f":"_xlfn.XLOOKUP(C1008,'RAW module list'!A:A,'RAW module list'!B:B, \"Not found\")","v":"Lifelong Learning Skills"},{"$f":"_xlfn.XLOOKUP(C1008,'RAW module list'!A:A,'RAW module list'!C:C, \"Not found\")","v":5},{"$f":"_xlfn.XLOOKUP(C1008,'RAW module list'!A:A,'RAW module list'!D:D, \"Not found\")","v":12},{"$f":"_xlfn.XLOOKUP(C1008,'RAW module list'!A:A,'RAW module list'!E:E, \"Not found\")","v":0},"First Year",{"$f":"_xlfn.XLOOKUP(B1008,'Programmes lists'!B:B,'Programmes lists'!D:D)","v":0},{"$f":"_xlfn.XLOOKUP(B1008,'Programmes lists'!B:B,'Programmes lists'!E:E, \"Not found\")","v":"QC736403"},{"$f":"_xlfn.XLOOKUP(B1008,'Programmes lists'!B:B,'Programmes lists'!G:G,\"Not found\")","v":"Minimum of 50% in grade 12 pass for \n•\tSesotho HL \n•\tEnglish FAL "},{"$f":"_xlfn.XLOOKUP(B1008,'Programmes lists'!B:B,'Programmes lists'!F:F,\"Not found\")","v":512}]
["Senior and FET ","Specialising in IsiZulu Home Language and English First Additional Language (QQ)","EDUB1613",{"$f":"_xlfn.XLOOKUP(C1009,'RAW module list'!A:A,'RAW module list'!B:B, \"Not found\")","v":"Education Studies 1.1 The Individual in the learning context"},{"$f":"_xlfn.XLOOKUP(C1009,'RAW module list'!A:A,'RAW module list'!C:C, \"Not found\")","v":6},{"$f":"_xlfn.XLOOKUP(C1009,'RAW module list'!A:A,'RAW module list'!D:D, \"Not found\")","v":12},{"$f":"_xlfn.XLOOKUP(C1009,'RAW module list'!A:A,'RAW module list'!E:E, \"Not found\")","v":0},"First Year",{"$f":"_xlfn.XLOOKUP(B1009,'Programmes lists'!B:B,'Programmes lists'!D:D)","v":0},{"$f":"_xlfn.XLOOKUP(B1009,'Programmes lists'!B:B,'Programmes lists'!E:E, \"Not found\")","v":"QC736403"},{"$f":"_xlfn.XLOOKUP(B1009,'Programmes lists'!B:B,'Programmes lists'!G:G,\"Not found\")","v":"Minimum of 50% in grade 12 pass for \n•\tSesotho HL \n•\tEnglish FAL "},{"$f":"_xlfn.XLOOKUP(B1009,'Programmes lists'!B:B,'Programmes lists'!F:F,\"Not found\")","v":512}]
["Senior and FET ","Specialising in IsiZulu Home Language and English First Additional Language (QQ)","TPRV1502",{"$f":"_xlfn.XLOOKUP(C1010,'RAW module list'!A:A,'RAW module list'!B:B, \"Not found\")","v":"Teaching Practice 1 "},{"$f":"_xlfn.XLOOKUP(C1010,'RAW module list'!A:A,'RAW module list'!C:C, \"Not found\")","v":5},{"$f":"_xlfn.XLOOKUP(C1010,'RAW module list'!A:A,'RAW module list'!D:D, \"Not found\")","v":8},{"$f":"_xlfn.XLOOKUP(C1010,'RAW module list'!A:A,'RAW module list'!E:E, \"Not found\")","v":0},"First Year",{"$f":"_xlfn.XLOOKUP(B1010,'Programmes lists'!B:B,'Programmes lists'!D:D)","v":0},{"$f":"_xlfn.XLOOKUP(B1010,'Programmes lists'!B:B,'Programmes lists'!E:E, \"Not found\")","v":"QC736403"},{"$f":"_xlfn.XLOOKUP(B1010,'Programmes lists'!B:B,'Programmes lists'!G:G,\"Not found\")","v":"Minimum of 50% in grade 12 pass for \n•\tSesotho HL \n•\tEnglish FAL "},{"$f":"_xlfn.XLOOKUP(B1010,'Programmes lists'!B:B,'Programmes lists'!F:F,\"Not found\")","v":512}]
["Senior and FET ","Specialising in IsiZulu Home Language and English First Additional Language (QQ)","UFSS1504",{"$f":"_xlfn.XLOOKUP(C1011,'RAW module list'!A:A,'RAW module list'!B:B, \"Not found\")","v":"Undergraduate core curriculum"},{"$f":"_xlfn.XLOOKUP(C1011,'RAW module list'!A:A,'RAW module list'!C:C, \"Not found\")","v":5},{"$f":"_xlfn.XLOOKUP(C1011,'RAW module list'!A:A,'RAW module list'!D:D, \"Not found\")","v":-16},{"$f":"_xlfn.XLOOKUP(C1011,'RAW module list'!A:A,'RAW module list'!E:E, \"Not found\")","v":0},"First Year",{"$f":"_xlfn.XLOOKUP(B1011,'Programmes lists'!B:B,'Programmes lists'!D:D)","v":0},{"$f":"_xlfn.XLOOKUP(B1011,'Programmes lists'!B:B,'Programmes lists'!E:E, \"Not found\")","v":"QC736403"},{"$f":"_xlfn.XLOOKUP(B1011,'Programmes lists'!B:B,'Programmes lists'!G:G,\"Not found\")","v":"Minimum of 50% in grade 12 pass for \n•\tSesotho HL \n•\tEnglish FAL "},{"$f":"_xlfn.XLOOKUP(B1011,'Programmes lists'!B:B,'Programmes lists'!F:F,\"Not found\")","v":512}]
["Senior and FET ","Specialising in IsiZulu Home Language and English First Additional Language (QQ)","EALT1508",{"$f":"_xlfn.XLOOKUP(C1012,'RAW module list'!A:A,'RAW module list'!B:B, \"Not found\")","v":"English Academic Literacy for Education "},{"$f":"_xlfn.XLOOKUP(C1012,'RAW module list'!A:A,'RAW module list'!C:C, \"Not found\")","v":5},{"$f":"_xlfn.XLOOKUP(C1012,'RAW module list'!A:A,'RAW module list'!D:D, \"Not found\")","v":-32},{"$f":"_xlfn.XLOOKUP(C1012,'RAW module list'!A:A,'RAW module list'!E:E, \"Not found\")","v":"NBT requirements not met"},"First Year",{"$f":"_xlfn.XLOOKUP(B1012,'Programmes lists'!B:B,'Programmes lists'!D:D)","v":0},{"$f":"_xlfn.XLOOKUP(B1012,'Programmes lists'!B:B,'Programmes lists'!E:E, \"Not found\")","v":"QC736403"},{"$f":"_xlfn.XLOOKUP(B1012,'Programmes lists'!B:B,'Programmes lists'!G:G,\"Not found\")","v":"Minimum of 50% in grade 12 pass for \n•\tSesotho HL \n•\tEnglish FAL "},{"$f":"_xlfn.XLOOKUP(B1012,'Programmes lists'!B:B,'Programmes lists'!F:F,\"Not found\")","v":512}]
["Senior and FET ","Specialising in IsiZulu Home Language and English First Additional Language (QQ)","ZULT1524",{"$f":"_xlfn.XLOOKUP(C1013,'RAW module list'!A:A,'RAW module list'!B:B, \"Not found\")","v":"IsiZulu: Introduction to Literature"},{"$f":"_xlfn.XLOOKUP(C1013,'RAW module list'!A:A,'RAW module list'!C:C, \"Not found\")","v":6},{"$f":"_xlfn.XLOOKUP(C1013,'RAW module list'!A:A,'RAW module list'!D:D, \"Not found\")","v":16},{"$f":"_xlfn.XLOOKUP(C1013,'RAW module list'!A:A,'RAW module list'!E:E, \"Not found\")","v":"ZULL1514"},"First Year",{"$f":"_xlfn.XLOOKUP(B1013,'Programmes lists'!B:B,'Programmes lists'!D:D)","v":0},{"$f":"_xlfn.XLOOKUP(B1013,'Programmes lists'!B:B,'Programmes lists'!E:E, \"Not found\")","v":"QC736403"},{"$f":"_xlfn.XLOOKUP(B1013,'Programmes lists'!B:B,'Programmes lists'!G:G,\"Not found\")","v":"Minimum of 50% in grade 12 pass for \n•\tSesotho HL \n•\tEnglish FAL "},{"$f":"_xlfn.XLOOKUP(B1013,'Programmes lists'!B:B,'Programmes lists'!F:F,\"Not found\")","v":512}]
["Senior and FET ","Specialising in IsiZulu Home Language and English First Additional Language (QQ)","ENGL1624",{"$f":"_xlfn.XLOOKUP(C1014,'RAW module list'!A:A,'RAW module list'!B:B, \"Not found\")","v":"Reading Literature, Film and Culture"},{"$f":"_xlfn.XLOOKUP(C1014,'RAW module list'!A:A,'RAW module list'!C:C, \"Not found\")","v":6},{"$f":"_xlfn.XLOOKUP(C1014,'RAW module list'!A:A,'RAW module list'!D:D, \"Not found\")","v":16},{"$f":"_xlfn.XLOOKUP(C1014,'RAW module list'!A:A,'RAW module list'!E:E, \"Not found\")","v":"ENGL1514"},"First Year",{"$f":"_xlfn.XLOOKUP(B1014,'Programmes lists'!B:B,'Programmes lists'!D:D)","v":0},{"$f":"_xlfn.XLOOKUP(B1014,'Programmes lists'!B:B,'Programmes lists'!E:E, \"Not found\")","v":"QC736403"},{"$f":"_xlfn.XLOOKUP(B1014,'Programmes lists'!B:B,'Programmes lists'!G:G,\"Not found\")","v":"Minimum of 50% in grade 12 pass for \n•\tSesotho HL \n•\tEnglish FAL "},{"$f":"_xlfn.XLOOKUP(B1014,'Programmes lists'!B:B,'Programmes lists'!F:F,\"Not found\")","v":512}]
["Senior and FET ","Specialising in IsiZulu Home Language and English First Additional Language (QQ)","EDUB1623",{"$f":"_xlfn.XLOOKUP(C1015,'RAW module list'!A:A,'RAW module list'!B:B, \"Not found\")","v":"Education Studies 1.2 What it means to educate: Theoretical perspectives and their significance for SA education"},{"$f":"_xlfn.XLOOKUP(C1015,'RAW module list'!A:A,'RAW module list'!C:C, \"Not found\")","v":6},{"$f":"_xlfn.XLOOKUP(C1015,'RAW module list'!A:A,'RAW module list'!D:D, \"Not found\")","v":12},{"$f":"_xlfn.XLOOKUP(C1015,'RAW module list'!A:A,'RAW module list'!E:E, \"Not found\")","v":0},"First Year",{"$f":"_xlfn.XLOOKUP(B1015,'Programmes lists'!B:B,'Programmes lists'!D:D)","v":0},{"$f":"_xlfn.XLOOKUP(B1015,'Programmes lists'!B:B,'Programmes lists'!E:E, \"Not found\")","v":"QC736403"},{"$f":"_xlfn.XLOOKUP(B1015,'Programmes lists'!B:B,'Programmes lists'!G:G,\"Not found\")","v":"Minimum of 50% in grade 12 pass for \n•\tSesotho HL \n•\tEnglish FAL "},{"$f":"_xlfn.XLOOKUP(B1015,'Programmes lists'!B:B,'Programmes lists'!F:F,\"Not found\")","v":512}]
["Senior and FET ","Specialising in IsiZulu Home Language and English First Additional Language (QQ)","GPEV1623",{"$f":"_xlfn.XLOOKUP(C1016,'RAW module list'!A:A,'RAW module list'!B:B, \"Not found\")","v":"General Pedagogy 1: Managing the Curriculum"},{"$f":"_xlfn.XLOOKUP(C1016,'RAW module list'!A:A,'RAW module list'!C:C, \"Not found\")","v":6},{"$f":"_xlfn.XLOOKUP(C1016,'RAW module list'!A:A,'RAW module list'!D:D, \"Not found\")","v":12},{"$f":"_xlfn.XLOOKUP(C1016,'RAW module list'!A:A,'RAW module list'!E:E, \"Not found\")","v":0},"First Year",{"$f":"_xlfn.XLOOKUP(B1016,'Programmes lists'!B:B,'Programmes lists'!D:D)","v":0},{"$f":"_xlfn.XLOOKUP(B1016,'Programmes lists'!B:B,'Programmes lists'!E:E, \"Not found\")","v":"QC736403"},{"$f":"_xlfn.XLOOKUP(B1016,'Programmes lists'!B:B,'Programmes lists'!G:G,\"Not found\")","v":"Minimum of 50% in grade 12 pass for \n•\tSesotho HL \n•\tEnglish FAL "},{"$f":"_xlfn.XLOOKUP(B1016,'Programmes lists'!B:B,'Programmes lists'!F:F,\"Not found\")","v":512}]
["Senior and FET ","Specialising in IsiZulu Home Language and English First Additional Language (QQ)","ZULL2614",{"$f":"_xlfn.XLOOKUP(C1017,'RAW module list'!A:A,'RAW module list'!B:B, \"Not found\")","v":"Sociolinguistics in IsiZulu "},{"$f":"_xlfn.XLOOKUP(C1017,'RAW module list'!A:A,'RAW module list'!C:C, \"Not found\")","v":6},{"$f":"_xlfn.XLOOKUP(C1017,'RAW module list'!A:A,'RAW module list'!D:D, \"Not found\")","v":16},{"$f":"_xlfn.XLOOKUP(C1017,'RAW module list'!A:A,'RAW module list'!E:E, \"Not found\")","v":"ZULL1514 & ZULT1524"},"Second Year",{"$f":"_xlfn.XLOOKUP(B1017,'Programmes lists'!B:B,'Programmes lists'!D:D)","v":0},{"$f":"_xlfn.XLOOKUP(B1017,'Programmes lists'!B:B,'Programmes lists'!E:E, \"Not found\")","v":"QC736403"},{"$f":"_xlfn.XLOOKUP(B1017,'Programmes lists'!B:B,'Programmes lists'!G:G,\"Not found\")","v":"Minimum of 50% in grade 12 pass for \n•\tSesotho HL \n•\tEnglish FAL "},{"$f":"_xlfn.XLOOKUP(B1017,'Programmes lists'!B:B,'Programmes lists'!F:F,\"Not found\")","v":512}]
["Senior and FET ","Specialising in IsiZulu Home Language and English First Additional Language (QQ)","ENGL2614",{"$f":"_xlfn.XLOOKUP(C1018,'RAW module list'!A:A,'RAW module list'!B:B, \"Not found\")","v":"Early Modern to Contemporary World Literatures"},{"$f":"_xlfn.XLOOKUP(C1018,'RAW module list'!A:A,'RAW module list'!C:C, \"Not found\")","v":6},{"$f":"_xlfn.XLOOKUP(C1018,'RAW module list'!A:A,'RAW module list'!D:D, \"Not found\")","v":16},{"$f":"_xlfn.XLOOKUP(C1018,'RAW module list'!A:A,'RAW module list'!E:E, \"Not found\")","v":"ENGL1514 & ENGL1624"},"Second Year",{"$f":"_xlfn.XLOOKUP(B1018,'Programmes lists'!B:B,'Programmes lists'!D:D)","v":0},{"$f":"_xlfn.XLOOKUP(B1018,'Programmes lists'!B:B,'Programmes lists'!E:E, \"Not found\")","v":"QC736403"},{"$f":"_xlfn.XLOOKUP(B1018,'Programmes lists'!B:B,'Programmes lists'!G:G,\"Not found\")","v":"Minimum of 50% in grade 12 pass for \n•\tSesotho HL \n•\tEnglish FAL "},{"$f":"_xlfn.XLOOKUP(B1018,'Programmes lists'!B:B,'Programmes lists'!F:F,\"Not found\")","v":512}]
["Senior and FET ","Specialising in IsiZulu Home Language and English First Additional Language (QQ)","EDUB2714",{"$f":"_xlfn.XLOOKUP(C1019,'RAW module list'!A:A,'RAW module list'!B:B, \"Not found\")","v":"Education Studies 2: Teaching and Learning in Education Context"},{"$f":"_xlfn.XLOOKUP(C1019,'RAW module list'!A:A,'RAW module list'!C:C, \"Not found\")","v":7},{"$f":"_xlfn.XLOOKUP(C1019,'RAW module list'!A:A,'RAW module list'!D:D, \"Not found\")","v":16},{"$f":"_xlfn.XLOOKUP(C1019,'RAW module list'!A:A,'RAW module list'!E:E, \"Not found\")","v":"EDUB1613 & EDUB1623"},"Second Year",{"$f":"_xlfn.XLOOKUP(B1019,'Programmes lists'!B:B,'Programmes lists'!D:D)","v":0},{"$f":"_xlfn.XLOOKUP(B1019,'Programmes lists'!B:B,'Programmes lists'!E:E, \"Not found\")","v":"QC736403"},{"$f":"_xlfn.XLOOKUP(B1019,'Programmes lists'!B:B,'Programmes lists'!G:G,\"Not found\")","v":"Minimum of 50% in grade 12 pass for \n•\tSesotho HL \n•\tEnglish FAL "},{"$f":"_xlfn.XLOOKUP(B1019,'Programmes lists'!B:B,'Programmes lists'!F:F,\"Not found\")","v":512}]
["Senior and FET ","Specialising in IsiZulu Home Language and English First Additional Language (QQ)","GPEV2613",{"$f":"_xlfn.XLOOKUP(C1020,'RAW module list'!A:A,'RAW module list'!B:B, \"Not found\")","v":"General Pedagogy 2.1"},{"$f":"_xlfn.XLOOKUP(C1020,'RAW module list'!A:A,'RAW module list'!C:C, \"Not found\")","v":6},{"$f":"_xlfn.XLOOKUP(C1020,'RAW module list'!A:A,'RAW module list'!D:D, \"Not found\")","v":12},{"$f":"_xlfn.XLOOKUP(C1020,'RAW module list'!A:A,'RAW module list'!E:E, \"Not found\")","v":"GPEV1623"},"Second Year",{"$f":"_xlfn.XLOOKUP(B1020,'Programmes lists'!B:B,'Programmes lists'!D:D)","v":0},{"$f":"_xlfn.XLOOKUP(B1020,'Programmes lists'!B:B,'Programmes lists'!E:E, \"Not found\")","v":"QC736403"},{"$f":"_xlfn.XLOOKUP(B1020,'Programmes lists'!B:B,'Programmes lists'!G:G,\"Not found\")","v":"Minimum of 50% in grade 12 pass for \n•\tSesotho HL \n•\tEnglish FAL "},{"$f":"_xlfn.XLOOKUP(B1020,'Programmes lists'!B:B,'Programmes lists'!F:F,\"Not found\")","v":512}]
["Senior and FET ","Specialising in IsiZulu Home Language and English First Additional Language (QQ)","ELLT2504",{"$f":"_xlfn.XLOOKUP(C1021,'RAW module list'!A:A,'RAW module list'!B:B, \"Not found\")","v":"English language skills for teaching"},{"$f":"_xlfn.XLOOKUP(C1021,'RAW module list'!A:A,'RAW module list'!C:C, \"Not found\")","v":5},{"$f":"_xlfn.XLOOKUP(C1021,'RAW module list'!A:A,'RAW module list'!D:D, \"Not found\")","v":16},{"$f":"_xlfn.XLOOKUP(C1021,'RAW module list'!A:A,'RAW module list'!E:E, \"Not found\")","v":0},"Second Year",{"$f":"_xlfn.XLOOKUP(B1021,'Programmes lists'!B:B,'Programmes lists'!D:D)","v":0},{"$f":"_xlfn.XLOOKUP(B1021,'Programmes lists'!B:B,'Programmes lists'!E:E, \"Not found\")","v":"QC736403"},{"$f":"_xlfn.XLOOKUP(B1021,'Programmes lists'!B:B,'Programmes lists'!G:G,\"Not found\")","v":"Minimum of 50% in grade 12 pass for \n•\tSesotho HL \n•\tEnglish FAL "},{"$f":"_xlfn.XLOOKUP(B1021,'Programmes lists'!B:B,'Programmes lists'!F:F,\"Not found\")","v":512},"*ELLT can be exempted when ENGL2614 and 2724 have been passed successfully. "]
["Senior and FET ","Specialising in IsiZulu Home Language and English First Additional Language (QQ)","TPRV2502",{"$f":"_xlfn.XLOOKUP(C1022,'RAW module list'!A:A,'RAW module list'!B:B, \"Not found\")","v":"Teaching Practice 2"},{"$f":"_xlfn.XLOOKUP(C1022,'RAW module list'!A:A,'RAW module list'!C:C, \"Not found\")","v":5},{"$f":"_xlfn.XLOOKUP(C1022,'RAW module list'!A:A,'RAW module list'!D:D, \"Not found\")","v":8},{"$f":"_xlfn.XLOOKUP(C1022,'RAW module list'!A:A,'RAW module list'!E:E, \"Not found\")","v":"TPRV1502"},"Second Year",{"$f":"_xlfn.XLOOKUP(B1022,'Programmes lists'!B:B,'Programmes lists'!D:D)","v":0},{"$f":"_xlfn.XLOOKUP(B1022,'Programmes lists'!B:B,'Programmes lists'!E:E, \"Not found\")","v":"QC736403"},{"$f":"_xlfn.XLOOKUP(B1022,'Programmes lists'!B:B,'Programmes lists'!G:G,\"Not found\")","v":"Minimum of 50% in grade 12 pass for \n•\tSesotho HL \n•\tEnglish FAL "},{"$f":"_xlfn.XLOOKUP(B1022,'Programmes lists'!B:B,'Programmes lists'!F:F,\"Not found\")","v":512}]
["Senior and FET ","Specialising in IsiZulu Home Language and English First Additional Language (QQ)","ZULT2624",{"$f":"_xlfn.XLOOKUP(C1023,'RAW module list'!A:A,'RAW module list'!B:B, \"Not found\")","v":"IsiZulu Poetry and Drama"},{"$f":"_xlfn.XLOOKUP(C1023,'RAW module list'!A:A,'RAW module list'!C:C, \"Not found\")","v":6},{"$f":"_xlfn.XLOOKUP(C1023,'RAW module list'!A:A,'RAW module list'!D:D, \"Not found\")","v":16},{"$f":"_xlfn.XLOOKUP(C1023,'RAW module list'!A:A,'RAW module list'!E:E, \"Not found\")","v":"ZULL2614"},"Second Year",{"$f":"_xlfn.XLOOKUP(B1023,'Programmes lists'!B:B,'Programmes lists'!D:D)","v":0},{"$f":"_xlfn.XLOOKUP(B1023,'Programmes lists'!B:B,'Programmes lists'!E:E, \"Not found\")","v":"QC736403"},{"$f":"_xlfn.XLOOKUP(B1023,'Programmes lists'!B:B,'Programmes lists'!G:G,\"Not found\")","v":"Minimum of 50% in grade 12 pass for \n•\tSesotho HL \n•\tEnglish FAL "},{"$f":"_xlfn.XLOOKUP(B1023,'Programmes lists'!B:B,'Programmes lists'!F:F,\"Not found\")","v":512}]
["Senior and FET ","Specialising in IsiZulu Home Language and English First Additional Language (QQ)","ENGL2724",{"$f":"_xlfn.XLOOKUP(C1024,'RAW module list'!A:A,'RAW module list'!B:B, \"Not found\")","v":"Twentieth Century and Modern Literature"},{"$f":"_xlfn.XLOOKUP(C1024,'RAW module list'!A:A,'RAW module list'!C:C, \"Not found\")","v":7},{"$f":"_xlfn.XLOOKUP(C1024,'RAW module list'!A:A,'RAW module list'!D:D, \"Not found\")","v":16},{"$f":"_xlfn.XLOOKUP(C1024,'RAW module list'!A:A,'RAW module list'!E:E, \"Not found\")","v":"ENGL2614"},"Second Year",{"$f":"_xlfn.XLOOKUP(B1024,'Programmes lists'!B:B,'Programmes lists'!D:D)","v":0},{"$f":"_xlfn.XLOOKUP(B1024,'Programmes lists'!B:B,'Programmes lists'!E:E, \"Not found\")","v":"QC736403"},{"$f":"_xlfn.XLOOKUP(B1024,'Programmes lists'!B:B,'Programmes lists'!G:G,\"Not found\")","v":"Minimum of 50% in grade 12 pass for \n•\tSesotho HL \n•\tEnglish FAL "},{"$f":"_xlfn.XLOOKUP(B1024,'Programmes lists'!B:B,'Programmes lists'!F:F,\"Not found\")","v":512}]
["Senior and FET ","Specialising in IsiZulu Home Language and English First Additional Language (QQ)","EDUB2724",{"$f":"_xlfn.XLOOKUP(C1025,'RAW module list'!A:A,'RAW module list'!B:B, \"Not found\")","v":"Education Studies 2: Human Relationships in Education context"},{"$f":"_xlfn.XLOOKUP(C1025,'RAW module list'!A:A,'RAW module list'!C:C, \"Not found\")","v":7},{"$f":"_xlfn.XLOOKUP(C1025,'RAW module list'!A:A,'RAW module list'!D:D, \"Not found\")","v":16},{"$f":"_xlfn.XLOOKUP(C1025,'RAW module list'!A:A,'RAW module list'!E:E, \"Not found\")","v":"EDUB2714"},"Second Year",{"$f":"_xlfn.XLOOKUP(B1025,'Programmes lists'!B:B,'Programmes lists'!D:D)","v":0},{"$f":"_xlfn.XLOOKUP(B1025,'Programmes lists'!B:B,'Programmes lists'!E:E, \"Not found\")","v":"QC736403"},{"$f":"_xlfn.XLOOKUP(B1025,'Programmes lists'!B:B,'Programmes lists'!G:G,\"Not found\")","v":"Minimum of 50% in grade 12 pass for \n•\tSesotho HL \n•\tEnglish FAL "},{"$f":"_xlfn.XLOOKUP(B1025,'Programmes lists'!B:B,'Programmes lists'!F:F,\"Not found\")","v":512}]
["Senior and FET ","Specialising in IsiZulu Home Language and English First Additional Language (QQ)","GPEV2623",{"$f":"_xlfn.XLOOKUP(C1026,'RAW module list'!A:A,'RAW module list'!B:B, \"Not found\")","v":"General Pedagogy 2.2: Assessment"},{"$f":"_xlfn.XLOOKUP(C1026,'RAW module list'!A:A,'RAW module list'!C:C, \"Not found\")","v":6},{"$f":"_xlfn.XLOOKUP(C1026,'RAW module list'!A:A,'RAW module list'!D:D, \"Not found\")","v":12},{"$f":"_xlfn.XLOOKUP(C1026,'RAW module list'!A:A,'RAW module list'!E:E, \"Not found\")","v":"GPEV2613"},"Second Year",{"$f":"_xlfn.XLOOKUP(B1026,'Programmes lists'!B:B,'Programmes lists'!D:D)","v":0},{"$f":"_xlfn.XLOOKUP(B1026,'Programmes lists'!B:B,'Programmes lists'!E:E, \"Not found\")","v":"QC736403"},{"$f":"_xlfn.XLOOKUP(B1026,'Programmes lists'!B:B,'Programmes lists'!G:G,\"Not found\")","v":"Minimum of 50% in grade 12 pass for \n•\tSesotho HL \n•\tEnglish FAL "},{"$f":"_xlfn.XLOOKUP(B1026,'Programmes lists'!B:B,'Programmes lists'!F:F,\"Not found\")","v":512}]
["Senior and FET ","Specialising in IsiZulu Home Language and English First Additional Language (QQ)","Special Requirement:","*ELLT can be exempted when ENGL2614 and 2724 have been passed successfully. ",null,null,null,"Second Year",{"$f":"_xlfn.XLOOKUP(B1027,'Programmes lists'!B:B,'Programmes lists'!D:D)","v":0},{"$f":"_xlfn.XLOOKUP(B1027,'Programmes lists'!B:B,'Programmes lists'!E:E, \"Not found\")","v":"QC736403"},{"$f":"_xlfn.XLOOKUP(B1027,'Programmes lists'!B:B,'Programmes lists'!G:G,\"Not found\")","v":"Minimum of 50% in grade 12 pass for \n•\tSesotho HL \n•\tEnglish FAL "},{"$f":"_xlfn.XLOOKUP(B1027,'Programmes lists'!B:B,'Programmes lists'!F:F,\"Not found\")","v":512}]
["Senior and FET ","Specialising in IsiZulu Home Language and English First Additional Language (QQ)","ZHTV3605",{"$f":"_xlfn.XLOOKUP(C1028,'RAW module list'!A:A,'RAW module list'!B:B, \"Not found\")","v":"IsiZulu Home Language Teaching  1: Further Education and Training phase"},{"$f":"_xlfn.XLOOKUP(C1028,'RAW module list'!A:A,'RAW module list'!C:C, \"Not found\")","v":6},{"$f":"_xlfn.XLOOKUP(C1028,'RAW module list'!A:A,'RAW module list'!D:D, \"Not found\")","v":20},{"$f":"_xlfn.XLOOKUP(C1028,'RAW module list'!A:A,'RAW module list'!E:E, \"Not found\")","v":"ZULL2614 & ZULT2624"},"Third Year",{"$f":"_xlfn.XLOOKUP(B1028,'Programmes lists'!B:B,'Programmes lists'!D:D)","v":0},{"$f":"_xlfn.XLOOKUP(B1028,'Programmes lists'!B:B,'Programmes lists'!E:E, \"Not found\")","v":"QC736403"},{"$f":"_xlfn.XLOOKUP(B1028,'Programmes lists'!B:B,'Programmes lists'!G:G,\"Not found\")","v":"Minimum of 50% in grade 12 pass for \n•\tSesotho HL \n•\tEnglish FAL "},{"$f":"_xlfn.XLOOKUP(B1028,'Programmes lists'!B:B,'Programmes lists'!F:F,\"Not found\")","v":512},"Choose three didactics modules according to subjects: ZHTS, ZHTV, EATS, EATV"]
["Senior and FET ","Specialising in IsiZulu Home Language and English First Additional Language (QQ)","ZHTS3605",{"$f":"_xlfn.XLOOKUP(C1029,'RAW module list'!A:A,'RAW module list'!B:B, \"Not found\")","v":"IsiZulu Home language Teaching 1: Senior Phase"},{"$f":"_xlfn.XLOOKUP(C1029,'RAW module list'!A:A,'RAW module list'!C:C, \"Not found\")","v":6},{"$f":"_xlfn.XLOOKUP(C1029,'RAW module list'!A:A,'RAW module list'!D:D, \"Not found\")","v":20},{"$f":"_xlfn.XLOOKUP(C1029,'RAW module list'!A:A,'RAW module list'!E:E, \"Not found\")","v":"ZULL1514 & ZULT1524"},"Third Year",{"$f":"_xlfn.XLOOKUP(B1029,'Programmes lists'!B:B,'Programmes lists'!D:D)","v":0},{"$f":"_xlfn.XLOOKUP(B1029,'Programmes lists'!B:B,'Programmes lists'!E:E, \"Not found\")","v":"QC736403"},{"$f":"_xlfn.XLOOKUP(B1029,'Programmes lists'!B:B,'Programmes lists'!G:G,\"Not found\")","v":"Minimum of 50% in grade 12 pass for \n•\tSesotho HL \n•\tEnglish FAL "},{"$f":"_xlfn.XLOOKUP(B1029,'Programmes lists'!B:B,'Programmes lists'!F:F,\"Not found\")","v":512}]
["Senior and FET ","Specialising in IsiZulu Home Language and English First Additional Language (QQ)","EATV3605",{"$f":"_xlfn.XLOOKUP(C1030,'RAW module list'!A:A,'RAW module list'!B:B, \"Not found\")","v":"English Additional Language teaching 1: Further Education and training Phase"},{"$f":"_xlfn.XLOOKUP(C1030,'RAW module list'!A:A,'RAW module list'!C:C, \"Not found\")","v":6},{"$f":"_xlfn.XLOOKUP(C1030,'RAW module list'!A:A,'RAW module list'!D:D, \"Not found\")","v":20},{"$f":"_xlfn.XLOOKUP(C1030,'RAW module list'!A:A,'RAW module list'!E:E, \"Not found\")","v":"ENGL2614 & ENGL2724"},"Third Year",{"$f":"_xlfn.XLOOKUP(B1030,'Programmes lists'!B:B,'Programmes lists'!D:D)","v":0},{"$f":"_xlfn.XLOOKUP(B1030,'Programmes lists'!B:B,'Programmes lists'!E:E, \"Not found\")","v":"QC736403"},{"$f":"_xlfn.XLOOKUP(B1030,'Programmes lists'!B:B,'Programmes lists'!G:G,\"Not found\")","v":"Minimum of 50% in grade 12 pass for \n•\tSesotho HL \n•\tEnglish FAL "},{"$f":"_xlfn.XLOOKUP(B1030,'Programmes lists'!B:B,'Programmes lists'!F:F,\"Not found\")","v":512}]
["Senior and FET ","Specialising in IsiZulu Home Language and English First Additional Language (QQ)","EATS3605",{"$f":"_xlfn.XLOOKUP(C1031,'RAW module list'!A:A,'RAW module list'!B:B, \"Not found\")","v":"English Additional Language teaching 1: Senior phase "},{"$f":"_xlfn.XLOOKUP(C1031,'RAW module list'!A:A,'RAW module list'!C:C, \"Not found\")","v":6},{"$f":"_xlfn.XLOOKUP(C1031,'RAW module list'!A:A,'RAW module list'!D:D, \"Not found\")","v":20},{"$f":"_xlfn.XLOOKUP(C1031,'RAW module list'!A:A,'RAW module list'!E:E, \"Not found\")","v":"ENGL1514 & ENGL1624"},"Third Year",{"$f":"_xlfn.XLOOKUP(B1031,'Programmes lists'!B:B,'Programmes lists'!D:D)","v":0},{"$f":"_xlfn.XLOOKUP(B1031,'Programmes lists'!B:B,'Programmes lists'!E:E, \"Not found\")","v":"QC736403"},{"$f":"_xlfn.XLOOKUP(B1031,'Programmes lists'!B:B,'Programmes lists'!G:G,\"Not found\")","v":"Minimum of 50% in grade 12 pass for \n•\tSesotho HL \n•\tEnglish FAL "},{"$f":"_xlfn.XLOOKUP(B1031,'Programmes lists'!B:B,'Programmes lists'!F:F,\"Not found\")","v":512}]
["Senior and FET ","Specialising in IsiZulu Home Language and English First Additional Language (QQ)","EDUB3714",{"$f":"_xlfn.XLOOKUP(C1032,'RAW module list'!A:A,'RAW module list'!B:B, \"Not found\")","v":"Education Studies 3.1 Education systems in global and national context"},{"$f":"_xlfn.XLOOKUP(C1032,'RAW module list'!A:A,'RAW module list'!C:C, \"Not found\")","v":7},{"$f":"_xlfn.XLOOKUP(C1032,'RAW module list'!A:A,'RAW module list'!D:D, \"Not found\")","v":16},{"$f":"_xlfn.XLOOKUP(C1032,'RAW module list'!A:A,'RAW module list'!E:E, \"Not found\")","v":"EDUB1613 & EDUB1623& EDUB2714 & EDUB2724"},"Third Year",{"$f":"_xlfn.XLOOKUP(B1032,'Programmes lists'!B:B,'Programmes lists'!D:D)","v":0},{"$f":"_xlfn.XLOOKUP(B1032,'Programmes lists'!B:B,'Programmes lists'!E:E, \"Not found\")","v":"QC736403"},{"$f":"_xlfn.XLOOKUP(B1032,'Programmes lists'!B:B,'Programmes lists'!G:G,\"Not found\")","v":"Minimum of 50% in grade 12 pass for \n•\tSesotho HL \n•\tEnglish FAL "},{"$f":"_xlfn.XLOOKUP(B1032,'Programmes lists'!B:B,'Programmes lists'!F:F,\"Not found\")","v":512}]
["Senior and FET ","Specialising in IsiZulu Home Language and English First Additional Language (QQ)","ENED3514",{"$f":"_xlfn.XLOOKUP(C1033,'RAW module list'!A:A,'RAW module list'!B:B, \"Not found\")","v":"Entrepreneurship in Education "},{"$f":"_xlfn.XLOOKUP(C1033,'RAW module list'!A:A,'RAW module list'!C:C, \"Not found\")","v":5},{"$f":"_xlfn.XLOOKUP(C1033,'RAW module list'!A:A,'RAW module list'!D:D, \"Not found\")","v":16},{"$f":"_xlfn.XLOOKUP(C1033,'RAW module list'!A:A,'RAW module list'!E:E, \"Not found\")","v":0},"Third Year",{"$f":"_xlfn.XLOOKUP(B1033,'Programmes lists'!B:B,'Programmes lists'!D:D)","v":0},{"$f":"_xlfn.XLOOKUP(B1033,'Programmes lists'!B:B,'Programmes lists'!E:E, \"Not found\")","v":"QC736403"},{"$f":"_xlfn.XLOOKUP(B1033,'Programmes lists'!B:B,'Programmes lists'!G:G,\"Not found\")","v":"Minimum of 50% in grade 12 pass for \n•\tSesotho HL \n•\tEnglish FAL "},{"$f":"_xlfn.XLOOKUP(B1033,'Programmes lists'!B:B,'Programmes lists'!F:F,\"Not found\")","v":512}]
["Senior and FET ","Specialising in IsiZulu Home Language and English First Additional Language (QQ)","SSCL3512 OR SICL3512 OR GAFR3512",{"$f":"_xlfn.XLOOKUP(C1034,'RAW module list'!A:A,'RAW module list'!B:B, \"Not found\")","v":"Conversational Sesotho OR Conversational Sign Language OR Conversational Afrikaans"},{"$f":"_xlfn.XLOOKUP(C1034,'RAW module list'!A:A,'RAW module list'!C:C, \"Not found\")","v":5},{"$f":"_xlfn.XLOOKUP(C1034,'RAW module list'!A:A,'RAW module list'!D:D, \"Not found\")","v":8},{"$f":"_xlfn.XLOOKUP(C1034,'RAW module list'!A:A,'RAW module list'!E:E, \"Not found\")","v":"No previous exposure to the language"},"Third Year",{"$f":"_xlfn.XLOOKUP(B1034,'Programmes lists'!B:B,'Programmes lists'!D:D)","v":0},{"$f":"_xlfn.XLOOKUP(B1034,'Programmes lists'!B:B,'Programmes lists'!E:E, \"Not found\")","v":"QC736403"},{"$f":"_xlfn.XLOOKUP(B1034,'Programmes lists'!B:B,'Programmes lists'!G:G,\"Not found\")","v":"Minimum of 50% in grade 12 pass for \n•\tSesotho HL \n•\tEnglish FAL "},{"$f":"_xlfn.XLOOKUP(B1034,'Programmes lists'!B:B,'Programmes lists'!F:F,\"Not found\")","v":512}]
["Senior and FET ","Specialising in IsiZulu Home Language and English First Additional Language (QQ)","WILV3606",{"$f":"_xlfn.XLOOKUP(C1035,'RAW module list'!A:A,'RAW module list'!B:B, \"Not found\")","v":"Teaching Practice 3"},{"$f":"_xlfn.XLOOKUP(C1035,'RAW module list'!A:A,'RAW module list'!C:C, \"Not found\")","v":6},{"$f":"_xlfn.XLOOKUP(C1035,'RAW module list'!A:A,'RAW module list'!D:D, \"Not found\")","v":24},{"$f":"_xlfn.XLOOKUP(C1035,'RAW module list'!A:A,'RAW module list'!E:E, \"Not found\")","v":"TPRV2502"},"Third Year",{"$f":"_xlfn.XLOOKUP(B1035,'Programmes lists'!B:B,'Programmes lists'!D:D)","v":0},{"$f":"_xlfn.XLOOKUP(B1035,'Programmes lists'!B:B,'Programmes lists'!E:E, \"Not found\")","v":"QC736403"},{"$f":"_xlfn.XLOOKUP(B1035,'Programmes lists'!B:B,'Programmes lists'!G:G,\"Not found\")","v":"Minimum of 50% in grade 12 pass for \n•\tSesotho HL \n•\tEnglish FAL "},{"$f":"_xlfn.XLOOKUP(B1035,'Programmes lists'!B:B,'Programmes lists'!F:F,\"Not found\")","v":512}]
["Senior and FET ","Specialising in IsiZulu Home Language and English First Additional Language (QQ)","EDUB3724",{"$f":"_xlfn.XLOOKUP(C1036,'RAW module list'!A:A,'RAW module list'!B:B, \"Not found\")","v":"Education Studies 3.2: Contemporary Education Theory in the current social context"},{"$f":"_xlfn.XLOOKUP(C1036,'RAW module list'!A:A,'RAW module list'!C:C, \"Not found\")","v":7},{"$f":"_xlfn.XLOOKUP(C1036,'RAW module list'!A:A,'RAW module list'!D:D, \"Not found\")","v":16},{"$f":"_xlfn.XLOOKUP(C1036,'RAW module list'!A:A,'RAW module list'!E:E, \"Not found\")","v":"EDUB1613 & EDUB1623 & EDUB2714 & EDUB2724 & EDUB3714"},"Third Year",{"$f":"_xlfn.XLOOKUP(B1036,'Programmes lists'!B:B,'Programmes lists'!D:D)","v":0},{"$f":"_xlfn.XLOOKUP(B1036,'Programmes lists'!B:B,'Programmes lists'!E:E, \"Not found\")","v":"QC736403"},{"$f":"_xlfn.XLOOKUP(B1036,'Programmes lists'!B:B,'Programmes lists'!G:G,\"Not found\")","v":"Minimum of 50% in grade 12 pass for \n•\tSesotho HL \n•\tEnglish FAL "},{"$f":"_xlfn.XLOOKUP(B1036,'Programmes lists'!B:B,'Programmes lists'!F:F,\"Not found\")","v":512}]
["Senior and FET ","Specialising in IsiZulu Home Language and English First Additional Language (QQ)","SSCL3522 OR SICL3522 OR GAFR3522",{"$f":"_xlfn.XLOOKUP(C1037,'RAW module list'!A:A,'RAW module list'!B:B, \"Not found\")","v":"Conversational Sesotho OR Conversational Sign Language OR Conversational Afrikaans"},{"$f":"_xlfn.XLOOKUP(C1037,'RAW module list'!A:A,'RAW module list'!C:C, \"Not found\")","v":5},{"$f":"_xlfn.XLOOKUP(C1037,'RAW module list'!A:A,'RAW module list'!D:D, \"Not found\")","v":8},{"$f":"_xlfn.XLOOKUP(C1037,'RAW module list'!A:A,'RAW module list'!E:E, \"Not found\")","v":"Continue with the conversational language chosen in Semester 1"},"Third Year",{"$f":"_xlfn.XLOOKUP(B1037,'Programmes lists'!B:B,'Programmes lists'!D:D)","v":0},{"$f":"_xlfn.XLOOKUP(B1037,'Programmes lists'!B:B,'Programmes lists'!E:E, \"Not found\")","v":"QC736403"},{"$f":"_xlfn.XLOOKUP(B1037,'Programmes lists'!B:B,'Programmes lists'!G:G,\"Not found\")","v":"Minimum of 50% in grade 12 pass for \n•\tSesotho HL \n•\tEnglish FAL "},{"$f":"_xlfn.XLOOKUP(B1037,'Programmes lists'!B:B,'Programmes lists'!F:F,\"Not found\")","v":512}]
["Senior and FET ","Specialising in IsiZulu Home Language and English First Additional Language (QQ)","Special Requirement:","Choose three didactics modules according to subjects: ZHTS, ZHTV, EATS, EATV",null,null,null,"Third Year",{"$f":"_xlfn.XLOOKUP(B1038,'Programmes lists'!B:B,'Programmes lists'!D:D)","v":0},{"$f":"_xlfn.XLOOKUP(B1038,'Programmes lists'!B:B,'Programmes lists'!E:E, \"Not found\")","v":"QC736403"},{"$f":"_xlfn.XLOOKUP(B1038,'Programmes lists'!B:B,'Programmes lists'!G:G,\"Not found\")","v":"Minimum of 50% in grade 12 pass for \n•\tSesotho HL \n•\tEnglish FAL "},{"$f":"_xlfn.XLOOKUP(B1038,'Programmes lists'!B:B,'Programmes lists'!F:F,\"Not found\")","v":512}]
["Senior and FET ","Specialising in IsiZulu Home Language and English First Additional Language (QQ)","ZHTV4705",{"$f":"_xlfn.XLOOKUP(C1039,'RAW module list'!A:A,'RAW module list'!B:B, \"Not found\")","v":"IsiZulu Home Language Teaching  2: Further Education and Training"},{"$f":"_xlfn.XLOOKUP(C1039,'RAW module list'!A:A,'RAW module list'!C:C, \"Not found\")","v":7},{"$f":"_xlfn.XLOOKUP(C1039,'RAW module list'!A:A,'RAW module list'!D:D, \"Not found\")","v":20},{"$f":"_xlfn.XLOOKUP(C1039,'RAW module list'!A:A,'RAW module list'!E:E, \"Not found\")","v":"ZHTV3605"},"Fourth Year",{"$f":"_xlfn.XLOOKUP(B1039,'Programmes lists'!B:B,'Programmes lists'!D:D)","v":0},{"$f":"_xlfn.XLOOKUP(B1039,'Programmes lists'!B:B,'Programmes lists'!E:E, \"Not found\")","v":"QC736403"},{"$f":"_xlfn.XLOOKUP(B1039,'Programmes lists'!B:B,'Programmes lists'!G:G,\"Not found\")","v":"Minimum of 50% in grade 12 pass for \n•\tSesotho HL \n•\tEnglish FAL "},{"$f":"_xlfn.XLOOKUP(B1039,'Programmes lists'!B:B,'Programmes lists'!F:F,\"Not found\")","v":512},"Continue with three didactics chosen in year 3 from EATS, EATV, SHTS, SHTV"]
["Senior and FET ","Specialising in IsiZulu Home Language and English First Additional Language (QQ)","ZHTS4705",{"$f":"_xlfn.XLOOKUP(C1040,'RAW module list'!A:A,'RAW module list'!B:B, \"Not found\")","v":"IsiZulu Home Language Teaching  2: Senior Phase"},{"$f":"_xlfn.XLOOKUP(C1040,'RAW module list'!A:A,'RAW module list'!C:C, \"Not found\")","v":7},{"$f":"_xlfn.XLOOKUP(C1040,'RAW module list'!A:A,'RAW module list'!D:D, \"Not found\")","v":-20},{"$f":"_xlfn.XLOOKUP(C1040,'RAW module list'!A:A,'RAW module list'!E:E, \"Not found\")","v":"ZHTS3605"},"Fourth Year",{"$f":"_xlfn.XLOOKUP(B1040,'Programmes lists'!B:B,'Programmes lists'!D:D)","v":0},{"$f":"_xlfn.XLOOKUP(B1040,'Programmes lists'!B:B,'Programmes lists'!E:E, \"Not found\")","v":"QC736403"},{"$f":"_xlfn.XLOOKUP(B1040,'Programmes lists'!B:B,'Programmes lists'!G:G,\"Not found\")","v":"Minimum of 50% in grade 12 pass for \n•\tSesotho HL \n•\tEnglish FAL "},{"$f":"_xlfn.XLOOKUP(B1040,'Programmes lists'!B:B,'Programmes lists'!F:F,\"Not found\")","v":512}]
["Senior and FET ","Specialising in IsiZulu Home Language and English First Additional Language (QQ)","EATS4705",{"$f":"_xlfn.XLOOKUP(C1041,'RAW module list'!A:A,'RAW module list'!B:B, \"Not found\")","v":"English Additional Language teaching 2: senior phase"},{"$f":"_xlfn.XLOOKUP(C1041,'RAW module list'!A:A,'RAW module list'!C:C, \"Not found\")","v":7},{"$f":"_xlfn.XLOOKUP(C1041,'RAW module list'!A:A,'RAW module list'!D:D, \"Not found\")*-1","v":20},{"$f":"_xlfn.XLOOKUP(C1041,'RAW module list'!A:A,'RAW module list'!E:E, \"Not found\")","v":"EATS3605"},"Fourth Year",{"$f":"_xlfn.XLOOKUP(B1041,'Programmes lists'!B:B,'Programmes lists'!D:D)","v":0},{"$f":"_xlfn.XLOOKUP(B1041,'Programmes lists'!B:B,'Programmes lists'!E:E, \"Not found\")","v":"QC736403"},{"$f":"_xlfn.XLOOKUP(B1041,'Programmes lists'!B:B,'Programmes lists'!G:G,\"Not found\")","v":"Minimum of 50% in grade 12 pass for \n•\tSesotho HL \n•\tEnglish FAL "},{"$f":"_xlfn.XLOOKUP(B1041,'Programmes lists'!B:B,'Programmes lists'!F:F,\"Not found\")","v":512}]
["Senior and FET ","Specialising in IsiZulu Home Language and English First Additional Language (QQ)","EATV4705",{"$f":"_xlfn.XLOOKUP(C1042,'RAW module list'!A:A,'RAW module list'!B:B, \"Not found\")","v":"English Additional Language teaching 2: Further Education and Training phase"},{"$f":"_xlfn.XLOOKUP(C1042,'RAW module list'!A:A,'RAW module list'!C:C, \"Not found\")","v":7},{"$f":"_xlfn.XLOOKUP(C1042,'RAW module list'!A:A,'RAW module list'!D:D, \"Not found\")","v":20},{"$f":"_xlfn.XLOOKUP(C1042,'RAW module list'!A:A,'RAW module list'!E:E, \"Not found\")","v":"EATV3605"},"Fourth Year",{"$f":"_xlfn.XLOOKUP(B1042,'Programmes lists'!B:B,'Programmes lists'!D:D)","v":0},{"$f":"_xlfn.XLOOKUP(B1042,'Programmes lists'!B:B,'Programmes lists'!E:E, \"Not found\")","v":"QC736403"},{"$f":"_xlfn.XLOOKUP(B1042,'Programmes lists'!B:B,'Programmes lists'!G:G,\"Not found\")","v":"Minimum of 50% in grade 12 pass for \n•\tSesotho HL \n•\tEnglish FAL "},{"$f":"_xlfn.XLOOKUP(B1042,'Programmes lists'!B:B,'Programmes lists'!F:F,\"Not found\")","v":512}]
["Senior and FET ","Specialising in IsiZulu Home Language and English First Additional Language (QQ)","WILV4700",{"$f":"_xlfn.XLOOKUP(C1043,'RAW module list'!A:A,'RAW module list'!B:B, \"Not found\")","v":"Teaching Practice 4"},{"$f":"_xlfn.XLOOKUP(C1043,'RAW module list'!A:A,'RAW module list'!C:C, \"Not found\")","v":7},{"$f":"_xlfn.XLOOKUP(C1043,'RAW module list'!A:A,'RAW module list'!D:D, \"Not found\")","v":40},{"$f":"_xlfn.XLOOKUP(C1043,'RAW module list'!A:A,'RAW module list'!E:E, \"Not found\")","v":"WILV3606"},"Fourth Year",{"$f":"_xlfn.XLOOKUP(B1043,'Programmes lists'!B:B,'Programmes lists'!D:D)","v":0},{"$f":"_xlfn.XLOOKUP(B1043,'Programmes lists'!B:B,'Programmes lists'!E:E, \"Not found\")","v":"QC736403"},{"$f":"_xlfn.XLOOKUP(B1043,'Programmes lists'!B:B,'Programmes lists'!G:G,\"Not found\")","v":"Minimum of 50% in grade 12 pass for \n•\tSesotho HL \n•\tEnglish FAL "},{"$f":"_xlfn.XLOOKUP(B1043,'Programmes lists'!B:B,'Programmes lists'!F:F,\"Not found\")","v":512}]
["Senior and FET ","Specialising in IsiZulu Home Language and English First Additional Language (QQ)","Special Requirement:","Continue with three didactics chosen in year 3 from EATS, EATV, SHTS, SHTV",null,null,null,"Fourth Year",{"$f":"_xlfn.XLOOKUP(B1044,'Programmes lists'!B:B,'Programmes lists'!D:D)","v":0},{"$f":"_xlfn.XLOOKUP(B1044,'Programmes lists'!B:B,'Programmes lists'!E:E, \"Not found\")","v":"QC736403"},{"$f":"_xlfn.XLOOKUP(B1044,'Programmes lists'!B:B,'Programmes lists'!G:G,\"Not found\")","v":"Minimum of 50% in grade 12 pass for \n•\tSesotho HL \n•\tEnglish FAL "},{"$f":"_xlfn.XLOOKUP(B1044,'Programmes lists'!B:B,'Programmes lists'!F:F,\"Not found\")","v":512}]
["Senior and FET ","Specialising in English Home Language and Sesotho Home Language (BFN)","ENGL1514",{"$f":"_xlfn.XLOOKUP(C1045,'RAW module list'!A:A,'RAW module list'!B:B, \"Not found\")","v":"Reading Literature: An Introduction to Reading, Writing and Critical Textual Analysis"},{"$f":"_xlfn.XLOOKUP(C1045,'RAW module list'!A:A,'RAW module list'!C:C, \"Not found\")","v":5},{"$f":"_xlfn.XLOOKUP(C1045,'RAW module list'!A:A,'RAW module list'!D:D, \"Not found\")","v":16},{"$f":"_xlfn.XLOOKUP(C1045,'RAW module list'!A:A,'RAW module list'!E:E, \"Not found\")","v":0},"First Year",{"$f":"_xlfn.XLOOKUP(B1045,'Programmes lists'!B:B,'Programmes lists'!D:D)","v":"BC736404    "},{"$f":"_xlfn.XLOOKUP(B1045,'Programmes lists'!B:B,'Programmes lists'!E:E, \"Not found\")","v":0},{"$f":"_xlfn.XLOOKUP(B1045,'Programmes lists'!B:B,'Programmes lists'!G:G,\"Not found\")","v":"Minimum of 50% in grade 12 pass for \n•\tSesotho HL \n•\tEnglish HL or FAL "},{"$f":"_xlfn.XLOOKUP(B1045,'Programmes lists'!B:B,'Programmes lists'!F:F,\"Not found\")","v":512}]
["Senior and FET ","Specialising in English Home Language and Sesotho Home Language (BFN)","SSML1514",{"$f":"_xlfn.XLOOKUP(C1046,'RAW module list'!A:A,'RAW module list'!B:B, \"Not found\")","v":"Sesotho language structure "},{"$f":"_xlfn.XLOOKUP(C1046,'RAW module list'!A:A,'RAW module list'!C:C, \"Not found\")","v":5},{"$f":"_xlfn.XLOOKUP(C1046,'RAW module list'!A:A,'RAW module list'!D:D, \"Not found\")","v":16},{"$f":"_xlfn.XLOOKUP(C1046,'RAW module list'!A:A,'RAW module list'!E:E, \"Not found\")","v":0},"First Year",{"$f":"_xlfn.XLOOKUP(B1046,'Programmes lists'!B:B,'Programmes lists'!D:D)","v":"BC736404    "},{"$f":"_xlfn.XLOOKUP(B1046,'Programmes lists'!B:B,'Programmes lists'!E:E, \"Not found\")","v":0},{"$f":"_xlfn.XLOOKUP(B1046,'Programmes lists'!B:B,'Programmes lists'!G:G,\"Not found\")","v":"Minimum of 50% in grade 12 pass for \n•\tSesotho HL \n•\tEnglish HL or FAL "},{"$f":"_xlfn.XLOOKUP(B1046,'Programmes lists'!B:B,'Programmes lists'!F:F,\"Not found\")","v":512}]
["Senior and FET ","Specialising in English Home Language and Sesotho Home Language (BFN)","LLST1513",{"$f":"_xlfn.XLOOKUP(C1047,'RAW module list'!A:A,'RAW module list'!B:B, \"Not found\")","v":"Lifelong Learning Skills"},{"$f":"_xlfn.XLOOKUP(C1047,'RAW module list'!A:A,'RAW module list'!C:C, \"Not found\")","v":5},{"$f":"_xlfn.XLOOKUP(C1047,'RAW module list'!A:A,'RAW module list'!D:D, \"Not found\")","v":12},{"$f":"_xlfn.XLOOKUP(C1047,'RAW module list'!A:A,'RAW module list'!E:E, \"Not found\")","v":0},"First Year",{"$f":"_xlfn.XLOOKUP(B1047,'Programmes lists'!B:B,'Programmes lists'!D:D)","v":"BC736404    "},{"$f":"_xlfn.XLOOKUP(B1047,'Programmes lists'!B:B,'Programmes lists'!E:E, \"Not found\")","v":0},{"$f":"_xlfn.XLOOKUP(B1047,'Programmes lists'!B:B,'Programmes lists'!G:G,\"Not found\")","v":"Minimum of 50% in grade 12 pass for \n•\tSesotho HL \n•\tEnglish HL or FAL "},{"$f":"_xlfn.XLOOKUP(B1047,'Programmes lists'!B:B,'Programmes lists'!F:F,\"Not found\")","v":512}]
["Senior and FET ","Specialising in English Home Language and Sesotho Home Language (BFN)","EDUB1613",{"$f":"_xlfn.XLOOKUP(C1048,'RAW module list'!A:A,'RAW module list'!B:B, \"Not found\")","v":"Education Studies 1.1 The Individual in the learning context"},{"$f":"_xlfn.XLOOKUP(C1048,'RAW module list'!A:A,'RAW module list'!C:C, \"Not found\")","v":6},{"$f":"_xlfn.XLOOKUP(C1048,'RAW module list'!A:A,'RAW module list'!D:D, \"Not found\")","v":12},{"$f":"_xlfn.XLOOKUP(C1048,'RAW module list'!A:A,'RAW module list'!E:E, \"Not found\")","v":0},"First Year",{"$f":"_xlfn.XLOOKUP(B1048,'Programmes lists'!B:B,'Programmes lists'!D:D)","v":"BC736404    "},{"$f":"_xlfn.XLOOKUP(B1048,'Programmes lists'!B:B,'Programmes lists'!E:E, \"Not found\")","v":0},{"$f":"_xlfn.XLOOKUP(B1048,'Programmes lists'!B:B,'Programmes lists'!G:G,\"Not found\")","v":"Minimum of 50% in grade 12 pass for \n•\tSesotho HL \n•\tEnglish HL or FAL "},{"$f":"_xlfn.XLOOKUP(B1048,'Programmes lists'!B:B,'Programmes lists'!F:F,\"Not found\")","v":512}]
["Senior and FET ","Specialising in English Home Language and Sesotho Home Language (BFN)","TPRV1502",{"$f":"_xlfn.XLOOKUP(C1049,'RAW module list'!A:A,'RAW module list'!B:B, \"Not found\")","v":"Teaching Practice 1 "},{"$f":"_xlfn.XLOOKUP(C1049,'RAW module list'!A:A,'RAW module list'!C:C, \"Not found\")","v":5},{"$f":"_xlfn.XLOOKUP(C1049,'RAW module list'!A:A,'RAW module list'!D:D, \"Not found\")","v":8},{"$f":"_xlfn.XLOOKUP(C1049,'RAW module list'!A:A,'RAW module list'!E:E, \"Not found\")","v":0},"First Year",{"$f":"_xlfn.XLOOKUP(B1049,'Programmes lists'!B:B,'Programmes lists'!D:D)","v":"BC736404    "},{"$f":"_xlfn.XLOOKUP(B1049,'Programmes lists'!B:B,'Programmes lists'!E:E, \"Not found\")","v":0},{"$f":"_xlfn.XLOOKUP(B1049,'Programmes lists'!B:B,'Programmes lists'!G:G,\"Not found\")","v":"Minimum of 50% in grade 12 pass for \n•\tSesotho HL \n•\tEnglish HL or FAL "},{"$f":"_xlfn.XLOOKUP(B1049,'Programmes lists'!B:B,'Programmes lists'!F:F,\"Not found\")","v":512}]
["Senior and FET ","Specialising in English Home Language and Sesotho Home Language (BFN)","UFSS1504",{"$f":"_xlfn.XLOOKUP(C1050,'RAW module list'!A:A,'RAW module list'!B:B, \"Not found\")","v":"Undergraduate core curriculum"},{"$f":"_xlfn.XLOOKUP(C1050,'RAW module list'!A:A,'RAW module list'!C:C, \"Not found\")","v":5},{"$f":"_xlfn.XLOOKUP(C1050,'RAW module list'!A:A,'RAW module list'!D:D, \"Not found\")","v":-16},{"$f":"_xlfn.XLOOKUP(C1050,'RAW module list'!A:A,'RAW module list'!E:E, \"Not found\")","v":0},"First Year",{"$f":"_xlfn.XLOOKUP(B1050,'Programmes lists'!B:B,'Programmes lists'!D:D)","v":"BC736404    "},{"$f":"_xlfn.XLOOKUP(B1050,'Programmes lists'!B:B,'Programmes lists'!E:E, \"Not found\")","v":0},{"$f":"_xlfn.XLOOKUP(B1050,'Programmes lists'!B:B,'Programmes lists'!G:G,\"Not found\")","v":"Minimum of 50% in grade 12 pass for \n•\tSesotho HL \n•\tEnglish HL or FAL "},{"$f":"_xlfn.XLOOKUP(B1050,'Programmes lists'!B:B,'Programmes lists'!F:F,\"Not found\")","v":512}]
["Senior and FET ","Specialising in English Home Language and Sesotho Home Language (BFN)","EALT1508",{"$f":"_xlfn.XLOOKUP(C1051,'RAW module list'!A:A,'RAW module list'!B:B, \"Not found\")","v":"English Academic Literacy for Education "},{"$f":"_xlfn.XLOOKUP(C1051,'RAW module list'!A:A,'RAW module list'!C:C, \"Not found\")","v":5},{"$f":"_xlfn.XLOOKUP(C1051,'RAW module list'!A:A,'RAW module list'!D:D, \"Not found\")","v":-32},{"$f":"_xlfn.XLOOKUP(C1051,'RAW module list'!A:A,'RAW module list'!E:E, \"Not found\")","v":"NBT requirements not met"},"First Year",{"$f":"_xlfn.XLOOKUP(B1051,'Programmes lists'!B:B,'Programmes lists'!D:D)","v":"BC736404    "},{"$f":"_xlfn.XLOOKUP(B1051,'Programmes lists'!B:B,'Programmes lists'!E:E, \"Not found\")","v":0},{"$f":"_xlfn.XLOOKUP(B1051,'Programmes lists'!B:B,'Programmes lists'!G:G,\"Not found\")","v":"Minimum of 50% in grade 12 pass for \n•\tSesotho HL \n•\tEnglish HL or FAL "},{"$f":"_xlfn.XLOOKUP(B1051,'Programmes lists'!B:B,'Programmes lists'!F:F,\"Not found\")","v":512}]
["Senior and FET ","Specialising in English Home Language and Sesotho Home Language (BFN)","ENGL1624",{"$f":"_xlfn.XLOOKUP(C1052,'RAW module list'!A:A,'RAW module list'!B:B, \"Not found\")","v":"Reading Literature, Film and Culture"},{"$f":"_xlfn.XLOOKUP(C1052,'RAW module list'!A:A,'RAW module list'!C:C, \"Not found\")","v":6},{"$f":"_xlfn.XLOOKUP(C1052,'RAW module list'!A:A,'RAW module list'!D:D, \"Not found\")","v":16},{"$f":"_xlfn.XLOOKUP(C1052,'RAW module list'!A:A,'RAW module list'!E:E, \"Not found\")","v":"ENGL1514"},"First Year",{"$f":"_xlfn.XLOOKUP(B1052,'Programmes lists'!B:B,'Programmes lists'!D:D)","v":"BC736404    "},{"$f":"_xlfn.XLOOKUP(B1052,'Programmes lists'!B:B,'Programmes lists'!E:E, \"Not found\")","v":0},{"$f":"_xlfn.XLOOKUP(B1052,'Programmes lists'!B:B,'Programmes lists'!G:G,\"Not found\")","v":"Minimum of 50% in grade 12 pass for \n•\tSesotho HL \n•\tEnglish HL or FAL "},{"$f":"_xlfn.XLOOKUP(B1052,'Programmes lists'!B:B,'Programmes lists'!F:F,\"Not found\")","v":512}]
["Senior and FET ","Specialising in English Home Language and Sesotho Home Language (BFN)","SSMT1524",{"$f":"_xlfn.XLOOKUP(C1053,'RAW module list'!A:A,'RAW module list'!B:B, \"Not found\")","v":"Prose fiction in Sesotho"},{"$f":"_xlfn.XLOOKUP(C1053,'RAW module list'!A:A,'RAW module list'!C:C, \"Not found\")","v":5},{"$f":"_xlfn.XLOOKUP(C1053,'RAW module list'!A:A,'RAW module list'!D:D, \"Not found\")","v":16},{"$f":"_xlfn.XLOOKUP(C1053,'RAW module list'!A:A,'RAW module list'!E:E, \"Not found\")","v":"SSML1514"},"First Year",{"$f":"_xlfn.XLOOKUP(B1053,'Programmes lists'!B:B,'Programmes lists'!D:D)","v":"BC736404    "},{"$f":"_xlfn.XLOOKUP(B1053,'Programmes lists'!B:B,'Programmes lists'!E:E, \"Not found\")","v":0},{"$f":"_xlfn.XLOOKUP(B1053,'Programmes lists'!B:B,'Programmes lists'!G:G,\"Not found\")","v":"Minimum of 50% in grade 12 pass for \n•\tSesotho HL \n•\tEnglish HL or FAL "},{"$f":"_xlfn.XLOOKUP(B1053,'Programmes lists'!B:B,'Programmes lists'!F:F,\"Not found\")","v":512}]
["Senior and FET ","Specialising in English Home Language and Sesotho Home Language (BFN)","EDUB1623",{"$f":"_xlfn.XLOOKUP(C1054,'RAW module list'!A:A,'RAW module list'!B:B, \"Not found\")","v":"Education Studies 1.2 What it means to educate: Theoretical perspectives and their significance for SA education"},{"$f":"_xlfn.XLOOKUP(C1054,'RAW module list'!A:A,'RAW module list'!C:C, \"Not found\")","v":6},{"$f":"_xlfn.XLOOKUP(C1054,'RAW module list'!A:A,'RAW module list'!D:D, \"Not found\")","v":12},{"$f":"_xlfn.XLOOKUP(C1054,'RAW module list'!A:A,'RAW module list'!E:E, \"Not found\")","v":0},"First Year",{"$f":"_xlfn.XLOOKUP(B1054,'Programmes lists'!B:B,'Programmes lists'!D:D)","v":"BC736404    "},{"$f":"_xlfn.XLOOKUP(B1054,'Programmes lists'!B:B,'Programmes lists'!E:E, \"Not found\")","v":0},{"$f":"_xlfn.XLOOKUP(B1054,'Programmes lists'!B:B,'Programmes lists'!G:G,\"Not found\")","v":"Minimum of 50% in grade 12 pass for \n•\tSesotho HL \n•\tEnglish HL or FAL "},{"$f":"_xlfn.XLOOKUP(B1054,'Programmes lists'!B:B,'Programmes lists'!F:F,\"Not found\")","v":512}]
["Senior and FET ","Specialising in English Home Language and Sesotho Home Language (BFN)","GPEV1623",{"$f":"_xlfn.XLOOKUP(C1055,'RAW module list'!A:A,'RAW module list'!B:B, \"Not found\")","v":"General Pedagogy 1: Managing the Curriculum"},{"$f":"_xlfn.XLOOKUP(C1055,'RAW module list'!A:A,'RAW module list'!C:C, \"Not found\")","v":6},{"$f":"_xlfn.XLOOKUP(C1055,'RAW module list'!A:A,'RAW module list'!D:D, \"Not found\")","v":12},{"$f":"_xlfn.XLOOKUP(C1055,'RAW module list'!A:A,'RAW module list'!E:E, \"Not found\")","v":0},"First Year",{"$f":"_xlfn.XLOOKUP(B1055,'Programmes lists'!B:B,'Programmes lists'!D:D)","v":"BC736404    "},{"$f":"_xlfn.XLOOKUP(B1055,'Programmes lists'!B:B,'Programmes lists'!E:E, \"Not found\")","v":0},{"$f":"_xlfn.XLOOKUP(B1055,'Programmes lists'!B:B,'Programmes lists'!G:G,\"Not found\")","v":"Minimum of 50% in grade 12 pass for \n•\tSesotho HL \n•\tEnglish HL or FAL "},{"$f":"_xlfn.XLOOKUP(B1055,'Programmes lists'!B:B,'Programmes lists'!F:F,\"Not found\")","v":512}]
["Senior and FET ","Specialising in English Home Language and Sesotho Home Language (BFN)","ENGL2614",{"$f":"_xlfn.XLOOKUP(C1056,'RAW module list'!A:A,'RAW module list'!B:B, \"Not found\")","v":"Early Modern to Contemporary World Literatures"},{"$f":"_xlfn.XLOOKUP(C1056,'RAW module list'!A:A,'RAW module list'!C:C, \"Not found\")","v":6},{"$f":"_xlfn.XLOOKUP(C1056,'RAW module list'!A:A,'RAW module list'!D:D, \"Not found\")","v":16},{"$f":"_xlfn.XLOOKUP(C1056,'RAW module list'!A:A,'RAW module list'!E:E, \"Not found\")","v":"ENGL1514 & ENGL1624"},"Second Year",{"$f":"_xlfn.XLOOKUP(B1056,'Programmes lists'!B:B,'Programmes lists'!D:D)","v":"BC736404    "},{"$f":"_xlfn.XLOOKUP(B1056,'Programmes lists'!B:B,'Programmes lists'!E:E, \"Not found\")","v":0},{"$f":"_xlfn.XLOOKUP(B1056,'Programmes lists'!B:B,'Programmes lists'!G:G,\"Not found\")","v":"Minimum of 50% in grade 12 pass for \n•\tSesotho HL \n•\tEnglish HL or FAL "},{"$f":"_xlfn.XLOOKUP(B1056,'Programmes lists'!B:B,'Programmes lists'!F:F,\"Not found\")","v":512}]
["Senior and FET ","Specialising in English Home Language and Sesotho Home Language (BFN)","SSML2614",{"$f":"_xlfn.XLOOKUP(C1057,'RAW module list'!A:A,'RAW module list'!B:B, \"Not found\")","v":"Sociolinguistics in Sesotho"},{"$f":"_xlfn.XLOOKUP(C1057,'RAW module list'!A:A,'RAW module list'!C:C, \"Not found\")","v":6},{"$f":"_xlfn.XLOOKUP(C1057,'RAW module list'!A:A,'RAW module list'!D:D, \"Not found\")","v":16},{"$f":"_xlfn.XLOOKUP(C1057,'RAW module list'!A:A,'RAW module list'!E:E, \"Not found\")","v":"SSML1514 & SSMT1524"},"Second Year",{"$f":"_xlfn.XLOOKUP(B1057,'Programmes lists'!B:B,'Programmes lists'!D:D)","v":"BC736404    "},{"$f":"_xlfn.XLOOKUP(B1057,'Programmes lists'!B:B,'Programmes lists'!E:E, \"Not found\")","v":0},{"$f":"_xlfn.XLOOKUP(B1057,'Programmes lists'!B:B,'Programmes lists'!G:G,\"Not found\")","v":"Minimum of 50% in grade 12 pass for \n•\tSesotho HL \n•\tEnglish HL or FAL "},{"$f":"_xlfn.XLOOKUP(B1057,'Programmes lists'!B:B,'Programmes lists'!F:F,\"Not found\")","v":512}]
["Senior and FET ","Specialising in English Home Language and Sesotho Home Language (BFN)","EDUB2714",{"$f":"_xlfn.XLOOKUP(C1058,'RAW module list'!A:A,'RAW module list'!B:B, \"Not found\")","v":"Education Studies 2: Teaching and Learning in Education Context"},{"$f":"_xlfn.XLOOKUP(C1058,'RAW module list'!A:A,'RAW module list'!C:C, \"Not found\")","v":7},{"$f":"_xlfn.XLOOKUP(C1058,'RAW module list'!A:A,'RAW module list'!D:D, \"Not found\")","v":16},{"$f":"_xlfn.XLOOKUP(C1058,'RAW module list'!A:A,'RAW module list'!E:E, \"Not found\")","v":"EDUB1613 & EDUB1623"},"Second Year",{"$f":"_xlfn.XLOOKUP(B1058,'Programmes lists'!B:B,'Programmes lists'!D:D)","v":"BC736404    "},{"$f":"_xlfn.XLOOKUP(B1058,'Programmes lists'!B:B,'Programmes lists'!E:E, \"Not found\")","v":0},{"$f":"_xlfn.XLOOKUP(B1058,'Programmes lists'!B:B,'Programmes lists'!G:G,\"Not found\")","v":"Minimum of 50% in grade 12 pass for \n•\tSesotho HL \n•\tEnglish HL or FAL "},{"$f":"_xlfn.XLOOKUP(B1058,'Programmes lists'!B:B,'Programmes lists'!F:F,\"Not found\")","v":512}]
["Senior and FET ","Specialising in English Home Language and Sesotho Home Language (BFN)","GPEV2613",{"$f":"_xlfn.XLOOKUP(C1059,'RAW module list'!A:A,'RAW module list'!B:B, \"Not found\")","v":"General Pedagogy 2.1"},{"$f":"_xlfn.XLOOKUP(C1059,'RAW module list'!A:A,'RAW module list'!C:C, \"Not found\")","v":6},{"$f":"_xlfn.XLOOKUP(C1059,'RAW module list'!A:A,'RAW module list'!D:D, \"Not found\")","v":12},{"$f":"_xlfn.XLOOKUP(C1059,'RAW module list'!A:A,'RAW module list'!E:E, \"Not found\")","v":"GPEV1623"},"Second Year",{"$f":"_xlfn.XLOOKUP(B1059,'Programmes lists'!B:B,'Programmes lists'!D:D)","v":"BC736404    "},{"$f":"_xlfn.XLOOKUP(B1059,'Programmes lists'!B:B,'Programmes lists'!E:E, \"Not found\")","v":0},{"$f":"_xlfn.XLOOKUP(B1059,'Programmes lists'!B:B,'Programmes lists'!G:G,\"Not found\")","v":"Minimum of 50% in grade 12 pass for \n•\tSesotho HL \n•\tEnglish HL or FAL "},{"$f":"_xlfn.XLOOKUP(B1059,'Programmes lists'!B:B,'Programmes lists'!F:F,\"Not found\")","v":512}]
["Senior and FET ","Specialising in English Home Language and Sesotho Home Language (BFN)","ELLT2504*",{"$f":"_xlfn.XLOOKUP(C1060,'RAW module list'!A:A,'RAW module list'!B:B, \"Not found\")","v":"English as medium of learning and teaching"},{"$f":"_xlfn.XLOOKUP(C1060,'RAW module list'!A:A,'RAW module list'!C:C, \"Not found\")","v":5},{"$f":"_xlfn.XLOOKUP(C1060,'RAW module list'!A:A,'RAW module list'!D:D, \"Not found\")","v":16},{"$f":"_xlfn.XLOOKUP(C1060,'RAW module list'!A:A,'RAW module list'!E:E, \"Not found\")","v":0},"Second Year",{"$f":"_xlfn.XLOOKUP(B1060,'Programmes lists'!B:B,'Programmes lists'!D:D)","v":"BC736404    "},{"$f":"_xlfn.XLOOKUP(B1060,'Programmes lists'!B:B,'Programmes lists'!E:E, \"Not found\")","v":0},{"$f":"_xlfn.XLOOKUP(B1060,'Programmes lists'!B:B,'Programmes lists'!G:G,\"Not found\")","v":"Minimum of 50% in grade 12 pass for \n•\tSesotho HL \n•\tEnglish HL or FAL "},{"$f":"_xlfn.XLOOKUP(B1060,'Programmes lists'!B:B,'Programmes lists'!F:F,\"Not found\")","v":512},"*ELLT can be exempted when ENGL2614 and 2724 have been passed successfully. "]
["Senior and FET ","Specialising in English Home Language and Sesotho Home Language (BFN)","TPRV2502",{"$f":"_xlfn.XLOOKUP(C1061,'RAW module list'!A:A,'RAW module list'!B:B, \"Not found\")","v":"Teaching Practice 2"},{"$f":"_xlfn.XLOOKUP(C1061,'RAW module list'!A:A,'RAW module list'!C:C, \"Not found\")","v":5},{"$f":"_xlfn.XLOOKUP(C1061,'RAW module list'!A:A,'RAW module list'!D:D, \"Not found\")","v":8},{"$f":"_xlfn.XLOOKUP(C1061,'RAW module list'!A:A,'RAW module list'!E:E, \"Not found\")","v":"TPRV1502"},"Second Year",{"$f":"_xlfn.XLOOKUP(B1061,'Programmes lists'!B:B,'Programmes lists'!D:D)","v":"BC736404    "},{"$f":"_xlfn.XLOOKUP(B1061,'Programmes lists'!B:B,'Programmes lists'!E:E, \"Not found\")","v":0},{"$f":"_xlfn.XLOOKUP(B1061,'Programmes lists'!B:B,'Programmes lists'!G:G,\"Not found\")","v":"Minimum of 50% in grade 12 pass for \n•\tSesotho HL \n•\tEnglish HL or FAL "},{"$f":"_xlfn.XLOOKUP(B1061,'Programmes lists'!B:B,'Programmes lists'!F:F,\"Not found\")","v":512}]
["Senior and FET ","Specialising in English Home Language and Sesotho Home Language (BFN)","ENGL2724",{"$f":"_xlfn.XLOOKUP(C1062,'RAW module list'!A:A,'RAW module list'!B:B, \"Not found\")","v":"Twentieth Century and Modern Literature"},{"$f":"_xlfn.XLOOKUP(C1062,'RAW module list'!A:A,'RAW module list'!C:C, \"Not found\")","v":7},{"$f":"_xlfn.XLOOKUP(C1062,'RAW module list'!A:A,'RAW module list'!D:D, \"Not found\")","v":16},{"$f":"_xlfn.XLOOKUP(C1062,'RAW module list'!A:A,'RAW module list'!E:E, \"Not found\")","v":"ENGL2614"},"Second Year",{"$f":"_xlfn.XLOOKUP(B1062,'Programmes lists'!B:B,'Programmes lists'!D:D)","v":"BC736404    "},{"$f":"_xlfn.XLOOKUP(B1062,'Programmes lists'!B:B,'Programmes lists'!E:E, \"Not found\")","v":0},{"$f":"_xlfn.XLOOKUP(B1062,'Programmes lists'!B:B,'Programmes lists'!G:G,\"Not found\")","v":"Minimum of 50% in grade 12 pass for \n•\tSesotho HL \n•\tEnglish HL or FAL "},{"$f":"_xlfn.XLOOKUP(B1062,'Programmes lists'!B:B,'Programmes lists'!F:F,\"Not found\")","v":512}]
["Senior and FET ","Specialising in English Home Language and Sesotho Home Language (BFN)","SSML2624",{"$f":"_xlfn.XLOOKUP(C1063,'RAW module list'!A:A,'RAW module list'!B:B, \"Not found\")","v":"Sesotho Poetry and Drama"},{"$f":"_xlfn.XLOOKUP(C1063,'RAW module list'!A:A,'RAW module list'!C:C, \"Not found\")","v":6},{"$f":"_xlfn.XLOOKUP(C1063,'RAW module list'!A:A,'RAW module list'!D:D, \"Not found\")","v":16},{"$f":"_xlfn.XLOOKUP(C1063,'RAW module list'!A:A,'RAW module list'!E:E, \"Not found\")","v":"SSML2614 "},"Second Year",{"$f":"_xlfn.XLOOKUP(B1063,'Programmes lists'!B:B,'Programmes lists'!D:D)","v":"BC736404    "},{"$f":"_xlfn.XLOOKUP(B1063,'Programmes lists'!B:B,'Programmes lists'!E:E, \"Not found\")","v":0},{"$f":"_xlfn.XLOOKUP(B1063,'Programmes lists'!B:B,'Programmes lists'!G:G,\"Not found\")","v":"Minimum of 50% in grade 12 pass for \n•\tSesotho HL \n•\tEnglish HL or FAL "},{"$f":"_xlfn.XLOOKUP(B1063,'Programmes lists'!B:B,'Programmes lists'!F:F,\"Not found\")","v":512}]
["Senior and FET ","Specialising in English Home Language and Sesotho Home Language (BFN)","EDUB2724",{"$f":"_xlfn.XLOOKUP(C1064,'RAW module list'!A:A,'RAW module list'!B:B, \"Not found\")","v":"Education Studies 2: Human Relationships in Education context"},{"$f":"_xlfn.XLOOKUP(C1064,'RAW module list'!A:A,'RAW module list'!C:C, \"Not found\")","v":7},{"$f":"_xlfn.XLOOKUP(C1064,'RAW module list'!A:A,'RAW module list'!D:D, \"Not found\")","v":16},{"$f":"_xlfn.XLOOKUP(C1064,'RAW module list'!A:A,'RAW module list'!E:E, \"Not found\")","v":"EDUB2714"},"Second Year",{"$f":"_xlfn.XLOOKUP(B1064,'Programmes lists'!B:B,'Programmes lists'!D:D)","v":"BC736404    "},{"$f":"_xlfn.XLOOKUP(B1064,'Programmes lists'!B:B,'Programmes lists'!E:E, \"Not found\")","v":0},{"$f":"_xlfn.XLOOKUP(B1064,'Programmes lists'!B:B,'Programmes lists'!G:G,\"Not found\")","v":"Minimum of 50% in grade 12 pass for \n•\tSesotho HL \n•\tEnglish HL or FAL "},{"$f":"_xlfn.XLOOKUP(B1064,'Programmes lists'!B:B,'Programmes lists'!F:F,\"Not found\")","v":512}]
["Senior and FET ","Specialising in English Home Language and Sesotho Home Language (BFN)","GPEV2623",{"$f":"_xlfn.XLOOKUP(C1065,'RAW module list'!A:A,'RAW module list'!B:B, \"Not found\")","v":"General Pedagogy 2.2: Assessment"},{"$f":"_xlfn.XLOOKUP(C1065,'RAW module list'!A:A,'RAW module list'!C:C, \"Not found\")","v":6},{"$f":"_xlfn.XLOOKUP(C1065,'RAW module list'!A:A,'RAW module list'!D:D, \"Not found\")","v":12},{"$f":"_xlfn.XLOOKUP(C1065,'RAW module list'!A:A,'RAW module list'!E:E, \"Not found\")","v":"GPEV2613"},"Second Year",{"$f":"_xlfn.XLOOKUP(B1065,'Programmes lists'!B:B,'Programmes lists'!D:D)","v":"BC736404    "},{"$f":"_xlfn.XLOOKUP(B1065,'Programmes lists'!B:B,'Programmes lists'!E:E, \"Not found\")","v":0},{"$f":"_xlfn.XLOOKUP(B1065,'Programmes lists'!B:B,'Programmes lists'!G:G,\"Not found\")","v":"Minimum of 50% in grade 12 pass for \n•\tSesotho HL \n•\tEnglish HL or FAL "},{"$f":"_xlfn.XLOOKUP(B1065,'Programmes lists'!B:B,'Programmes lists'!F:F,\"Not found\")","v":512}]
["Senior and FET ","Specialising in English Home Language and Sesotho Home Language (BFN)","Special Requirement:","*ELLT can be exempted when ENGL2614 and 2724 have been passed successfully. ",null,null,null,"Second Year",{"$f":"_xlfn.XLOOKUP(B1066,'Programmes lists'!B:B,'Programmes lists'!D:D)","v":"BC736404    "},{"$f":"_xlfn.XLOOKUP(B1066,'Programmes lists'!B:B,'Programmes lists'!E:E, \"Not found\")","v":0},{"$f":"_xlfn.XLOOKUP(B1066,'Programmes lists'!B:B,'Programmes lists'!G:G,\"Not found\")","v":"Minimum of 50% in grade 12 pass for \n•\tSesotho HL \n•\tEnglish HL or FAL "},{"$f":"_xlfn.XLOOKUP(B1066,'Programmes lists'!B:B,'Programmes lists'!F:F,\"Not found\")","v":512}]
["Senior and FET ","Specialising in English Home Language and Sesotho Home Language (BFN)","EHTV3605",{"$f":"_xlfn.XLOOKUP(C1067,'RAW module list'!A:A,'RAW module list'!B:B, \"Not found\")","v":"English Home Language teaching 1: Further Education and Training phase"},{"$f":"_xlfn.XLOOKUP(C1067,'RAW module list'!A:A,'RAW module list'!C:C, \"Not found\")","v":6},{"$f":"_xlfn.XLOOKUP(C1067,'RAW module list'!A:A,'RAW module list'!D:D, \"Not found\")","v":20},{"$f":"_xlfn.XLOOKUP(C1067,'RAW module list'!A:A,'RAW module list'!E:E, \"Not found\")","v":"ENGL2724 & ENGL2614"},"Third Year",{"$f":"_xlfn.XLOOKUP(B1067,'Programmes lists'!B:B,'Programmes lists'!D:D)","v":"BC736404    "},{"$f":"_xlfn.XLOOKUP(B1067,'Programmes lists'!B:B,'Programmes lists'!E:E, \"Not found\")","v":0},{"$f":"_xlfn.XLOOKUP(B1067,'Programmes lists'!B:B,'Programmes lists'!G:G,\"Not found\")","v":"Minimum of 50% in grade 12 pass for \n•\tSesotho HL \n•\tEnglish HL or FAL "},{"$f":"_xlfn.XLOOKUP(B1067,'Programmes lists'!B:B,'Programmes lists'!F:F,\"Not found\")","v":512},"Choose three didactics according to subjects taken previous years from EHTS, EHTV, SHTS, SHTV"]
["Senior and FET ","Specialising in English Home Language and Sesotho Home Language (BFN)","EHTS3605",{"$f":"_xlfn.XLOOKUP(C1068,'RAW module list'!A:A,'RAW module list'!B:B, \"Not found\")","v":"English Home Language teaching 1: Senior Phase"},{"$f":"_xlfn.XLOOKUP(C1068,'RAW module list'!A:A,'RAW module list'!C:C, \"Not found\")","v":6},{"$f":"_xlfn.XLOOKUP(C1068,'RAW module list'!A:A,'RAW module list'!D:D, \"Not found\")","v":20},{"$f":"_xlfn.XLOOKUP(C1068,'RAW module list'!A:A,'RAW module list'!E:E, \"Not found\")","v":"ENGL1514 & ENGL1624"},"Third Year",{"$f":"_xlfn.XLOOKUP(B1068,'Programmes lists'!B:B,'Programmes lists'!D:D)","v":"BC736404    "},{"$f":"_xlfn.XLOOKUP(B1068,'Programmes lists'!B:B,'Programmes lists'!E:E, \"Not found\")","v":0},{"$f":"_xlfn.XLOOKUP(B1068,'Programmes lists'!B:B,'Programmes lists'!G:G,\"Not found\")","v":"Minimum of 50% in grade 12 pass for \n•\tSesotho HL \n•\tEnglish HL or FAL "},{"$f":"_xlfn.XLOOKUP(B1068,'Programmes lists'!B:B,'Programmes lists'!F:F,\"Not found\")","v":512}]
["Senior and FET ","Specialising in English Home Language and Sesotho Home Language (BFN)","SHTV3605",{"$f":"_xlfn.XLOOKUP(C1069,'RAW module list'!A:A,'RAW module list'!B:B, \"Not found\")","v":"Sesotho Home Language Teaching  1: Further Education and Training"},{"$f":"_xlfn.XLOOKUP(C1069,'RAW module list'!A:A,'RAW module list'!C:C, \"Not found\")","v":6},{"$f":"_xlfn.XLOOKUP(C1069,'RAW module list'!A:A,'RAW module list'!D:D, \"Not found\")","v":20},{"$f":"_xlfn.XLOOKUP(C1069,'RAW module list'!A:A,'RAW module list'!E:E, \"Not found\")","v":"SSML2614 & SSMT2624"},"Third Year",{"$f":"_xlfn.XLOOKUP(B1069,'Programmes lists'!B:B,'Programmes lists'!D:D)","v":"BC736404    "},{"$f":"_xlfn.XLOOKUP(B1069,'Programmes lists'!B:B,'Programmes lists'!E:E, \"Not found\")","v":0},{"$f":"_xlfn.XLOOKUP(B1069,'Programmes lists'!B:B,'Programmes lists'!G:G,\"Not found\")","v":"Minimum of 50% in grade 12 pass for \n•\tSesotho HL \n•\tEnglish HL or FAL "},{"$f":"_xlfn.XLOOKUP(B1069,'Programmes lists'!B:B,'Programmes lists'!F:F,\"Not found\")","v":512}]
["Senior and FET ","Specialising in English Home Language and Sesotho Home Language (BFN)","SHTS3605",{"$f":"_xlfn.XLOOKUP(C1070,'RAW module list'!A:A,'RAW module list'!B:B, \"Not found\")","v":"Sesotho Home language Teaching 1: Senior Phase"},{"$f":"_xlfn.XLOOKUP(C1070,'RAW module list'!A:A,'RAW module list'!C:C, \"Not found\")","v":6},{"$f":"_xlfn.XLOOKUP(C1070,'RAW module list'!A:A,'RAW module list'!D:D, \"Not found\")","v":20},{"$f":"_xlfn.XLOOKUP(C1070,'RAW module list'!A:A,'RAW module list'!E:E, \"Not found\")","v":"SSML1514 & SSMT1524"},"Third Year",{"$f":"_xlfn.XLOOKUP(B1070,'Programmes lists'!B:B,'Programmes lists'!D:D)","v":"BC736404    "},{"$f":"_xlfn.XLOOKUP(B1070,'Programmes lists'!B:B,'Programmes lists'!E:E, \"Not found\")","v":0},{"$f":"_xlfn.XLOOKUP(B1070,'Programmes lists'!B:B,'Programmes lists'!G:G,\"Not found\")","v":"Minimum of 50% in grade 12 pass for \n•\tSesotho HL \n•\tEnglish HL or FAL "},{"$f":"_xlfn.XLOOKUP(B1070,'Programmes lists'!B:B,'Programmes lists'!F:F,\"Not found\")","v":512}]
["Senior and FET ","Specialising in English Home Language and Sesotho Home Language (BFN)","ENED3514",{"$f":"_xlfn.XLOOKUP(C1071,'RAW module list'!A:A,'RAW module list'!B:B, \"Not found\")","v":"Entrepreneurship in Education "},{"$f":"_xlfn.XLOOKUP(C1071,'RAW module list'!A:A,'RAW module list'!C:C, \"Not found\")","v":5},{"$f":"_xlfn.XLOOKUP(C1071,'RAW module list'!A:A,'RAW module list'!D:D, \"Not found\")","v":16},{"$f":"_xlfn.XLOOKUP(C1071,'RAW module list'!A:A,'RAW module list'!E:E, \"Not found\")","v":0},"Third Year",{"$f":"_xlfn.XLOOKUP(B1071,'Programmes lists'!B:B,'Programmes lists'!D:D)","v":"BC736404    "},{"$f":"_xlfn.XLOOKUP(B1071,'Programmes lists'!B:B,'Programmes lists'!E:E, \"Not found\")","v":0},{"$f":"_xlfn.XLOOKUP(B1071,'Programmes lists'!B:B,'Programmes lists'!G:G,\"Not found\")","v":"Minimum of 50% in grade 12 pass for \n•\tSesotho HL \n•\tEnglish HL or FAL "},{"$f":"_xlfn.XLOOKUP(B1071,'Programmes lists'!B:B,'Programmes lists'!F:F,\"Not found\")","v":512}]
["Senior and FET ","Specialising in English Home Language and Sesotho Home Language (BFN)","EDUB3714",{"$f":"_xlfn.XLOOKUP(C1072,'RAW module list'!A:A,'RAW module list'!B:B, \"Not found\")","v":"Education Studies 3.1 Education systems in global and national context"},{"$f":"_xlfn.XLOOKUP(C1072,'RAW module list'!A:A,'RAW module list'!C:C, \"Not found\")","v":7},{"$f":"_xlfn.XLOOKUP(C1072,'RAW module list'!A:A,'RAW module list'!D:D, \"Not found\")","v":16},{"$f":"_xlfn.XLOOKUP(C1072,'RAW module list'!A:A,'RAW module list'!E:E, \"Not found\")","v":"EDUB1613 & EDUB1623& EDUB2714 & EDUB2724"},"Third Year",{"$f":"_xlfn.XLOOKUP(B1072,'Programmes lists'!B:B,'Programmes lists'!D:D)","v":"BC736404    "},{"$f":"_xlfn.XLOOKUP(B1072,'Programmes lists'!B:B,'Programmes lists'!E:E, \"Not found\")","v":0},{"$f":"_xlfn.XLOOKUP(B1072,'Programmes lists'!B:B,'Programmes lists'!G:G,\"Not found\")","v":"Minimum of 50% in grade 12 pass for \n•\tSesotho HL \n•\tEnglish HL or FAL "},{"$f":"_xlfn.XLOOKUP(B1072,'Programmes lists'!B:B,'Programmes lists'!F:F,\"Not found\")","v":512}]
["Senior and FET ","Specialising in English Home Language and Sesotho Home Language (BFN)","ZUCL3512 OR SICL3512 OR GAFR3512",{"$f":"_xlfn.XLOOKUP(C1073,'RAW module list'!A:A,'RAW module list'!B:B, \"Not found\")","v":"Conversational IsiZulu OR Conversational Sign Language OR Conversational Afrikaans"},{"$f":"_xlfn.XLOOKUP(C1073,'RAW module list'!A:A,'RAW module list'!C:C, \"Not found\")","v":5},{"$f":"_xlfn.XLOOKUP(C1073,'RAW module list'!A:A,'RAW module list'!D:D, \"Not found\")","v":8},{"$f":"_xlfn.XLOOKUP(C1073,'RAW module list'!A:A,'RAW module list'!E:E, \"Not found\")","v":"No previous exposure to the language"},"Third Year",{"$f":"_xlfn.XLOOKUP(B1073,'Programmes lists'!B:B,'Programmes lists'!D:D)","v":"BC736404    "},{"$f":"_xlfn.XLOOKUP(B1073,'Programmes lists'!B:B,'Programmes lists'!E:E, \"Not found\")","v":0},{"$f":"_xlfn.XLOOKUP(B1073,'Programmes lists'!B:B,'Programmes lists'!G:G,\"Not found\")","v":"Minimum of 50% in grade 12 pass for \n•\tSesotho HL \n•\tEnglish HL or FAL "},{"$f":"_xlfn.XLOOKUP(B1073,'Programmes lists'!B:B,'Programmes lists'!F:F,\"Not found\")","v":512}]
["Senior and FET ","Specialising in English Home Language and Sesotho Home Language (BFN)","WILV3606",{"$f":"_xlfn.XLOOKUP(C1074,'RAW module list'!A:A,'RAW module list'!B:B, \"Not found\")","v":"Teaching Practice 3"},{"$f":"_xlfn.XLOOKUP(C1074,'RAW module list'!A:A,'RAW module list'!C:C, \"Not found\")","v":6},{"$f":"_xlfn.XLOOKUP(C1074,'RAW module list'!A:A,'RAW module list'!D:D, \"Not found\")","v":24},{"$f":"_xlfn.XLOOKUP(C1074,'RAW module list'!A:A,'RAW module list'!E:E, \"Not found\")","v":"TPRV2502"},"Third Year",{"$f":"_xlfn.XLOOKUP(B1074,'Programmes lists'!B:B,'Programmes lists'!D:D)","v":"BC736404    "},{"$f":"_xlfn.XLOOKUP(B1074,'Programmes lists'!B:B,'Programmes lists'!E:E, \"Not found\")","v":0},{"$f":"_xlfn.XLOOKUP(B1074,'Programmes lists'!B:B,'Programmes lists'!G:G,\"Not found\")","v":"Minimum of 50% in grade 12 pass for \n•\tSesotho HL \n•\tEnglish HL or FAL "},{"$f":"_xlfn.XLOOKUP(B1074,'Programmes lists'!B:B,'Programmes lists'!F:F,\"Not found\")","v":512}]
["Senior and FET ","Specialising in English Home Language and Sesotho Home Language (BFN)","EDUB3724",{"$f":"_xlfn.XLOOKUP(C1075,'RAW module list'!A:A,'RAW module list'!B:B, \"Not found\")","v":"Education Studies 3.2: Contemporary Education Theory in the current social context"},{"$f":"_xlfn.XLOOKUP(C1075,'RAW module list'!A:A,'RAW module list'!C:C, \"Not found\")","v":7},{"$f":"_xlfn.XLOOKUP(C1075,'RAW module list'!A:A,'RAW module list'!D:D, \"Not found\")","v":16},{"$f":"_xlfn.XLOOKUP(C1075,'RAW module list'!A:A,'RAW module list'!E:E, \"Not found\")","v":"EDUB1613 & EDUB1623 & EDUB2714 & EDUB2724 & EDUB3714"},"Third Year",{"$f":"_xlfn.XLOOKUP(B1075,'Programmes lists'!B:B,'Programmes lists'!D:D)","v":"BC736404    "},{"$f":"_xlfn.XLOOKUP(B1075,'Programmes lists'!B:B,'Programmes lists'!E:E, \"Not found\")","v":0},{"$f":"_xlfn.XLOOKUP(B1075,'Programmes lists'!B:B,'Programmes lists'!G:G,\"Not found\")","v":"Minimum of 50% in grade 12 pass for \n•\tSesotho HL \n•\tEnglish HL or FAL "},{"$f":"_xlfn.XLOOKUP(B1075,'Programmes lists'!B:B,'Programmes lists'!F:F,\"Not found\")","v":512}]
["Senior and FET ","Specialising in English Home Language and Sesotho Home Language (BFN)","ZUCL3522 OR SICL3522 OR GAFR3522",{"$f":"_xlfn.XLOOKUP(C1076,'RAW module list'!A:A,'RAW module list'!B:B, \"Not found\")","v":"Conversational IsiZulu OR Conversational Sign Language OR Conversational Afrikaans"},{"$f":"_xlfn.XLOOKUP(C1076,'RAW module list'!A:A,'RAW module list'!C:C, \"Not found\")","v":5},{"$f":"_xlfn.XLOOKUP(C1076,'RAW module list'!A:A,'RAW module list'!D:D, \"Not found\")","v":8},{"$f":"_xlfn.XLOOKUP(C1076,'RAW module list'!A:A,'RAW module list'!E:E, \"Not found\")","v":"Continue with the conversational language chosen in Semester 1"},"Third Year",{"$f":"_xlfn.XLOOKUP(B1076,'Programmes lists'!B:B,'Programmes lists'!D:D)","v":"BC736404    "},{"$f":"_xlfn.XLOOKUP(B1076,'Programmes lists'!B:B,'Programmes lists'!E:E, \"Not found\")","v":0},{"$f":"_xlfn.XLOOKUP(B1076,'Programmes lists'!B:B,'Programmes lists'!G:G,\"Not found\")","v":"Minimum of 50% in grade 12 pass for \n•\tSesotho HL \n•\tEnglish HL or FAL "},{"$f":"_xlfn.XLOOKUP(B1076,'Programmes lists'!B:B,'Programmes lists'!F:F,\"Not found\")","v":512}]
["Senior and FET ","Specialising in English Home Language and Sesotho Home Language (BFN)","Special Requirement:","Choose three didactics according to subjects taken previous years from EHTS, EHTV, SHTS, SHTV",null,null,null,"Third Year",{"$f":"_xlfn.XLOOKUP(B1077,'Programmes lists'!B:B,'Programmes lists'!D:D)","v":"BC736404    "},{"$f":"_xlfn.XLOOKUP(B1077,'Programmes lists'!B:B,'Programmes lists'!E:E, \"Not found\")","v":0},{"$f":"_xlfn.XLOOKUP(B1077,'Programmes lists'!B:B,'Programmes lists'!G:G,\"Not found\")","v":"Minimum of 50% in grade 12 pass for \n•\tSesotho HL \n•\tEnglish HL or FAL "},{"$f":"_xlfn.XLOOKUP(B1077,'Programmes lists'!B:B,'Programmes lists'!F:F,\"Not found\")","v":512}]
["Senior and FET ","Specialising in English Home Language and Sesotho Home Language (BFN)","EHTV4705",{"$f":"_xlfn.XLOOKUP(C1078,'RAW module list'!A:A,'RAW module list'!B:B, \"Not found\")","v":"English Home Language teaching 2: Further Education and Training phase"},{"$f":"_xlfn.XLOOKUP(C1078,'RAW module list'!A:A,'RAW module list'!C:C, \"Not found\")","v":7},{"$f":"_xlfn.XLOOKUP(C1078,'RAW module list'!A:A,'RAW module list'!D:D, \"Not found\")","v":20},{"$f":"_xlfn.XLOOKUP(C1078,'RAW module list'!A:A,'RAW module list'!E:E, \"Not found\")","v":"EHTV3605"},"Fourth Year",{"$f":"_xlfn.XLOOKUP(B1078,'Programmes lists'!B:B,'Programmes lists'!D:D)","v":"BC736404    "},{"$f":"_xlfn.XLOOKUP(B1078,'Programmes lists'!B:B,'Programmes lists'!E:E, \"Not found\")","v":0},{"$f":"_xlfn.XLOOKUP(B1078,'Programmes lists'!B:B,'Programmes lists'!G:G,\"Not found\")","v":"Minimum of 50% in grade 12 pass for \n•\tSesotho HL \n•\tEnglish HL or FAL "},{"$f":"_xlfn.XLOOKUP(B1078,'Programmes lists'!B:B,'Programmes lists'!F:F,\"Not found\")","v":512},"Continue with three didactics as chosen in year 3 from EHTS, EHTV, SHTS, SHTV"]
["Senior and FET ","Specialising in English Home Language and Sesotho Home Language (BFN)","EHTS4705",{"$f":"_xlfn.XLOOKUP(C1079,'RAW module list'!A:A,'RAW module list'!B:B, \"Not found\")","v":"English home language Teaching 2: Senior Phase"},{"$f":"_xlfn.XLOOKUP(C1079,'RAW module list'!A:A,'RAW module list'!C:C, \"Not found\")","v":7},{"$f":"_xlfn.XLOOKUP(C1079,'RAW module list'!A:A,'RAW module list'!D:D, \"Not found\")","v":-20},{"$f":"_xlfn.XLOOKUP(C1079,'RAW module list'!A:A,'RAW module list'!E:E, \"Not found\")","v":"EHTS3605"},"Fourth Year",{"$f":"_xlfn.XLOOKUP(B1079,'Programmes lists'!B:B,'Programmes lists'!D:D)","v":"BC736404    "},{"$f":"_xlfn.XLOOKUP(B1079,'Programmes lists'!B:B,'Programmes lists'!E:E, \"Not found\")","v":0},{"$f":"_xlfn.XLOOKUP(B1079,'Programmes lists'!B:B,'Programmes lists'!G:G,\"Not found\")","v":"Minimum of 50% in grade 12 pass for \n•\tSesotho HL \n•\tEnglish HL or FAL "},{"$f":"_xlfn.XLOOKUP(B1079,'Programmes lists'!B:B,'Programmes lists'!F:F,\"Not found\")","v":512}]
["Senior and FET ","Specialising in English Home Language and Sesotho Home Language (BFN)","SHTS4705",{"$f":"_xlfn.XLOOKUP(C1080,'RAW module list'!A:A,'RAW module list'!B:B, \"Not found\")","v":"Sesotho Home language Teaching  2: Senior Phase"},{"$f":"_xlfn.XLOOKUP(C1080,'RAW module list'!A:A,'RAW module list'!C:C, \"Not found\")","v":7},{"$f":"_xlfn.XLOOKUP(C1080,'RAW module list'!A:A,'RAW module list'!D:D, \"Not found\")*-1","v":20},{"$f":"_xlfn.XLOOKUP(C1080,'RAW module list'!A:A,'RAW module list'!E:E, \"Not found\")","v":"SHTS3605"},"Fourth Year",{"$f":"_xlfn.XLOOKUP(B1080,'Programmes lists'!B:B,'Programmes lists'!D:D)","v":"BC736404    "},{"$f":"_xlfn.XLOOKUP(B1080,'Programmes lists'!B:B,'Programmes lists'!E:E, \"Not found\")","v":0},{"$f":"_xlfn.XLOOKUP(B1080,'Programmes lists'!B:B,'Programmes lists'!G:G,\"Not found\")","v":"Minimum of 50% in grade 12 pass for \n•\tSesotho HL \n•\tEnglish HL or FAL "},{"$f":"_xlfn.XLOOKUP(B1080,'Programmes lists'!B:B,'Programmes lists'!F:F,\"Not found\")","v":512}]
["Senior and FET ","Specialising in English Home Language and Sesotho Home Language (BFN)","SHTV4705",{"$f":"_xlfn.XLOOKUP(C1081,'RAW module list'!A:A,'RAW module list'!B:B, \"Not found\")","v":"Sesotho Home language Teaching  2: Further Education and Training phase"},{"$f":"_xlfn.XLOOKUP(C1081,'RAW module list'!A:A,'RAW module list'!C:C, \"Not found\")","v":7},{"$f":"_xlfn.XLOOKUP(C1081,'RAW module list'!A:A,'RAW module list'!D:D, \"Not found\")","v":20},{"$f":"_xlfn.XLOOKUP(C1081,'RAW module list'!A:A,'RAW module list'!E:E, \"Not found\")","v":"SHTV3605"},"Fourth Year",{"$f":"_xlfn.XLOOKUP(B1081,'Programmes lists'!B:B,'Programmes lists'!D:D)","v":"BC736404    "},{"$f":"_xlfn.XLOOKUP(B1081,'Programmes lists'!B:B,'Programmes lists'!E:E, \"Not found\")","v":0},{"$f":"_xlfn.XLOOKUP(B1081,'Programmes lists'!B:B,'Programmes lists'!G:G,\"Not found\")","v":"Minimum of 50% in grade 12 pass for \n•\tSesotho HL \n•\tEnglish HL or FAL "},{"$f":"_xlfn.XLOOKUP(B1081,'Programmes lists'!B:B,'Programmes lists'!F:F,\"Not found\")","v":512}]
["Senior and FET ","Specialising in English Home Language and Sesotho Home Language (BFN)","WILV4700",{"$f":"_xlfn.XLOOKUP(C1082,'RAW module list'!A:A,'RAW module list'!B:B, \"Not found\")","v":"Teaching Practice 4"},{"$f":"_xlfn.XLOOKUP(C1082,'RAW module list'!A:A,'RAW module list'!C:C, \"Not found\")","v":7},{"$f":"_xlfn.XLOOKUP(C1082,'RAW module list'!A:A,'RAW module list'!D:D, \"Not found\")","v":40},{"$f":"_xlfn.XLOOKUP(C1082,'RAW module list'!A:A,'RAW module list'!E:E, \"Not found\")","v":"WILV3606"},"Fourth Year",{"$f":"_xlfn.XLOOKUP(B1082,'Programmes lists'!B:B,'Programmes lists'!D:D)","v":"BC736404    "},{"$f":"_xlfn.XLOOKUP(B1082,'Programmes lists'!B:B,'Programmes lists'!E:E, \"Not found\")","v":0},{"$f":"_xlfn.XLOOKUP(B1082,'Programmes lists'!B:B,'Programmes lists'!G:G,\"Not found\")","v":"Minimum of 50% in grade 12 pass for \n•\tSesotho HL \n•\tEnglish HL or FAL "},{"$f":"_xlfn.XLOOKUP(B1082,'Programmes lists'!B:B,'Programmes lists'!F:F,\"Not found\")","v":512}]
["Senior and FET ","Specialising in English Home Language and Sesotho Home Language (BFN)","Special Requirement:","Continue with three didactics as chosen in year 3 from EHTS, EHTV, SHTS, SHTV",null,null,null,"Fourth Year",{"$f":"_xlfn.XLOOKUP(B1083,'Programmes lists'!B:B,'Programmes lists'!D:D)","v":"BC736404    "},{"$f":"_xlfn.XLOOKUP(B1083,'Programmes lists'!B:B,'Programmes lists'!E:E, \"Not found\")","v":0},{"$f":"_xlfn.XLOOKUP(B1083,'Programmes lists'!B:B,'Programmes lists'!G:G,\"Not found\")","v":"Minimum of 50% in grade 12 pass for \n•\tSesotho HL \n•\tEnglish HL or FAL "},{"$f":"_xlfn.XLOOKUP(B1083,'Programmes lists'!B:B,'Programmes lists'!F:F,\"Not found\")","v":512}]
["Senior and FET ","Specialising in Sesotho Home Language and English First Additional Language (QQ)","ENGL1514",{"$f":"_xlfn.XLOOKUP(C1084,'RAW module list'!A:A,'RAW module list'!B:B, \"Not found\")","v":"Reading Literature: An Introduction to Reading, Writing and Critical Textual Analysis"},{"$f":"_xlfn.XLOOKUP(C1084,'RAW module list'!A:A,'RAW module list'!C:C, \"Not found\")","v":5},{"$f":"_xlfn.XLOOKUP(C1084,'RAW module list'!A:A,'RAW module list'!D:D, \"Not found\")","v":16},{"$f":"_xlfn.XLOOKUP(C1084,'RAW module list'!A:A,'RAW module list'!E:E, \"Not found\")","v":0},"First Year",{"$f":"_xlfn.XLOOKUP(B1084,'Programmes lists'!B:B,'Programmes lists'!D:D)","v":0},{"$f":"_xlfn.XLOOKUP(B1084,'Programmes lists'!B:B,'Programmes lists'!E:E, \"Not found\")","v":"QC736402    "},{"$f":"_xlfn.XLOOKUP(B1084,'Programmes lists'!B:B,'Programmes lists'!G:G,\"Not found\")","v":"Minimum of 50% in grade 12 pass for \n•\tisiZulu HL "},{"$f":"_xlfn.XLOOKUP(B1084,'Programmes lists'!B:B,'Programmes lists'!F:F,\"Not found\")","v":512}]
["Senior and FET ","Specialising in Sesotho Home Language and English First Additional Language (QQ)","SSML1514",{"$f":"_xlfn.XLOOKUP(C1085,'RAW module list'!A:A,'RAW module list'!B:B, \"Not found\")","v":"Sesotho language structure "},{"$f":"_xlfn.XLOOKUP(C1085,'RAW module list'!A:A,'RAW module list'!C:C, \"Not found\")","v":5},{"$f":"_xlfn.XLOOKUP(C1085,'RAW module list'!A:A,'RAW module list'!D:D, \"Not found\")","v":16},{"$f":"_xlfn.XLOOKUP(C1085,'RAW module list'!A:A,'RAW module list'!E:E, \"Not found\")","v":0},"First Year",{"$f":"_xlfn.XLOOKUP(B1085,'Programmes lists'!B:B,'Programmes lists'!D:D)","v":0},{"$f":"_xlfn.XLOOKUP(B1085,'Programmes lists'!B:B,'Programmes lists'!E:E, \"Not found\")","v":"QC736402    "},{"$f":"_xlfn.XLOOKUP(B1085,'Programmes lists'!B:B,'Programmes lists'!G:G,\"Not found\")","v":"Minimum of 50% in grade 12 pass for \n•\tisiZulu HL "},{"$f":"_xlfn.XLOOKUP(B1085,'Programmes lists'!B:B,'Programmes lists'!F:F,\"Not found\")","v":512}]
["Senior and FET ","Specialising in Sesotho Home Language and English First Additional Language (QQ)","LLST1513",{"$f":"_xlfn.XLOOKUP(C1086,'RAW module list'!A:A,'RAW module list'!B:B, \"Not found\")","v":"Lifelong Learning Skills"},{"$f":"_xlfn.XLOOKUP(C1086,'RAW module list'!A:A,'RAW module list'!C:C, \"Not found\")","v":5},{"$f":"_xlfn.XLOOKUP(C1086,'RAW module list'!A:A,'RAW module list'!D:D, \"Not found\")","v":12},{"$f":"_xlfn.XLOOKUP(C1086,'RAW module list'!A:A,'RAW module list'!E:E, \"Not found\")","v":0},"First Year",{"$f":"_xlfn.XLOOKUP(B1086,'Programmes lists'!B:B,'Programmes lists'!D:D)","v":0},{"$f":"_xlfn.XLOOKUP(B1086,'Programmes lists'!B:B,'Programmes lists'!E:E, \"Not found\")","v":"QC736402    "},{"$f":"_xlfn.XLOOKUP(B1086,'Programmes lists'!B:B,'Programmes lists'!G:G,\"Not found\")","v":"Minimum of 50% in grade 12 pass for \n•\tisiZulu HL "},{"$f":"_xlfn.XLOOKUP(B1086,'Programmes lists'!B:B,'Programmes lists'!F:F,\"Not found\")","v":512}]
["Senior and FET ","Specialising in Sesotho Home Language and English First Additional Language (QQ)","EDUB1613",{"$f":"_xlfn.XLOOKUP(C1087,'RAW module list'!A:A,'RAW module list'!B:B, \"Not found\")","v":"Education Studies 1.1 The Individual in the learning context"},{"$f":"_xlfn.XLOOKUP(C1087,'RAW module list'!A:A,'RAW module list'!C:C, \"Not found\")","v":6},{"$f":"_xlfn.XLOOKUP(C1087,'RAW module list'!A:A,'RAW module list'!D:D, \"Not found\")","v":12},{"$f":"_xlfn.XLOOKUP(C1087,'RAW module list'!A:A,'RAW module list'!E:E, \"Not found\")","v":0},"First Year",{"$f":"_xlfn.XLOOKUP(B1087,'Programmes lists'!B:B,'Programmes lists'!D:D)","v":0},{"$f":"_xlfn.XLOOKUP(B1087,'Programmes lists'!B:B,'Programmes lists'!E:E, \"Not found\")","v":"QC736402    "},{"$f":"_xlfn.XLOOKUP(B1087,'Programmes lists'!B:B,'Programmes lists'!G:G,\"Not found\")","v":"Minimum of 50% in grade 12 pass for \n•\tisiZulu HL "},{"$f":"_xlfn.XLOOKUP(B1087,'Programmes lists'!B:B,'Programmes lists'!F:F,\"Not found\")","v":512}]
["Senior and FET ","Specialising in Sesotho Home Language and English First Additional Language (QQ)","TPRV1502",{"$f":"_xlfn.XLOOKUP(C1088,'RAW module list'!A:A,'RAW module list'!B:B, \"Not found\")","v":"Teaching Practice 1 "},{"$f":"_xlfn.XLOOKUP(C1088,'RAW module list'!A:A,'RAW module list'!C:C, \"Not found\")","v":5},{"$f":"_xlfn.XLOOKUP(C1088,'RAW module list'!A:A,'RAW module list'!D:D, \"Not found\")","v":8},{"$f":"_xlfn.XLOOKUP(C1088,'RAW module list'!A:A,'RAW module list'!E:E, \"Not found\")","v":0},"First Year",{"$f":"_xlfn.XLOOKUP(B1088,'Programmes lists'!B:B,'Programmes lists'!D:D)","v":0},{"$f":"_xlfn.XLOOKUP(B1088,'Programmes lists'!B:B,'Programmes lists'!E:E, \"Not found\")","v":"QC736402    "},{"$f":"_xlfn.XLOOKUP(B1088,'Programmes lists'!B:B,'Programmes lists'!G:G,\"Not found\")","v":"Minimum of 50% in grade 12 pass for \n•\tisiZulu HL "},{"$f":"_xlfn.XLOOKUP(B1088,'Programmes lists'!B:B,'Programmes lists'!F:F,\"Not found\")","v":512}]
["Senior and FET ","Specialising in Sesotho Home Language and English First Additional Language (QQ)","UFSS1504",{"$f":"_xlfn.XLOOKUP(C1089,'RAW module list'!A:A,'RAW module list'!B:B, \"Not found\")","v":"Undergraduate core curriculum"},{"$f":"_xlfn.XLOOKUP(C1089,'RAW module list'!A:A,'RAW module list'!C:C, \"Not found\")","v":5},{"$f":"_xlfn.XLOOKUP(C1089,'RAW module list'!A:A,'RAW module list'!D:D, \"Not found\")","v":-16},{"$f":"_xlfn.XLOOKUP(C1089,'RAW module list'!A:A,'RAW module list'!E:E, \"Not found\")","v":0},"First Year",{"$f":"_xlfn.XLOOKUP(B1089,'Programmes lists'!B:B,'Programmes lists'!D:D)","v":0},{"$f":"_xlfn.XLOOKUP(B1089,'Programmes lists'!B:B,'Programmes lists'!E:E, \"Not found\")","v":"QC736402    "},{"$f":"_xlfn.XLOOKUP(B1089,'Programmes lists'!B:B,'Programmes lists'!G:G,\"Not found\")","v":"Minimum of 50% in grade 12 pass for \n•\tisiZulu HL "},{"$f":"_xlfn.XLOOKUP(B1089,'Programmes lists'!B:B,'Programmes lists'!F:F,\"Not found\")","v":512}]
["Senior and FET ","Specialising in Sesotho Home Language and English First Additional Language (QQ)","EALT1508",{"$f":"_xlfn.XLOOKUP(C1090,'RAW module list'!A:A,'RAW module list'!B:B, \"Not found\")","v":"English Academic Literacy for Education "},{"$f":"_xlfn.XLOOKUP(C1090,'RAW module list'!A:A,'RAW module list'!C:C, \"Not found\")","v":5},{"$f":"_xlfn.XLOOKUP(C1090,'RAW module list'!A:A,'RAW module list'!D:D, \"Not found\")","v":-32},{"$f":"_xlfn.XLOOKUP(C1090,'RAW module list'!A:A,'RAW module list'!E:E, \"Not found\")","v":"NBT requirements not met"},"First Year",{"$f":"_xlfn.XLOOKUP(B1090,'Programmes lists'!B:B,'Programmes lists'!D:D)","v":0},{"$f":"_xlfn.XLOOKUP(B1090,'Programmes lists'!B:B,'Programmes lists'!E:E, \"Not found\")","v":"QC736402    "},{"$f":"_xlfn.XLOOKUP(B1090,'Programmes lists'!B:B,'Programmes lists'!G:G,\"Not found\")","v":"Minimum of 50% in grade 12 pass for \n•\tisiZulu HL "},{"$f":"_xlfn.XLOOKUP(B1090,'Programmes lists'!B:B,'Programmes lists'!F:F,\"Not found\")","v":512}]
["Senior and FET ","Specialising in Sesotho Home Language and English First Additional Language (QQ)","ENGL1624",{"$f":"_xlfn.XLOOKUP(C1091,'RAW module list'!A:A,'RAW module list'!B:B, \"Not found\")","v":"Reading Literature, Film and Culture"},{"$f":"_xlfn.XLOOKUP(C1091,'RAW module list'!A:A,'RAW module list'!C:C, \"Not found\")","v":6},{"$f":"_xlfn.XLOOKUP(C1091,'RAW module list'!A:A,'RAW module list'!D:D, \"Not found\")","v":16},{"$f":"_xlfn.XLOOKUP(C1091,'RAW module list'!A:A,'RAW module list'!E:E, \"Not found\")","v":"ENGL1514"},"First Year",{"$f":"_xlfn.XLOOKUP(B1091,'Programmes lists'!B:B,'Programmes lists'!D:D)","v":0},{"$f":"_xlfn.XLOOKUP(B1091,'Programmes lists'!B:B,'Programmes lists'!E:E, \"Not found\")","v":"QC736402    "},{"$f":"_xlfn.XLOOKUP(B1091,'Programmes lists'!B:B,'Programmes lists'!G:G,\"Not found\")","v":"Minimum of 50% in grade 12 pass for \n•\tisiZulu HL "},{"$f":"_xlfn.XLOOKUP(B1091,'Programmes lists'!B:B,'Programmes lists'!F:F,\"Not found\")","v":512}]
["Senior and FET ","Specialising in Sesotho Home Language and English First Additional Language (QQ)","SSMT1524",{"$f":"_xlfn.XLOOKUP(C1092,'RAW module list'!A:A,'RAW module list'!B:B, \"Not found\")","v":"Prose fiction in Sesotho"},{"$f":"_xlfn.XLOOKUP(C1092,'RAW module list'!A:A,'RAW module list'!C:C, \"Not found\")","v":5},{"$f":"_xlfn.XLOOKUP(C1092,'RAW module list'!A:A,'RAW module list'!D:D, \"Not found\")","v":16},{"$f":"_xlfn.XLOOKUP(C1092,'RAW module list'!A:A,'RAW module list'!E:E, \"Not found\")","v":"SSML1514"},"First Year",{"$f":"_xlfn.XLOOKUP(B1092,'Programmes lists'!B:B,'Programmes lists'!D:D)","v":0},{"$f":"_xlfn.XLOOKUP(B1092,'Programmes lists'!B:B,'Programmes lists'!E:E, \"Not found\")","v":"QC736402    "},{"$f":"_xlfn.XLOOKUP(B1092,'Programmes lists'!B:B,'Programmes lists'!G:G,\"Not found\")","v":"Minimum of 50% in grade 12 pass for \n•\tisiZulu HL "},{"$f":"_xlfn.XLOOKUP(B1092,'Programmes lists'!B:B,'Programmes lists'!F:F,\"Not found\")","v":512}]
["Senior and FET ","Specialising in Sesotho Home Language and English First Additional Language (QQ)","EDUB1623",{"$f":"_xlfn.XLOOKUP(C1093,'RAW module list'!A:A,'RAW module list'!B:B, \"Not found\")","v":"Education Studies 1.2 What it means to educate: Theoretical perspectives and their significance for SA education"},{"$f":"_xlfn.XLOOKUP(C1093,'RAW module list'!A:A,'RAW module list'!C:C, \"Not found\")","v":6},{"$f":"_xlfn.XLOOKUP(C1093,'RAW module list'!A:A,'RAW module list'!D:D, \"Not found\")","v":12},{"$f":"_xlfn.XLOOKUP(C1093,'RAW module list'!A:A,'RAW module list'!E:E, \"Not found\")","v":0},"First Year",{"$f":"_xlfn.XLOOKUP(B1093,'Programmes lists'!B:B,'Programmes lists'!D:D)","v":0},{"$f":"_xlfn.XLOOKUP(B1093,'Programmes lists'!B:B,'Programmes lists'!E:E, \"Not found\")","v":"QC736402    "},{"$f":"_xlfn.XLOOKUP(B1093,'Programmes lists'!B:B,'Programmes lists'!G:G,\"Not found\")","v":"Minimum of 50% in grade 12 pass for \n•\tisiZulu HL "},{"$f":"_xlfn.XLOOKUP(B1093,'Programmes lists'!B:B,'Programmes lists'!F:F,\"Not found\")","v":512}]
["Senior and FET ","Specialising in Sesotho Home Language and English First Additional Language (QQ)","GPEV1623",{"$f":"_xlfn.XLOOKUP(C1094,'RAW module list'!A:A,'RAW module list'!B:B, \"Not found\")","v":"General Pedagogy 1: Managing the Curriculum"},{"$f":"_xlfn.XLOOKUP(C1094,'RAW module list'!A:A,'RAW module list'!C:C, \"Not found\")","v":6},{"$f":"_xlfn.XLOOKUP(C1094,'RAW module list'!A:A,'RAW module list'!D:D, \"Not found\")","v":12},{"$f":"_xlfn.XLOOKUP(C1094,'RAW module list'!A:A,'RAW module list'!E:E, \"Not found\")","v":0},"First Year",{"$f":"_xlfn.XLOOKUP(B1094,'Programmes lists'!B:B,'Programmes lists'!D:D)","v":0},{"$f":"_xlfn.XLOOKUP(B1094,'Programmes lists'!B:B,'Programmes lists'!E:E, \"Not found\")","v":"QC736402    "},{"$f":"_xlfn.XLOOKUP(B1094,'Programmes lists'!B:B,'Programmes lists'!G:G,\"Not found\")","v":"Minimum of 50% in grade 12 pass for \n•\tisiZulu HL "},{"$f":"_xlfn.XLOOKUP(B1094,'Programmes lists'!B:B,'Programmes lists'!F:F,\"Not found\")","v":512}]
["Senior and FET ","Specialising in Sesotho Home Language and English First Additional Language (QQ)","ENGL2614",{"$f":"_xlfn.XLOOKUP(C1095,'RAW module list'!A:A,'RAW module list'!B:B, \"Not found\")","v":"Early Modern to Contemporary World Literatures"},{"$f":"_xlfn.XLOOKUP(C1095,'RAW module list'!A:A,'RAW module list'!C:C, \"Not found\")","v":6},{"$f":"_xlfn.XLOOKUP(C1095,'RAW module list'!A:A,'RAW module list'!D:D, \"Not found\")","v":16},{"$f":"_xlfn.XLOOKUP(C1095,'RAW module list'!A:A,'RAW module list'!E:E, \"Not found\")","v":"ENGL1514 & ENGL1624"},"Second Year",{"$f":"_xlfn.XLOOKUP(B1095,'Programmes lists'!B:B,'Programmes lists'!D:D)","v":0},{"$f":"_xlfn.XLOOKUP(B1095,'Programmes lists'!B:B,'Programmes lists'!E:E, \"Not found\")","v":"QC736402    "},{"$f":"_xlfn.XLOOKUP(B1095,'Programmes lists'!B:B,'Programmes lists'!G:G,\"Not found\")","v":"Minimum of 50% in grade 12 pass for \n•\tisiZulu HL "},{"$f":"_xlfn.XLOOKUP(B1095,'Programmes lists'!B:B,'Programmes lists'!F:F,\"Not found\")","v":512}]
["Senior and FET ","Specialising in Sesotho Home Language and English First Additional Language (QQ)","SSML2614",{"$f":"_xlfn.XLOOKUP(C1096,'RAW module list'!A:A,'RAW module list'!B:B, \"Not found\")","v":"Sociolinguistics in Sesotho"},{"$f":"_xlfn.XLOOKUP(C1096,'RAW module list'!A:A,'RAW module list'!C:C, \"Not found\")","v":6},{"$f":"_xlfn.XLOOKUP(C1096,'RAW module list'!A:A,'RAW module list'!D:D, \"Not found\")","v":16},{"$f":"_xlfn.XLOOKUP(C1096,'RAW module list'!A:A,'RAW module list'!E:E, \"Not found\")","v":"SSML1514 & SSMT1524"},"Second Year",{"$f":"_xlfn.XLOOKUP(B1096,'Programmes lists'!B:B,'Programmes lists'!D:D)","v":0},{"$f":"_xlfn.XLOOKUP(B1096,'Programmes lists'!B:B,'Programmes lists'!E:E, \"Not found\")","v":"QC736402    "},{"$f":"_xlfn.XLOOKUP(B1096,'Programmes lists'!B:B,'Programmes lists'!G:G,\"Not found\")","v":"Minimum of 50% in grade 12 pass for \n•\tisiZulu HL "},{"$f":"_xlfn.XLOOKUP(B1096,'Programmes lists'!B:B,'Programmes lists'!F:F,\"Not found\")","v":512}]
["Senior and FET ","Specialising in Sesotho Home Language and English First Additional Language (QQ)","EDUB2714",{"$f":"_xlfn.XLOOKUP(C1097,'RAW module list'!A:A,'RAW module list'!B:B, \"Not found\")","v":"Education Studies 2: Teaching and Learning in Education Context"},{"$f":"_xlfn.XLOOKUP(C1097,'RAW module list'!A:A,'RAW module list'!C:C, \"Not found\")","v":7},{"$f":"_xlfn.XLOOKUP(C1097,'RAW module list'!A:A,'RAW module list'!D:D, \"Not found\")","v":16},{"$f":"_xlfn.XLOOKUP(C1097,'RAW module list'!A:A,'RAW module list'!E:E, \"Not found\")","v":"EDUB1613 & EDUB1623"},"Second Year",{"$f":"_xlfn.XLOOKUP(B1097,'Programmes lists'!B:B,'Programmes lists'!D:D)","v":0},{"$f":"_xlfn.XLOOKUP(B1097,'Programmes lists'!B:B,'Programmes lists'!E:E, \"Not found\")","v":"QC736402    "},{"$f":"_xlfn.XLOOKUP(B1097,'Programmes lists'!B:B,'Programmes lists'!G:G,\"Not found\")","v":"Minimum of 50% in grade 12 pass for \n•\tisiZulu HL "},{"$f":"_xlfn.XLOOKUP(B1097,'Programmes lists'!B:B,'Programmes lists'!F:F,\"Not found\")","v":512}]
["Senior and FET ","Specialising in Sesotho Home Language and English First Additional Language (QQ)","GPEV2613",{"$f":"_xlfn.XLOOKUP(C1098,'RAW module list'!A:A,'RAW module list'!B:B, \"Not found\")","v":"General Pedagogy 2.1"},{"$f":"_xlfn.XLOOKUP(C1098,'RAW module list'!A:A,'RAW module list'!C:C, \"Not found\")","v":6},{"$f":"_xlfn.XLOOKUP(C1098,'RAW module list'!A:A,'RAW module list'!D:D, \"Not found\")","v":12},{"$f":"_xlfn.XLOOKUP(C1098,'RAW module list'!A:A,'RAW module list'!E:E, \"Not found\")","v":"GPEV1623"},"Second Year",{"$f":"_xlfn.XLOOKUP(B1098,'Programmes lists'!B:B,'Programmes lists'!D:D)","v":0},{"$f":"_xlfn.XLOOKUP(B1098,'Programmes lists'!B:B,'Programmes lists'!E:E, \"Not found\")","v":"QC736402    "},{"$f":"_xlfn.XLOOKUP(B1098,'Programmes lists'!B:B,'Programmes lists'!G:G,\"Not found\")","v":"Minimum of 50% in grade 12 pass for \n•\tisiZulu HL "},{"$f":"_xlfn.XLOOKUP(B1098,'Programmes lists'!B:B,'Programmes lists'!F:F,\"Not found\")","v":512}]
["Senior and FET ","Specialising in Sesotho Home Language and English First Additional Language (QQ)","ELLT2504*",{"$f":"_xlfn.XLOOKUP(C1099,'RAW module list'!A:A,'RAW module list'!B:B, \"Not found\")","v":"English as medium of learning and teaching"},{"$f":"_xlfn.XLOOKUP(C1099,'RAW module list'!A:A,'RAW module list'!C:C, \"Not found\")","v":5},{"$f":"_xlfn.XLOOKUP(C1099,'RAW module list'!A:A,'RAW module list'!D:D, \"Not found\")","v":16},{"$f":"_xlfn.XLOOKUP(C1099,'RAW module list'!A:A,'RAW module list'!E:E, \"Not found\")","v":0},"Second Year",{"$f":"_xlfn.XLOOKUP(B1099,'Programmes lists'!B:B,'Programmes lists'!D:D)","v":0},{"$f":"_xlfn.XLOOKUP(B1099,'Programmes lists'!B:B,'Programmes lists'!E:E, \"Not found\")","v":"QC736402    "},{"$f":"_xlfn.XLOOKUP(B1099,'Programmes lists'!B:B,'Programmes lists'!G:G,\"Not found\")","v":"Minimum of 50% in grade 12 pass for \n•\tisiZulu HL "},{"$f":"_xlfn.XLOOKUP(B1099,'Programmes lists'!B:B,'Programmes lists'!F:F,\"Not found\")","v":512},"*ELLT can be exempted when ENGL2614 and 2724 have been passed successfully. "]
["Senior and FET ","Specialising in Sesotho Home Language and English First Additional Language (QQ)","TPRV2502",{"$f":"_xlfn.XLOOKUP(C1100,'RAW module list'!A:A,'RAW module list'!B:B, \"Not found\")","v":"Teaching Practice 2"},{"$f":"_xlfn.XLOOKUP(C1100,'RAW module list'!A:A,'RAW module list'!C:C, \"Not found\")","v":5},{"$f":"_xlfn.XLOOKUP(C1100,'RAW module list'!A:A,'RAW module list'!D:D, \"Not found\")","v":8},{"$f":"_xlfn.XLOOKUP(C1100,'RAW module list'!A:A,'RAW module list'!E:E, \"Not found\")","v":"TPRV1502"},"Second Year",{"$f":"_xlfn.XLOOKUP(B1100,'Programmes lists'!B:B,'Programmes lists'!D:D)","v":0},{"$f":"_xlfn.XLOOKUP(B1100,'Programmes lists'!B:B,'Programmes lists'!E:E, \"Not found\")","v":"QC736402    "},{"$f":"_xlfn.XLOOKUP(B1100,'Programmes lists'!B:B,'Programmes lists'!G:G,\"Not found\")","v":"Minimum of 50% in grade 12 pass for \n•\tisiZulu HL "},{"$f":"_xlfn.XLOOKUP(B1100,'Programmes lists'!B:B,'Programmes lists'!F:F,\"Not found\")","v":512}]
["Senior and FET ","Specialising in Sesotho Home Language and English First Additional Language (QQ)","ENGL2724",{"$f":"_xlfn.XLOOKUP(C1101,'RAW module list'!A:A,'RAW module list'!B:B, \"Not found\")","v":"Twentieth Century and Modern Literature"},{"$f":"_xlfn.XLOOKUP(C1101,'RAW module list'!A:A,'RAW module list'!C:C, \"Not found\")","v":7},{"$f":"_xlfn.XLOOKUP(C1101,'RAW module list'!A:A,'RAW module list'!D:D, \"Not found\")","v":16},{"$f":"_xlfn.XLOOKUP(C1101,'RAW module list'!A:A,'RAW module list'!E:E, \"Not found\")","v":"ENGL2614"},"Second Year",{"$f":"_xlfn.XLOOKUP(B1101,'Programmes lists'!B:B,'Programmes lists'!D:D)","v":0},{"$f":"_xlfn.XLOOKUP(B1101,'Programmes lists'!B:B,'Programmes lists'!E:E, \"Not found\")","v":"QC736402    "},{"$f":"_xlfn.XLOOKUP(B1101,'Programmes lists'!B:B,'Programmes lists'!G:G,\"Not found\")","v":"Minimum of 50% in grade 12 pass for \n•\tisiZulu HL "},{"$f":"_xlfn.XLOOKUP(B1101,'Programmes lists'!B:B,'Programmes lists'!F:F,\"Not found\")","v":512}]
["Senior and FET ","Specialising in Sesotho Home Language and English First Additional Language (QQ)","SSML2624",{"$f":"_xlfn.XLOOKUP(C1102,'RAW module list'!A:A,'RAW module list'!B:B, \"Not found\")","v":"Sesotho Poetry and Drama"},{"$f":"_xlfn.XLOOKUP(C1102,'RAW module list'!A:A,'RAW module list'!C:C, \"Not found\")","v":6},{"$f":"_xlfn.XLOOKUP(C1102,'RAW module list'!A:A,'RAW module list'!D:D, \"Not found\")","v":16},{"$f":"_xlfn.XLOOKUP(C1102,'RAW module list'!A:A,'RAW module list'!E:E, \"Not found\")","v":"SSML2614 "},"Second Year",{"$f":"_xlfn.XLOOKUP(B1102,'Programmes lists'!B:B,'Programmes lists'!D:D)","v":0},{"$f":"_xlfn.XLOOKUP(B1102,'Programmes lists'!B:B,'Programmes lists'!E:E, \"Not found\")","v":"QC736402    "},{"$f":"_xlfn.XLOOKUP(B1102,'Programmes lists'!B:B,'Programmes lists'!G:G,\"Not found\")","v":"Minimum of 50% in grade 12 pass for \n•\tisiZulu HL "},{"$f":"_xlfn.XLOOKUP(B1102,'Programmes lists'!B:B,'Programmes lists'!F:F,\"Not found\")","v":512}]
["Senior and FET ","Specialising in Sesotho Home Language and English First Additional Language (QQ)","EDUB2724",{"$f":"_xlfn.XLOOKUP(C1103,'RAW module list'!A:A,'RAW module list'!B:B, \"Not found\")","v":"Education Studies 2: Human Relationships in Education context"},{"$f":"_xlfn.XLOOKUP(C1103,'RAW module list'!A:A,'RAW module list'!C:C, \"Not found\")","v":7},{"$f":"_xlfn.XLOOKUP(C1103,'RAW module list'!A:A,'RAW module list'!D:D, \"Not found\")","v":16},{"$f":"_xlfn.XLOOKUP(C1103,'RAW module list'!A:A,'RAW module list'!E:E, \"Not found\")","v":"EDUB2714"},"Second Year",{"$f":"_xlfn.XLOOKUP(B1103,'Programmes lists'!B:B,'Programmes lists'!D:D)","v":0},{"$f":"_xlfn.XLOOKUP(B1103,'Programmes lists'!B:B,'Programmes lists'!E:E, \"Not found\")","v":"QC736402    "},{"$f":"_xlfn.XLOOKUP(B1103,'Programmes lists'!B:B,'Programmes lists'!G:G,\"Not found\")","v":"Minimum of 50% in grade 12 pass for \n•\tisiZulu HL "},{"$f":"_xlfn.XLOOKUP(B1103,'Programmes lists'!B:B,'Programmes lists'!F:F,\"Not found\")","v":512}]
["Senior and FET ","Specialising in Sesotho Home Language and English First Additional Language (QQ)","GPEV2623",{"$f":"_xlfn.XLOOKUP(C1104,'RAW module list'!A:A,'RAW module list'!B:B, \"Not found\")","v":"General Pedagogy 2.2: Assessment"},{"$f":"_xlfn.XLOOKUP(C1104,'RAW module list'!A:A,'RAW module list'!C:C, \"Not found\")","v":6},{"$f":"_xlfn.XLOOKUP(C1104,'RAW module list'!A:A,'RAW module list'!D:D, \"Not found\")","v":12},{"$f":"_xlfn.XLOOKUP(C1104,'RAW module list'!A:A,'RAW module list'!E:E, \"Not found\")","v":"GPEV2613"},"Second Year",{"$f":"_xlfn.XLOOKUP(B1104,'Programmes lists'!B:B,'Programmes lists'!D:D)","v":0},{"$f":"_xlfn.XLOOKUP(B1104,'Programmes lists'!B:B,'Programmes lists'!E:E, \"Not found\")","v":"QC736402    "},{"$f":"_xlfn.XLOOKUP(B1104,'Programmes lists'!B:B,'Programmes lists'!G:G,\"Not found\")","v":"Minimum of 50% in grade 12 pass for \n•\tisiZulu HL "},{"$f":"_xlfn.XLOOKUP(B1104,'Programmes lists'!B:B,'Programmes lists'!F:F,\"Not found\")","v":512}]
["Senior and FET ","Specialising in Sesotho Home Language and English First Additional Language (QQ)","Special Requirement:","*ELLT can be exempted when ENGL2614 and 2724 have been passed successfully. ",null,null,null,"Second Year",{"$f":"_xlfn.XLOOKUP(B1105,'Programmes lists'!B:B,'Programmes lists'!D:D)","v":0},{"$f":"_xlfn.XLOOKUP(B1105,'Programmes lists'!B:B,'Programmes lists'!E:E, \"Not found\")","v":"QC736402    "},{"$f":"_xlfn.XLOOKUP(B1105,'Programmes lists'!B:B,'Programmes lists'!G:G,\"Not found\")","v":"Minimum of 50% in grade 12 pass for \n•\tisiZulu HL "},{"$f":"_xlfn.XLOOKUP(B1105,'Programmes lists'!B:B,'Programmes lists'!F:F,\"Not found\")","v":512}]
["Senior and FET ","Specialising in Sesotho Home Language and English First Additional Language (QQ)","EATV3605",{"$f":"_xlfn.XLOOKUP(C1106,'RAW module list'!A:A,'RAW module list'!B:B, \"Not found\")","v":"English Additional Language teaching 1: Further Education and training Phase"},{"$f":"_xlfn.XLOOKUP(C1106,'RAW module list'!A:A,'RAW module list'!C:C, \"Not found\")","v":6},{"$f":"_xlfn.XLOOKUP(C1106,'RAW module list'!A:A,'RAW module list'!D:D, \"Not found\")","v":20},{"$f":"_xlfn.XLOOKUP(C1106,'RAW module list'!A:A,'RAW module list'!E:E, \"Not found\")","v":"ENGL2614 & ENGL2724"},"Third Year",{"$f":"_xlfn.XLOOKUP(B1106,'Programmes lists'!B:B,'Programmes lists'!D:D)","v":0},{"$f":"_xlfn.XLOOKUP(B1106,'Programmes lists'!B:B,'Programmes lists'!E:E, \"Not found\")","v":"QC736402    "},{"$f":"_xlfn.XLOOKUP(B1106,'Programmes lists'!B:B,'Programmes lists'!G:G,\"Not found\")","v":"Minimum of 50% in grade 12 pass for \n•\tisiZulu HL "},{"$f":"_xlfn.XLOOKUP(B1106,'Programmes lists'!B:B,'Programmes lists'!F:F,\"Not found\")","v":512},"Choose three didactics modules according to subjects: ZHTS, ZHTV, EATS, EATV"]
["Senior and FET ","Specialising in Sesotho Home Language and English First Additional Language (QQ)","EATS3605",{"$f":"_xlfn.XLOOKUP(C1107,'RAW module list'!A:A,'RAW module list'!B:B, \"Not found\")","v":"English Additional Language teaching 1: Senior phase "},{"$f":"_xlfn.XLOOKUP(C1107,'RAW module list'!A:A,'RAW module list'!C:C, \"Not found\")","v":6},{"$f":"_xlfn.XLOOKUP(C1107,'RAW module list'!A:A,'RAW module list'!D:D, \"Not found\")","v":20},{"$f":"_xlfn.XLOOKUP(C1107,'RAW module list'!A:A,'RAW module list'!E:E, \"Not found\")","v":"ENGL1514 & ENGL1624"},"Third Year",{"$f":"_xlfn.XLOOKUP(B1107,'Programmes lists'!B:B,'Programmes lists'!D:D)","v":0},{"$f":"_xlfn.XLOOKUP(B1107,'Programmes lists'!B:B,'Programmes lists'!E:E, \"Not found\")","v":"QC736402    "},{"$f":"_xlfn.XLOOKUP(B1107,'Programmes lists'!B:B,'Programmes lists'!G:G,\"Not found\")","v":"Minimum of 50% in grade 12 pass for \n•\tisiZulu HL "},{"$f":"_xlfn.XLOOKUP(B1107,'Programmes lists'!B:B,'Programmes lists'!F:F,\"Not found\")","v":512}]
["Senior and FET ","Specialising in Sesotho Home Language and English First Additional Language (QQ)","SHTV3605",{"$f":"_xlfn.XLOOKUP(C1108,'RAW module list'!A:A,'RAW module list'!B:B, \"Not found\")","v":"Sesotho Home Language Teaching  1: Further Education and Training"},{"$f":"_xlfn.XLOOKUP(C1108,'RAW module list'!A:A,'RAW module list'!C:C, \"Not found\")","v":6},{"$f":"_xlfn.XLOOKUP(C1108,'RAW module list'!A:A,'RAW module list'!D:D, \"Not found\")","v":20},{"$f":"_xlfn.XLOOKUP(C1108,'RAW module list'!A:A,'RAW module list'!E:E, \"Not found\")","v":"SSML2614 & SSMT2624"},"Third Year",{"$f":"_xlfn.XLOOKUP(B1108,'Programmes lists'!B:B,'Programmes lists'!D:D)","v":0},{"$f":"_xlfn.XLOOKUP(B1108,'Programmes lists'!B:B,'Programmes lists'!E:E, \"Not found\")","v":"QC736402    "},{"$f":"_xlfn.XLOOKUP(B1108,'Programmes lists'!B:B,'Programmes lists'!G:G,\"Not found\")","v":"Minimum of 50% in grade 12 pass for \n•\tisiZulu HL "},{"$f":"_xlfn.XLOOKUP(B1108,'Programmes lists'!B:B,'Programmes lists'!F:F,\"Not found\")","v":512}]
["Senior and FET ","Specialising in Sesotho Home Language and English First Additional Language (QQ)","SHTS3605",{"$f":"_xlfn.XLOOKUP(C1109,'RAW module list'!A:A,'RAW module list'!B:B, \"Not found\")","v":"Sesotho Home language Teaching 1: Senior Phase"},{"$f":"_xlfn.XLOOKUP(C1109,'RAW module list'!A:A,'RAW module list'!C:C, \"Not found\")","v":6},{"$f":"_xlfn.XLOOKUP(C1109,'RAW module list'!A:A,'RAW module list'!D:D, \"Not found\")","v":20},{"$f":"_xlfn.XLOOKUP(C1109,'RAW module list'!A:A,'RAW module list'!E:E, \"Not found\")","v":"SSML1514 & SSMT1524"},"Third Year",{"$f":"_xlfn.XLOOKUP(B1109,'Programmes lists'!B:B,'Programmes lists'!D:D)","v":0},{"$f":"_xlfn.XLOOKUP(B1109,'Programmes lists'!B:B,'Programmes lists'!E:E, \"Not found\")","v":"QC736402    "},{"$f":"_xlfn.XLOOKUP(B1109,'Programmes lists'!B:B,'Programmes lists'!G:G,\"Not found\")","v":"Minimum of 50% in grade 12 pass for \n•\tisiZulu HL "},{"$f":"_xlfn.XLOOKUP(B1109,'Programmes lists'!B:B,'Programmes lists'!F:F,\"Not found\")","v":512}]
["Senior and FET ","Specialising in Sesotho Home Language and English First Additional Language (QQ)","ENED3514",{"$f":"_xlfn.XLOOKUP(C1110,'RAW module list'!A:A,'RAW module list'!B:B, \"Not found\")","v":"Entrepreneurship in Education "},{"$f":"_xlfn.XLOOKUP(C1110,'RAW module list'!A:A,'RAW module list'!C:C, \"Not found\")","v":5},{"$f":"_xlfn.XLOOKUP(C1110,'RAW module list'!A:A,'RAW module list'!D:D, \"Not found\")","v":16},{"$f":"_xlfn.XLOOKUP(C1110,'RAW module list'!A:A,'RAW module list'!E:E, \"Not found\")","v":0},"Third Year",{"$f":"_xlfn.XLOOKUP(B1110,'Programmes lists'!B:B,'Programmes lists'!D:D)","v":0},{"$f":"_xlfn.XLOOKUP(B1110,'Programmes lists'!B:B,'Programmes lists'!E:E, \"Not found\")","v":"QC736402    "},{"$f":"_xlfn.XLOOKUP(B1110,'Programmes lists'!B:B,'Programmes lists'!G:G,\"Not found\")","v":"Minimum of 50% in grade 12 pass for \n•\tisiZulu HL "},{"$f":"_xlfn.XLOOKUP(B1110,'Programmes lists'!B:B,'Programmes lists'!F:F,\"Not found\")","v":512}]
["Senior and FET ","Specialising in Sesotho Home Language and English First Additional Language (QQ)","EDUB3714",{"$f":"_xlfn.XLOOKUP(C1111,'RAW module list'!A:A,'RAW module list'!B:B, \"Not found\")","v":"Education Studies 3.1 Education systems in global and national context"},{"$f":"_xlfn.XLOOKUP(C1111,'RAW module list'!A:A,'RAW module list'!C:C, \"Not found\")","v":7},{"$f":"_xlfn.XLOOKUP(C1111,'RAW module list'!A:A,'RAW module list'!D:D, \"Not found\")","v":16},{"$f":"_xlfn.XLOOKUP(C1111,'RAW module list'!A:A,'RAW module list'!E:E, \"Not found\")","v":"EDUB1613 & EDUB1623& EDUB2714 & EDUB2724"},"Third Year",{"$f":"_xlfn.XLOOKUP(B1111,'Programmes lists'!B:B,'Programmes lists'!D:D)","v":0},{"$f":"_xlfn.XLOOKUP(B1111,'Programmes lists'!B:B,'Programmes lists'!E:E, \"Not found\")","v":"QC736402    "},{"$f":"_xlfn.XLOOKUP(B1111,'Programmes lists'!B:B,'Programmes lists'!G:G,\"Not found\")","v":"Minimum of 50% in grade 12 pass for \n•\tisiZulu HL "},{"$f":"_xlfn.XLOOKUP(B1111,'Programmes lists'!B:B,'Programmes lists'!F:F,\"Not found\")","v":512}]
["Senior and FET ","Specialising in Sesotho Home Language and English First Additional Language (QQ)","ZUCL3512 OR SICL3512 OR GAFR3512",{"$f":"_xlfn.XLOOKUP(C1112,'RAW module list'!A:A,'RAW module list'!B:B, \"Not found\")","v":"Conversational IsiZulu OR Conversational Sign Language OR Conversational Afrikaans"},{"$f":"_xlfn.XLOOKUP(C1112,'RAW module list'!A:A,'RAW module list'!C:C, \"Not found\")","v":5},{"$f":"_xlfn.XLOOKUP(C1112,'RAW module list'!A:A,'RAW module list'!D:D, \"Not found\")","v":8},{"$f":"_xlfn.XLOOKUP(C1112,'RAW module list'!A:A,'RAW module list'!E:E, \"Not found\")","v":"No previous exposure to the language"},"Third Year",{"$f":"_xlfn.XLOOKUP(B1112,'Programmes lists'!B:B,'Programmes lists'!D:D)","v":0},{"$f":"_xlfn.XLOOKUP(B1112,'Programmes lists'!B:B,'Programmes lists'!E:E, \"Not found\")","v":"QC736402    "},{"$f":"_xlfn.XLOOKUP(B1112,'Programmes lists'!B:B,'Programmes lists'!G:G,\"Not found\")","v":"Minimum of 50% in grade 12 pass for \n•\tisiZulu HL "},{"$f":"_xlfn.XLOOKUP(B1112,'Programmes lists'!B:B,'Programmes lists'!F:F,\"Not found\")","v":512}]
["Senior and FET ","Specialising in Sesotho Home Language and English First Additional Language (QQ)","WILV3606",{"$f":"_xlfn.XLOOKUP(C1113,'RAW module list'!A:A,'RAW module list'!B:B, \"Not found\")","v":"Teaching Practice 3"},{"$f":"_xlfn.XLOOKUP(C1113,'RAW module list'!A:A,'RAW module list'!C:C, \"Not found\")","v":6},{"$f":"_xlfn.XLOOKUP(C1113,'RAW module list'!A:A,'RAW module list'!D:D, \"Not found\")","v":24},{"$f":"_xlfn.XLOOKUP(C1113,'RAW module list'!A:A,'RAW module list'!E:E, \"Not found\")","v":"TPRV2502"},"Third Year",{"$f":"_xlfn.XLOOKUP(B1113,'Programmes lists'!B:B,'Programmes lists'!D:D)","v":0},{"$f":"_xlfn.XLOOKUP(B1113,'Programmes lists'!B:B,'Programmes lists'!E:E, \"Not found\")","v":"QC736402    "},{"$f":"_xlfn.XLOOKUP(B1113,'Programmes lists'!B:B,'Programmes lists'!G:G,\"Not found\")","v":"Minimum of 50% in grade 12 pass for \n•\tisiZulu HL "},{"$f":"_xlfn.XLOOKUP(B1113,'Programmes lists'!B:B,'Programmes lists'!F:F,\"Not found\")","v":512}]
["Senior and FET ","Specialising in Sesotho Home Language and English First Additional Language (QQ)","EDUB3724",{"$f":"_xlfn.XLOOKUP(C1114,'RAW module list'!A:A,'RAW module list'!B:B, \"Not found\")","v":"Education Studies 3.2: Contemporary Education Theory in the current social context"},{"$f":"_xlfn.XLOOKUP(C1114,'RAW module list'!A:A,'RAW module list'!C:C, \"Not found\")","v":7},{"$f":"_xlfn.XLOOKUP(C1114,'RAW module list'!A:A,'RAW module list'!D:D, \"Not found\")","v":16},{"$f":"_xlfn.XLOOKUP(C1114,'RAW module list'!A:A,'RAW module list'!E:E, \"Not found\")","v":"EDUB1613 & EDUB1623 & EDUB2714 & EDUB2724 & EDUB3714"},"Third Year",{"$f":"_xlfn.XLOOKUP(B1114,'Programmes lists'!B:B,'Programmes lists'!D:D)","v":0},{"$f":"_xlfn.XLOOKUP(B1114,'Programmes lists'!B:B,'Programmes lists'!E:E, \"Not found\")","v":"QC736402    "},{"$f":"_xlfn.XLOOKUP(B1114,'Programmes lists'!B:B,'Programmes lists'!G:G,\"Not found\")","v":"Minimum of 50% in grade 12 pass for \n•\tisiZulu HL "},{"$f":"_xlfn.XLOOKUP(B1114,'Programmes lists'!B:B,'Programmes lists'!F:F,\"Not found\")","v":512}]
["Senior and FET ","Specialising in Sesotho Home Language and English First Additional Language (QQ)","ZUCL3522 OR SICL3522 OR GAFR3522",{"$f":"_xlfn.XLOOKUP(C1115,'RAW module list'!A:A,'RAW module list'!B:B, \"Not found\")","v":"Conversational IsiZulu OR Conversational Sign Language OR Conversational Afrikaans"},{"$f":"_xlfn.XLOOKUP(C1115,'RAW module list'!A:A,'RAW module list'!C:C, \"Not found\")","v":5},{"$f":"_xlfn.XLOOKUP(C1115,'RAW module list'!A:A,'RAW module list'!D:D, \"Not found\")","v":8},{"$f":"_xlfn.XLOOKUP(C1115,'RAW module list'!A:A,'RAW module list'!E:E, \"Not found\")","v":"Continue with the conversational language chosen in Semester 1"},"Third Year",{"$f":"_xlfn.XLOOKUP(B1115,'Programmes lists'!B:B,'Programmes lists'!D:D)","v":0},{"$f":"_xlfn.XLOOKUP(B1115,'Programmes lists'!B:B,'Programmes lists'!E:E, \"Not found\")","v":"QC736402    "},{"$f":"_xlfn.XLOOKUP(B1115,'Programmes lists'!B:B,'Programmes lists'!G:G,\"Not found\")","v":"Minimum of 50% in grade 12 pass for \n•\tisiZulu HL "},{"$f":"_xlfn.XLOOKUP(B1115,'Programmes lists'!B:B,'Programmes lists'!F:F,\"Not found\")","v":512},"Choose three didactics modules according to subjects:  ZHTS, ZHTV, EATS, EATV"]
["Senior and FET ","Specialising in Sesotho Home Language and English First Additional Language (QQ)","Special Requirement:","Choose three didactics modules according to subjects: ZHTS, ZHTV, EATS, EATV",null,null,null,"Third Year",{"$f":"_xlfn.XLOOKUP(B1116,'Programmes lists'!B:B,'Programmes lists'!D:D)","v":0},{"$f":"_xlfn.XLOOKUP(B1116,'Programmes lists'!B:B,'Programmes lists'!E:E, \"Not found\")","v":"QC736402    "},{"$f":"_xlfn.XLOOKUP(B1116,'Programmes lists'!B:B,'Programmes lists'!G:G,\"Not found\")","v":"Minimum of 50% in grade 12 pass for \n•\tisiZulu HL "},{"$f":"_xlfn.XLOOKUP(B1116,'Programmes lists'!B:B,'Programmes lists'!F:F,\"Not found\")","v":512}]
["Senior and FET ","Specialising in Sesotho Home Language and English First Additional Language (QQ)","EATV4705",{"$f":"_xlfn.XLOOKUP(C1117,'RAW module list'!A:A,'RAW module list'!B:B, \"Not found\")","v":"English Additional Language teaching 2: Further Education and Training phase"},{"$f":"_xlfn.XLOOKUP(C1117,'RAW module list'!A:A,'RAW module list'!C:C, \"Not found\")","v":7},{"$f":"_xlfn.XLOOKUP(C1117,'RAW module list'!A:A,'RAW module list'!D:D, \"Not found\")","v":20},{"$f":"_xlfn.XLOOKUP(C1117,'RAW module list'!A:A,'RAW module list'!E:E, \"Not found\")","v":"EATV3605"},"Fourth Year",{"$f":"_xlfn.XLOOKUP(B1117,'Programmes lists'!B:B,'Programmes lists'!D:D)","v":0},{"$f":"_xlfn.XLOOKUP(B1117,'Programmes lists'!B:B,'Programmes lists'!E:E, \"Not found\")","v":"QC736402    "},{"$f":"_xlfn.XLOOKUP(B1117,'Programmes lists'!B:B,'Programmes lists'!G:G,\"Not found\")","v":"Minimum of 50% in grade 12 pass for \n•\tisiZulu HL "},{"$f":"_xlfn.XLOOKUP(B1117,'Programmes lists'!B:B,'Programmes lists'!F:F,\"Not found\")","v":512}]
["Senior and FET ","Specialising in Sesotho Home Language and English First Additional Language (QQ)","EATS4705",{"$f":"_xlfn.XLOOKUP(C1118,'RAW module list'!A:A,'RAW module list'!B:B, \"Not found\")","v":"English Additional Language teaching 2: senior phase"},{"$f":"_xlfn.XLOOKUP(C1118,'RAW module list'!A:A,'RAW module list'!C:C, \"Not found\")","v":7},{"$f":"_xlfn.XLOOKUP(C1118,'RAW module list'!A:A,'RAW module list'!D:D, \"Not found\")","v":-20},{"$f":"_xlfn.XLOOKUP(C1118,'RAW module list'!A:A,'RAW module list'!E:E, \"Not found\")","v":"EATS3605"},"Fourth Year",{"$f":"_xlfn.XLOOKUP(B1118,'Programmes lists'!B:B,'Programmes lists'!D:D)","v":0},{"$f":"_xlfn.XLOOKUP(B1118,'Programmes lists'!B:B,'Programmes lists'!E:E, \"Not found\")","v":"QC736402    "},{"$f":"_xlfn.XLOOKUP(B1118,'Programmes lists'!B:B,'Programmes lists'!G:G,\"Not found\")","v":"Minimum of 50% in grade 12 pass for \n•\tisiZulu HL "},{"$f":"_xlfn.XLOOKUP(B1118,'Programmes lists'!B:B,'Programmes lists'!F:F,\"Not found\")","v":512}]
["Senior and FET ","Specialising in Sesotho Home Language and English First Additional Language (QQ)","SHTS4705",{"$f":"_xlfn.XLOOKUP(C1119,'RAW module list'!A:A,'RAW module list'!B:B, \"Not found\")","v":"Sesotho Home language Teaching  2: Senior Phase"},{"$f":"_xlfn.XLOOKUP(C1119,'RAW module list'!A:A,'RAW module list'!C:C, \"Not found\")","v":7},{"$f":"_xlfn.XLOOKUP(C1119,'RAW module list'!A:A,'RAW module list'!D:D, \"Not found\")*-1","v":20},{"$f":"_xlfn.XLOOKUP(C1119,'RAW module list'!A:A,'RAW module list'!E:E, \"Not found\")","v":"SHTS3605"},"Fourth Year",{"$f":"_xlfn.XLOOKUP(B1119,'Programmes lists'!B:B,'Programmes lists'!D:D)","v":0},{"$f":"_xlfn.XLOOKUP(B1119,'Programmes lists'!B:B,'Programmes lists'!E:E, \"Not found\")","v":"QC736402    "},{"$f":"_xlfn.XLOOKUP(B1119,'Programmes lists'!B:B,'Programmes lists'!G:G,\"Not found\")","v":"Minimum of 50% in grade 12 pass for \n•\tisiZulu HL "},{"$f":"_xlfn.XLOOKUP(B1119,'Programmes lists'!B:B,'Programmes lists'!F:F,\"Not found\")","v":512}]
["Senior and FET ","Specialising in Sesotho Home Language and English First Additional Language (QQ)","SHTV4705",{"$f":"_xlfn.XLOOKUP(C1120,'RAW module list'!A:A,'RAW module list'!B:B, \"Not found\")","v":"Sesotho Home language Teaching  2: Further Education and Training phase"},{"$f":"_xlfn.XLOOKUP(C1120,'RAW module list'!A:A,'RAW module list'!C:C, \"Not found\")","v":7},{"$f":"_xlfn.XLOOKUP(C1120,'RAW module list'!A:A,'RAW module list'!D:D, \"Not found\")","v":20},{"$f":"_xlfn.XLOOKUP(C1120,'RAW module list'!A:A,'RAW module list'!E:E, \"Not found\")","v":"SHTV3605"},"Fourth Year",{"$f":"_xlfn.XLOOKUP(B1120,'Programmes lists'!B:B,'Programmes lists'!D:D)","v":0},{"$f":"_xlfn.XLOOKUP(B1120,'Programmes lists'!B:B,'Programmes lists'!E:E, \"Not found\")","v":"QC736402    "},{"$f":"_xlfn.XLOOKUP(B1120,'Programmes lists'!B:B,'Programmes lists'!G:G,\"Not found\")","v":"Minimum of 50% in grade 12 pass for \n•\tisiZulu HL "},{"$f":"_xlfn.XLOOKUP(B1120,'Programmes lists'!B:B,'Programmes lists'!F:F,\"Not found\")","v":512}]
["Senior and FET ","Specialising in Sesotho Home Language and English First Additional Language (QQ)","WILV4700",{"$f":"_xlfn.XLOOKUP(C1121,'RAW module list'!A:A,'RAW module list'!B:B, \"Not found\")","v":"Teaching Practice 4"},{"$f":"_xlfn.XLOOKUP(C1121,'RAW module list'!A:A,'RAW module list'!C:C, \"Not found\")","v":7},{"$f":"_xlfn.XLOOKUP(C1121,'RAW module list'!A:A,'RAW module list'!D:D, \"Not found\")","v":40},{"$f":"_xlfn.XLOOKUP(C1121,'RAW module list'!A:A,'RAW module list'!E:E, \"Not found\")","v":"WILV3606"},"Fourth Year",{"$f":"_xlfn.XLOOKUP(B1121,'Programmes lists'!B:B,'Programmes lists'!D:D)","v":0},{"$f":"_xlfn.XLOOKUP(B1121,'Programmes lists'!B:B,'Programmes lists'!E:E, \"Not found\")","v":"QC736402    "},{"$f":"_xlfn.XLOOKUP(B1121,'Programmes lists'!B:B,'Programmes lists'!G:G,\"Not found\")","v":"Minimum of 50% in grade 12 pass for \n•\tisiZulu HL "},{"$f":"_xlfn.XLOOKUP(B1121,'Programmes lists'!B:B,'Programmes lists'!F:F,\"Not found\")","v":512}]
["Senior and FET ","Specialising in Sesotho Home Language and English First Additional Language (QQ)","Special Requirement:","Choose three didactics modules according to subjects:  ZHTS, ZHTV, EATS, EATV",null,null,null,"Fourth Year",{"$f":"_xlfn.XLOOKUP(B1122,'Programmes lists'!B:B,'Programmes lists'!D:D)","v":0},{"$f":"_xlfn.XLOOKUP(B1122,'Programmes lists'!B:B,'Programmes lists'!E:E, \"Not found\")","v":"QC736402    "},{"$f":"_xlfn.XLOOKUP(B1122,'Programmes lists'!B:B,'Programmes lists'!G:G,\"Not found\")","v":"Minimum of 50% in grade 12 pass for \n•\tisiZulu HL "},{"$f":"_xlfn.XLOOKUP(B1122,'Programmes lists'!B:B,'Programmes lists'!F:F,\"Not found\")","v":512}]
["Senior and FET ","Specialising in English and Afrikaans","AFNL1634",{"$f":"_xlfn.XLOOKUP(C1123,'RAW module list'!A:A,'RAW module list'!B:B, \"Not found\")","v":"Introduction to Afrikaans and Dutch literature"},{"$f":"_xlfn.XLOOKUP(C1123,'RAW module list'!A:A,'RAW module list'!C:C, \"Not found\")","v":6},{"$f":"_xlfn.XLOOKUP(C1123,'RAW module list'!A:A,'RAW module list'!D:D, \"Not found\")","v":16},{"$f":"_xlfn.XLOOKUP(C1123,'RAW module list'!A:A,'RAW module list'!E:E, \"Not found\")","v":"Grade 12 Afrikaans HL >55% or Afrikaans FAL in grade 12 >70%"},"First Year",{"$f":"_xlfn.XLOOKUP(B1123,'Programmes lists'!B:B,'Programmes lists'!D:D)","v":"BC736521  "},{"$f":"_xlfn.XLOOKUP(B1123,'Programmes lists'!B:B,'Programmes lists'!E:E, \"Not found\")","v":0},{"$f":"_xlfn.XLOOKUP(B1123,'Programmes lists'!B:B,'Programmes lists'!G:G,\"Not found\")","v":"Minimum of 50% in grade 12 pass for \n•\tAfrikaans HL (or FAL 70%) \n•\tEnglish HL or FAL"},{"$f":"_xlfn.XLOOKUP(B1123,'Programmes lists'!B:B,'Programmes lists'!F:F,\"Not found\")","v":512}]
["Senior and FET ","Specialising in English and Afrikaans","ENGL1514",{"$f":"_xlfn.XLOOKUP(C1124,'RAW module list'!A:A,'RAW module list'!B:B, \"Not found\")","v":"Reading Literature: An Introduction to Reading, Writing and Critical Textual Analysis"},{"$f":"_xlfn.XLOOKUP(C1124,'RAW module list'!A:A,'RAW module list'!C:C, \"Not found\")","v":5},{"$f":"_xlfn.XLOOKUP(C1124,'RAW module list'!A:A,'RAW module list'!D:D, \"Not found\")","v":16},{"$f":"_xlfn.XLOOKUP(C1124,'RAW module list'!A:A,'RAW module list'!E:E, \"Not found\")","v":0},"First Year",{"$f":"_xlfn.XLOOKUP(B1124,'Programmes lists'!B:B,'Programmes lists'!D:D)","v":"BC736521  "},{"$f":"_xlfn.XLOOKUP(B1124,'Programmes lists'!B:B,'Programmes lists'!E:E, \"Not found\")","v":0},{"$f":"_xlfn.XLOOKUP(B1124,'Programmes lists'!B:B,'Programmes lists'!G:G,\"Not found\")","v":"Minimum of 50% in grade 12 pass for \n•\tAfrikaans HL (or FAL 70%) \n•\tEnglish HL or FAL"},{"$f":"_xlfn.XLOOKUP(B1124,'Programmes lists'!B:B,'Programmes lists'!F:F,\"Not found\")","v":512}]
["Senior and FET ","Specialising in English and Afrikaans","LLST1513",{"$f":"_xlfn.XLOOKUP(C1125,'RAW module list'!A:A,'RAW module list'!B:B, \"Not found\")","v":"Lifelong Learning Skills"},{"$f":"_xlfn.XLOOKUP(C1125,'RAW module list'!A:A,'RAW module list'!C:C, \"Not found\")","v":5},{"$f":"_xlfn.XLOOKUP(C1125,'RAW module list'!A:A,'RAW module list'!D:D, \"Not found\")","v":12},{"$f":"_xlfn.XLOOKUP(C1125,'RAW module list'!A:A,'RAW module list'!E:E, \"Not found\")","v":0},"First Year",{"$f":"_xlfn.XLOOKUP(B1125,'Programmes lists'!B:B,'Programmes lists'!D:D)","v":"BC736521  "},{"$f":"_xlfn.XLOOKUP(B1125,'Programmes lists'!B:B,'Programmes lists'!E:E, \"Not found\")","v":0},{"$f":"_xlfn.XLOOKUP(B1125,'Programmes lists'!B:B,'Programmes lists'!G:G,\"Not found\")","v":"Minimum of 50% in grade 12 pass for \n•\tAfrikaans HL (or FAL 70%) \n•\tEnglish HL or FAL"},{"$f":"_xlfn.XLOOKUP(B1125,'Programmes lists'!B:B,'Programmes lists'!F:F,\"Not found\")","v":512}]
["Senior and FET ","Specialising in English and Afrikaans","EDUB1613",{"$f":"_xlfn.XLOOKUP(C1126,'RAW module list'!A:A,'RAW module list'!B:B, \"Not found\")","v":"Education Studies 1.1 The Individual in the learning context"},{"$f":"_xlfn.XLOOKUP(C1126,'RAW module list'!A:A,'RAW module list'!C:C, \"Not found\")","v":6},{"$f":"_xlfn.XLOOKUP(C1126,'RAW module list'!A:A,'RAW module list'!D:D, \"Not found\")","v":12},{"$f":"_xlfn.XLOOKUP(C1126,'RAW module list'!A:A,'RAW module list'!E:E, \"Not found\")","v":0},"First Year",{"$f":"_xlfn.XLOOKUP(B1126,'Programmes lists'!B:B,'Programmes lists'!D:D)","v":"BC736521  "},{"$f":"_xlfn.XLOOKUP(B1126,'Programmes lists'!B:B,'Programmes lists'!E:E, \"Not found\")","v":0},{"$f":"_xlfn.XLOOKUP(B1126,'Programmes lists'!B:B,'Programmes lists'!G:G,\"Not found\")","v":"Minimum of 50% in grade 12 pass for \n•\tAfrikaans HL (or FAL 70%) \n•\tEnglish HL or FAL"},{"$f":"_xlfn.XLOOKUP(B1126,'Programmes lists'!B:B,'Programmes lists'!F:F,\"Not found\")","v":512}]
["Senior and FET ","Specialising in English and Afrikaans","TPRV1502",{"$f":"_xlfn.XLOOKUP(C1127,'RAW module list'!A:A,'RAW module list'!B:B, \"Not found\")","v":"Teaching Practice 1 "},{"$f":"_xlfn.XLOOKUP(C1127,'RAW module list'!A:A,'RAW module list'!C:C, \"Not found\")","v":5},{"$f":"_xlfn.XLOOKUP(C1127,'RAW module list'!A:A,'RAW module list'!D:D, \"Not found\")","v":8},{"$f":"_xlfn.XLOOKUP(C1127,'RAW module list'!A:A,'RAW module list'!E:E, \"Not found\")","v":0},"First Year",{"$f":"_xlfn.XLOOKUP(B1127,'Programmes lists'!B:B,'Programmes lists'!D:D)","v":"BC736521  "},{"$f":"_xlfn.XLOOKUP(B1127,'Programmes lists'!B:B,'Programmes lists'!E:E, \"Not found\")","v":0},{"$f":"_xlfn.XLOOKUP(B1127,'Programmes lists'!B:B,'Programmes lists'!G:G,\"Not found\")","v":"Minimum of 50% in grade 12 pass for \n•\tAfrikaans HL (or FAL 70%) \n•\tEnglish HL or FAL"},{"$f":"_xlfn.XLOOKUP(B1127,'Programmes lists'!B:B,'Programmes lists'!F:F,\"Not found\")","v":512}]
["Senior and FET ","Specialising in English and Afrikaans","UFSS1504",{"$f":"_xlfn.XLOOKUP(C1128,'RAW module list'!A:A,'RAW module list'!B:B, \"Not found\")","v":"Undergraduate core curriculum"},{"$f":"_xlfn.XLOOKUP(C1128,'RAW module list'!A:A,'RAW module list'!C:C, \"Not found\")","v":5},{"$f":"_xlfn.XLOOKUP(C1128,'RAW module list'!A:A,'RAW module list'!D:D, \"Not found\")","v":-16},{"$f":"_xlfn.XLOOKUP(C1128,'RAW module list'!A:A,'RAW module list'!E:E, \"Not found\")","v":0},"First Year",{"$f":"_xlfn.XLOOKUP(B1128,'Programmes lists'!B:B,'Programmes lists'!D:D)","v":"BC736521  "},{"$f":"_xlfn.XLOOKUP(B1128,'Programmes lists'!B:B,'Programmes lists'!E:E, \"Not found\")","v":0},{"$f":"_xlfn.XLOOKUP(B1128,'Programmes lists'!B:B,'Programmes lists'!G:G,\"Not found\")","v":"Minimum of 50% in grade 12 pass for \n•\tAfrikaans HL (or FAL 70%) \n•\tEnglish HL or FAL"},{"$f":"_xlfn.XLOOKUP(B1128,'Programmes lists'!B:B,'Programmes lists'!F:F,\"Not found\")","v":512}]
["Senior and FET ","Specialising in English and Afrikaans","EALT1508 OR AGAE1508",{"$f":"_xlfn.XLOOKUP(C1129,'RAW module list'!A:A,'RAW module list'!B:B, \"Not found\")","v":"English Academic Literacy for Education OR Academic Literacy in Afrikaans"},{"$f":"_xlfn.XLOOKUP(C1129,'RAW module list'!A:A,'RAW module list'!C:C, \"Not found\")","v":5},{"$f":"_xlfn.XLOOKUP(C1129,'RAW module list'!A:A,'RAW module list'!D:D, \"Not found\")","v":-32},{"$f":"_xlfn.XLOOKUP(C1129,'RAW module list'!A:A,'RAW module list'!E:E, \"Not found\")","v":"NBT requirements not been met"},"First Year",{"$f":"_xlfn.XLOOKUP(B1129,'Programmes lists'!B:B,'Programmes lists'!D:D)","v":"BC736521  "},{"$f":"_xlfn.XLOOKUP(B1129,'Programmes lists'!B:B,'Programmes lists'!E:E, \"Not found\")","v":0},{"$f":"_xlfn.XLOOKUP(B1129,'Programmes lists'!B:B,'Programmes lists'!G:G,\"Not found\")","v":"Minimum of 50% in grade 12 pass for \n•\tAfrikaans HL (or FAL 70%) \n•\tEnglish HL or FAL"},{"$f":"_xlfn.XLOOKUP(B1129,'Programmes lists'!B:B,'Programmes lists'!F:F,\"Not found\")","v":512}]
["Senior and FET ","Specialising in English and Afrikaans","AFNT1644",{"$f":"_xlfn.XLOOKUP(C1130,'RAW module list'!A:A,'RAW module list'!B:B, \"Not found\")","v":"Introduction to Afrikaans Linguistics"},{"$f":"_xlfn.XLOOKUP(C1130,'RAW module list'!A:A,'RAW module list'!C:C, \"Not found\")","v":6},{"$f":"_xlfn.XLOOKUP(C1130,'RAW module list'!A:A,'RAW module list'!D:D, \"Not found\")","v":16},{"$f":"_xlfn.XLOOKUP(C1130,'RAW module list'!A:A,'RAW module list'!E:E, \"Not found\")","v":"AFNL1634"},"First Year",{"$f":"_xlfn.XLOOKUP(B1130,'Programmes lists'!B:B,'Programmes lists'!D:D)","v":"BC736521  "},{"$f":"_xlfn.XLOOKUP(B1130,'Programmes lists'!B:B,'Programmes lists'!E:E, \"Not found\")","v":0},{"$f":"_xlfn.XLOOKUP(B1130,'Programmes lists'!B:B,'Programmes lists'!G:G,\"Not found\")","v":"Minimum of 50% in grade 12 pass for \n•\tAfrikaans HL (or FAL 70%) \n•\tEnglish HL or FAL"},{"$f":"_xlfn.XLOOKUP(B1130,'Programmes lists'!B:B,'Programmes lists'!F:F,\"Not found\")","v":512}]
["Senior and FET ","Specialising in English and Afrikaans","ENGL1624",{"$f":"_xlfn.XLOOKUP(C1131,'RAW module list'!A:A,'RAW module list'!B:B, \"Not found\")","v":"Reading Literature, Film and Culture"},{"$f":"_xlfn.XLOOKUP(C1131,'RAW module list'!A:A,'RAW module list'!C:C, \"Not found\")","v":6},{"$f":"_xlfn.XLOOKUP(C1131,'RAW module list'!A:A,'RAW module list'!D:D, \"Not found\")","v":16},{"$f":"_xlfn.XLOOKUP(C1131,'RAW module list'!A:A,'RAW module list'!E:E, \"Not found\")","v":"ENGL1514"},"First Year",{"$f":"_xlfn.XLOOKUP(B1131,'Programmes lists'!B:B,'Programmes lists'!D:D)","v":"BC736521  "},{"$f":"_xlfn.XLOOKUP(B1131,'Programmes lists'!B:B,'Programmes lists'!E:E, \"Not found\")","v":0},{"$f":"_xlfn.XLOOKUP(B1131,'Programmes lists'!B:B,'Programmes lists'!G:G,\"Not found\")","v":"Minimum of 50% in grade 12 pass for \n•\tAfrikaans HL (or FAL 70%) \n•\tEnglish HL or FAL"},{"$f":"_xlfn.XLOOKUP(B1131,'Programmes lists'!B:B,'Programmes lists'!F:F,\"Not found\")","v":512}]
["Senior and FET ","Specialising in English and Afrikaans","EDUB1623",{"$f":"_xlfn.XLOOKUP(C1132,'RAW module list'!A:A,'RAW module list'!B:B, \"Not found\")","v":"Education Studies 1.2 What it means to educate: Theoretical perspectives and their significance for SA education"},{"$f":"_xlfn.XLOOKUP(C1132,'RAW module list'!A:A,'RAW module list'!C:C, \"Not found\")","v":6},{"$f":"_xlfn.XLOOKUP(C1132,'RAW module list'!A:A,'RAW module list'!D:D, \"Not found\")","v":12},{"$f":"_xlfn.XLOOKUP(C1132,'RAW module list'!A:A,'RAW module list'!E:E, \"Not found\")","v":0},"First Year",{"$f":"_xlfn.XLOOKUP(B1132,'Programmes lists'!B:B,'Programmes lists'!D:D)","v":"BC736521  "},{"$f":"_xlfn.XLOOKUP(B1132,'Programmes lists'!B:B,'Programmes lists'!E:E, \"Not found\")","v":0},{"$f":"_xlfn.XLOOKUP(B1132,'Programmes lists'!B:B,'Programmes lists'!G:G,\"Not found\")","v":"Minimum of 50% in grade 12 pass for \n•\tAfrikaans HL (or FAL 70%) \n•\tEnglish HL or FAL"},{"$f":"_xlfn.XLOOKUP(B1132,'Programmes lists'!B:B,'Programmes lists'!F:F,\"Not found\")","v":512}]
["Senior and FET ","Specialising in English and Afrikaans","GPEV1623",{"$f":"_xlfn.XLOOKUP(C1133,'RAW module list'!A:A,'RAW module list'!B:B, \"Not found\")","v":"General Pedagogy 1: Managing the Curriculum"},{"$f":"_xlfn.XLOOKUP(C1133,'RAW module list'!A:A,'RAW module list'!C:C, \"Not found\")","v":6},{"$f":"_xlfn.XLOOKUP(C1133,'RAW module list'!A:A,'RAW module list'!D:D, \"Not found\")","v":12},{"$f":"_xlfn.XLOOKUP(C1133,'RAW module list'!A:A,'RAW module list'!E:E, \"Not found\")","v":0},"First Year",{"$f":"_xlfn.XLOOKUP(B1133,'Programmes lists'!B:B,'Programmes lists'!D:D)","v":"BC736521  "},{"$f":"_xlfn.XLOOKUP(B1133,'Programmes lists'!B:B,'Programmes lists'!E:E, \"Not found\")","v":0},{"$f":"_xlfn.XLOOKUP(B1133,'Programmes lists'!B:B,'Programmes lists'!G:G,\"Not found\")","v":"Minimum of 50% in grade 12 pass for \n•\tAfrikaans HL (or FAL 70%) \n•\tEnglish HL or FAL"},{"$f":"_xlfn.XLOOKUP(B1133,'Programmes lists'!B:B,'Programmes lists'!F:F,\"Not found\")","v":512}]
["Senior and FET ","Specialising in English and Afrikaans","ENGL2614",{"$f":"_xlfn.XLOOKUP(C1134,'RAW module list'!A:A,'RAW module list'!B:B, \"Not found\")","v":"Early Modern to Contemporary World Literatures"},{"$f":"_xlfn.XLOOKUP(C1134,'RAW module list'!A:A,'RAW module list'!C:C, \"Not found\")","v":6},{"$f":"_xlfn.XLOOKUP(C1134,'RAW module list'!A:A,'RAW module list'!D:D, \"Not found\")","v":16},{"$f":"_xlfn.XLOOKUP(C1134,'RAW module list'!A:A,'RAW module list'!E:E, \"Not found\")","v":"ENGL1514 & ENGL1624"},"Second Year",{"$f":"_xlfn.XLOOKUP(B1134,'Programmes lists'!B:B,'Programmes lists'!D:D)","v":"BC736521  "},{"$f":"_xlfn.XLOOKUP(B1134,'Programmes lists'!B:B,'Programmes lists'!E:E, \"Not found\")","v":0},{"$f":"_xlfn.XLOOKUP(B1134,'Programmes lists'!B:B,'Programmes lists'!G:G,\"Not found\")","v":"Minimum of 50% in grade 12 pass for \n•\tAfrikaans HL (or FAL 70%) \n•\tEnglish HL or FAL"},{"$f":"_xlfn.XLOOKUP(B1134,'Programmes lists'!B:B,'Programmes lists'!F:F,\"Not found\")","v":512}]
["Senior and FET ","Specialising in English and Afrikaans","AFNT2614",{"$f":"_xlfn.XLOOKUP(C1135,'RAW module list'!A:A,'RAW module list'!B:B, \"Not found\")","v":"Afrikaans morphology and sociolinguistics"},{"$f":"_xlfn.XLOOKUP(C1135,'RAW module list'!A:A,'RAW module list'!C:C, \"Not found\")","v":6},{"$f":"_xlfn.XLOOKUP(C1135,'RAW module list'!A:A,'RAW module list'!D:D, \"Not found\")","v":16},{"$f":"_xlfn.XLOOKUP(C1135,'RAW module list'!A:A,'RAW module list'!E:E, \"Not found\")","v":"AFNL1634 & AFNT1644"},"Second Year",{"$f":"_xlfn.XLOOKUP(B1135,'Programmes lists'!B:B,'Programmes lists'!D:D)","v":"BC736521  "},{"$f":"_xlfn.XLOOKUP(B1135,'Programmes lists'!B:B,'Programmes lists'!E:E, \"Not found\")","v":0},{"$f":"_xlfn.XLOOKUP(B1135,'Programmes lists'!B:B,'Programmes lists'!G:G,\"Not found\")","v":"Minimum of 50% in grade 12 pass for \n•\tAfrikaans HL (or FAL 70%) \n•\tEnglish HL or FAL"},{"$f":"_xlfn.XLOOKUP(B1135,'Programmes lists'!B:B,'Programmes lists'!F:F,\"Not found\")","v":512}]
["Senior and FET ","Specialising in English and Afrikaans","EDUB2714",{"$f":"_xlfn.XLOOKUP(C1136,'RAW module list'!A:A,'RAW module list'!B:B, \"Not found\")","v":"Education Studies 2: Teaching and Learning in Education Context"},{"$f":"_xlfn.XLOOKUP(C1136,'RAW module list'!A:A,'RAW module list'!C:C, \"Not found\")","v":7},{"$f":"_xlfn.XLOOKUP(C1136,'RAW module list'!A:A,'RAW module list'!D:D, \"Not found\")","v":16},{"$f":"_xlfn.XLOOKUP(C1136,'RAW module list'!A:A,'RAW module list'!E:E, \"Not found\")","v":"EDUB1613 & EDUB1623"},"Second Year",{"$f":"_xlfn.XLOOKUP(B1136,'Programmes lists'!B:B,'Programmes lists'!D:D)","v":"BC736521  "},{"$f":"_xlfn.XLOOKUP(B1136,'Programmes lists'!B:B,'Programmes lists'!E:E, \"Not found\")","v":0},{"$f":"_xlfn.XLOOKUP(B1136,'Programmes lists'!B:B,'Programmes lists'!G:G,\"Not found\")","v":"Minimum of 50% in grade 12 pass for \n•\tAfrikaans HL (or FAL 70%) \n•\tEnglish HL or FAL"},{"$f":"_xlfn.XLOOKUP(B1136,'Programmes lists'!B:B,'Programmes lists'!F:F,\"Not found\")","v":512}]
["Senior and FET ","Specialising in English and Afrikaans","GPEV2613",{"$f":"_xlfn.XLOOKUP(C1137,'RAW module list'!A:A,'RAW module list'!B:B, \"Not found\")","v":"General Pedagogy 2.1"},{"$f":"_xlfn.XLOOKUP(C1137,'RAW module list'!A:A,'RAW module list'!C:C, \"Not found\")","v":6},{"$f":"_xlfn.XLOOKUP(C1137,'RAW module list'!A:A,'RAW module list'!D:D, \"Not found\")","v":12},{"$f":"_xlfn.XLOOKUP(C1137,'RAW module list'!A:A,'RAW module list'!E:E, \"Not found\")","v":"GPEV1623"},"Second Year",{"$f":"_xlfn.XLOOKUP(B1137,'Programmes lists'!B:B,'Programmes lists'!D:D)","v":"BC736521  "},{"$f":"_xlfn.XLOOKUP(B1137,'Programmes lists'!B:B,'Programmes lists'!E:E, \"Not found\")","v":0},{"$f":"_xlfn.XLOOKUP(B1137,'Programmes lists'!B:B,'Programmes lists'!G:G,\"Not found\")","v":"Minimum of 50% in grade 12 pass for \n•\tAfrikaans HL (or FAL 70%) \n•\tEnglish HL or FAL"},{"$f":"_xlfn.XLOOKUP(B1137,'Programmes lists'!B:B,'Programmes lists'!F:F,\"Not found\")","v":512}]
["Senior and FET ","Specialising in English and Afrikaans","ELLT2504 OR ALLT3504",{"$f":"_xlfn.XLOOKUP(C1138,'RAW module list'!A:A,'RAW module list'!B:B, \"Not found\")","v":"English as medium of learning and teaching OR Afrikaans as medium of learning and teaching"},{"$f":"_xlfn.XLOOKUP(C1138,'RAW module list'!A:A,'RAW module list'!C:C, \"Not found\")","v":5},{"$f":"_xlfn.XLOOKUP(C1138,'RAW module list'!A:A,'RAW module list'!D:D, \"Not found\")","v":16},{"$f":"_xlfn.XLOOKUP(C1138,'RAW module list'!A:A,'RAW module list'!E:E, \"Not found\")","v":0},"Second Year",{"$f":"_xlfn.XLOOKUP(B1138,'Programmes lists'!B:B,'Programmes lists'!D:D)","v":"BC736521  "},{"$f":"_xlfn.XLOOKUP(B1138,'Programmes lists'!B:B,'Programmes lists'!E:E, \"Not found\")","v":0},{"$f":"_xlfn.XLOOKUP(B1138,'Programmes lists'!B:B,'Programmes lists'!G:G,\"Not found\")","v":"Minimum of 50% in grade 12 pass for \n•\tAfrikaans HL (or FAL 70%) \n•\tEnglish HL or FAL"},{"$f":"_xlfn.XLOOKUP(B1138,'Programmes lists'!B:B,'Programmes lists'!F:F,\"Not found\")","v":512},"*If the Afrikaans and English content modules are offered on the 200 level, the ALLT and ELLT modules may be exempted. Visit the programme director to request the exemption. The second LoLT may be replaced with ENED3514."]
["Senior and FET ","Specialising in English and Afrikaans","TPRV2502",{"$f":"_xlfn.XLOOKUP(C1139,'RAW module list'!A:A,'RAW module list'!B:B, \"Not found\")","v":"Teaching Practice 2"},{"$f":"_xlfn.XLOOKUP(C1139,'RAW module list'!A:A,'RAW module list'!C:C, \"Not found\")","v":5},{"$f":"_xlfn.XLOOKUP(C1139,'RAW module list'!A:A,'RAW module list'!D:D, \"Not found\")","v":8},{"$f":"_xlfn.XLOOKUP(C1139,'RAW module list'!A:A,'RAW module list'!E:E, \"Not found\")","v":"TPRV1502"},"Second Year",{"$f":"_xlfn.XLOOKUP(B1139,'Programmes lists'!B:B,'Programmes lists'!D:D)","v":"BC736521  "},{"$f":"_xlfn.XLOOKUP(B1139,'Programmes lists'!B:B,'Programmes lists'!E:E, \"Not found\")","v":0},{"$f":"_xlfn.XLOOKUP(B1139,'Programmes lists'!B:B,'Programmes lists'!G:G,\"Not found\")","v":"Minimum of 50% in grade 12 pass for \n•\tAfrikaans HL (or FAL 70%) \n•\tEnglish HL or FAL"},{"$f":"_xlfn.XLOOKUP(B1139,'Programmes lists'!B:B,'Programmes lists'!F:F,\"Not found\")","v":512}]
["Senior and FET ","Specialising in English and Afrikaans","ENGL2724",{"$f":"_xlfn.XLOOKUP(C1140,'RAW module list'!A:A,'RAW module list'!B:B, \"Not found\")","v":"Twentieth Century and Modern Literature"},{"$f":"_xlfn.XLOOKUP(C1140,'RAW module list'!A:A,'RAW module list'!C:C, \"Not found\")","v":7},{"$f":"_xlfn.XLOOKUP(C1140,'RAW module list'!A:A,'RAW module list'!D:D, \"Not found\")","v":16},{"$f":"_xlfn.XLOOKUP(C1140,'RAW module list'!A:A,'RAW module list'!E:E, \"Not found\")","v":"ENGL2614"},"Second Year",{"$f":"_xlfn.XLOOKUP(B1140,'Programmes lists'!B:B,'Programmes lists'!D:D)","v":"BC736521  "},{"$f":"_xlfn.XLOOKUP(B1140,'Programmes lists'!B:B,'Programmes lists'!E:E, \"Not found\")","v":0},{"$f":"_xlfn.XLOOKUP(B1140,'Programmes lists'!B:B,'Programmes lists'!G:G,\"Not found\")","v":"Minimum of 50% in grade 12 pass for \n•\tAfrikaans HL (or FAL 70%) \n•\tEnglish HL or FAL"},{"$f":"_xlfn.XLOOKUP(B1140,'Programmes lists'!B:B,'Programmes lists'!F:F,\"Not found\")","v":512}]
["Senior and FET ","Specialising in English and Afrikaans","AFNK2724",{"$f":"_xlfn.XLOOKUP(C1141,'RAW module list'!A:A,'RAW module list'!B:B, \"Not found\")","v":"Dutch, Dutch literature and culture"},{"$f":"_xlfn.XLOOKUP(C1141,'RAW module list'!A:A,'RAW module list'!C:C, \"Not found\")","v":7},{"$f":"_xlfn.XLOOKUP(C1141,'RAW module list'!A:A,'RAW module list'!D:D, \"Not found\")","v":16},{"$f":"_xlfn.XLOOKUP(C1141,'RAW module list'!A:A,'RAW module list'!E:E, \"Not found\")","v":"AFNL1634 & AFNT1644"},"Second Year",{"$f":"_xlfn.XLOOKUP(B1141,'Programmes lists'!B:B,'Programmes lists'!D:D)","v":"BC736521  "},{"$f":"_xlfn.XLOOKUP(B1141,'Programmes lists'!B:B,'Programmes lists'!E:E, \"Not found\")","v":0},{"$f":"_xlfn.XLOOKUP(B1141,'Programmes lists'!B:B,'Programmes lists'!G:G,\"Not found\")","v":"Minimum of 50% in grade 12 pass for \n•\tAfrikaans HL (or FAL 70%) \n•\tEnglish HL or FAL"},{"$f":"_xlfn.XLOOKUP(B1141,'Programmes lists'!B:B,'Programmes lists'!F:F,\"Not found\")","v":512}]
["Senior and FET ","Specialising in English and Afrikaans","EDUB2724",{"$f":"_xlfn.XLOOKUP(C1142,'RAW module list'!A:A,'RAW module list'!B:B, \"Not found\")","v":"Education Studies 2: Human Relationships in Education context"},{"$f":"_xlfn.XLOOKUP(C1142,'RAW module list'!A:A,'RAW module list'!C:C, \"Not found\")","v":7},{"$f":"_xlfn.XLOOKUP(C1142,'RAW module list'!A:A,'RAW module list'!D:D, \"Not found\")","v":16},{"$f":"_xlfn.XLOOKUP(C1142,'RAW module list'!A:A,'RAW module list'!E:E, \"Not found\")","v":"EDUB2714"},"Second Year",{"$f":"_xlfn.XLOOKUP(B1142,'Programmes lists'!B:B,'Programmes lists'!D:D)","v":"BC736521  "},{"$f":"_xlfn.XLOOKUP(B1142,'Programmes lists'!B:B,'Programmes lists'!E:E, \"Not found\")","v":0},{"$f":"_xlfn.XLOOKUP(B1142,'Programmes lists'!B:B,'Programmes lists'!G:G,\"Not found\")","v":"Minimum of 50% in grade 12 pass for \n•\tAfrikaans HL (or FAL 70%) \n•\tEnglish HL or FAL"},{"$f":"_xlfn.XLOOKUP(B1142,'Programmes lists'!B:B,'Programmes lists'!F:F,\"Not found\")","v":512}]
["Senior and FET ","Specialising in English and Afrikaans","GPEV2623",{"$f":"_xlfn.XLOOKUP(C1143,'RAW module list'!A:A,'RAW module list'!B:B, \"Not found\")","v":"General Pedagogy 2.2: Assessment"},{"$f":"_xlfn.XLOOKUP(C1143,'RAW module list'!A:A,'RAW module list'!C:C, \"Not found\")","v":6},{"$f":"_xlfn.XLOOKUP(C1143,'RAW module list'!A:A,'RAW module list'!D:D, \"Not found\")","v":12},{"$f":"_xlfn.XLOOKUP(C1143,'RAW module list'!A:A,'RAW module list'!E:E, \"Not found\")","v":"GPEV2613"},"Second Year",{"$f":"_xlfn.XLOOKUP(B1143,'Programmes lists'!B:B,'Programmes lists'!D:D)","v":"BC736521  "},{"$f":"_xlfn.XLOOKUP(B1143,'Programmes lists'!B:B,'Programmes lists'!E:E, \"Not found\")","v":0},{"$f":"_xlfn.XLOOKUP(B1143,'Programmes lists'!B:B,'Programmes lists'!G:G,\"Not found\")","v":"Minimum of 50% in grade 12 pass for \n•\tAfrikaans HL (or FAL 70%) \n•\tEnglish HL or FAL"},{"$f":"_xlfn.XLOOKUP(B1143,'Programmes lists'!B:B,'Programmes lists'!F:F,\"Not found\")","v":512}]
["Senior and FET ","Specialising in English and Afrikaans","Special Requirement:","*If the Afrikaans and English content modules are offered on the 200 level, the ALLT and ELLT modules may be exempted. Visit the programme director to request the exemption. The second LoLT may be replaced with ENED3514.",null,null,null,"Second Year",{"$f":"_xlfn.XLOOKUP(B1144,'Programmes lists'!B:B,'Programmes lists'!D:D)","v":"BC736521  "},{"$f":"_xlfn.XLOOKUP(B1144,'Programmes lists'!B:B,'Programmes lists'!E:E, \"Not found\")","v":0},{"$f":"_xlfn.XLOOKUP(B1144,'Programmes lists'!B:B,'Programmes lists'!G:G,\"Not found\")","v":"Minimum of 50% in grade 12 pass for \n•\tAfrikaans HL (or FAL 70%) \n•\tEnglish HL or FAL"},{"$f":"_xlfn.XLOOKUP(B1144,'Programmes lists'!B:B,'Programmes lists'!F:F,\"Not found\")","v":512}]
["Senior and FET ","Specialising in English and Afrikaans","EHTV3605",{"$f":"_xlfn.XLOOKUP(C1145,'RAW module list'!A:A,'RAW module list'!B:B, \"Not found\")","v":"English Home Language teaching 1: Further Education and Training phase"},{"$f":"_xlfn.XLOOKUP(C1145,'RAW module list'!A:A,'RAW module list'!C:C, \"Not found\")","v":6},{"$f":"_xlfn.XLOOKUP(C1145,'RAW module list'!A:A,'RAW module list'!D:D, \"Not found\")","v":20},{"$f":"_xlfn.XLOOKUP(C1145,'RAW module list'!A:A,'RAW module list'!E:E, \"Not found\")","v":"ENGL2724 & ENGL2614"},"Third Year",{"$f":"_xlfn.XLOOKUP(B1145,'Programmes lists'!B:B,'Programmes lists'!D:D)","v":"BC736521  "},{"$f":"_xlfn.XLOOKUP(B1145,'Programmes lists'!B:B,'Programmes lists'!E:E, \"Not found\")","v":0},{"$f":"_xlfn.XLOOKUP(B1145,'Programmes lists'!B:B,'Programmes lists'!G:G,\"Not found\")","v":"Minimum of 50% in grade 12 pass for \n•\tAfrikaans HL (or FAL 70%) \n•\tEnglish HL or FAL"},{"$f":"_xlfn.XLOOKUP(B1145,'Programmes lists'!B:B,'Programmes lists'!F:F,\"Not found\")","v":512},"Choose three didactics according to subjects taken previous  years: EHTS, EHTV, AHTS, AHTV."]
["Senior and FET ","Specialising in English and Afrikaans","EHTS3605",{"$f":"_xlfn.XLOOKUP(C1146,'RAW module list'!A:A,'RAW module list'!B:B, \"Not found\")","v":"English Home Language teaching 1: Senior Phase"},{"$f":"_xlfn.XLOOKUP(C1146,'RAW module list'!A:A,'RAW module list'!C:C, \"Not found\")","v":6},{"$f":"_xlfn.XLOOKUP(C1146,'RAW module list'!A:A,'RAW module list'!D:D, \"Not found\")","v":20},{"$f":"_xlfn.XLOOKUP(C1146,'RAW module list'!A:A,'RAW module list'!E:E, \"Not found\")","v":"ENGL1514 & ENGL1624"},"Third Year",{"$f":"_xlfn.XLOOKUP(B1146,'Programmes lists'!B:B,'Programmes lists'!D:D)","v":"BC736521  "},{"$f":"_xlfn.XLOOKUP(B1146,'Programmes lists'!B:B,'Programmes lists'!E:E, \"Not found\")","v":0},{"$f":"_xlfn.XLOOKUP(B1146,'Programmes lists'!B:B,'Programmes lists'!G:G,\"Not found\")","v":"Minimum of 50% in grade 12 pass for \n•\tAfrikaans HL (or FAL 70%) \n•\tEnglish HL or FAL"},{"$f":"_xlfn.XLOOKUP(B1146,'Programmes lists'!B:B,'Programmes lists'!F:F,\"Not found\")","v":512}]
["Senior and FET ","Specialising in English and Afrikaans","AHTV3605",{"$f":"_xlfn.XLOOKUP(C1147,'RAW module list'!A:A,'RAW module list'!B:B, \"Not found\")","v":"Afrikaans Home language Teaching 1: Further Education Training phase"},{"$f":"_xlfn.XLOOKUP(C1147,'RAW module list'!A:A,'RAW module list'!C:C, \"Not found\")","v":6},{"$f":"_xlfn.XLOOKUP(C1147,'RAW module list'!A:A,'RAW module list'!D:D, \"Not found\")","v":20},{"$f":"_xlfn.XLOOKUP(C1147,'RAW module list'!A:A,'RAW module list'!E:E, \"Not found\")","v":"AFNT2614 & AFNK2724"},"Third Year",{"$f":"_xlfn.XLOOKUP(B1147,'Programmes lists'!B:B,'Programmes lists'!D:D)","v":"BC736521  "},{"$f":"_xlfn.XLOOKUP(B1147,'Programmes lists'!B:B,'Programmes lists'!E:E, \"Not found\")","v":0},{"$f":"_xlfn.XLOOKUP(B1147,'Programmes lists'!B:B,'Programmes lists'!G:G,\"Not found\")","v":"Minimum of 50% in grade 12 pass for \n•\tAfrikaans HL (or FAL 70%) \n•\tEnglish HL or FAL"},{"$f":"_xlfn.XLOOKUP(B1147,'Programmes lists'!B:B,'Programmes lists'!F:F,\"Not found\")","v":512}]
["Senior and FET ","Specialising in English and Afrikaans","AHTS3605",{"$f":"_xlfn.XLOOKUP(C1148,'RAW module list'!A:A,'RAW module list'!B:B, \"Not found\")","v":"Afrikaans Home Language teaching 1: Senior Phase "},{"$f":"_xlfn.XLOOKUP(C1148,'RAW module list'!A:A,'RAW module list'!C:C, \"Not found\")","v":6},{"$f":"_xlfn.XLOOKUP(C1148,'RAW module list'!A:A,'RAW module list'!D:D, \"Not found\")","v":20},{"$f":"_xlfn.XLOOKUP(C1148,'RAW module list'!A:A,'RAW module list'!E:E, \"Not found\")","v":"AFNL1634 & AFNT1644"},"Third Year",{"$f":"_xlfn.XLOOKUP(B1148,'Programmes lists'!B:B,'Programmes lists'!D:D)","v":"BC736521  "},{"$f":"_xlfn.XLOOKUP(B1148,'Programmes lists'!B:B,'Programmes lists'!E:E, \"Not found\")","v":0},{"$f":"_xlfn.XLOOKUP(B1148,'Programmes lists'!B:B,'Programmes lists'!G:G,\"Not found\")","v":"Minimum of 50% in grade 12 pass for \n•\tAfrikaans HL (or FAL 70%) \n•\tEnglish HL or FAL"},{"$f":"_xlfn.XLOOKUP(B1148,'Programmes lists'!B:B,'Programmes lists'!F:F,\"Not found\")","v":512}]
["Senior and FET ","Specialising in English and Afrikaans","EDUB3714",{"$f":"_xlfn.XLOOKUP(C1149,'RAW module list'!A:A,'RAW module list'!B:B, \"Not found\")","v":"Education Studies 3.1 Education systems in global and national context"},{"$f":"_xlfn.XLOOKUP(C1149,'RAW module list'!A:A,'RAW module list'!C:C, \"Not found\")","v":7},{"$f":"_xlfn.XLOOKUP(C1149,'RAW module list'!A:A,'RAW module list'!D:D, \"Not found\")","v":16},{"$f":"_xlfn.XLOOKUP(C1149,'RAW module list'!A:A,'RAW module list'!E:E, \"Not found\")","v":"EDUB1613 & EDUB1623& EDUB2714 & EDUB2724"},"Third Year",{"$f":"_xlfn.XLOOKUP(B1149,'Programmes lists'!B:B,'Programmes lists'!D:D)","v":"BC736521  "},{"$f":"_xlfn.XLOOKUP(B1149,'Programmes lists'!B:B,'Programmes lists'!E:E, \"Not found\")","v":0},{"$f":"_xlfn.XLOOKUP(B1149,'Programmes lists'!B:B,'Programmes lists'!G:G,\"Not found\")","v":"Minimum of 50% in grade 12 pass for \n•\tAfrikaans HL (or FAL 70%) \n•\tEnglish HL or FAL"},{"$f":"_xlfn.XLOOKUP(B1149,'Programmes lists'!B:B,'Programmes lists'!F:F,\"Not found\")","v":512}]
["Senior and FET ","Specialising in English and Afrikaans","SICL3512 OR SSCL3512 OR ZUCL3512",{"$f":"_xlfn.XLOOKUP(C1150,'RAW module list'!A:A,'RAW module list'!B:B, \"Not found\")","v":"Conversational Sign Language OR Conversational Sesotho OR Conversational IsiZulu"},{"$f":"_xlfn.XLOOKUP(C1150,'RAW module list'!A:A,'RAW module list'!C:C, \"Not found\")","v":5},{"$f":"_xlfn.XLOOKUP(C1150,'RAW module list'!A:A,'RAW module list'!D:D, \"Not found\")","v":8},{"$f":"_xlfn.XLOOKUP(C1150,'RAW module list'!A:A,'RAW module list'!E:E, \"Not found\")","v":"No previous exposure to the language"},"Third Year",{"$f":"_xlfn.XLOOKUP(B1150,'Programmes lists'!B:B,'Programmes lists'!D:D)","v":"BC736521  "},{"$f":"_xlfn.XLOOKUP(B1150,'Programmes lists'!B:B,'Programmes lists'!E:E, \"Not found\")","v":0},{"$f":"_xlfn.XLOOKUP(B1150,'Programmes lists'!B:B,'Programmes lists'!G:G,\"Not found\")","v":"Minimum of 50% in grade 12 pass for \n•\tAfrikaans HL (or FAL 70%) \n•\tEnglish HL or FAL"},{"$f":"_xlfn.XLOOKUP(B1150,'Programmes lists'!B:B,'Programmes lists'!F:F,\"Not found\")","v":512}]
["Senior and FET ","Specialising in English and Afrikaans","WILV3606",{"$f":"_xlfn.XLOOKUP(C1151,'RAW module list'!A:A,'RAW module list'!B:B, \"Not found\")","v":"Teaching Practice 3"},{"$f":"_xlfn.XLOOKUP(C1151,'RAW module list'!A:A,'RAW module list'!C:C, \"Not found\")","v":6},{"$f":"_xlfn.XLOOKUP(C1151,'RAW module list'!A:A,'RAW module list'!D:D, \"Not found\")","v":24},{"$f":"_xlfn.XLOOKUP(C1151,'RAW module list'!A:A,'RAW module list'!E:E, \"Not found\")","v":"TPRV2502"},"Third Year",{"$f":"_xlfn.XLOOKUP(B1151,'Programmes lists'!B:B,'Programmes lists'!D:D)","v":"BC736521  "},{"$f":"_xlfn.XLOOKUP(B1151,'Programmes lists'!B:B,'Programmes lists'!E:E, \"Not found\")","v":0},{"$f":"_xlfn.XLOOKUP(B1151,'Programmes lists'!B:B,'Programmes lists'!G:G,\"Not found\")","v":"Minimum of 50% in grade 12 pass for \n•\tAfrikaans HL (or FAL 70%) \n•\tEnglish HL or FAL"},{"$f":"_xlfn.XLOOKUP(B1151,'Programmes lists'!B:B,'Programmes lists'!F:F,\"Not found\")","v":512}]
["Senior and FET ","Specialising in English and Afrikaans","EDUB3724",{"$f":"_xlfn.XLOOKUP(C1152,'RAW module list'!A:A,'RAW module list'!B:B, \"Not found\")","v":"Education Studies 3.2: Contemporary Education Theory in the current social context"},{"$f":"_xlfn.XLOOKUP(C1152,'RAW module list'!A:A,'RAW module list'!C:C, \"Not found\")","v":7},{"$f":"_xlfn.XLOOKUP(C1152,'RAW module list'!A:A,'RAW module list'!D:D, \"Not found\")","v":16},{"$f":"_xlfn.XLOOKUP(C1152,'RAW module list'!A:A,'RAW module list'!E:E, \"Not found\")","v":"EDUB1613 & EDUB1623 & EDUB2714 & EDUB2724 & EDUB3714"},"Third Year",{"$f":"_xlfn.XLOOKUP(B1152,'Programmes lists'!B:B,'Programmes lists'!D:D)","v":"BC736521  "},{"$f":"_xlfn.XLOOKUP(B1152,'Programmes lists'!B:B,'Programmes lists'!E:E, \"Not found\")","v":0},{"$f":"_xlfn.XLOOKUP(B1152,'Programmes lists'!B:B,'Programmes lists'!G:G,\"Not found\")","v":"Minimum of 50% in grade 12 pass for \n•\tAfrikaans HL (or FAL 70%) \n•\tEnglish HL or FAL"},{"$f":"_xlfn.XLOOKUP(B1152,'Programmes lists'!B:B,'Programmes lists'!F:F,\"Not found\")","v":512}]
["Senior and FET ","Specialising in English and Afrikaans","SICL3522 OR SSCL3522 OR ZUCL3522",{"$f":"_xlfn.XLOOKUP(C1153,'RAW module list'!A:A,'RAW module list'!B:B, \"Not found\")","v":"Conversational Sign Language OR Conversational Sesotho OR Conversational IsiZulu"},{"$f":"_xlfn.XLOOKUP(C1153,'RAW module list'!A:A,'RAW module list'!C:C, \"Not found\")","v":5},{"$f":"_xlfn.XLOOKUP(C1153,'RAW module list'!A:A,'RAW module list'!D:D, \"Not found\")","v":8},{"$f":"_xlfn.XLOOKUP(C1153,'RAW module list'!A:A,'RAW module list'!E:E, \"Not found\")","v":"Continue with the conversational language  chosen in Semester 1"},"Third Year",{"$f":"_xlfn.XLOOKUP(B1153,'Programmes lists'!B:B,'Programmes lists'!D:D)","v":"BC736521  "},{"$f":"_xlfn.XLOOKUP(B1153,'Programmes lists'!B:B,'Programmes lists'!E:E, \"Not found\")","v":0},{"$f":"_xlfn.XLOOKUP(B1153,'Programmes lists'!B:B,'Programmes lists'!G:G,\"Not found\")","v":"Minimum of 50% in grade 12 pass for \n•\tAfrikaans HL (or FAL 70%) \n•\tEnglish HL or FAL"},{"$f":"_xlfn.XLOOKUP(B1153,'Programmes lists'!B:B,'Programmes lists'!F:F,\"Not found\")","v":512}]
["Senior and FET ","Specialising in English and Afrikaans","Special Requirement:","Choose three didactics according to subjects taken previous  years: EHTS, EHTV, AHTS, AHTV.",null,null,null,"Third Year",{"$f":"_xlfn.XLOOKUP(B1154,'Programmes lists'!B:B,'Programmes lists'!D:D)","v":"BC736521  "},{"$f":"_xlfn.XLOOKUP(B1154,'Programmes lists'!B:B,'Programmes lists'!E:E, \"Not found\")","v":0},{"$f":"_xlfn.XLOOKUP(B1154,'Programmes lists'!B:B,'Programmes lists'!G:G,\"Not found\")","v":"Minimum of 50% in grade 12 pass for \n•\tAfrikaans HL (or FAL 70%) \n•\tEnglish HL or FAL"},{"$f":"_xlfn.XLOOKUP(B1154,'Programmes lists'!B:B,'Programmes lists'!F:F,\"Not found\")","v":512}]
["Senior and FET ","Specialising in English and Afrikaans","EHTV4705",{"$f":"_xlfn.XLOOKUP(C1155,'RAW module list'!A:A,'RAW module list'!B:B, \"Not found\")","v":"English Home Language teaching 2: Further Education and Training phase"},{"$f":"_xlfn.XLOOKUP(C1155,'RAW module list'!A:A,'RAW module list'!C:C, \"Not found\")","v":7},{"$f":"_xlfn.XLOOKUP(C1155,'RAW module list'!A:A,'RAW module list'!D:D, \"Not found\")","v":20},{"$f":"_xlfn.XLOOKUP(C1155,'RAW module list'!A:A,'RAW module list'!E:E, \"Not found\")","v":"EHTV3605"},"Fourth Year",{"$f":"_xlfn.XLOOKUP(B1155,'Programmes lists'!B:B,'Programmes lists'!D:D)","v":"BC736521  "},{"$f":"_xlfn.XLOOKUP(B1155,'Programmes lists'!B:B,'Programmes lists'!E:E, \"Not found\")","v":0},{"$f":"_xlfn.XLOOKUP(B1155,'Programmes lists'!B:B,'Programmes lists'!G:G,\"Not found\")","v":"Minimum of 50% in grade 12 pass for \n•\tAfrikaans HL (or FAL 70%) \n•\tEnglish HL or FAL"},{"$f":"_xlfn.XLOOKUP(B1155,'Programmes lists'!B:B,'Programmes lists'!F:F,\"Not found\")","v":512},"Continue with three didactics according to subjects taken in previous year "]
["Senior and FET ","Specialising in English and Afrikaans","EHTS4705",{"$f":"_xlfn.XLOOKUP(C1156,'RAW module list'!A:A,'RAW module list'!B:B, \"Not found\")","v":"English home language Teaching 2: Senior Phase"},{"$f":"_xlfn.XLOOKUP(C1156,'RAW module list'!A:A,'RAW module list'!C:C, \"Not found\")","v":7},{"$f":"_xlfn.XLOOKUP(C1156,'RAW module list'!A:A,'RAW module list'!D:D, \"Not found\")","v":-20},{"$f":"_xlfn.XLOOKUP(C1156,'RAW module list'!A:A,'RAW module list'!E:E, \"Not found\")","v":"EHTS3605"},"Fourth Year",{"$f":"_xlfn.XLOOKUP(B1156,'Programmes lists'!B:B,'Programmes lists'!D:D)","v":"BC736521  "},{"$f":"_xlfn.XLOOKUP(B1156,'Programmes lists'!B:B,'Programmes lists'!E:E, \"Not found\")","v":0},{"$f":"_xlfn.XLOOKUP(B1156,'Programmes lists'!B:B,'Programmes lists'!G:G,\"Not found\")","v":"Minimum of 50% in grade 12 pass for \n•\tAfrikaans HL (or FAL 70%) \n•\tEnglish HL or FAL"},{"$f":"_xlfn.XLOOKUP(B1156,'Programmes lists'!B:B,'Programmes lists'!F:F,\"Not found\")","v":512}]
["Senior and FET ","Specialising in English and Afrikaans","AHTS4705",{"$f":"_xlfn.XLOOKUP(C1157,'RAW module list'!A:A,'RAW module list'!B:B, \"Not found\")","v":"Afrikaans Home language Teaching  2: Senior Phase"},{"$f":"_xlfn.XLOOKUP(C1157,'RAW module list'!A:A,'RAW module list'!C:C, \"Not found\")","v":7},{"$f":"_xlfn.XLOOKUP(C1157,'RAW module list'!A:A,'RAW module list'!D:D, \"Not found\")","v":20},{"$f":"_xlfn.XLOOKUP(C1157,'RAW module list'!A:A,'RAW module list'!E:E, \"Not found\")","v":"AHTS3605"},"Fourth Year",{"$f":"_xlfn.XLOOKUP(B1157,'Programmes lists'!B:B,'Programmes lists'!D:D)","v":"BC736521  "},{"$f":"_xlfn.XLOOKUP(B1157,'Programmes lists'!B:B,'Programmes lists'!E:E, \"Not found\")","v":0},{"$f":"_xlfn.XLOOKUP(B1157,'Programmes lists'!B:B,'Programmes lists'!G:G,\"Not found\")","v":"Minimum of 50% in grade 12 pass for \n•\tAfrikaans HL (or FAL 70%) \n•\tEnglish HL or FAL"},{"$f":"_xlfn.XLOOKUP(B1157,'Programmes lists'!B:B,'Programmes lists'!F:F,\"Not found\")","v":512}]
["Senior and FET ","Specialising in English and Afrikaans","AHTV4705",{"$f":"_xlfn.XLOOKUP(C1158,'RAW module list'!A:A,'RAW module list'!B:B, \"Not found\")","v":"Afrikaans Home Language teaching 2: Further Education and Training"},{"$f":"_xlfn.XLOOKUP(C1158,'RAW module list'!A:A,'RAW module list'!C:C, \"Not found\")","v":7},{"$f":"_xlfn.XLOOKUP(C1158,'RAW module list'!A:A,'RAW module list'!D:D, \"Not found\")","v":20},{"$f":"_xlfn.XLOOKUP(C1158,'RAW module list'!A:A,'RAW module list'!E:E, \"Not found\")","v":"AHTV3605"},"Fourth Year",{"$f":"_xlfn.XLOOKUP(B1158,'Programmes lists'!B:B,'Programmes lists'!D:D)","v":"BC736521  "},{"$f":"_xlfn.XLOOKUP(B1158,'Programmes lists'!B:B,'Programmes lists'!E:E, \"Not found\")","v":0},{"$f":"_xlfn.XLOOKUP(B1158,'Programmes lists'!B:B,'Programmes lists'!G:G,\"Not found\")","v":"Minimum of 50% in grade 12 pass for \n•\tAfrikaans HL (or FAL 70%) \n•\tEnglish HL or FAL"},{"$f":"_xlfn.XLOOKUP(B1158,'Programmes lists'!B:B,'Programmes lists'!F:F,\"Not found\")","v":512}]
["Senior and FET ","Specialising in English and Afrikaans","WILV4700",{"$f":"_xlfn.XLOOKUP(C1159,'RAW module list'!A:A,'RAW module list'!B:B, \"Not found\")","v":"Teaching Practice 4"},{"$f":"_xlfn.XLOOKUP(C1159,'RAW module list'!A:A,'RAW module list'!C:C, \"Not found\")","v":7},{"$f":"_xlfn.XLOOKUP(C1159,'RAW module list'!A:A,'RAW module list'!D:D, \"Not found\")","v":40},{"$f":"_xlfn.XLOOKUP(C1159,'RAW module list'!A:A,'RAW module list'!E:E, \"Not found\")","v":"WILV3606"},"Fourth Year",{"$f":"_xlfn.XLOOKUP(B1159,'Programmes lists'!B:B,'Programmes lists'!D:D)","v":"BC736521  "},{"$f":"_xlfn.XLOOKUP(B1159,'Programmes lists'!B:B,'Programmes lists'!E:E, \"Not found\")","v":0},{"$f":"_xlfn.XLOOKUP(B1159,'Programmes lists'!B:B,'Programmes lists'!G:G,\"Not found\")","v":"Minimum of 50% in grade 12 pass for \n•\tAfrikaans HL (or FAL 70%) \n•\tEnglish HL or FAL"},{"$f":"_xlfn.XLOOKUP(B1159,'Programmes lists'!B:B,'Programmes lists'!F:F,\"Not found\")","v":512}]
["Senior and FET ","Specialising in English and Afrikaans","Special Requirement:","Continue with three didactics according to subjects taken in previous year ",null,null,null,"Fourth Year",{"$f":"_xlfn.XLOOKUP(B1160,'Programmes lists'!B:B,'Programmes lists'!D:D)","v":"BC736521  "},{"$f":"_xlfn.XLOOKUP(B1160,'Programmes lists'!B:B,'Programmes lists'!E:E, \"Not found\")","v":0},{"$f":"_xlfn.XLOOKUP(B1160,'Programmes lists'!B:B,'Programmes lists'!G:G,\"Not found\")","v":"Minimum of 50% in grade 12 pass for \n•\tAfrikaans HL (or FAL 70%) \n•\tEnglish HL or FAL"},{"$f":"_xlfn.XLOOKUP(B1160,'Programmes lists'!B:B,'Programmes lists'!F:F,\"Not found\")","v":512}]
["Senior and FET ","Specialising in English and History","ENGL1514",{"$f":"_xlfn.XLOOKUP(C1161,'RAW module list'!A:A,'RAW module list'!B:B, \"Not found\")","v":"Reading Literature: An Introduction to Reading, Writing and Critical Textual Analysis"},{"$f":"_xlfn.XLOOKUP(C1161,'RAW module list'!A:A,'RAW module list'!C:C, \"Not found\")","v":5},{"$f":"_xlfn.XLOOKUP(C1161,'RAW module list'!A:A,'RAW module list'!D:D, \"Not found\")","v":16},{"$f":"_xlfn.XLOOKUP(C1161,'RAW module list'!A:A,'RAW module list'!E:E, \"Not found\")","v":0},"First Year",{"$f":"_xlfn.XLOOKUP(B1161,'Programmes lists'!B:B,'Programmes lists'!D:D)","v":"BC736519 "},{"$f":"_xlfn.XLOOKUP(B1161,'Programmes lists'!B:B,'Programmes lists'!E:E, \"Not found\")","v":0},{"$f":"_xlfn.XLOOKUP(B1161,'Programmes lists'!B:B,'Programmes lists'!G:G,\"Not found\")","v":"Minimum of 50% in grade 12 pass for \n•\tEnglish HL or FAL "},{"$f":"_xlfn.XLOOKUP(B1161,'Programmes lists'!B:B,'Programmes lists'!F:F,\"Not found\")","v":512}]
["Senior and FET ","Specialising in English and History","HIST1534",{"$f":"_xlfn.XLOOKUP(C1162,'RAW module list'!A:A,'RAW module list'!B:B, \"Not found\")","v":"A brief history of the whole world"},{"$f":"_xlfn.XLOOKUP(C1162,'RAW module list'!A:A,'RAW module list'!C:C, \"Not found\")","v":5},{"$f":"_xlfn.XLOOKUP(C1162,'RAW module list'!A:A,'RAW module list'!D:D, \"Not found\")","v":16},{"$f":"_xlfn.XLOOKUP(C1162,'RAW module list'!A:A,'RAW module list'!E:E, \"Not found\")","v":0},"First Year",{"$f":"_xlfn.XLOOKUP(B1162,'Programmes lists'!B:B,'Programmes lists'!D:D)","v":"BC736519 "},{"$f":"_xlfn.XLOOKUP(B1162,'Programmes lists'!B:B,'Programmes lists'!E:E, \"Not found\")","v":0},{"$f":"_xlfn.XLOOKUP(B1162,'Programmes lists'!B:B,'Programmes lists'!G:G,\"Not found\")","v":"Minimum of 50% in grade 12 pass for \n•\tEnglish HL or FAL "},{"$f":"_xlfn.XLOOKUP(B1162,'Programmes lists'!B:B,'Programmes lists'!F:F,\"Not found\")","v":512}]
["Senior and FET ","Specialising in English and History","LLST1513",{"$f":"_xlfn.XLOOKUP(C1163,'RAW module list'!A:A,'RAW module list'!B:B, \"Not found\")","v":"Lifelong Learning Skills"},{"$f":"_xlfn.XLOOKUP(C1163,'RAW module list'!A:A,'RAW module list'!C:C, \"Not found\")","v":5},{"$f":"_xlfn.XLOOKUP(C1163,'RAW module list'!A:A,'RAW module list'!D:D, \"Not found\")","v":12},{"$f":"_xlfn.XLOOKUP(C1163,'RAW module list'!A:A,'RAW module list'!E:E, \"Not found\")","v":0},"First Year",{"$f":"_xlfn.XLOOKUP(B1163,'Programmes lists'!B:B,'Programmes lists'!D:D)","v":"BC736519 "},{"$f":"_xlfn.XLOOKUP(B1163,'Programmes lists'!B:B,'Programmes lists'!E:E, \"Not found\")","v":0},{"$f":"_xlfn.XLOOKUP(B1163,'Programmes lists'!B:B,'Programmes lists'!G:G,\"Not found\")","v":"Minimum of 50% in grade 12 pass for \n•\tEnglish HL or FAL "},{"$f":"_xlfn.XLOOKUP(B1163,'Programmes lists'!B:B,'Programmes lists'!F:F,\"Not found\")","v":512}]
["Senior and FET ","Specialising in English and History","EDUB1613",{"$f":"_xlfn.XLOOKUP(C1164,'RAW module list'!A:A,'RAW module list'!B:B, \"Not found\")","v":"Education Studies 1.1 The Individual in the learning context"},{"$f":"_xlfn.XLOOKUP(C1164,'RAW module list'!A:A,'RAW module list'!C:C, \"Not found\")","v":6},{"$f":"_xlfn.XLOOKUP(C1164,'RAW module list'!A:A,'RAW module list'!D:D, \"Not found\")","v":12},{"$f":"_xlfn.XLOOKUP(C1164,'RAW module list'!A:A,'RAW module list'!E:E, \"Not found\")","v":0},"First Year",{"$f":"_xlfn.XLOOKUP(B1164,'Programmes lists'!B:B,'Programmes lists'!D:D)","v":"BC736519 "},{"$f":"_xlfn.XLOOKUP(B1164,'Programmes lists'!B:B,'Programmes lists'!E:E, \"Not found\")","v":0},{"$f":"_xlfn.XLOOKUP(B1164,'Programmes lists'!B:B,'Programmes lists'!G:G,\"Not found\")","v":"Minimum of 50% in grade 12 pass for \n•\tEnglish HL or FAL "},{"$f":"_xlfn.XLOOKUP(B1164,'Programmes lists'!B:B,'Programmes lists'!F:F,\"Not found\")","v":512}]
["Senior and FET ","Specialising in English and History","TPRV1502",{"$f":"_xlfn.XLOOKUP(C1165,'RAW module list'!A:A,'RAW module list'!B:B, \"Not found\")","v":"Teaching Practice 1 "},{"$f":"_xlfn.XLOOKUP(C1165,'RAW module list'!A:A,'RAW module list'!C:C, \"Not found\")","v":5},{"$f":"_xlfn.XLOOKUP(C1165,'RAW module list'!A:A,'RAW module list'!D:D, \"Not found\")","v":8},{"$f":"_xlfn.XLOOKUP(C1165,'RAW module list'!A:A,'RAW module list'!E:E, \"Not found\")","v":0},"First Year",{"$f":"_xlfn.XLOOKUP(B1165,'Programmes lists'!B:B,'Programmes lists'!D:D)","v":"BC736519 "},{"$f":"_xlfn.XLOOKUP(B1165,'Programmes lists'!B:B,'Programmes lists'!E:E, \"Not found\")","v":0},{"$f":"_xlfn.XLOOKUP(B1165,'Programmes lists'!B:B,'Programmes lists'!G:G,\"Not found\")","v":"Minimum of 50% in grade 12 pass for \n•\tEnglish HL or FAL "},{"$f":"_xlfn.XLOOKUP(B1165,'Programmes lists'!B:B,'Programmes lists'!F:F,\"Not found\")","v":512}]
["Senior and FET ","Specialising in English and History","UFSS1504",{"$f":"_xlfn.XLOOKUP(C1166,'RAW module list'!A:A,'RAW module list'!B:B, \"Not found\")","v":"Undergraduate core curriculum"},{"$f":"_xlfn.XLOOKUP(C1166,'RAW module list'!A:A,'RAW module list'!C:C, \"Not found\")","v":5},{"$f":"_xlfn.XLOOKUP(C1166,'RAW module list'!A:A,'RAW module list'!D:D, \"Not found\")","v":-16},{"$f":"_xlfn.XLOOKUP(C1166,'RAW module list'!A:A,'RAW module list'!E:E, \"Not found\")","v":0},"First Year",{"$f":"_xlfn.XLOOKUP(B1166,'Programmes lists'!B:B,'Programmes lists'!D:D)","v":"BC736519 "},{"$f":"_xlfn.XLOOKUP(B1166,'Programmes lists'!B:B,'Programmes lists'!E:E, \"Not found\")","v":0},{"$f":"_xlfn.XLOOKUP(B1166,'Programmes lists'!B:B,'Programmes lists'!G:G,\"Not found\")","v":"Minimum of 50% in grade 12 pass for \n•\tEnglish HL or FAL "},{"$f":"_xlfn.XLOOKUP(B1166,'Programmes lists'!B:B,'Programmes lists'!F:F,\"Not found\")","v":512}]
["Senior and FET ","Specialising in English and History","EALT1508",{"$f":"_xlfn.XLOOKUP(C1167,'RAW module list'!A:A,'RAW module list'!B:B, \"Not found\")","v":"English Academic Literacy for Education "},{"$f":"_xlfn.XLOOKUP(C1167,'RAW module list'!A:A,'RAW module list'!C:C, \"Not found\")","v":5},{"$f":"_xlfn.XLOOKUP(C1167,'RAW module list'!A:A,'RAW module list'!D:D, \"Not found\")","v":-32},{"$f":"_xlfn.XLOOKUP(C1167,'RAW module list'!A:A,'RAW module list'!E:E, \"Not found\")","v":"NBT requirements not met"},"First Year",{"$f":"_xlfn.XLOOKUP(B1167,'Programmes lists'!B:B,'Programmes lists'!D:D)","v":"BC736519 "},{"$f":"_xlfn.XLOOKUP(B1167,'Programmes lists'!B:B,'Programmes lists'!E:E, \"Not found\")","v":0},{"$f":"_xlfn.XLOOKUP(B1167,'Programmes lists'!B:B,'Programmes lists'!G:G,\"Not found\")","v":"Minimum of 50% in grade 12 pass for \n•\tEnglish HL or FAL "},{"$f":"_xlfn.XLOOKUP(B1167,'Programmes lists'!B:B,'Programmes lists'!F:F,\"Not found\")","v":512}]
["Senior and FET ","Specialising in English and History","ENGL1624",{"$f":"_xlfn.XLOOKUP(C1168,'RAW module list'!A:A,'RAW module list'!B:B, \"Not found\")","v":"Reading Literature, Film and Culture"},{"$f":"_xlfn.XLOOKUP(C1168,'RAW module list'!A:A,'RAW module list'!C:C, \"Not found\")","v":6},{"$f":"_xlfn.XLOOKUP(C1168,'RAW module list'!A:A,'RAW module list'!D:D, \"Not found\")","v":16},{"$f":"_xlfn.XLOOKUP(C1168,'RAW module list'!A:A,'RAW module list'!E:E, \"Not found\")","v":"ENGL1514"},"First Year",{"$f":"_xlfn.XLOOKUP(B1168,'Programmes lists'!B:B,'Programmes lists'!D:D)","v":"BC736519 "},{"$f":"_xlfn.XLOOKUP(B1168,'Programmes lists'!B:B,'Programmes lists'!E:E, \"Not found\")","v":0},{"$f":"_xlfn.XLOOKUP(B1168,'Programmes lists'!B:B,'Programmes lists'!G:G,\"Not found\")","v":"Minimum of 50% in grade 12 pass for \n•\tEnglish HL or FAL "},{"$f":"_xlfn.XLOOKUP(B1168,'Programmes lists'!B:B,'Programmes lists'!F:F,\"Not found\")","v":512}]
["Senior and FET ","Specialising in English and History","HIST1644",{"$f":"_xlfn.XLOOKUP(C1169,'RAW module list'!A:A,'RAW module list'!B:B, \"Not found\")","v":"Histories, Historians and History-makers"},{"$f":"_xlfn.XLOOKUP(C1169,'RAW module list'!A:A,'RAW module list'!C:C, \"Not found\")","v":6},{"$f":"_xlfn.XLOOKUP(C1169,'RAW module list'!A:A,'RAW module list'!D:D, \"Not found\")","v":16},{"$f":"_xlfn.XLOOKUP(C1169,'RAW module list'!A:A,'RAW module list'!E:E, \"Not found\")","v":0},"First Year",{"$f":"_xlfn.XLOOKUP(B1169,'Programmes lists'!B:B,'Programmes lists'!D:D)","v":"BC736519 "},{"$f":"_xlfn.XLOOKUP(B1169,'Programmes lists'!B:B,'Programmes lists'!E:E, \"Not found\")","v":0},{"$f":"_xlfn.XLOOKUP(B1169,'Programmes lists'!B:B,'Programmes lists'!G:G,\"Not found\")","v":"Minimum of 50% in grade 12 pass for \n•\tEnglish HL or FAL "},{"$f":"_xlfn.XLOOKUP(B1169,'Programmes lists'!B:B,'Programmes lists'!F:F,\"Not found\")","v":512}]
["Senior and FET ","Specialising in English and History","EDUB1623",{"$f":"_xlfn.XLOOKUP(C1170,'RAW module list'!A:A,'RAW module list'!B:B, \"Not found\")","v":"Education Studies 1.2 What it means to educate: Theoretical perspectives and their significance for SA education"},{"$f":"_xlfn.XLOOKUP(C1170,'RAW module list'!A:A,'RAW module list'!C:C, \"Not found\")","v":6},{"$f":"_xlfn.XLOOKUP(C1170,'RAW module list'!A:A,'RAW module list'!D:D, \"Not found\")","v":12},{"$f":"_xlfn.XLOOKUP(C1170,'RAW module list'!A:A,'RAW module list'!E:E, \"Not found\")","v":0},"First Year",{"$f":"_xlfn.XLOOKUP(B1170,'Programmes lists'!B:B,'Programmes lists'!D:D)","v":"BC736519 "},{"$f":"_xlfn.XLOOKUP(B1170,'Programmes lists'!B:B,'Programmes lists'!E:E, \"Not found\")","v":0},{"$f":"_xlfn.XLOOKUP(B1170,'Programmes lists'!B:B,'Programmes lists'!G:G,\"Not found\")","v":"Minimum of 50% in grade 12 pass for \n•\tEnglish HL or FAL "},{"$f":"_xlfn.XLOOKUP(B1170,'Programmes lists'!B:B,'Programmes lists'!F:F,\"Not found\")","v":512}]
["Senior and FET ","Specialising in English and History","GPEV1623",{"$f":"_xlfn.XLOOKUP(C1171,'RAW module list'!A:A,'RAW module list'!B:B, \"Not found\")","v":"General Pedagogy 1: Managing the Curriculum"},{"$f":"_xlfn.XLOOKUP(C1171,'RAW module list'!A:A,'RAW module list'!C:C, \"Not found\")","v":6},{"$f":"_xlfn.XLOOKUP(C1171,'RAW module list'!A:A,'RAW module list'!D:D, \"Not found\")","v":12},{"$f":"_xlfn.XLOOKUP(C1171,'RAW module list'!A:A,'RAW module list'!E:E, \"Not found\")","v":0},"First Year",{"$f":"_xlfn.XLOOKUP(B1171,'Programmes lists'!B:B,'Programmes lists'!D:D)","v":"BC736519 "},{"$f":"_xlfn.XLOOKUP(B1171,'Programmes lists'!B:B,'Programmes lists'!E:E, \"Not found\")","v":0},{"$f":"_xlfn.XLOOKUP(B1171,'Programmes lists'!B:B,'Programmes lists'!G:G,\"Not found\")","v":"Minimum of 50% in grade 12 pass for \n•\tEnglish HL or FAL "},{"$f":"_xlfn.XLOOKUP(B1171,'Programmes lists'!B:B,'Programmes lists'!F:F,\"Not found\")","v":512}]
["Senior and FET ","Specialising in English and History","ENGL2614",{"$f":"_xlfn.XLOOKUP(C1172,'RAW module list'!A:A,'RAW module list'!B:B, \"Not found\")","v":"Early Modern to Contemporary World Literatures"},{"$f":"_xlfn.XLOOKUP(C1172,'RAW module list'!A:A,'RAW module list'!C:C, \"Not found\")","v":6},{"$f":"_xlfn.XLOOKUP(C1172,'RAW module list'!A:A,'RAW module list'!D:D, \"Not found\")","v":16},{"$f":"_xlfn.XLOOKUP(C1172,'RAW module list'!A:A,'RAW module list'!E:E, \"Not found\")","v":"ENGL1514 & ENGL1624"},"Second Year",{"$f":"_xlfn.XLOOKUP(B1172,'Programmes lists'!B:B,'Programmes lists'!D:D)","v":"BC736519 "},{"$f":"_xlfn.XLOOKUP(B1172,'Programmes lists'!B:B,'Programmes lists'!E:E, \"Not found\")","v":0},{"$f":"_xlfn.XLOOKUP(B1172,'Programmes lists'!B:B,'Programmes lists'!G:G,\"Not found\")","v":"Minimum of 50% in grade 12 pass for \n•\tEnglish HL or FAL "},{"$f":"_xlfn.XLOOKUP(B1172,'Programmes lists'!B:B,'Programmes lists'!F:F,\"Not found\")","v":512}]
["Senior and FET ","Specialising in English and History","HIST2614",{"$f":"_xlfn.XLOOKUP(C1173,'RAW module list'!A:A,'RAW module list'!B:B, \"Not found\")","v":"The Rise of Nationalism in South Africa and Africa and the resistance to it "},{"$f":"_xlfn.XLOOKUP(C1173,'RAW module list'!A:A,'RAW module list'!C:C, \"Not found\")","v":6},{"$f":"_xlfn.XLOOKUP(C1173,'RAW module list'!A:A,'RAW module list'!D:D, \"Not found\")","v":16},{"$f":"_xlfn.XLOOKUP(C1173,'RAW module list'!A:A,'RAW module list'!E:E, \"Not found\")","v":0},"Second Year",{"$f":"_xlfn.XLOOKUP(B1173,'Programmes lists'!B:B,'Programmes lists'!D:D)","v":"BC736519 "},{"$f":"_xlfn.XLOOKUP(B1173,'Programmes lists'!B:B,'Programmes lists'!E:E, \"Not found\")","v":0},{"$f":"_xlfn.XLOOKUP(B1173,'Programmes lists'!B:B,'Programmes lists'!G:G,\"Not found\")","v":"Minimum of 50% in grade 12 pass for \n•\tEnglish HL or FAL "},{"$f":"_xlfn.XLOOKUP(B1173,'Programmes lists'!B:B,'Programmes lists'!F:F,\"Not found\")","v":512}]
["Senior and FET ","Specialising in English and History","EDUB2714",{"$f":"_xlfn.XLOOKUP(C1174,'RAW module list'!A:A,'RAW module list'!B:B, \"Not found\")","v":"Education Studies 2: Teaching and Learning in Education Context"},{"$f":"_xlfn.XLOOKUP(C1174,'RAW module list'!A:A,'RAW module list'!C:C, \"Not found\")","v":7},{"$f":"_xlfn.XLOOKUP(C1174,'RAW module list'!A:A,'RAW module list'!D:D, \"Not found\")","v":16},{"$f":"_xlfn.XLOOKUP(C1174,'RAW module list'!A:A,'RAW module list'!E:E, \"Not found\")","v":"EDUB1613 & EDUB1623"},"Second Year",{"$f":"_xlfn.XLOOKUP(B1174,'Programmes lists'!B:B,'Programmes lists'!D:D)","v":"BC736519 "},{"$f":"_xlfn.XLOOKUP(B1174,'Programmes lists'!B:B,'Programmes lists'!E:E, \"Not found\")","v":0},{"$f":"_xlfn.XLOOKUP(B1174,'Programmes lists'!B:B,'Programmes lists'!G:G,\"Not found\")","v":"Minimum of 50% in grade 12 pass for \n•\tEnglish HL or FAL "},{"$f":"_xlfn.XLOOKUP(B1174,'Programmes lists'!B:B,'Programmes lists'!F:F,\"Not found\")","v":512}]
["Senior and FET ","Specialising in English and History","GPEV2613",{"$f":"_xlfn.XLOOKUP(C1175,'RAW module list'!A:A,'RAW module list'!B:B, \"Not found\")","v":"General Pedagogy 2.1"},{"$f":"_xlfn.XLOOKUP(C1175,'RAW module list'!A:A,'RAW module list'!C:C, \"Not found\")","v":6},{"$f":"_xlfn.XLOOKUP(C1175,'RAW module list'!A:A,'RAW module list'!D:D, \"Not found\")","v":12},{"$f":"_xlfn.XLOOKUP(C1175,'RAW module list'!A:A,'RAW module list'!E:E, \"Not found\")","v":"GPEV1623"},"Second Year",{"$f":"_xlfn.XLOOKUP(B1175,'Programmes lists'!B:B,'Programmes lists'!D:D)","v":"BC736519 "},{"$f":"_xlfn.XLOOKUP(B1175,'Programmes lists'!B:B,'Programmes lists'!E:E, \"Not found\")","v":0},{"$f":"_xlfn.XLOOKUP(B1175,'Programmes lists'!B:B,'Programmes lists'!G:G,\"Not found\")","v":"Minimum of 50% in grade 12 pass for \n•\tEnglish HL or FAL "},{"$f":"_xlfn.XLOOKUP(B1175,'Programmes lists'!B:B,'Programmes lists'!F:F,\"Not found\")","v":512}]
["Senior and FET ","Specialising in English and History","ELLT2504",{"$f":"_xlfn.XLOOKUP(C1176,'RAW module list'!A:A,'RAW module list'!B:B, \"Not found\")","v":"English language skills for teaching"},{"$f":"_xlfn.XLOOKUP(C1176,'RAW module list'!A:A,'RAW module list'!C:C, \"Not found\")","v":5},{"$f":"_xlfn.XLOOKUP(C1176,'RAW module list'!A:A,'RAW module list'!D:D, \"Not found\")","v":16},{"$f":"_xlfn.XLOOKUP(C1176,'RAW module list'!A:A,'RAW module list'!E:E, \"Not found\")","v":0},"Second Year",{"$f":"_xlfn.XLOOKUP(B1176,'Programmes lists'!B:B,'Programmes lists'!D:D)","v":"BC736519 "},{"$f":"_xlfn.XLOOKUP(B1176,'Programmes lists'!B:B,'Programmes lists'!E:E, \"Not found\")","v":0},{"$f":"_xlfn.XLOOKUP(B1176,'Programmes lists'!B:B,'Programmes lists'!G:G,\"Not found\")","v":"Minimum of 50% in grade 12 pass for \n•\tEnglish HL or FAL "},{"$f":"_xlfn.XLOOKUP(B1176,'Programmes lists'!B:B,'Programmes lists'!F:F,\"Not found\")","v":512},"*ELLT may be exempted when ENGL2614 and 2724 have been passed successfully. Visit the programme director to request the exemption. "]
["Senior and FET ","Specialising in English and History","TPRV2502",{"$f":"_xlfn.XLOOKUP(C1177,'RAW module list'!A:A,'RAW module list'!B:B, \"Not found\")","v":"Teaching Practice 2"},{"$f":"_xlfn.XLOOKUP(C1177,'RAW module list'!A:A,'RAW module list'!C:C, \"Not found\")","v":5},{"$f":"_xlfn.XLOOKUP(C1177,'RAW module list'!A:A,'RAW module list'!D:D, \"Not found\")","v":8},{"$f":"_xlfn.XLOOKUP(C1177,'RAW module list'!A:A,'RAW module list'!E:E, \"Not found\")","v":"TPRV1502"},"Second Year",{"$f":"_xlfn.XLOOKUP(B1177,'Programmes lists'!B:B,'Programmes lists'!D:D)","v":"BC736519 "},{"$f":"_xlfn.XLOOKUP(B1177,'Programmes lists'!B:B,'Programmes lists'!E:E, \"Not found\")","v":0},{"$f":"_xlfn.XLOOKUP(B1177,'Programmes lists'!B:B,'Programmes lists'!G:G,\"Not found\")","v":"Minimum of 50% in grade 12 pass for \n•\tEnglish HL or FAL "},{"$f":"_xlfn.XLOOKUP(B1177,'Programmes lists'!B:B,'Programmes lists'!F:F,\"Not found\")","v":512}]
["Senior and FET ","Specialising in English and History","ENGL2724",{"$f":"_xlfn.XLOOKUP(C1178,'RAW module list'!A:A,'RAW module list'!B:B, \"Not found\")","v":"Twentieth Century and Modern Literature"},{"$f":"_xlfn.XLOOKUP(C1178,'RAW module list'!A:A,'RAW module list'!C:C, \"Not found\")","v":7},{"$f":"_xlfn.XLOOKUP(C1178,'RAW module list'!A:A,'RAW module list'!D:D, \"Not found\")","v":16},{"$f":"_xlfn.XLOOKUP(C1178,'RAW module list'!A:A,'RAW module list'!E:E, \"Not found\")","v":"ENGL2614"},"Second Year",{"$f":"_xlfn.XLOOKUP(B1178,'Programmes lists'!B:B,'Programmes lists'!D:D)","v":"BC736519 "},{"$f":"_xlfn.XLOOKUP(B1178,'Programmes lists'!B:B,'Programmes lists'!E:E, \"Not found\")","v":0},{"$f":"_xlfn.XLOOKUP(B1178,'Programmes lists'!B:B,'Programmes lists'!G:G,\"Not found\")","v":"Minimum of 50% in grade 12 pass for \n•\tEnglish HL or FAL "},{"$f":"_xlfn.XLOOKUP(B1178,'Programmes lists'!B:B,'Programmes lists'!F:F,\"Not found\")","v":512}]
["Senior and FET ","Specialising in English and History","HIST2624",{"$f":"_xlfn.XLOOKUP(C1179,'RAW module list'!A:A,'RAW module list'!B:B, \"Not found\")","v":"Twentieth Century Global Clashes "},{"$f":"_xlfn.XLOOKUP(C1179,'RAW module list'!A:A,'RAW module list'!C:C, \"Not found\")","v":7},{"$f":"_xlfn.XLOOKUP(C1179,'RAW module list'!A:A,'RAW module list'!D:D, \"Not found\")","v":16},{"$f":"_xlfn.XLOOKUP(C1179,'RAW module list'!A:A,'RAW module list'!E:E, \"Not found\")","v":0},"Second Year",{"$f":"_xlfn.XLOOKUP(B1179,'Programmes lists'!B:B,'Programmes lists'!D:D)","v":"BC736519 "},{"$f":"_xlfn.XLOOKUP(B1179,'Programmes lists'!B:B,'Programmes lists'!E:E, \"Not found\")","v":0},{"$f":"_xlfn.XLOOKUP(B1179,'Programmes lists'!B:B,'Programmes lists'!G:G,\"Not found\")","v":"Minimum of 50% in grade 12 pass for \n•\tEnglish HL or FAL "},{"$f":"_xlfn.XLOOKUP(B1179,'Programmes lists'!B:B,'Programmes lists'!F:F,\"Not found\")","v":512}]
["Senior and FET ","Specialising in English and History","EDUB2724",{"$f":"_xlfn.XLOOKUP(C1180,'RAW module list'!A:A,'RAW module list'!B:B, \"Not found\")","v":"Education Studies 2: Human Relationships in Education context"},{"$f":"_xlfn.XLOOKUP(C1180,'RAW module list'!A:A,'RAW module list'!C:C, \"Not found\")","v":7},{"$f":"_xlfn.XLOOKUP(C1180,'RAW module list'!A:A,'RAW module list'!D:D, \"Not found\")","v":16},{"$f":"_xlfn.XLOOKUP(C1180,'RAW module list'!A:A,'RAW module list'!E:E, \"Not found\")","v":"EDUB2714"},"Second Year",{"$f":"_xlfn.XLOOKUP(B1180,'Programmes lists'!B:B,'Programmes lists'!D:D)","v":"BC736519 "},{"$f":"_xlfn.XLOOKUP(B1180,'Programmes lists'!B:B,'Programmes lists'!E:E, \"Not found\")","v":0},{"$f":"_xlfn.XLOOKUP(B1180,'Programmes lists'!B:B,'Programmes lists'!G:G,\"Not found\")","v":"Minimum of 50% in grade 12 pass for \n•\tEnglish HL or FAL "},{"$f":"_xlfn.XLOOKUP(B1180,'Programmes lists'!B:B,'Programmes lists'!F:F,\"Not found\")","v":512}]
["Senior and FET ","Specialising in English and History","GPEV2623",{"$f":"_xlfn.XLOOKUP(C1181,'RAW module list'!A:A,'RAW module list'!B:B, \"Not found\")","v":"General Pedagogy 2.2: Assessment"},{"$f":"_xlfn.XLOOKUP(C1181,'RAW module list'!A:A,'RAW module list'!C:C, \"Not found\")","v":6},{"$f":"_xlfn.XLOOKUP(C1181,'RAW module list'!A:A,'RAW module list'!D:D, \"Not found\")","v":12},{"$f":"_xlfn.XLOOKUP(C1181,'RAW module list'!A:A,'RAW module list'!E:E, \"Not found\")","v":"GPEV2613"},"Second Year",{"$f":"_xlfn.XLOOKUP(B1181,'Programmes lists'!B:B,'Programmes lists'!D:D)","v":"BC736519 "},{"$f":"_xlfn.XLOOKUP(B1181,'Programmes lists'!B:B,'Programmes lists'!E:E, \"Not found\")","v":0},{"$f":"_xlfn.XLOOKUP(B1181,'Programmes lists'!B:B,'Programmes lists'!G:G,\"Not found\")","v":"Minimum of 50% in grade 12 pass for \n•\tEnglish HL or FAL "},{"$f":"_xlfn.XLOOKUP(B1181,'Programmes lists'!B:B,'Programmes lists'!F:F,\"Not found\")","v":512}]
["Senior and FET ","Specialising in English and History","Special Requirement:","*ELLT may be exempted when ENGL2614 and 2724 have been passed successfully. Visit the programme director to request the exemption. ",null,null,null,"Second Year",{"$f":"_xlfn.XLOOKUP(B1182,'Programmes lists'!B:B,'Programmes lists'!D:D)","v":"BC736519 "},{"$f":"_xlfn.XLOOKUP(B1182,'Programmes lists'!B:B,'Programmes lists'!E:E, \"Not found\")","v":0},{"$f":"_xlfn.XLOOKUP(B1182,'Programmes lists'!B:B,'Programmes lists'!G:G,\"Not found\")","v":"Minimum of 50% in grade 12 pass for \n•\tEnglish HL or FAL "},{"$f":"_xlfn.XLOOKUP(B1182,'Programmes lists'!B:B,'Programmes lists'!F:F,\"Not found\")","v":512}]
["Senior and FET ","Specialising in English and History","EHTV3605",{"$f":"_xlfn.XLOOKUP(C1183,'RAW module list'!A:A,'RAW module list'!B:B, \"Not found\")","v":"English Home Language teaching 1: Further Education and Training phase"},{"$f":"_xlfn.XLOOKUP(C1183,'RAW module list'!A:A,'RAW module list'!C:C, \"Not found\")","v":6},{"$f":"_xlfn.XLOOKUP(C1183,'RAW module list'!A:A,'RAW module list'!D:D, \"Not found\")","v":20},{"$f":"_xlfn.XLOOKUP(C1183,'RAW module list'!A:A,'RAW module list'!E:E, \"Not found\")","v":"ENGL2724 & ENGL2614"},"Third Year",{"$f":"_xlfn.XLOOKUP(B1183,'Programmes lists'!B:B,'Programmes lists'!D:D)","v":"BC736519 "},{"$f":"_xlfn.XLOOKUP(B1183,'Programmes lists'!B:B,'Programmes lists'!E:E, \"Not found\")","v":0},{"$f":"_xlfn.XLOOKUP(B1183,'Programmes lists'!B:B,'Programmes lists'!G:G,\"Not found\")","v":"Minimum of 50% in grade 12 pass for \n•\tEnglish HL or FAL "},{"$f":"_xlfn.XLOOKUP(B1183,'Programmes lists'!B:B,'Programmes lists'!F:F,\"Not found\")","v":512},"Choose three didactics modules according to subjects in  previous  years; HITV is compulsory for this programme"]
["Senior and FET ","Specialising in English and History","EHTS3605",{"$f":"_xlfn.XLOOKUP(C1184,'RAW module list'!A:A,'RAW module list'!B:B, \"Not found\")","v":"English Home Language teaching 1: Senior Phase"},{"$f":"_xlfn.XLOOKUP(C1184,'RAW module list'!A:A,'RAW module list'!C:C, \"Not found\")","v":6},{"$f":"_xlfn.XLOOKUP(C1184,'RAW module list'!A:A,'RAW module list'!D:D, \"Not found\")","v":20},{"$f":"_xlfn.XLOOKUP(C1184,'RAW module list'!A:A,'RAW module list'!E:E, \"Not found\")","v":"ENGL1514 & ENGL1624"},"Third Year",{"$f":"_xlfn.XLOOKUP(B1184,'Programmes lists'!B:B,'Programmes lists'!D:D)","v":"BC736519 "},{"$f":"_xlfn.XLOOKUP(B1184,'Programmes lists'!B:B,'Programmes lists'!E:E, \"Not found\")","v":0},{"$f":"_xlfn.XLOOKUP(B1184,'Programmes lists'!B:B,'Programmes lists'!G:G,\"Not found\")","v":"Minimum of 50% in grade 12 pass for \n•\tEnglish HL or FAL "},{"$f":"_xlfn.XLOOKUP(B1184,'Programmes lists'!B:B,'Programmes lists'!F:F,\"Not found\")","v":512}]
["Senior and FET ","Specialising in English and History","HITV3605",{"$f":"_xlfn.XLOOKUP(C1185,'RAW module list'!A:A,'RAW module list'!B:B, \"Not found\")","v":"History Teaching 1: Further Education and Training phase"},{"$f":"_xlfn.XLOOKUP(C1185,'RAW module list'!A:A,'RAW module list'!C:C, \"Not found\")","v":6},{"$f":"_xlfn.XLOOKUP(C1185,'RAW module list'!A:A,'RAW module list'!D:D, \"Not found\")","v":20},{"$f":"_xlfn.XLOOKUP(C1185,'RAW module list'!A:A,'RAW module list'!E:E, \"Not found\")","v":"HIST1534 & 1644 & HIST2614 & HIST2624"},"Third Year",{"$f":"_xlfn.XLOOKUP(B1185,'Programmes lists'!B:B,'Programmes lists'!D:D)","v":"BC736519 "},{"$f":"_xlfn.XLOOKUP(B1185,'Programmes lists'!B:B,'Programmes lists'!E:E, \"Not found\")","v":0},{"$f":"_xlfn.XLOOKUP(B1185,'Programmes lists'!B:B,'Programmes lists'!G:G,\"Not found\")","v":"Minimum of 50% in grade 12 pass for \n•\tEnglish HL or FAL "},{"$f":"_xlfn.XLOOKUP(B1185,'Programmes lists'!B:B,'Programmes lists'!F:F,\"Not found\")","v":512}]
["Senior and FET ","Specialising in English and History","LSPT3605",{"$f":"_xlfn.XLOOKUP(C1186,'RAW module list'!A:A,'RAW module list'!B:B, \"Not found\")","v":"Learner support as third didactics "},{"$f":"_xlfn.XLOOKUP(C1186,'RAW module list'!A:A,'RAW module list'!C:C, \"Not found\")","v":6},{"$f":"_xlfn.XLOOKUP(C1186,'RAW module list'!A:A,'RAW module list'!D:D, \"Not found\")","v":20},{"$f":"_xlfn.XLOOKUP(C1186,'RAW module list'!A:A,'RAW module list'!E:E, \"Not found\")","v":0},"Third Year",{"$f":"_xlfn.XLOOKUP(B1186,'Programmes lists'!B:B,'Programmes lists'!D:D)","v":"BC736519 "},{"$f":"_xlfn.XLOOKUP(B1186,'Programmes lists'!B:B,'Programmes lists'!E:E, \"Not found\")","v":0},{"$f":"_xlfn.XLOOKUP(B1186,'Programmes lists'!B:B,'Programmes lists'!G:G,\"Not found\")","v":"Minimum of 50% in grade 12 pass for \n•\tEnglish HL or FAL "},{"$f":"_xlfn.XLOOKUP(B1186,'Programmes lists'!B:B,'Programmes lists'!F:F,\"Not found\")","v":512}]
["Senior and FET ","Specialising in English and History","EDUB3714",{"$f":"_xlfn.XLOOKUP(C1187,'RAW module list'!A:A,'RAW module list'!B:B, \"Not found\")","v":"Education Studies 3.1 Education systems in global and national context"},{"$f":"_xlfn.XLOOKUP(C1187,'RAW module list'!A:A,'RAW module list'!C:C, \"Not found\")","v":7},{"$f":"_xlfn.XLOOKUP(C1187,'RAW module list'!A:A,'RAW module list'!D:D, \"Not found\")","v":16},{"$f":"_xlfn.XLOOKUP(C1187,'RAW module list'!A:A,'RAW module list'!E:E, \"Not found\")","v":"EDUB1613 & EDUB1623& EDUB2714 & EDUB2724"},"Third Year",{"$f":"_xlfn.XLOOKUP(B1187,'Programmes lists'!B:B,'Programmes lists'!D:D)","v":"BC736519 "},{"$f":"_xlfn.XLOOKUP(B1187,'Programmes lists'!B:B,'Programmes lists'!E:E, \"Not found\")","v":0},{"$f":"_xlfn.XLOOKUP(B1187,'Programmes lists'!B:B,'Programmes lists'!G:G,\"Not found\")","v":"Minimum of 50% in grade 12 pass for \n•\tEnglish HL or FAL "},{"$f":"_xlfn.XLOOKUP(B1187,'Programmes lists'!B:B,'Programmes lists'!F:F,\"Not found\")","v":512}]
["Senior and FET ","Specialising in English and History","ENED3514",{"$f":"_xlfn.XLOOKUP(C1188,'RAW module list'!A:A,'RAW module list'!B:B, \"Not found\")","v":"Entrepreneurship in Education "},{"$f":"_xlfn.XLOOKUP(C1188,'RAW module list'!A:A,'RAW module list'!C:C, \"Not found\")","v":5},{"$f":"_xlfn.XLOOKUP(C1188,'RAW module list'!A:A,'RAW module list'!D:D, \"Not found\")","v":16},{"$f":"_xlfn.XLOOKUP(C1188,'RAW module list'!A:A,'RAW module list'!E:E, \"Not found\")","v":0},"Third Year",{"$f":"_xlfn.XLOOKUP(B1188,'Programmes lists'!B:B,'Programmes lists'!D:D)","v":"BC736519 "},{"$f":"_xlfn.XLOOKUP(B1188,'Programmes lists'!B:B,'Programmes lists'!E:E, \"Not found\")","v":0},{"$f":"_xlfn.XLOOKUP(B1188,'Programmes lists'!B:B,'Programmes lists'!G:G,\"Not found\")","v":"Minimum of 50% in grade 12 pass for \n•\tEnglish HL or FAL "},{"$f":"_xlfn.XLOOKUP(B1188,'Programmes lists'!B:B,'Programmes lists'!F:F,\"Not found\")","v":512}]
["Senior and FET ","Specialising in English and History","SICL3512 OR SSCL3512 OR GAFR3512 OR ZUCL3512",{"$f":"_xlfn.XLOOKUP(C1189,'RAW module list'!A:A,'RAW module list'!B:B, \"Not found\")","v":"Conversational Sign Language OR Conversational Sesotho OR Conversational Afrikaans OR Conversational IsiZulu"},{"$f":"_xlfn.XLOOKUP(C1189,'RAW module list'!A:A,'RAW module list'!C:C, \"Not found\")","v":5},{"$f":"_xlfn.XLOOKUP(C1189,'RAW module list'!A:A,'RAW module list'!D:D, \"Not found\")","v":8},{"$f":"_xlfn.XLOOKUP(C1189,'RAW module list'!A:A,'RAW module list'!E:E, \"Not found\")","v":"No previous exposure to the language"},"Third Year",{"$f":"_xlfn.XLOOKUP(B1189,'Programmes lists'!B:B,'Programmes lists'!D:D)","v":"BC736519 "},{"$f":"_xlfn.XLOOKUP(B1189,'Programmes lists'!B:B,'Programmes lists'!E:E, \"Not found\")","v":0},{"$f":"_xlfn.XLOOKUP(B1189,'Programmes lists'!B:B,'Programmes lists'!G:G,\"Not found\")","v":"Minimum of 50% in grade 12 pass for \n•\tEnglish HL or FAL "},{"$f":"_xlfn.XLOOKUP(B1189,'Programmes lists'!B:B,'Programmes lists'!F:F,\"Not found\")","v":512}]
["Senior and FET ","Specialising in English and History","WILV3606",{"$f":"_xlfn.XLOOKUP(C1190,'RAW module list'!A:A,'RAW module list'!B:B, \"Not found\")","v":"Teaching Practice 3"},{"$f":"_xlfn.XLOOKUP(C1190,'RAW module list'!A:A,'RAW module list'!C:C, \"Not found\")","v":6},{"$f":"_xlfn.XLOOKUP(C1190,'RAW module list'!A:A,'RAW module list'!D:D, \"Not found\")","v":24},{"$f":"_xlfn.XLOOKUP(C1190,'RAW module list'!A:A,'RAW module list'!E:E, \"Not found\")","v":"TPRV2502"},"Third Year",{"$f":"_xlfn.XLOOKUP(B1190,'Programmes lists'!B:B,'Programmes lists'!D:D)","v":"BC736519 "},{"$f":"_xlfn.XLOOKUP(B1190,'Programmes lists'!B:B,'Programmes lists'!E:E, \"Not found\")","v":0},{"$f":"_xlfn.XLOOKUP(B1190,'Programmes lists'!B:B,'Programmes lists'!G:G,\"Not found\")","v":"Minimum of 50% in grade 12 pass for \n•\tEnglish HL or FAL "},{"$f":"_xlfn.XLOOKUP(B1190,'Programmes lists'!B:B,'Programmes lists'!F:F,\"Not found\")","v":512}]
["Senior and FET ","Specialising in English and History","EDUB3724",{"$f":"_xlfn.XLOOKUP(C1191,'RAW module list'!A:A,'RAW module list'!B:B, \"Not found\")","v":"Education Studies 3.2: Contemporary Education Theory in the current social context"},{"$f":"_xlfn.XLOOKUP(C1191,'RAW module list'!A:A,'RAW module list'!C:C, \"Not found\")","v":7},{"$f":"_xlfn.XLOOKUP(C1191,'RAW module list'!A:A,'RAW module list'!D:D, \"Not found\")","v":16},{"$f":"_xlfn.XLOOKUP(C1191,'RAW module list'!A:A,'RAW module list'!E:E, \"Not found\")","v":"EDUB1613 & EDUB1623 & EDUB2714 & EDUB2724 & EDUB3714"},"Third Year",{"$f":"_xlfn.XLOOKUP(B1191,'Programmes lists'!B:B,'Programmes lists'!D:D)","v":"BC736519 "},{"$f":"_xlfn.XLOOKUP(B1191,'Programmes lists'!B:B,'Programmes lists'!E:E, \"Not found\")","v":0},{"$f":"_xlfn.XLOOKUP(B1191,'Programmes lists'!B:B,'Programmes lists'!G:G,\"Not found\")","v":"Minimum of 50% in grade 12 pass for \n•\tEnglish HL or FAL "},{"$f":"_xlfn.XLOOKUP(B1191,'Programmes lists'!B:B,'Programmes lists'!F:F,\"Not found\")","v":512}]
["Senior and FET ","Specialising in English and History","SICL3522 OR SSCL3522 OR GAFR3522 OR ZUCL3522",{"$f":"_xlfn.XLOOKUP(C1192,'RAW module list'!A:A,'RAW module list'!B:B, \"Not found\")","v":"Conversational Sign Language OR Conversational Sesotho OR Conversational Afrikaans OR Conversational IsiZulu"},{"$f":"_xlfn.XLOOKUP(C1192,'RAW module list'!A:A,'RAW module list'!C:C, \"Not found\")","v":5},{"$f":"_xlfn.XLOOKUP(C1192,'RAW module list'!A:A,'RAW module list'!D:D, \"Not found\")","v":8},{"$f":"_xlfn.XLOOKUP(C1192,'RAW module list'!A:A,'RAW module list'!E:E, \"Not found\")","v":"Continue with the conversational language chosen in Semester 1"},"Third Year",{"$f":"_xlfn.XLOOKUP(B1192,'Programmes lists'!B:B,'Programmes lists'!D:D)","v":"BC736519 "},{"$f":"_xlfn.XLOOKUP(B1192,'Programmes lists'!B:B,'Programmes lists'!E:E, \"Not found\")","v":0},{"$f":"_xlfn.XLOOKUP(B1192,'Programmes lists'!B:B,'Programmes lists'!G:G,\"Not found\")","v":"Minimum of 50% in grade 12 pass for \n•\tEnglish HL or FAL "},{"$f":"_xlfn.XLOOKUP(B1192,'Programmes lists'!B:B,'Programmes lists'!F:F,\"Not found\")","v":512}]
["Senior and FET ","Specialising in English and History","Special Requirement:","Choose three didactics modules according to subjects in  previous  years; HITV is compulsory for this programme",null,null,null,"Third Year",{"$f":"_xlfn.XLOOKUP(B1193,'Programmes lists'!B:B,'Programmes lists'!D:D)","v":"BC736519 "},{"$f":"_xlfn.XLOOKUP(B1193,'Programmes lists'!B:B,'Programmes lists'!E:E, \"Not found\")","v":0},{"$f":"_xlfn.XLOOKUP(B1193,'Programmes lists'!B:B,'Programmes lists'!G:G,\"Not found\")","v":"Minimum of 50% in grade 12 pass for \n•\tEnglish HL or FAL "},{"$f":"_xlfn.XLOOKUP(B1193,'Programmes lists'!B:B,'Programmes lists'!F:F,\"Not found\")","v":512}]
["Senior and FET ","Specialising in English and History","EHTV4705",{"$f":"_xlfn.XLOOKUP(C1194,'RAW module list'!A:A,'RAW module list'!B:B, \"Not found\")","v":"English Home Language teaching 2: Further Education and Training phase"},{"$f":"_xlfn.XLOOKUP(C1194,'RAW module list'!A:A,'RAW module list'!C:C, \"Not found\")","v":7},{"$f":"_xlfn.XLOOKUP(C1194,'RAW module list'!A:A,'RAW module list'!D:D, \"Not found\")","v":20},{"$f":"_xlfn.XLOOKUP(C1194,'RAW module list'!A:A,'RAW module list'!E:E, \"Not found\")","v":"EHTV3605"},"Fourth Year",{"$f":"_xlfn.XLOOKUP(B1194,'Programmes lists'!B:B,'Programmes lists'!D:D)","v":"BC736519 "},{"$f":"_xlfn.XLOOKUP(B1194,'Programmes lists'!B:B,'Programmes lists'!E:E, \"Not found\")","v":0},{"$f":"_xlfn.XLOOKUP(B1194,'Programmes lists'!B:B,'Programmes lists'!G:G,\"Not found\")","v":"Minimum of 50% in grade 12 pass for \n•\tEnglish HL or FAL "},{"$f":"_xlfn.XLOOKUP(B1194,'Programmes lists'!B:B,'Programmes lists'!F:F,\"Not found\")","v":512},"Continue with three didactics modules according to subjects in previous years "]
["Senior and FET ","Specialising in English and History","EHTS4705",{"$f":"_xlfn.XLOOKUP(C1195,'RAW module list'!A:A,'RAW module list'!B:B, \"Not found\")","v":"English home language Teaching 2: Senior Phase"},{"$f":"_xlfn.XLOOKUP(C1195,'RAW module list'!A:A,'RAW module list'!C:C, \"Not found\")","v":7},{"$f":"_xlfn.XLOOKUP(C1195,'RAW module list'!A:A,'RAW module list'!D:D, \"Not found\")","v":-20},{"$f":"_xlfn.XLOOKUP(C1195,'RAW module list'!A:A,'RAW module list'!E:E, \"Not found\")","v":"EHTS3605"},"Fourth Year",{"$f":"_xlfn.XLOOKUP(B1195,'Programmes lists'!B:B,'Programmes lists'!D:D)","v":"BC736519 "},{"$f":"_xlfn.XLOOKUP(B1195,'Programmes lists'!B:B,'Programmes lists'!E:E, \"Not found\")","v":0},{"$f":"_xlfn.XLOOKUP(B1195,'Programmes lists'!B:B,'Programmes lists'!G:G,\"Not found\")","v":"Minimum of 50% in grade 12 pass for \n•\tEnglish HL or FAL "},{"$f":"_xlfn.XLOOKUP(B1195,'Programmes lists'!B:B,'Programmes lists'!F:F,\"Not found\")","v":512}]
["Senior and FET ","Specialising in English and History","HITV4705",{"$f":"_xlfn.XLOOKUP(C1196,'RAW module list'!A:A,'RAW module list'!B:B, \"Not found\")","v":"History Teaching Home Language 2:  FET Phase"},{"$f":"_xlfn.XLOOKUP(C1196,'RAW module list'!A:A,'RAW module list'!C:C, \"Not found\")","v":7},{"$f":"_xlfn.XLOOKUP(C1196,'RAW module list'!A:A,'RAW module list'!D:D, \"Not found\")","v":20},{"$f":"_xlfn.XLOOKUP(C1196,'RAW module list'!A:A,'RAW module list'!E:E, \"Not found\")","v":"HITV3605"},"Fourth Year",{"$f":"_xlfn.XLOOKUP(B1196,'Programmes lists'!B:B,'Programmes lists'!D:D)","v":"BC736519 "},{"$f":"_xlfn.XLOOKUP(B1196,'Programmes lists'!B:B,'Programmes lists'!E:E, \"Not found\")","v":0},{"$f":"_xlfn.XLOOKUP(B1196,'Programmes lists'!B:B,'Programmes lists'!G:G,\"Not found\")","v":"Minimum of 50% in grade 12 pass for \n•\tEnglish HL or FAL "},{"$f":"_xlfn.XLOOKUP(B1196,'Programmes lists'!B:B,'Programmes lists'!F:F,\"Not found\")","v":512}]
["Senior and FET ","Specialising in English and History","LSPT4705",{"$f":"_xlfn.XLOOKUP(C1197,'RAW module list'!A:A,'RAW module list'!B:B, \"Not found\")","v":"Third didactics subject"},{"$f":"_xlfn.XLOOKUP(C1197,'RAW module list'!A:A,'RAW module list'!C:C, \"Not found\")","v":7},{"$f":"_xlfn.XLOOKUP(C1197,'RAW module list'!A:A,'RAW module list'!D:D, \"Not found\")","v":20},{"$f":"_xlfn.XLOOKUP(C1197,'RAW module list'!A:A,'RAW module list'!E:E, \"Not found\")","v":"LSPT3605"},"Fourth Year",{"$f":"_xlfn.XLOOKUP(B1197,'Programmes lists'!B:B,'Programmes lists'!D:D)","v":"BC736519 "},{"$f":"_xlfn.XLOOKUP(B1197,'Programmes lists'!B:B,'Programmes lists'!E:E, \"Not found\")","v":0},{"$f":"_xlfn.XLOOKUP(B1197,'Programmes lists'!B:B,'Programmes lists'!G:G,\"Not found\")","v":"Minimum of 50% in grade 12 pass for \n•\tEnglish HL or FAL "},{"$f":"_xlfn.XLOOKUP(B1197,'Programmes lists'!B:B,'Programmes lists'!F:F,\"Not found\")","v":512}]
["Senior and FET ","Specialising in English and History","WILV4700",{"$f":"_xlfn.XLOOKUP(C1198,'RAW module list'!A:A,'RAW module list'!B:B, \"Not found\")","v":"Teaching Practice 4"},{"$f":"_xlfn.XLOOKUP(C1198,'RAW module list'!A:A,'RAW module list'!C:C, \"Not found\")","v":7},{"$f":"_xlfn.XLOOKUP(C1198,'RAW module list'!A:A,'RAW module list'!D:D, \"Not found\")","v":40},{"$f":"_xlfn.XLOOKUP(C1198,'RAW module list'!A:A,'RAW module list'!E:E, \"Not found\")","v":"WILV3606"},"Fourth Year",{"$f":"_xlfn.XLOOKUP(B1198,'Programmes lists'!B:B,'Programmes lists'!D:D)","v":"BC736519 "},{"$f":"_xlfn.XLOOKUP(B1198,'Programmes lists'!B:B,'Programmes lists'!E:E, \"Not found\")","v":0},{"$f":"_xlfn.XLOOKUP(B1198,'Programmes lists'!B:B,'Programmes lists'!G:G,\"Not found\")","v":"Minimum of 50% in grade 12 pass for \n•\tEnglish HL or FAL "},{"$f":"_xlfn.XLOOKUP(B1198,'Programmes lists'!B:B,'Programmes lists'!F:F,\"Not found\")","v":512}]
["Senior and FET ","Specialising in English and History","Special Requirement:","Continue with three didactics modules according to subjects in previous years ",null,null,null,"Fourth Year",{"$f":"_xlfn.XLOOKUP(B1199,'Programmes lists'!B:B,'Programmes lists'!D:D)","v":"BC736519 "},{"$f":"_xlfn.XLOOKUP(B1199,'Programmes lists'!B:B,'Programmes lists'!E:E, \"Not found\")","v":0},{"$f":"_xlfn.XLOOKUP(B1199,'Programmes lists'!B:B,'Programmes lists'!G:G,\"Not found\")","v":"Minimum of 50% in grade 12 pass for \n•\tEnglish HL or FAL "},{"$f":"_xlfn.XLOOKUP(B1199,'Programmes lists'!B:B,'Programmes lists'!F:F,\"Not found\")","v":512}]
["Senior and FET ","Specialising in Sesotho and History","SSML1514",{"$f":"_xlfn.XLOOKUP(C1200,'RAW module list'!A:A,'RAW module list'!B:B, \"Not found\")","v":"Sesotho language structure "},{"$f":"_xlfn.XLOOKUP(C1200,'RAW module list'!A:A,'RAW module list'!C:C, \"Not found\")","v":5},{"$f":"_xlfn.XLOOKUP(C1200,'RAW module list'!A:A,'RAW module list'!D:D, \"Not found\")","v":16},{"$f":"_xlfn.XLOOKUP(C1200,'RAW module list'!A:A,'RAW module list'!E:E, \"Not found\")","v":0},"First Year",{"$f":"_xlfn.XLOOKUP(B1200,'Programmes lists'!B:B,'Programmes lists'!D:D)","v":"BC736511"},{"$f":"_xlfn.XLOOKUP(B1200,'Programmes lists'!B:B,'Programmes lists'!E:E, \"Not found\")","v":"QC736511 "},{"$f":"_xlfn.XLOOKUP(B1200,'Programmes lists'!B:B,'Programmes lists'!G:G,\"Not found\")","v":"Minimum of 50% in grade 12 pass for \n•\tSesotho HL "},{"$f":"_xlfn.XLOOKUP(B1200,'Programmes lists'!B:B,'Programmes lists'!F:F,\"Not found\")","v":512}]
["Senior and FET ","Specialising in Sesotho and History","HIST1534",{"$f":"_xlfn.XLOOKUP(C1201,'RAW module list'!A:A,'RAW module list'!B:B, \"Not found\")","v":"A brief history of the whole world"},{"$f":"_xlfn.XLOOKUP(C1201,'RAW module list'!A:A,'RAW module list'!C:C, \"Not found\")","v":5},{"$f":"_xlfn.XLOOKUP(C1201,'RAW module list'!A:A,'RAW module list'!D:D, \"Not found\")","v":16},{"$f":"_xlfn.XLOOKUP(C1201,'RAW module list'!A:A,'RAW module list'!E:E, \"Not found\")","v":0},"First Year",{"$f":"_xlfn.XLOOKUP(B1201,'Programmes lists'!B:B,'Programmes lists'!D:D)","v":"BC736511"},{"$f":"_xlfn.XLOOKUP(B1201,'Programmes lists'!B:B,'Programmes lists'!E:E, \"Not found\")","v":"QC736511 "},{"$f":"_xlfn.XLOOKUP(B1201,'Programmes lists'!B:B,'Programmes lists'!G:G,\"Not found\")","v":"Minimum of 50% in grade 12 pass for \n•\tSesotho HL "},{"$f":"_xlfn.XLOOKUP(B1201,'Programmes lists'!B:B,'Programmes lists'!F:F,\"Not found\")","v":512}]
["Senior and FET ","Specialising in Sesotho and History","LLST1513",{"$f":"_xlfn.XLOOKUP(C1202,'RAW module list'!A:A,'RAW module list'!B:B, \"Not found\")","v":"Lifelong Learning Skills"},{"$f":"_xlfn.XLOOKUP(C1202,'RAW module list'!A:A,'RAW module list'!C:C, \"Not found\")","v":5},{"$f":"_xlfn.XLOOKUP(C1202,'RAW module list'!A:A,'RAW module list'!D:D, \"Not found\")","v":12},{"$f":"_xlfn.XLOOKUP(C1202,'RAW module list'!A:A,'RAW module list'!E:E, \"Not found\")","v":0},"First Year",{"$f":"_xlfn.XLOOKUP(B1202,'Programmes lists'!B:B,'Programmes lists'!D:D)","v":"BC736511"},{"$f":"_xlfn.XLOOKUP(B1202,'Programmes lists'!B:B,'Programmes lists'!E:E, \"Not found\")","v":"QC736511 "},{"$f":"_xlfn.XLOOKUP(B1202,'Programmes lists'!B:B,'Programmes lists'!G:G,\"Not found\")","v":"Minimum of 50% in grade 12 pass for \n•\tSesotho HL "},{"$f":"_xlfn.XLOOKUP(B1202,'Programmes lists'!B:B,'Programmes lists'!F:F,\"Not found\")","v":512}]
["Senior and FET ","Specialising in Sesotho and History","EDUB1613",{"$f":"_xlfn.XLOOKUP(C1203,'RAW module list'!A:A,'RAW module list'!B:B, \"Not found\")","v":"Education Studies 1.1 The Individual in the learning context"},{"$f":"_xlfn.XLOOKUP(C1203,'RAW module list'!A:A,'RAW module list'!C:C, \"Not found\")","v":6},{"$f":"_xlfn.XLOOKUP(C1203,'RAW module list'!A:A,'RAW module list'!D:D, \"Not found\")","v":12},{"$f":"_xlfn.XLOOKUP(C1203,'RAW module list'!A:A,'RAW module list'!E:E, \"Not found\")","v":0},"First Year",{"$f":"_xlfn.XLOOKUP(B1203,'Programmes lists'!B:B,'Programmes lists'!D:D)","v":"BC736511"},{"$f":"_xlfn.XLOOKUP(B1203,'Programmes lists'!B:B,'Programmes lists'!E:E, \"Not found\")","v":"QC736511 "},{"$f":"_xlfn.XLOOKUP(B1203,'Programmes lists'!B:B,'Programmes lists'!G:G,\"Not found\")","v":"Minimum of 50% in grade 12 pass for \n•\tSesotho HL "},{"$f":"_xlfn.XLOOKUP(B1203,'Programmes lists'!B:B,'Programmes lists'!F:F,\"Not found\")","v":512}]
["Senior and FET ","Specialising in Sesotho and History","TPRV1502",{"$f":"_xlfn.XLOOKUP(C1204,'RAW module list'!A:A,'RAW module list'!B:B, \"Not found\")","v":"Teaching Practice 1 "},{"$f":"_xlfn.XLOOKUP(C1204,'RAW module list'!A:A,'RAW module list'!C:C, \"Not found\")","v":5},{"$f":"_xlfn.XLOOKUP(C1204,'RAW module list'!A:A,'RAW module list'!D:D, \"Not found\")","v":8},{"$f":"_xlfn.XLOOKUP(C1204,'RAW module list'!A:A,'RAW module list'!E:E, \"Not found\")","v":0},"First Year",{"$f":"_xlfn.XLOOKUP(B1204,'Programmes lists'!B:B,'Programmes lists'!D:D)","v":"BC736511"},{"$f":"_xlfn.XLOOKUP(B1204,'Programmes lists'!B:B,'Programmes lists'!E:E, \"Not found\")","v":"QC736511 "},{"$f":"_xlfn.XLOOKUP(B1204,'Programmes lists'!B:B,'Programmes lists'!G:G,\"Not found\")","v":"Minimum of 50% in grade 12 pass for \n•\tSesotho HL "},{"$f":"_xlfn.XLOOKUP(B1204,'Programmes lists'!B:B,'Programmes lists'!F:F,\"Not found\")","v":512}]
["Senior and FET ","Specialising in Sesotho and History","UFSS1504",{"$f":"_xlfn.XLOOKUP(C1205,'RAW module list'!A:A,'RAW module list'!B:B, \"Not found\")","v":"Undergraduate core curriculum"},{"$f":"_xlfn.XLOOKUP(C1205,'RAW module list'!A:A,'RAW module list'!C:C, \"Not found\")","v":5},{"$f":"_xlfn.XLOOKUP(C1205,'RAW module list'!A:A,'RAW module list'!D:D, \"Not found\")","v":-16},{"$f":"_xlfn.XLOOKUP(C1205,'RAW module list'!A:A,'RAW module list'!E:E, \"Not found\")","v":0},"First Year",{"$f":"_xlfn.XLOOKUP(B1205,'Programmes lists'!B:B,'Programmes lists'!D:D)","v":"BC736511"},{"$f":"_xlfn.XLOOKUP(B1205,'Programmes lists'!B:B,'Programmes lists'!E:E, \"Not found\")","v":"QC736511 "},{"$f":"_xlfn.XLOOKUP(B1205,'Programmes lists'!B:B,'Programmes lists'!G:G,\"Not found\")","v":"Minimum of 50% in grade 12 pass for \n•\tSesotho HL "},{"$f":"_xlfn.XLOOKUP(B1205,'Programmes lists'!B:B,'Programmes lists'!F:F,\"Not found\")","v":512}]
["Senior and FET ","Specialising in Sesotho and History","EALT1508",{"$f":"_xlfn.XLOOKUP(C1206,'RAW module list'!A:A,'RAW module list'!B:B, \"Not found\")","v":"English Academic Literacy for Education "},{"$f":"_xlfn.XLOOKUP(C1206,'RAW module list'!A:A,'RAW module list'!C:C, \"Not found\")","v":5},{"$f":"_xlfn.XLOOKUP(C1206,'RAW module list'!A:A,'RAW module list'!D:D, \"Not found\")","v":-32},{"$f":"_xlfn.XLOOKUP(C1206,'RAW module list'!A:A,'RAW module list'!E:E, \"Not found\")","v":"NBT requirements not met"},"First Year",{"$f":"_xlfn.XLOOKUP(B1206,'Programmes lists'!B:B,'Programmes lists'!D:D)","v":"BC736511"},{"$f":"_xlfn.XLOOKUP(B1206,'Programmes lists'!B:B,'Programmes lists'!E:E, \"Not found\")","v":"QC736511 "},{"$f":"_xlfn.XLOOKUP(B1206,'Programmes lists'!B:B,'Programmes lists'!G:G,\"Not found\")","v":"Minimum of 50% in grade 12 pass for \n•\tSesotho HL "},{"$f":"_xlfn.XLOOKUP(B1206,'Programmes lists'!B:B,'Programmes lists'!F:F,\"Not found\")","v":512}]
["Senior and FET ","Specialising in Sesotho and History","SSMT1524",{"$f":"_xlfn.XLOOKUP(C1207,'RAW module list'!A:A,'RAW module list'!B:B, \"Not found\")","v":"Prose fiction in Sesotho"},{"$f":"_xlfn.XLOOKUP(C1207,'RAW module list'!A:A,'RAW module list'!C:C, \"Not found\")","v":5},{"$f":"_xlfn.XLOOKUP(C1207,'RAW module list'!A:A,'RAW module list'!D:D, \"Not found\")","v":16},{"$f":"_xlfn.XLOOKUP(C1207,'RAW module list'!A:A,'RAW module list'!E:E, \"Not found\")","v":"SSML1514"},"First Year",{"$f":"_xlfn.XLOOKUP(B1207,'Programmes lists'!B:B,'Programmes lists'!D:D)","v":"BC736511"},{"$f":"_xlfn.XLOOKUP(B1207,'Programmes lists'!B:B,'Programmes lists'!E:E, \"Not found\")","v":"QC736511 "},{"$f":"_xlfn.XLOOKUP(B1207,'Programmes lists'!B:B,'Programmes lists'!G:G,\"Not found\")","v":"Minimum of 50% in grade 12 pass for \n•\tSesotho HL "},{"$f":"_xlfn.XLOOKUP(B1207,'Programmes lists'!B:B,'Programmes lists'!F:F,\"Not found\")","v":512}]
["Senior and FET ","Specialising in Sesotho and History","HIST1644",{"$f":"_xlfn.XLOOKUP(C1208,'RAW module list'!A:A,'RAW module list'!B:B, \"Not found\")","v":"Histories, Historians and History-makers"},{"$f":"_xlfn.XLOOKUP(C1208,'RAW module list'!A:A,'RAW module list'!C:C, \"Not found\")","v":6},{"$f":"_xlfn.XLOOKUP(C1208,'RAW module list'!A:A,'RAW module list'!D:D, \"Not found\")","v":16},{"$f":"_xlfn.XLOOKUP(C1208,'RAW module list'!A:A,'RAW module list'!E:E, \"Not found\")","v":0},"First Year",{"$f":"_xlfn.XLOOKUP(B1208,'Programmes lists'!B:B,'Programmes lists'!D:D)","v":"BC736511"},{"$f":"_xlfn.XLOOKUP(B1208,'Programmes lists'!B:B,'Programmes lists'!E:E, \"Not found\")","v":"QC736511 "},{"$f":"_xlfn.XLOOKUP(B1208,'Programmes lists'!B:B,'Programmes lists'!G:G,\"Not found\")","v":"Minimum of 50% in grade 12 pass for \n•\tSesotho HL "},{"$f":"_xlfn.XLOOKUP(B1208,'Programmes lists'!B:B,'Programmes lists'!F:F,\"Not found\")","v":512}]
["Senior and FET ","Specialising in Sesotho and History","EDUB1623",{"$f":"_xlfn.XLOOKUP(C1209,'RAW module list'!A:A,'RAW module list'!B:B, \"Not found\")","v":"Education Studies 1.2 What it means to educate: Theoretical perspectives and their significance for SA education"},{"$f":"_xlfn.XLOOKUP(C1209,'RAW module list'!A:A,'RAW module list'!C:C, \"Not found\")","v":6},{"$f":"_xlfn.XLOOKUP(C1209,'RAW module list'!A:A,'RAW module list'!D:D, \"Not found\")","v":12},{"$f":"_xlfn.XLOOKUP(C1209,'RAW module list'!A:A,'RAW module list'!E:E, \"Not found\")","v":0},"First Year",{"$f":"_xlfn.XLOOKUP(B1209,'Programmes lists'!B:B,'Programmes lists'!D:D)","v":"BC736511"},{"$f":"_xlfn.XLOOKUP(B1209,'Programmes lists'!B:B,'Programmes lists'!E:E, \"Not found\")","v":"QC736511 "},{"$f":"_xlfn.XLOOKUP(B1209,'Programmes lists'!B:B,'Programmes lists'!G:G,\"Not found\")","v":"Minimum of 50% in grade 12 pass for \n•\tSesotho HL "},{"$f":"_xlfn.XLOOKUP(B1209,'Programmes lists'!B:B,'Programmes lists'!F:F,\"Not found\")","v":512}]
["Senior and FET ","Specialising in Sesotho and History","GPEV1623",{"$f":"_xlfn.XLOOKUP(C1210,'RAW module list'!A:A,'RAW module list'!B:B, \"Not found\")","v":"General Pedagogy 1: Managing the Curriculum"},{"$f":"_xlfn.XLOOKUP(C1210,'RAW module list'!A:A,'RAW module list'!C:C, \"Not found\")","v":6},{"$f":"_xlfn.XLOOKUP(C1210,'RAW module list'!A:A,'RAW module list'!D:D, \"Not found\")","v":12},{"$f":"_xlfn.XLOOKUP(C1210,'RAW module list'!A:A,'RAW module list'!E:E, \"Not found\")","v":0},"First Year",{"$f":"_xlfn.XLOOKUP(B1210,'Programmes lists'!B:B,'Programmes lists'!D:D)","v":"BC736511"},{"$f":"_xlfn.XLOOKUP(B1210,'Programmes lists'!B:B,'Programmes lists'!E:E, \"Not found\")","v":"QC736511 "},{"$f":"_xlfn.XLOOKUP(B1210,'Programmes lists'!B:B,'Programmes lists'!G:G,\"Not found\")","v":"Minimum of 50% in grade 12 pass for \n•\tSesotho HL "},{"$f":"_xlfn.XLOOKUP(B1210,'Programmes lists'!B:B,'Programmes lists'!F:F,\"Not found\")","v":512}]
["Senior and FET ","Specialising in Sesotho and History","SSML2614",{"$f":"_xlfn.XLOOKUP(C1211,'RAW module list'!A:A,'RAW module list'!B:B, \"Not found\")","v":"Sociolinguistics in Sesotho"},{"$f":"_xlfn.XLOOKUP(C1211,'RAW module list'!A:A,'RAW module list'!C:C, \"Not found\")","v":6},{"$f":"_xlfn.XLOOKUP(C1211,'RAW module list'!A:A,'RAW module list'!D:D, \"Not found\")","v":16},{"$f":"_xlfn.XLOOKUP(C1211,'RAW module list'!A:A,'RAW module list'!E:E, \"Not found\")","v":"SSML1514 & SSMT1524"},"Second Year",{"$f":"_xlfn.XLOOKUP(B1211,'Programmes lists'!B:B,'Programmes lists'!D:D)","v":"BC736511"},{"$f":"_xlfn.XLOOKUP(B1211,'Programmes lists'!B:B,'Programmes lists'!E:E, \"Not found\")","v":"QC736511 "},{"$f":"_xlfn.XLOOKUP(B1211,'Programmes lists'!B:B,'Programmes lists'!G:G,\"Not found\")","v":"Minimum of 50% in grade 12 pass for \n•\tSesotho HL "},{"$f":"_xlfn.XLOOKUP(B1211,'Programmes lists'!B:B,'Programmes lists'!F:F,\"Not found\")","v":512}]
["Senior and FET ","Specialising in Sesotho and History","HIST2614",{"$f":"_xlfn.XLOOKUP(C1212,'RAW module list'!A:A,'RAW module list'!B:B, \"Not found\")","v":"The Rise of Nationalism in South Africa and Africa and the resistance to it "},{"$f":"_xlfn.XLOOKUP(C1212,'RAW module list'!A:A,'RAW module list'!C:C, \"Not found\")","v":6},{"$f":"_xlfn.XLOOKUP(C1212,'RAW module list'!A:A,'RAW module list'!D:D, \"Not found\")","v":16},{"$f":"_xlfn.XLOOKUP(C1212,'RAW module list'!A:A,'RAW module list'!E:E, \"Not found\")","v":0},"Second Year",{"$f":"_xlfn.XLOOKUP(B1212,'Programmes lists'!B:B,'Programmes lists'!D:D)","v":"BC736511"},{"$f":"_xlfn.XLOOKUP(B1212,'Programmes lists'!B:B,'Programmes lists'!E:E, \"Not found\")","v":"QC736511 "},{"$f":"_xlfn.XLOOKUP(B1212,'Programmes lists'!B:B,'Programmes lists'!G:G,\"Not found\")","v":"Minimum of 50% in grade 12 pass for \n•\tSesotho HL "},{"$f":"_xlfn.XLOOKUP(B1212,'Programmes lists'!B:B,'Programmes lists'!F:F,\"Not found\")","v":512}]
["Senior and FET ","Specialising in Sesotho and History","EDUB2714",{"$f":"_xlfn.XLOOKUP(C1213,'RAW module list'!A:A,'RAW module list'!B:B, \"Not found\")","v":"Education Studies 2: Teaching and Learning in Education Context"},{"$f":"_xlfn.XLOOKUP(C1213,'RAW module list'!A:A,'RAW module list'!C:C, \"Not found\")","v":7},{"$f":"_xlfn.XLOOKUP(C1213,'RAW module list'!A:A,'RAW module list'!D:D, \"Not found\")","v":16},{"$f":"_xlfn.XLOOKUP(C1213,'RAW module list'!A:A,'RAW module list'!E:E, \"Not found\")","v":"EDUB1613 & EDUB1623"},"Second Year",{"$f":"_xlfn.XLOOKUP(B1213,'Programmes lists'!B:B,'Programmes lists'!D:D)","v":"BC736511"},{"$f":"_xlfn.XLOOKUP(B1213,'Programmes lists'!B:B,'Programmes lists'!E:E, \"Not found\")","v":"QC736511 "},{"$f":"_xlfn.XLOOKUP(B1213,'Programmes lists'!B:B,'Programmes lists'!G:G,\"Not found\")","v":"Minimum of 50% in grade 12 pass for \n•\tSesotho HL "},{"$f":"_xlfn.XLOOKUP(B1213,'Programmes lists'!B:B,'Programmes lists'!F:F,\"Not found\")","v":512}]
["Senior and FET ","Specialising in Sesotho and History","GPEV2613",{"$f":"_xlfn.XLOOKUP(C1214,'RAW module list'!A:A,'RAW module list'!B:B, \"Not found\")","v":"General Pedagogy 2.1"},{"$f":"_xlfn.XLOOKUP(C1214,'RAW module list'!A:A,'RAW module list'!C:C, \"Not found\")","v":6},{"$f":"_xlfn.XLOOKUP(C1214,'RAW module list'!A:A,'RAW module list'!D:D, \"Not found\")","v":12},{"$f":"_xlfn.XLOOKUP(C1214,'RAW module list'!A:A,'RAW module list'!E:E, \"Not found\")","v":"GPEV1623"},"Second Year",{"$f":"_xlfn.XLOOKUP(B1214,'Programmes lists'!B:B,'Programmes lists'!D:D)","v":"BC736511"},{"$f":"_xlfn.XLOOKUP(B1214,'Programmes lists'!B:B,'Programmes lists'!E:E, \"Not found\")","v":"QC736511 "},{"$f":"_xlfn.XLOOKUP(B1214,'Programmes lists'!B:B,'Programmes lists'!G:G,\"Not found\")","v":"Minimum of 50% in grade 12 pass for \n•\tSesotho HL "},{"$f":"_xlfn.XLOOKUP(B1214,'Programmes lists'!B:B,'Programmes lists'!F:F,\"Not found\")","v":512}]
["Senior and FET ","Specialising in Sesotho and History","ELLT2504",{"$f":"_xlfn.XLOOKUP(C1215,'RAW module list'!A:A,'RAW module list'!B:B, \"Not found\")","v":"English language skills for teaching"},{"$f":"_xlfn.XLOOKUP(C1215,'RAW module list'!A:A,'RAW module list'!C:C, \"Not found\")","v":5},{"$f":"_xlfn.XLOOKUP(C1215,'RAW module list'!A:A,'RAW module list'!D:D, \"Not found\")","v":16},{"$f":"_xlfn.XLOOKUP(C1215,'RAW module list'!A:A,'RAW module list'!E:E, \"Not found\")","v":0},"Second Year",{"$f":"_xlfn.XLOOKUP(B1215,'Programmes lists'!B:B,'Programmes lists'!D:D)","v":"BC736511"},{"$f":"_xlfn.XLOOKUP(B1215,'Programmes lists'!B:B,'Programmes lists'!E:E, \"Not found\")","v":"QC736511 "},{"$f":"_xlfn.XLOOKUP(B1215,'Programmes lists'!B:B,'Programmes lists'!G:G,\"Not found\")","v":"Minimum of 50% in grade 12 pass for \n•\tSesotho HL "},{"$f":"_xlfn.XLOOKUP(B1215,'Programmes lists'!B:B,'Programmes lists'!F:F,\"Not found\")","v":512}]
["Senior and FET ","Specialising in Sesotho and History","TPRV2502",{"$f":"_xlfn.XLOOKUP(C1216,'RAW module list'!A:A,'RAW module list'!B:B, \"Not found\")","v":"Teaching Practice 2"},{"$f":"_xlfn.XLOOKUP(C1216,'RAW module list'!A:A,'RAW module list'!C:C, \"Not found\")","v":5},{"$f":"_xlfn.XLOOKUP(C1216,'RAW module list'!A:A,'RAW module list'!D:D, \"Not found\")","v":8},{"$f":"_xlfn.XLOOKUP(C1216,'RAW module list'!A:A,'RAW module list'!E:E, \"Not found\")","v":"TPRV1502"},"Second Year",{"$f":"_xlfn.XLOOKUP(B1216,'Programmes lists'!B:B,'Programmes lists'!D:D)","v":"BC736511"},{"$f":"_xlfn.XLOOKUP(B1216,'Programmes lists'!B:B,'Programmes lists'!E:E, \"Not found\")","v":"QC736511 "},{"$f":"_xlfn.XLOOKUP(B1216,'Programmes lists'!B:B,'Programmes lists'!G:G,\"Not found\")","v":"Minimum of 50% in grade 12 pass for \n•\tSesotho HL "},{"$f":"_xlfn.XLOOKUP(B1216,'Programmes lists'!B:B,'Programmes lists'!F:F,\"Not found\")","v":512}]
["Senior and FET ","Specialising in Sesotho and History","SSMT2624",{"$f":"_xlfn.XLOOKUP(C1217,'RAW module list'!A:A,'RAW module list'!B:B, \"Not found\")","v":"Sesotho"},{"$f":"_xlfn.XLOOKUP(C1217,'RAW module list'!A:A,'RAW module list'!C:C, \"Not found\")","v":6},{"$f":"_xlfn.XLOOKUP(C1217,'RAW module list'!A:A,'RAW module list'!D:D, \"Not found\")","v":16},{"$f":"_xlfn.XLOOKUP(C1217,'RAW module list'!A:A,'RAW module list'!E:E, \"Not found\")","v":"SSML2614 "},"Second Year",{"$f":"_xlfn.XLOOKUP(B1217,'Programmes lists'!B:B,'Programmes lists'!D:D)","v":"BC736511"},{"$f":"_xlfn.XLOOKUP(B1217,'Programmes lists'!B:B,'Programmes lists'!E:E, \"Not found\")","v":"QC736511 "},{"$f":"_xlfn.XLOOKUP(B1217,'Programmes lists'!B:B,'Programmes lists'!G:G,\"Not found\")","v":"Minimum of 50% in grade 12 pass for \n•\tSesotho HL "},{"$f":"_xlfn.XLOOKUP(B1217,'Programmes lists'!B:B,'Programmes lists'!F:F,\"Not found\")","v":512}]
["Senior and FET ","Specialising in Sesotho and History","HIST2624",{"$f":"_xlfn.XLOOKUP(C1218,'RAW module list'!A:A,'RAW module list'!B:B, \"Not found\")","v":"Twentieth Century Global Clashes "},{"$f":"_xlfn.XLOOKUP(C1218,'RAW module list'!A:A,'RAW module list'!C:C, \"Not found\")","v":7},{"$f":"_xlfn.XLOOKUP(C1218,'RAW module list'!A:A,'RAW module list'!D:D, \"Not found\")","v":16},{"$f":"_xlfn.XLOOKUP(C1218,'RAW module list'!A:A,'RAW module list'!E:E, \"Not found\")","v":0},"Second Year",{"$f":"_xlfn.XLOOKUP(B1218,'Programmes lists'!B:B,'Programmes lists'!D:D)","v":"BC736511"},{"$f":"_xlfn.XLOOKUP(B1218,'Programmes lists'!B:B,'Programmes lists'!E:E, \"Not found\")","v":"QC736511 "},{"$f":"_xlfn.XLOOKUP(B1218,'Programmes lists'!B:B,'Programmes lists'!G:G,\"Not found\")","v":"Minimum of 50% in grade 12 pass for \n•\tSesotho HL "},{"$f":"_xlfn.XLOOKUP(B1218,'Programmes lists'!B:B,'Programmes lists'!F:F,\"Not found\")","v":512}]
["Senior and FET ","Specialising in Sesotho and History","EDUB2724",{"$f":"_xlfn.XLOOKUP(C1219,'RAW module list'!A:A,'RAW module list'!B:B, \"Not found\")","v":"Education Studies 2: Human Relationships in Education context"},{"$f":"_xlfn.XLOOKUP(C1219,'RAW module list'!A:A,'RAW module list'!C:C, \"Not found\")","v":7},{"$f":"_xlfn.XLOOKUP(C1219,'RAW module list'!A:A,'RAW module list'!D:D, \"Not found\")","v":16},{"$f":"_xlfn.XLOOKUP(C1219,'RAW module list'!A:A,'RAW module list'!E:E, \"Not found\")","v":"EDUB2714"},"Second Year",{"$f":"_xlfn.XLOOKUP(B1219,'Programmes lists'!B:B,'Programmes lists'!D:D)","v":"BC736511"},{"$f":"_xlfn.XLOOKUP(B1219,'Programmes lists'!B:B,'Programmes lists'!E:E, \"Not found\")","v":"QC736511 "},{"$f":"_xlfn.XLOOKUP(B1219,'Programmes lists'!B:B,'Programmes lists'!G:G,\"Not found\")","v":"Minimum of 50% in grade 12 pass for \n•\tSesotho HL "},{"$f":"_xlfn.XLOOKUP(B1219,'Programmes lists'!B:B,'Programmes lists'!F:F,\"Not found\")","v":512}]
["Senior and FET ","Specialising in Sesotho and History","GPEV2623",{"$f":"_xlfn.XLOOKUP(C1220,'RAW module list'!A:A,'RAW module list'!B:B, \"Not found\")","v":"General Pedagogy 2.2: Assessment"},{"$f":"_xlfn.XLOOKUP(C1220,'RAW module list'!A:A,'RAW module list'!C:C, \"Not found\")","v":6},{"$f":"_xlfn.XLOOKUP(C1220,'RAW module list'!A:A,'RAW module list'!D:D, \"Not found\")","v":12},{"$f":"_xlfn.XLOOKUP(C1220,'RAW module list'!A:A,'RAW module list'!E:E, \"Not found\")","v":"GPEV2613"},"Second Year",{"$f":"_xlfn.XLOOKUP(B1220,'Programmes lists'!B:B,'Programmes lists'!D:D)","v":"BC736511"},{"$f":"_xlfn.XLOOKUP(B1220,'Programmes lists'!B:B,'Programmes lists'!E:E, \"Not found\")","v":"QC736511 "},{"$f":"_xlfn.XLOOKUP(B1220,'Programmes lists'!B:B,'Programmes lists'!G:G,\"Not found\")","v":"Minimum of 50% in grade 12 pass for \n•\tSesotho HL "},{"$f":"_xlfn.XLOOKUP(B1220,'Programmes lists'!B:B,'Programmes lists'!F:F,\"Not found\")","v":512}]
["Senior and FET ","Specialising in Sesotho and History","SHTV3605",{"$f":"_xlfn.XLOOKUP(C1221,'RAW module list'!A:A,'RAW module list'!B:B, \"Not found\")","v":"Sesotho Home Language Teaching  1: Further Education and Training"},{"$f":"_xlfn.XLOOKUP(C1221,'RAW module list'!A:A,'RAW module list'!C:C, \"Not found\")","v":6},{"$f":"_xlfn.XLOOKUP(C1221,'RAW module list'!A:A,'RAW module list'!D:D, \"Not found\")","v":20},{"$f":"_xlfn.XLOOKUP(C1221,'RAW module list'!A:A,'RAW module list'!E:E, \"Not found\")","v":"SSML2614 & SSMT2624"},"Third Year",{"$f":"_xlfn.XLOOKUP(B1221,'Programmes lists'!B:B,'Programmes lists'!D:D)","v":"BC736511"},{"$f":"_xlfn.XLOOKUP(B1221,'Programmes lists'!B:B,'Programmes lists'!E:E, \"Not found\")","v":"QC736511 "},{"$f":"_xlfn.XLOOKUP(B1221,'Programmes lists'!B:B,'Programmes lists'!G:G,\"Not found\")","v":"Minimum of 50% in grade 12 pass for \n•\tSesotho HL "},{"$f":"_xlfn.XLOOKUP(B1221,'Programmes lists'!B:B,'Programmes lists'!F:F,\"Not found\")","v":512},"Choose three didactics  according to subjects taken previous years; HITV is compulsory "]
["Senior and FET ","Specialising in Sesotho and History","SHTS3605",{"$f":"_xlfn.XLOOKUP(C1222,'RAW module list'!A:A,'RAW module list'!B:B, \"Not found\")","v":"Sesotho Home language Teaching 1: Senior Phase"},{"$f":"_xlfn.XLOOKUP(C1222,'RAW module list'!A:A,'RAW module list'!C:C, \"Not found\")","v":6},{"$f":"_xlfn.XLOOKUP(C1222,'RAW module list'!A:A,'RAW module list'!D:D, \"Not found\")","v":20},{"$f":"_xlfn.XLOOKUP(C1222,'RAW module list'!A:A,'RAW module list'!E:E, \"Not found\")","v":"SSML1514 & SSMT1524"},"Third Year",{"$f":"_xlfn.XLOOKUP(B1222,'Programmes lists'!B:B,'Programmes lists'!D:D)","v":"BC736511"},{"$f":"_xlfn.XLOOKUP(B1222,'Programmes lists'!B:B,'Programmes lists'!E:E, \"Not found\")","v":"QC736511 "},{"$f":"_xlfn.XLOOKUP(B1222,'Programmes lists'!B:B,'Programmes lists'!G:G,\"Not found\")","v":"Minimum of 50% in grade 12 pass for \n•\tSesotho HL "},{"$f":"_xlfn.XLOOKUP(B1222,'Programmes lists'!B:B,'Programmes lists'!F:F,\"Not found\")","v":512}]
["Senior and FET ","Specialising in Sesotho and History","HITV3605",{"$f":"_xlfn.XLOOKUP(C1223,'RAW module list'!A:A,'RAW module list'!B:B, \"Not found\")","v":"History Teaching 1: Further Education and Training phase"},{"$f":"_xlfn.XLOOKUP(C1223,'RAW module list'!A:A,'RAW module list'!C:C, \"Not found\")","v":6},{"$f":"_xlfn.XLOOKUP(C1223,'RAW module list'!A:A,'RAW module list'!D:D, \"Not found\")","v":20},{"$f":"_xlfn.XLOOKUP(C1223,'RAW module list'!A:A,'RAW module list'!E:E, \"Not found\")","v":"HIST1534 & 1644 & HIST2614 & HIST2624"},"Third Year",{"$f":"_xlfn.XLOOKUP(B1223,'Programmes lists'!B:B,'Programmes lists'!D:D)","v":"BC736511"},{"$f":"_xlfn.XLOOKUP(B1223,'Programmes lists'!B:B,'Programmes lists'!E:E, \"Not found\")","v":"QC736511 "},{"$f":"_xlfn.XLOOKUP(B1223,'Programmes lists'!B:B,'Programmes lists'!G:G,\"Not found\")","v":"Minimum of 50% in grade 12 pass for \n•\tSesotho HL "},{"$f":"_xlfn.XLOOKUP(B1223,'Programmes lists'!B:B,'Programmes lists'!F:F,\"Not found\")","v":512}]
["Senior and FET ","Specialising in Sesotho and History","LSPT3605",{"$f":"_xlfn.XLOOKUP(C1224,'RAW module list'!A:A,'RAW module list'!B:B, \"Not found\")","v":"Learner support as third didactics "},{"$f":"_xlfn.XLOOKUP(C1224,'RAW module list'!A:A,'RAW module list'!C:C, \"Not found\")","v":6},{"$f":"_xlfn.XLOOKUP(C1224,'RAW module list'!A:A,'RAW module list'!D:D, \"Not found\")","v":20},{"$f":"_xlfn.XLOOKUP(C1224,'RAW module list'!A:A,'RAW module list'!E:E, \"Not found\")","v":0},"Third Year",{"$f":"_xlfn.XLOOKUP(B1224,'Programmes lists'!B:B,'Programmes lists'!D:D)","v":"BC736511"},{"$f":"_xlfn.XLOOKUP(B1224,'Programmes lists'!B:B,'Programmes lists'!E:E, \"Not found\")","v":"QC736511 "},{"$f":"_xlfn.XLOOKUP(B1224,'Programmes lists'!B:B,'Programmes lists'!G:G,\"Not found\")","v":"Minimum of 50% in grade 12 pass for \n•\tSesotho HL "},{"$f":"_xlfn.XLOOKUP(B1224,'Programmes lists'!B:B,'Programmes lists'!F:F,\"Not found\")","v":512}]
["Senior and FET ","Specialising in Sesotho and History","ENED3514",{"$f":"_xlfn.XLOOKUP(C1225,'RAW module list'!A:A,'RAW module list'!B:B, \"Not found\")","v":"Entrepreneurship in Education "},{"$f":"_xlfn.XLOOKUP(C1225,'RAW module list'!A:A,'RAW module list'!C:C, \"Not found\")","v":5},{"$f":"_xlfn.XLOOKUP(C1225,'RAW module list'!A:A,'RAW module list'!D:D, \"Not found\")","v":16},{"$f":"_xlfn.XLOOKUP(C1225,'RAW module list'!A:A,'RAW module list'!E:E, \"Not found\")","v":0},"Third Year",{"$f":"_xlfn.XLOOKUP(B1225,'Programmes lists'!B:B,'Programmes lists'!D:D)","v":"BC736511"},{"$f":"_xlfn.XLOOKUP(B1225,'Programmes lists'!B:B,'Programmes lists'!E:E, \"Not found\")","v":"QC736511 "},{"$f":"_xlfn.XLOOKUP(B1225,'Programmes lists'!B:B,'Programmes lists'!G:G,\"Not found\")","v":"Minimum of 50% in grade 12 pass for \n•\tSesotho HL "},{"$f":"_xlfn.XLOOKUP(B1225,'Programmes lists'!B:B,'Programmes lists'!F:F,\"Not found\")","v":512}]
["Senior and FET ","Specialising in Sesotho and History","EDUB3714",{"$f":"_xlfn.XLOOKUP(C1226,'RAW module list'!A:A,'RAW module list'!B:B, \"Not found\")","v":"Education Studies 3.1 Education systems in global and national context"},{"$f":"_xlfn.XLOOKUP(C1226,'RAW module list'!A:A,'RAW module list'!C:C, \"Not found\")","v":7},{"$f":"_xlfn.XLOOKUP(C1226,'RAW module list'!A:A,'RAW module list'!D:D, \"Not found\")","v":16},{"$f":"_xlfn.XLOOKUP(C1226,'RAW module list'!A:A,'RAW module list'!E:E, \"Not found\")","v":"EDUB1613 & EDUB1623& EDUB2714 & EDUB2724"},"Third Year",{"$f":"_xlfn.XLOOKUP(B1226,'Programmes lists'!B:B,'Programmes lists'!D:D)","v":"BC736511"},{"$f":"_xlfn.XLOOKUP(B1226,'Programmes lists'!B:B,'Programmes lists'!E:E, \"Not found\")","v":"QC736511 "},{"$f":"_xlfn.XLOOKUP(B1226,'Programmes lists'!B:B,'Programmes lists'!G:G,\"Not found\")","v":"Minimum of 50% in grade 12 pass for \n•\tSesotho HL "},{"$f":"_xlfn.XLOOKUP(B1226,'Programmes lists'!B:B,'Programmes lists'!F:F,\"Not found\")","v":512}]
["Senior and FET ","Specialising in Sesotho and History","SICL3512 OR GAFR3512 OR ZUCL3512",{"$f":"_xlfn.XLOOKUP(C1227,'RAW module list'!A:A,'RAW module list'!B:B, \"Not found\")","v":"Conversational Language: Sesotho OR Conversational Afrikaans OR Conversational IsiZulu"},{"$f":"_xlfn.XLOOKUP(C1227,'RAW module list'!A:A,'RAW module list'!C:C, \"Not found\")","v":5},{"$f":"_xlfn.XLOOKUP(C1227,'RAW module list'!A:A,'RAW module list'!D:D, \"Not found\")","v":8},{"$f":"_xlfn.XLOOKUP(C1227,'RAW module list'!A:A,'RAW module list'!E:E, \"Not found\")","v":"No previous exposure to the language"},"Third Year",{"$f":"_xlfn.XLOOKUP(B1227,'Programmes lists'!B:B,'Programmes lists'!D:D)","v":"BC736511"},{"$f":"_xlfn.XLOOKUP(B1227,'Programmes lists'!B:B,'Programmes lists'!E:E, \"Not found\")","v":"QC736511 "},{"$f":"_xlfn.XLOOKUP(B1227,'Programmes lists'!B:B,'Programmes lists'!G:G,\"Not found\")","v":"Minimum of 50% in grade 12 pass for \n•\tSesotho HL "},{"$f":"_xlfn.XLOOKUP(B1227,'Programmes lists'!B:B,'Programmes lists'!F:F,\"Not found\")","v":512}]
["Senior and FET ","Specialising in Sesotho and History","WILV3606",{"$f":"_xlfn.XLOOKUP(C1228,'RAW module list'!A:A,'RAW module list'!B:B, \"Not found\")","v":"Teaching Practice 3"},{"$f":"_xlfn.XLOOKUP(C1228,'RAW module list'!A:A,'RAW module list'!C:C, \"Not found\")","v":6},{"$f":"_xlfn.XLOOKUP(C1228,'RAW module list'!A:A,'RAW module list'!D:D, \"Not found\")","v":24},{"$f":"_xlfn.XLOOKUP(C1228,'RAW module list'!A:A,'RAW module list'!E:E, \"Not found\")","v":"TPRV2502"},"Third Year",{"$f":"_xlfn.XLOOKUP(B1228,'Programmes lists'!B:B,'Programmes lists'!D:D)","v":"BC736511"},{"$f":"_xlfn.XLOOKUP(B1228,'Programmes lists'!B:B,'Programmes lists'!E:E, \"Not found\")","v":"QC736511 "},{"$f":"_xlfn.XLOOKUP(B1228,'Programmes lists'!B:B,'Programmes lists'!G:G,\"Not found\")","v":"Minimum of 50% in grade 12 pass for \n•\tSesotho HL "},{"$f":"_xlfn.XLOOKUP(B1228,'Programmes lists'!B:B,'Programmes lists'!F:F,\"Not found\")","v":512}]
["Senior and FET ","Specialising in Sesotho and History","EDUB3724",{"$f":"_xlfn.XLOOKUP(C1229,'RAW module list'!A:A,'RAW module list'!B:B, \"Not found\")","v":"Education Studies 3.2: Contemporary Education Theory in the current social context"},{"$f":"_xlfn.XLOOKUP(C1229,'RAW module list'!A:A,'RAW module list'!C:C, \"Not found\")","v":7},{"$f":"_xlfn.XLOOKUP(C1229,'RAW module list'!A:A,'RAW module list'!D:D, \"Not found\")","v":16},{"$f":"_xlfn.XLOOKUP(C1229,'RAW module list'!A:A,'RAW module list'!E:E, \"Not found\")","v":"EDUB1613 & EDUB1623 & EDUB2714 & EDUB2724 & EDUB3714"},"Third Year",{"$f":"_xlfn.XLOOKUP(B1229,'Programmes lists'!B:B,'Programmes lists'!D:D)","v":"BC736511"},{"$f":"_xlfn.XLOOKUP(B1229,'Programmes lists'!B:B,'Programmes lists'!E:E, \"Not found\")","v":"QC736511 "},{"$f":"_xlfn.XLOOKUP(B1229,'Programmes lists'!B:B,'Programmes lists'!G:G,\"Not found\")","v":"Minimum of 50% in grade 12 pass for \n•\tSesotho HL "},{"$f":"_xlfn.XLOOKUP(B1229,'Programmes lists'!B:B,'Programmes lists'!F:F,\"Not found\")","v":512}]
["Senior and FET ","Specialising in Sesotho and History","SICL3522 OR GAFR3522 OR ZUCL3522",{"$f":"_xlfn.XLOOKUP(C1230,'RAW module list'!A:A,'RAW module list'!B:B, \"Not found\")","v":"Conversational Language: Sesotho OR Conversational Afrikaans OR Conversational IsiZulu"},{"$f":"_xlfn.XLOOKUP(C1230,'RAW module list'!A:A,'RAW module list'!C:C, \"Not found\")","v":5},{"$f":"_xlfn.XLOOKUP(C1230,'RAW module list'!A:A,'RAW module list'!D:D, \"Not found\")","v":8},{"$f":"_xlfn.XLOOKUP(C1230,'RAW module list'!A:A,'RAW module list'!E:E, \"Not found\")","v":"Continue with the conversational language chosen in Semester 1"},"Third Year",{"$f":"_xlfn.XLOOKUP(B1230,'Programmes lists'!B:B,'Programmes lists'!D:D)","v":"BC736511"},{"$f":"_xlfn.XLOOKUP(B1230,'Programmes lists'!B:B,'Programmes lists'!E:E, \"Not found\")","v":"QC736511 "},{"$f":"_xlfn.XLOOKUP(B1230,'Programmes lists'!B:B,'Programmes lists'!G:G,\"Not found\")","v":"Minimum of 50% in grade 12 pass for \n•\tSesotho HL "},{"$f":"_xlfn.XLOOKUP(B1230,'Programmes lists'!B:B,'Programmes lists'!F:F,\"Not found\")","v":512}]
["Senior and FET ","Specialising in Sesotho and History","Special Requirement:","Choose three didactics  according to subjects taken previous years; HITV is compulsory ",null,null,null,"Third Year",{"$f":"_xlfn.XLOOKUP(B1231,'Programmes lists'!B:B,'Programmes lists'!D:D)","v":"BC736511"},{"$f":"_xlfn.XLOOKUP(B1231,'Programmes lists'!B:B,'Programmes lists'!E:E, \"Not found\")","v":"QC736511 "},{"$f":"_xlfn.XLOOKUP(B1231,'Programmes lists'!B:B,'Programmes lists'!G:G,\"Not found\")","v":"Minimum of 50% in grade 12 pass for \n•\tSesotho HL "},{"$f":"_xlfn.XLOOKUP(B1231,'Programmes lists'!B:B,'Programmes lists'!F:F,\"Not found\")","v":512}]
["Senior and FET ","Specialising in Sesotho and History","SHTV4705",{"$f":"_xlfn.XLOOKUP(C1232,'RAW module list'!A:A,'RAW module list'!B:B, \"Not found\")","v":"Sesotho Home language Teaching  2: Further Education and Training phase"},{"$f":"_xlfn.XLOOKUP(C1232,'RAW module list'!A:A,'RAW module list'!C:C, \"Not found\")","v":7},{"$f":"_xlfn.XLOOKUP(C1232,'RAW module list'!A:A,'RAW module list'!D:D, \"Not found\")","v":20},{"$f":"_xlfn.XLOOKUP(C1232,'RAW module list'!A:A,'RAW module list'!E:E, \"Not found\")","v":"SHTV3605"},"Fourth Year",{"$f":"_xlfn.XLOOKUP(B1232,'Programmes lists'!B:B,'Programmes lists'!D:D)","v":"BC736511"},{"$f":"_xlfn.XLOOKUP(B1232,'Programmes lists'!B:B,'Programmes lists'!E:E, \"Not found\")","v":"QC736511 "},{"$f":"_xlfn.XLOOKUP(B1232,'Programmes lists'!B:B,'Programmes lists'!G:G,\"Not found\")","v":"Minimum of 50% in grade 12 pass for \n•\tSesotho HL "},{"$f":"_xlfn.XLOOKUP(B1232,'Programmes lists'!B:B,'Programmes lists'!F:F,\"Not found\")","v":512},"Continue with three didactics according to subjects taken in previous year; HITV is compulsory"]
["Senior and FET ","Specialising in Sesotho and History","SHTS4705",{"$f":"_xlfn.XLOOKUP(C1233,'RAW module list'!A:A,'RAW module list'!B:B, \"Not found\")","v":"Sesotho Home language Teaching  2: Senior Phase"},{"$f":"_xlfn.XLOOKUP(C1233,'RAW module list'!A:A,'RAW module list'!C:C, \"Not found\")","v":7},{"$f":"_xlfn.XLOOKUP(C1233,'RAW module list'!A:A,'RAW module list'!D:D, \"Not found\")","v":-20},{"$f":"_xlfn.XLOOKUP(C1233,'RAW module list'!A:A,'RAW module list'!E:E, \"Not found\")","v":"SHTS3605"},"Fourth Year",{"$f":"_xlfn.XLOOKUP(B1233,'Programmes lists'!B:B,'Programmes lists'!D:D)","v":"BC736511"},{"$f":"_xlfn.XLOOKUP(B1233,'Programmes lists'!B:B,'Programmes lists'!E:E, \"Not found\")","v":"QC736511 "},{"$f":"_xlfn.XLOOKUP(B1233,'Programmes lists'!B:B,'Programmes lists'!G:G,\"Not found\")","v":"Minimum of 50% in grade 12 pass for \n•\tSesotho HL "},{"$f":"_xlfn.XLOOKUP(B1233,'Programmes lists'!B:B,'Programmes lists'!F:F,\"Not found\")","v":512}]
["Senior and FET ","Specialising in Sesotho and History","HITV4705",{"$f":"_xlfn.XLOOKUP(C1234,'RAW module list'!A:A,'RAW module list'!B:B, \"Not found\")","v":"History Teaching Home Language 2:  FET Phase"},{"$f":"_xlfn.XLOOKUP(C1234,'RAW module list'!A:A,'RAW module list'!C:C, \"Not found\")","v":7},{"$f":"_xlfn.XLOOKUP(C1234,'RAW module list'!A:A,'RAW module list'!D:D, \"Not found\")","v":20},{"$f":"_xlfn.XLOOKUP(C1234,'RAW module list'!A:A,'RAW module list'!E:E, \"Not found\")","v":"HITV3605"},"Fourth Year",{"$f":"_xlfn.XLOOKUP(B1234,'Programmes lists'!B:B,'Programmes lists'!D:D)","v":"BC736511"},{"$f":"_xlfn.XLOOKUP(B1234,'Programmes lists'!B:B,'Programmes lists'!E:E, \"Not found\")","v":"QC736511 "},{"$f":"_xlfn.XLOOKUP(B1234,'Programmes lists'!B:B,'Programmes lists'!G:G,\"Not found\")","v":"Minimum of 50% in grade 12 pass for \n•\tSesotho HL "},{"$f":"_xlfn.XLOOKUP(B1234,'Programmes lists'!B:B,'Programmes lists'!F:F,\"Not found\")","v":512}]
["Senior and FET ","Specialising in Sesotho and History","LSPT4705",{"$f":"_xlfn.XLOOKUP(C1235,'RAW module list'!A:A,'RAW module list'!B:B, \"Not found\")","v":"Third didactics subject"},{"$f":"_xlfn.XLOOKUP(C1235,'RAW module list'!A:A,'RAW module list'!C:C, \"Not found\")","v":7},{"$f":"_xlfn.XLOOKUP(C1235,'RAW module list'!A:A,'RAW module list'!D:D, \"Not found\")","v":20},{"$f":"_xlfn.XLOOKUP(C1235,'RAW module list'!A:A,'RAW module list'!E:E, \"Not found\")","v":"LSPT3605"},"Fourth Year",{"$f":"_xlfn.XLOOKUP(B1235,'Programmes lists'!B:B,'Programmes lists'!D:D)","v":"BC736511"},{"$f":"_xlfn.XLOOKUP(B1235,'Programmes lists'!B:B,'Programmes lists'!E:E, \"Not found\")","v":"QC736511 "},{"$f":"_xlfn.XLOOKUP(B1235,'Programmes lists'!B:B,'Programmes lists'!G:G,\"Not found\")","v":"Minimum of 50% in grade 12 pass for \n•\tSesotho HL "},{"$f":"_xlfn.XLOOKUP(B1235,'Programmes lists'!B:B,'Programmes lists'!F:F,\"Not found\")","v":512}]
["Senior and FET ","Specialising in Sesotho and History","WILV4700",{"$f":"_xlfn.XLOOKUP(C1236,'RAW module list'!A:A,'RAW module list'!B:B, \"Not found\")","v":"Teaching Practice 4"},{"$f":"_xlfn.XLOOKUP(C1236,'RAW module list'!A:A,'RAW module list'!C:C, \"Not found\")","v":7},{"$f":"_xlfn.XLOOKUP(C1236,'RAW module list'!A:A,'RAW module list'!D:D, \"Not found\")","v":40},{"$f":"_xlfn.XLOOKUP(C1236,'RAW module list'!A:A,'RAW module list'!E:E, \"Not found\")","v":"WILV3606"},"Fourth Year",{"$f":"_xlfn.XLOOKUP(B1236,'Programmes lists'!B:B,'Programmes lists'!D:D)","v":"BC736511"},{"$f":"_xlfn.XLOOKUP(B1236,'Programmes lists'!B:B,'Programmes lists'!E:E, \"Not found\")","v":"QC736511 "},{"$f":"_xlfn.XLOOKUP(B1236,'Programmes lists'!B:B,'Programmes lists'!G:G,\"Not found\")","v":"Minimum of 50% in grade 12 pass for \n•\tSesotho HL "},{"$f":"_xlfn.XLOOKUP(B1236,'Programmes lists'!B:B,'Programmes lists'!F:F,\"Not found\")","v":512}]
["Senior and FET ","Specialising in Sesotho and History","Special Requirement:","Continue with three didactics according to subjects taken in previous year; HITV is compulsory",null,null,null,"Fourth Year",{"$f":"_xlfn.XLOOKUP(B1237,'Programmes lists'!B:B,'Programmes lists'!D:D)","v":"BC736511"},{"$f":"_xlfn.XLOOKUP(B1237,'Programmes lists'!B:B,'Programmes lists'!E:E, \"Not found\")","v":"QC736511 "},{"$f":"_xlfn.XLOOKUP(B1237,'Programmes lists'!B:B,'Programmes lists'!G:G,\"Not found\")","v":"Minimum of 50% in grade 12 pass for \n•\tSesotho HL "},{"$f":"_xlfn.XLOOKUP(B1237,'Programmes lists'!B:B,'Programmes lists'!F:F,\"Not found\")","v":512}]
["Senior and FET ","Specialising in isiZulu and History (QQ)","ZULL1514",{"$f":"_xlfn.XLOOKUP(C1238,'RAW module list'!A:A,'RAW module list'!B:B, \"Not found\")","v":"IsiZulu: Introduction to Linguistics"},{"$f":"_xlfn.XLOOKUP(C1238,'RAW module list'!A:A,'RAW module list'!C:C, \"Not found\")","v":5},{"$f":"_xlfn.XLOOKUP(C1238,'RAW module list'!A:A,'RAW module list'!D:D, \"Not found\")","v":16},{"$f":"_xlfn.XLOOKUP(C1238,'RAW module list'!A:A,'RAW module list'!E:E, \"Not found\")","v":0},"First Year",{"$f":"_xlfn.XLOOKUP(B1238,'Programmes lists'!B:B,'Programmes lists'!D:D)","v":0},{"$f":"_xlfn.XLOOKUP(B1238,'Programmes lists'!B:B,'Programmes lists'!E:E, \"Not found\")","v":"QC736512"},{"$f":"_xlfn.XLOOKUP(B1238,'Programmes lists'!B:B,'Programmes lists'!G:G,\"Not found\")","v":"Minimum of 50% in grade 12 pass for \n•\tisiZulu HL "},{"$f":"_xlfn.XLOOKUP(B1238,'Programmes lists'!B:B,'Programmes lists'!F:F,\"Not found\")","v":512}]
["Senior and FET ","Specialising in isiZulu and History (QQ)","HIST1534",{"$f":"_xlfn.XLOOKUP(C1239,'RAW module list'!A:A,'RAW module list'!B:B, \"Not found\")","v":"A brief history of the whole world"},{"$f":"_xlfn.XLOOKUP(C1239,'RAW module list'!A:A,'RAW module list'!C:C, \"Not found\")","v":5},{"$f":"_xlfn.XLOOKUP(C1239,'RAW module list'!A:A,'RAW module list'!D:D, \"Not found\")","v":16},{"$f":"_xlfn.XLOOKUP(C1239,'RAW module list'!A:A,'RAW module list'!E:E, \"Not found\")","v":0},"First Year",{"$f":"_xlfn.XLOOKUP(B1239,'Programmes lists'!B:B,'Programmes lists'!D:D)","v":0},{"$f":"_xlfn.XLOOKUP(B1239,'Programmes lists'!B:B,'Programmes lists'!E:E, \"Not found\")","v":"QC736512"},{"$f":"_xlfn.XLOOKUP(B1239,'Programmes lists'!B:B,'Programmes lists'!G:G,\"Not found\")","v":"Minimum of 50% in grade 12 pass for \n•\tisiZulu HL "},{"$f":"_xlfn.XLOOKUP(B1239,'Programmes lists'!B:B,'Programmes lists'!F:F,\"Not found\")","v":512}]
["Senior and FET ","Specialising in isiZulu and History (QQ)","LLST1513",{"$f":"_xlfn.XLOOKUP(C1240,'RAW module list'!A:A,'RAW module list'!B:B, \"Not found\")","v":"Lifelong Learning Skills"},{"$f":"_xlfn.XLOOKUP(C1240,'RAW module list'!A:A,'RAW module list'!C:C, \"Not found\")","v":5},{"$f":"_xlfn.XLOOKUP(C1240,'RAW module list'!A:A,'RAW module list'!D:D, \"Not found\")","v":12},{"$f":"_xlfn.XLOOKUP(C1240,'RAW module list'!A:A,'RAW module list'!E:E, \"Not found\")","v":0},"First Year",{"$f":"_xlfn.XLOOKUP(B1240,'Programmes lists'!B:B,'Programmes lists'!D:D)","v":0},{"$f":"_xlfn.XLOOKUP(B1240,'Programmes lists'!B:B,'Programmes lists'!E:E, \"Not found\")","v":"QC736512"},{"$f":"_xlfn.XLOOKUP(B1240,'Programmes lists'!B:B,'Programmes lists'!G:G,\"Not found\")","v":"Minimum of 50% in grade 12 pass for \n•\tisiZulu HL "},{"$f":"_xlfn.XLOOKUP(B1240,'Programmes lists'!B:B,'Programmes lists'!F:F,\"Not found\")","v":512}]
["Senior and FET ","Specialising in isiZulu and History (QQ)","EDUB1613",{"$f":"_xlfn.XLOOKUP(C1241,'RAW module list'!A:A,'RAW module list'!B:B, \"Not found\")","v":"Education Studies 1.1 The Individual in the learning context"},{"$f":"_xlfn.XLOOKUP(C1241,'RAW module list'!A:A,'RAW module list'!C:C, \"Not found\")","v":6},{"$f":"_xlfn.XLOOKUP(C1241,'RAW module list'!A:A,'RAW module list'!D:D, \"Not found\")","v":12},{"$f":"_xlfn.XLOOKUP(C1241,'RAW module list'!A:A,'RAW module list'!E:E, \"Not found\")","v":0},"First Year",{"$f":"_xlfn.XLOOKUP(B1241,'Programmes lists'!B:B,'Programmes lists'!D:D)","v":0},{"$f":"_xlfn.XLOOKUP(B1241,'Programmes lists'!B:B,'Programmes lists'!E:E, \"Not found\")","v":"QC736512"},{"$f":"_xlfn.XLOOKUP(B1241,'Programmes lists'!B:B,'Programmes lists'!G:G,\"Not found\")","v":"Minimum of 50% in grade 12 pass for \n•\tisiZulu HL "},{"$f":"_xlfn.XLOOKUP(B1241,'Programmes lists'!B:B,'Programmes lists'!F:F,\"Not found\")","v":512}]
["Senior and FET ","Specialising in isiZulu and History (QQ)","TPRV1502",{"$f":"_xlfn.XLOOKUP(C1242,'RAW module list'!A:A,'RAW module list'!B:B, \"Not found\")","v":"Teaching Practice 1 "},{"$f":"_xlfn.XLOOKUP(C1242,'RAW module list'!A:A,'RAW module list'!C:C, \"Not found\")","v":5},{"$f":"_xlfn.XLOOKUP(C1242,'RAW module list'!A:A,'RAW module list'!D:D, \"Not found\")","v":8},{"$f":"_xlfn.XLOOKUP(C1242,'RAW module list'!A:A,'RAW module list'!E:E, \"Not found\")","v":0},"First Year",{"$f":"_xlfn.XLOOKUP(B1242,'Programmes lists'!B:B,'Programmes lists'!D:D)","v":0},{"$f":"_xlfn.XLOOKUP(B1242,'Programmes lists'!B:B,'Programmes lists'!E:E, \"Not found\")","v":"QC736512"},{"$f":"_xlfn.XLOOKUP(B1242,'Programmes lists'!B:B,'Programmes lists'!G:G,\"Not found\")","v":"Minimum of 50% in grade 12 pass for \n•\tisiZulu HL "},{"$f":"_xlfn.XLOOKUP(B1242,'Programmes lists'!B:B,'Programmes lists'!F:F,\"Not found\")","v":512}]
["Senior and FET ","Specialising in isiZulu and History (QQ)","UFSS1504",{"$f":"_xlfn.XLOOKUP(C1243,'RAW module list'!A:A,'RAW module list'!B:B, \"Not found\")","v":"Undergraduate core curriculum"},{"$f":"_xlfn.XLOOKUP(C1243,'RAW module list'!A:A,'RAW module list'!C:C, \"Not found\")","v":5},{"$f":"_xlfn.XLOOKUP(C1243,'RAW module list'!A:A,'RAW module list'!D:D, \"Not found\")","v":-16},{"$f":"_xlfn.XLOOKUP(C1243,'RAW module list'!A:A,'RAW module list'!E:E, \"Not found\")","v":0},"First Year",{"$f":"_xlfn.XLOOKUP(B1243,'Programmes lists'!B:B,'Programmes lists'!D:D)","v":0},{"$f":"_xlfn.XLOOKUP(B1243,'Programmes lists'!B:B,'Programmes lists'!E:E, \"Not found\")","v":"QC736512"},{"$f":"_xlfn.XLOOKUP(B1243,'Programmes lists'!B:B,'Programmes lists'!G:G,\"Not found\")","v":"Minimum of 50% in grade 12 pass for \n•\tisiZulu HL "},{"$f":"_xlfn.XLOOKUP(B1243,'Programmes lists'!B:B,'Programmes lists'!F:F,\"Not found\")","v":512}]
["Senior and FET ","Specialising in isiZulu and History (QQ)","EALT1508",{"$f":"_xlfn.XLOOKUP(C1244,'RAW module list'!A:A,'RAW module list'!B:B, \"Not found\")","v":"English Academic Literacy for Education "},{"$f":"_xlfn.XLOOKUP(C1244,'RAW module list'!A:A,'RAW module list'!C:C, \"Not found\")","v":5},{"$f":"_xlfn.XLOOKUP(C1244,'RAW module list'!A:A,'RAW module list'!D:D, \"Not found\")","v":-32},{"$f":"_xlfn.XLOOKUP(C1244,'RAW module list'!A:A,'RAW module list'!E:E, \"Not found\")","v":"NBT requirements not met"},"First Year",{"$f":"_xlfn.XLOOKUP(B1244,'Programmes lists'!B:B,'Programmes lists'!D:D)","v":0},{"$f":"_xlfn.XLOOKUP(B1244,'Programmes lists'!B:B,'Programmes lists'!E:E, \"Not found\")","v":"QC736512"},{"$f":"_xlfn.XLOOKUP(B1244,'Programmes lists'!B:B,'Programmes lists'!G:G,\"Not found\")","v":"Minimum of 50% in grade 12 pass for \n•\tisiZulu HL "},{"$f":"_xlfn.XLOOKUP(B1244,'Programmes lists'!B:B,'Programmes lists'!F:F,\"Not found\")","v":512}]
["Senior and FET ","Specialising in isiZulu and History (QQ)","ZULT1524",{"$f":"_xlfn.XLOOKUP(C1245,'RAW module list'!A:A,'RAW module list'!B:B, \"Not found\")","v":"IsiZulu: Introduction to Literature"},{"$f":"_xlfn.XLOOKUP(C1245,'RAW module list'!A:A,'RAW module list'!C:C, \"Not found\")","v":6},{"$f":"_xlfn.XLOOKUP(C1245,'RAW module list'!A:A,'RAW module list'!D:D, \"Not found\")","v":16},{"$f":"_xlfn.XLOOKUP(C1245,'RAW module list'!A:A,'RAW module list'!E:E, \"Not found\")","v":"ZULL1514"},"First Year",{"$f":"_xlfn.XLOOKUP(B1245,'Programmes lists'!B:B,'Programmes lists'!D:D)","v":0},{"$f":"_xlfn.XLOOKUP(B1245,'Programmes lists'!B:B,'Programmes lists'!E:E, \"Not found\")","v":"QC736512"},{"$f":"_xlfn.XLOOKUP(B1245,'Programmes lists'!B:B,'Programmes lists'!G:G,\"Not found\")","v":"Minimum of 50% in grade 12 pass for \n•\tisiZulu HL "},{"$f":"_xlfn.XLOOKUP(B1245,'Programmes lists'!B:B,'Programmes lists'!F:F,\"Not found\")","v":512}]
["Senior and FET ","Specialising in isiZulu and History (QQ)","HIST1644",{"$f":"_xlfn.XLOOKUP(C1246,'RAW module list'!A:A,'RAW module list'!B:B, \"Not found\")","v":"Histories, Historians and History-makers"},{"$f":"_xlfn.XLOOKUP(C1246,'RAW module list'!A:A,'RAW module list'!C:C, \"Not found\")","v":6},{"$f":"_xlfn.XLOOKUP(C1246,'RAW module list'!A:A,'RAW module list'!D:D, \"Not found\")","v":16},{"$f":"_xlfn.XLOOKUP(C1246,'RAW module list'!A:A,'RAW module list'!E:E, \"Not found\")","v":0},"First Year",{"$f":"_xlfn.XLOOKUP(B1246,'Programmes lists'!B:B,'Programmes lists'!D:D)","v":0},{"$f":"_xlfn.XLOOKUP(B1246,'Programmes lists'!B:B,'Programmes lists'!E:E, \"Not found\")","v":"QC736512"},{"$f":"_xlfn.XLOOKUP(B1246,'Programmes lists'!B:B,'Programmes lists'!G:G,\"Not found\")","v":"Minimum of 50% in grade 12 pass for \n•\tisiZulu HL "},{"$f":"_xlfn.XLOOKUP(B1246,'Programmes lists'!B:B,'Programmes lists'!F:F,\"Not found\")","v":512}]
["Senior and FET ","Specialising in isiZulu and History (QQ)","EDUB1623",{"$f":"_xlfn.XLOOKUP(C1247,'RAW module list'!A:A,'RAW module list'!B:B, \"Not found\")","v":"Education Studies 1.2 What it means to educate: Theoretical perspectives and their significance for SA education"},{"$f":"_xlfn.XLOOKUP(C1247,'RAW module list'!A:A,'RAW module list'!C:C, \"Not found\")","v":6},{"$f":"_xlfn.XLOOKUP(C1247,'RAW module list'!A:A,'RAW module list'!D:D, \"Not found\")","v":12},{"$f":"_xlfn.XLOOKUP(C1247,'RAW module list'!A:A,'RAW module list'!E:E, \"Not found\")","v":0},"First Year",{"$f":"_xlfn.XLOOKUP(B1247,'Programmes lists'!B:B,'Programmes lists'!D:D)","v":0},{"$f":"_xlfn.XLOOKUP(B1247,'Programmes lists'!B:B,'Programmes lists'!E:E, \"Not found\")","v":"QC736512"},{"$f":"_xlfn.XLOOKUP(B1247,'Programmes lists'!B:B,'Programmes lists'!G:G,\"Not found\")","v":"Minimum of 50% in grade 12 pass for \n•\tisiZulu HL "},{"$f":"_xlfn.XLOOKUP(B1247,'Programmes lists'!B:B,'Programmes lists'!F:F,\"Not found\")","v":512}]
["Senior and FET ","Specialising in isiZulu and History (QQ)","GPEV1623",{"$f":"_xlfn.XLOOKUP(C1248,'RAW module list'!A:A,'RAW module list'!B:B, \"Not found\")","v":"General Pedagogy 1: Managing the Curriculum"},{"$f":"_xlfn.XLOOKUP(C1248,'RAW module list'!A:A,'RAW module list'!C:C, \"Not found\")","v":6},{"$f":"_xlfn.XLOOKUP(C1248,'RAW module list'!A:A,'RAW module list'!D:D, \"Not found\")","v":12},{"$f":"_xlfn.XLOOKUP(C1248,'RAW module list'!A:A,'RAW module list'!E:E, \"Not found\")","v":0},"First Year",{"$f":"_xlfn.XLOOKUP(B1248,'Programmes lists'!B:B,'Programmes lists'!D:D)","v":0},{"$f":"_xlfn.XLOOKUP(B1248,'Programmes lists'!B:B,'Programmes lists'!E:E, \"Not found\")","v":"QC736512"},{"$f":"_xlfn.XLOOKUP(B1248,'Programmes lists'!B:B,'Programmes lists'!G:G,\"Not found\")","v":"Minimum of 50% in grade 12 pass for \n•\tisiZulu HL "},{"$f":"_xlfn.XLOOKUP(B1248,'Programmes lists'!B:B,'Programmes lists'!F:F,\"Not found\")","v":512}]
["Senior and FET ","Specialising in isiZulu and History (QQ)","ZULL2614",{"$f":"_xlfn.XLOOKUP(C1249,'RAW module list'!A:A,'RAW module list'!B:B, \"Not found\")","v":"Sociolinguistics in IsiZulu "},{"$f":"_xlfn.XLOOKUP(C1249,'RAW module list'!A:A,'RAW module list'!C:C, \"Not found\")","v":6},{"$f":"_xlfn.XLOOKUP(C1249,'RAW module list'!A:A,'RAW module list'!D:D, \"Not found\")","v":16},{"$f":"_xlfn.XLOOKUP(C1249,'RAW module list'!A:A,'RAW module list'!E:E, \"Not found\")","v":"ZULL1514 & ZULT1524"},"Second Year",{"$f":"_xlfn.XLOOKUP(B1249,'Programmes lists'!B:B,'Programmes lists'!D:D)","v":0},{"$f":"_xlfn.XLOOKUP(B1249,'Programmes lists'!B:B,'Programmes lists'!E:E, \"Not found\")","v":"QC736512"},{"$f":"_xlfn.XLOOKUP(B1249,'Programmes lists'!B:B,'Programmes lists'!G:G,\"Not found\")","v":"Minimum of 50% in grade 12 pass for \n•\tisiZulu HL "},{"$f":"_xlfn.XLOOKUP(B1249,'Programmes lists'!B:B,'Programmes lists'!F:F,\"Not found\")","v":512}]
["Senior and FET ","Specialising in isiZulu and History (QQ)","HIST2614",{"$f":"_xlfn.XLOOKUP(C1250,'RAW module list'!A:A,'RAW module list'!B:B, \"Not found\")","v":"The Rise of Nationalism in South Africa and Africa and the resistance to it "},{"$f":"_xlfn.XLOOKUP(C1250,'RAW module list'!A:A,'RAW module list'!C:C, \"Not found\")","v":6},{"$f":"_xlfn.XLOOKUP(C1250,'RAW module list'!A:A,'RAW module list'!D:D, \"Not found\")","v":16},{"$f":"_xlfn.XLOOKUP(C1250,'RAW module list'!A:A,'RAW module list'!E:E, \"Not found\")","v":0},"Second Year",{"$f":"_xlfn.XLOOKUP(B1250,'Programmes lists'!B:B,'Programmes lists'!D:D)","v":0},{"$f":"_xlfn.XLOOKUP(B1250,'Programmes lists'!B:B,'Programmes lists'!E:E, \"Not found\")","v":"QC736512"},{"$f":"_xlfn.XLOOKUP(B1250,'Programmes lists'!B:B,'Programmes lists'!G:G,\"Not found\")","v":"Minimum of 50% in grade 12 pass for \n•\tisiZulu HL "},{"$f":"_xlfn.XLOOKUP(B1250,'Programmes lists'!B:B,'Programmes lists'!F:F,\"Not found\")","v":512}]
["Senior and FET ","Specialising in isiZulu and History (QQ)","EDUB2714",{"$f":"_xlfn.XLOOKUP(C1251,'RAW module list'!A:A,'RAW module list'!B:B, \"Not found\")","v":"Education Studies 2: Teaching and Learning in Education Context"},{"$f":"_xlfn.XLOOKUP(C1251,'RAW module list'!A:A,'RAW module list'!C:C, \"Not found\")","v":7},{"$f":"_xlfn.XLOOKUP(C1251,'RAW module list'!A:A,'RAW module list'!D:D, \"Not found\")","v":16},{"$f":"_xlfn.XLOOKUP(C1251,'RAW module list'!A:A,'RAW module list'!E:E, \"Not found\")","v":"EDUB1613 & EDUB1623"},"Second Year",{"$f":"_xlfn.XLOOKUP(B1251,'Programmes lists'!B:B,'Programmes lists'!D:D)","v":0},{"$f":"_xlfn.XLOOKUP(B1251,'Programmes lists'!B:B,'Programmes lists'!E:E, \"Not found\")","v":"QC736512"},{"$f":"_xlfn.XLOOKUP(B1251,'Programmes lists'!B:B,'Programmes lists'!G:G,\"Not found\")","v":"Minimum of 50% in grade 12 pass for \n•\tisiZulu HL "},{"$f":"_xlfn.XLOOKUP(B1251,'Programmes lists'!B:B,'Programmes lists'!F:F,\"Not found\")","v":512}]
["Senior and FET ","Specialising in isiZulu and History (QQ)","GPEV2613",{"$f":"_xlfn.XLOOKUP(C1252,'RAW module list'!A:A,'RAW module list'!B:B, \"Not found\")","v":"General Pedagogy 2.1"},{"$f":"_xlfn.XLOOKUP(C1252,'RAW module list'!A:A,'RAW module list'!C:C, \"Not found\")","v":6},{"$f":"_xlfn.XLOOKUP(C1252,'RAW module list'!A:A,'RAW module list'!D:D, \"Not found\")","v":12},{"$f":"_xlfn.XLOOKUP(C1252,'RAW module list'!A:A,'RAW module list'!E:E, \"Not found\")","v":"GPEV1623"},"Second Year",{"$f":"_xlfn.XLOOKUP(B1252,'Programmes lists'!B:B,'Programmes lists'!D:D)","v":0},{"$f":"_xlfn.XLOOKUP(B1252,'Programmes lists'!B:B,'Programmes lists'!E:E, \"Not found\")","v":"QC736512"},{"$f":"_xlfn.XLOOKUP(B1252,'Programmes lists'!B:B,'Programmes lists'!G:G,\"Not found\")","v":"Minimum of 50% in grade 12 pass for \n•\tisiZulu HL "},{"$f":"_xlfn.XLOOKUP(B1252,'Programmes lists'!B:B,'Programmes lists'!F:F,\"Not found\")","v":512}]
["Senior and FET ","Specialising in isiZulu and History (QQ)","ELLT2504",{"$f":"_xlfn.XLOOKUP(C1253,'RAW module list'!A:A,'RAW module list'!B:B, \"Not found\")","v":"English language skills for teaching"},{"$f":"_xlfn.XLOOKUP(C1253,'RAW module list'!A:A,'RAW module list'!C:C, \"Not found\")","v":5},{"$f":"_xlfn.XLOOKUP(C1253,'RAW module list'!A:A,'RAW module list'!D:D, \"Not found\")","v":16},{"$f":"_xlfn.XLOOKUP(C1253,'RAW module list'!A:A,'RAW module list'!E:E, \"Not found\")","v":0},"Second Year",{"$f":"_xlfn.XLOOKUP(B1253,'Programmes lists'!B:B,'Programmes lists'!D:D)","v":0},{"$f":"_xlfn.XLOOKUP(B1253,'Programmes lists'!B:B,'Programmes lists'!E:E, \"Not found\")","v":"QC736512"},{"$f":"_xlfn.XLOOKUP(B1253,'Programmes lists'!B:B,'Programmes lists'!G:G,\"Not found\")","v":"Minimum of 50% in grade 12 pass for \n•\tisiZulu HL "},{"$f":"_xlfn.XLOOKUP(B1253,'Programmes lists'!B:B,'Programmes lists'!F:F,\"Not found\")","v":512}]
["Senior and FET ","Specialising in isiZulu and History (QQ)","TPRV2502",{"$f":"_xlfn.XLOOKUP(C1254,'RAW module list'!A:A,'RAW module list'!B:B, \"Not found\")","v":"Teaching Practice 2"},{"$f":"_xlfn.XLOOKUP(C1254,'RAW module list'!A:A,'RAW module list'!C:C, \"Not found\")","v":5},{"$f":"_xlfn.XLOOKUP(C1254,'RAW module list'!A:A,'RAW module list'!D:D, \"Not found\")","v":8},{"$f":"_xlfn.XLOOKUP(C1254,'RAW module list'!A:A,'RAW module list'!E:E, \"Not found\")","v":"TPRV1502"},"Second Year",{"$f":"_xlfn.XLOOKUP(B1254,'Programmes lists'!B:B,'Programmes lists'!D:D)","v":0},{"$f":"_xlfn.XLOOKUP(B1254,'Programmes lists'!B:B,'Programmes lists'!E:E, \"Not found\")","v":"QC736512"},{"$f":"_xlfn.XLOOKUP(B1254,'Programmes lists'!B:B,'Programmes lists'!G:G,\"Not found\")","v":"Minimum of 50% in grade 12 pass for \n•\tisiZulu HL "},{"$f":"_xlfn.XLOOKUP(B1254,'Programmes lists'!B:B,'Programmes lists'!F:F,\"Not found\")","v":512}]
["Senior and FET ","Specialising in isiZulu and History (QQ)","ZULT2624",{"$f":"_xlfn.XLOOKUP(C1255,'RAW module list'!A:A,'RAW module list'!B:B, \"Not found\")","v":"IsiZulu Poetry and Drama"},{"$f":"_xlfn.XLOOKUP(C1255,'RAW module list'!A:A,'RAW module list'!C:C, \"Not found\")","v":6},{"$f":"_xlfn.XLOOKUP(C1255,'RAW module list'!A:A,'RAW module list'!D:D, \"Not found\")","v":16},{"$f":"_xlfn.XLOOKUP(C1255,'RAW module list'!A:A,'RAW module list'!E:E, \"Not found\")","v":"ZULL2614"},"Second Year",{"$f":"_xlfn.XLOOKUP(B1255,'Programmes lists'!B:B,'Programmes lists'!D:D)","v":0},{"$f":"_xlfn.XLOOKUP(B1255,'Programmes lists'!B:B,'Programmes lists'!E:E, \"Not found\")","v":"QC736512"},{"$f":"_xlfn.XLOOKUP(B1255,'Programmes lists'!B:B,'Programmes lists'!G:G,\"Not found\")","v":"Minimum of 50% in grade 12 pass for \n•\tisiZulu HL "},{"$f":"_xlfn.XLOOKUP(B1255,'Programmes lists'!B:B,'Programmes lists'!F:F,\"Not found\")","v":512}]
["Senior and FET ","Specialising in isiZulu and History (QQ)","HIST2624",{"$f":"_xlfn.XLOOKUP(C1256,'RAW module list'!A:A,'RAW module list'!B:B, \"Not found\")","v":"Twentieth Century Global Clashes "},{"$f":"_xlfn.XLOOKUP(C1256,'RAW module list'!A:A,'RAW module list'!C:C, \"Not found\")","v":7},{"$f":"_xlfn.XLOOKUP(C1256,'RAW module list'!A:A,'RAW module list'!D:D, \"Not found\")","v":16},{"$f":"_xlfn.XLOOKUP(C1256,'RAW module list'!A:A,'RAW module list'!E:E, \"Not found\")","v":0},"Second Year",{"$f":"_xlfn.XLOOKUP(B1256,'Programmes lists'!B:B,'Programmes lists'!D:D)","v":0},{"$f":"_xlfn.XLOOKUP(B1256,'Programmes lists'!B:B,'Programmes lists'!E:E, \"Not found\")","v":"QC736512"},{"$f":"_xlfn.XLOOKUP(B1256,'Programmes lists'!B:B,'Programmes lists'!G:G,\"Not found\")","v":"Minimum of 50% in grade 12 pass for \n•\tisiZulu HL "},{"$f":"_xlfn.XLOOKUP(B1256,'Programmes lists'!B:B,'Programmes lists'!F:F,\"Not found\")","v":512}]
["Senior and FET ","Specialising in isiZulu and History (QQ)","EDUB2724",{"$f":"_xlfn.XLOOKUP(C1257,'RAW module list'!A:A,'RAW module list'!B:B, \"Not found\")","v":"Education Studies 2: Human Relationships in Education context"},{"$f":"_xlfn.XLOOKUP(C1257,'RAW module list'!A:A,'RAW module list'!C:C, \"Not found\")","v":7},{"$f":"_xlfn.XLOOKUP(C1257,'RAW module list'!A:A,'RAW module list'!D:D, \"Not found\")","v":16},{"$f":"_xlfn.XLOOKUP(C1257,'RAW module list'!A:A,'RAW module list'!E:E, \"Not found\")","v":"EDUB2714"},"Second Year",{"$f":"_xlfn.XLOOKUP(B1257,'Programmes lists'!B:B,'Programmes lists'!D:D)","v":0},{"$f":"_xlfn.XLOOKUP(B1257,'Programmes lists'!B:B,'Programmes lists'!E:E, \"Not found\")","v":"QC736512"},{"$f":"_xlfn.XLOOKUP(B1257,'Programmes lists'!B:B,'Programmes lists'!G:G,\"Not found\")","v":"Minimum of 50% in grade 12 pass for \n•\tisiZulu HL "},{"$f":"_xlfn.XLOOKUP(B1257,'Programmes lists'!B:B,'Programmes lists'!F:F,\"Not found\")","v":512}]
["Senior and FET ","Specialising in isiZulu and History (QQ)","GPEV2623",{"$f":"_xlfn.XLOOKUP(C1258,'RAW module list'!A:A,'RAW module list'!B:B, \"Not found\")","v":"General Pedagogy 2.2: Assessment"},{"$f":"_xlfn.XLOOKUP(C1258,'RAW module list'!A:A,'RAW module list'!C:C, \"Not found\")","v":6},{"$f":"_xlfn.XLOOKUP(C1258,'RAW module list'!A:A,'RAW module list'!D:D, \"Not found\")","v":12},{"$f":"_xlfn.XLOOKUP(C1258,'RAW module list'!A:A,'RAW module list'!E:E, \"Not found\")","v":"GPEV2613"},"Second Year",{"$f":"_xlfn.XLOOKUP(B1258,'Programmes lists'!B:B,'Programmes lists'!D:D)","v":0},{"$f":"_xlfn.XLOOKUP(B1258,'Programmes lists'!B:B,'Programmes lists'!E:E, \"Not found\")","v":"QC736512"},{"$f":"_xlfn.XLOOKUP(B1258,'Programmes lists'!B:B,'Programmes lists'!G:G,\"Not found\")","v":"Minimum of 50% in grade 12 pass for \n•\tisiZulu HL "},{"$f":"_xlfn.XLOOKUP(B1258,'Programmes lists'!B:B,'Programmes lists'!F:F,\"Not found\")","v":512}]
["Senior and FET ","Specialising in isiZulu and History (QQ)","ZHTV3605",{"$f":"_xlfn.XLOOKUP(C1259,'RAW module list'!A:A,'RAW module list'!B:B, \"Not found\")","v":"IsiZulu Home Language Teaching  1: Further Education and Training phase"},{"$f":"_xlfn.XLOOKUP(C1259,'RAW module list'!A:A,'RAW module list'!C:C, \"Not found\")","v":6},{"$f":"_xlfn.XLOOKUP(C1259,'RAW module list'!A:A,'RAW module list'!D:D, \"Not found\")","v":20},{"$f":"_xlfn.XLOOKUP(C1259,'RAW module list'!A:A,'RAW module list'!E:E, \"Not found\")","v":"ZULL2614 & ZULT2624"},"Third Year",{"$f":"_xlfn.XLOOKUP(B1259,'Programmes lists'!B:B,'Programmes lists'!D:D)","v":0},{"$f":"_xlfn.XLOOKUP(B1259,'Programmes lists'!B:B,'Programmes lists'!E:E, \"Not found\")","v":"QC736512"},{"$f":"_xlfn.XLOOKUP(B1259,'Programmes lists'!B:B,'Programmes lists'!G:G,\"Not found\")","v":"Minimum of 50% in grade 12 pass for \n•\tisiZulu HL "},{"$f":"_xlfn.XLOOKUP(B1259,'Programmes lists'!B:B,'Programmes lists'!F:F,\"Not found\")","v":512},"Choose three didactics modules according to subjects taken previously; HITV is compulsory"]
["Senior and FET ","Specialising in isiZulu and History (QQ)","ZHTS3605",{"$f":"_xlfn.XLOOKUP(C1260,'RAW module list'!A:A,'RAW module list'!B:B, \"Not found\")","v":"IsiZulu Home language Teaching 1: Senior Phase"},{"$f":"_xlfn.XLOOKUP(C1260,'RAW module list'!A:A,'RAW module list'!C:C, \"Not found\")","v":6},{"$f":"_xlfn.XLOOKUP(C1260,'RAW module list'!A:A,'RAW module list'!D:D, \"Not found\")","v":20},{"$f":"_xlfn.XLOOKUP(C1260,'RAW module list'!A:A,'RAW module list'!E:E, \"Not found\")","v":"ZULL1514 & ZULT1524"},"Third Year",{"$f":"_xlfn.XLOOKUP(B1260,'Programmes lists'!B:B,'Programmes lists'!D:D)","v":0},{"$f":"_xlfn.XLOOKUP(B1260,'Programmes lists'!B:B,'Programmes lists'!E:E, \"Not found\")","v":"QC736512"},{"$f":"_xlfn.XLOOKUP(B1260,'Programmes lists'!B:B,'Programmes lists'!G:G,\"Not found\")","v":"Minimum of 50% in grade 12 pass for \n•\tisiZulu HL "},{"$f":"_xlfn.XLOOKUP(B1260,'Programmes lists'!B:B,'Programmes lists'!F:F,\"Not found\")","v":512}]
["Senior and FET ","Specialising in isiZulu and History (QQ)","HITV3605",{"$f":"_xlfn.XLOOKUP(C1261,'RAW module list'!A:A,'RAW module list'!B:B, \"Not found\")","v":"History Teaching 1: Further Education and Training phase"},{"$f":"_xlfn.XLOOKUP(C1261,'RAW module list'!A:A,'RAW module list'!C:C, \"Not found\")","v":6},{"$f":"_xlfn.XLOOKUP(C1261,'RAW module list'!A:A,'RAW module list'!D:D, \"Not found\")","v":20},{"$f":"_xlfn.XLOOKUP(C1261,'RAW module list'!A:A,'RAW module list'!E:E, \"Not found\")","v":"HIST1534 & 1644 & HIST2614 & HIST2624"},"Third Year",{"$f":"_xlfn.XLOOKUP(B1261,'Programmes lists'!B:B,'Programmes lists'!D:D)","v":0},{"$f":"_xlfn.XLOOKUP(B1261,'Programmes lists'!B:B,'Programmes lists'!E:E, \"Not found\")","v":"QC736512"},{"$f":"_xlfn.XLOOKUP(B1261,'Programmes lists'!B:B,'Programmes lists'!G:G,\"Not found\")","v":"Minimum of 50% in grade 12 pass for \n•\tisiZulu HL "},{"$f":"_xlfn.XLOOKUP(B1261,'Programmes lists'!B:B,'Programmes lists'!F:F,\"Not found\")","v":512}]
["Senior and FET ","Specialising in isiZulu and History (QQ)","LSPT3605",{"$f":"_xlfn.XLOOKUP(C1262,'RAW module list'!A:A,'RAW module list'!B:B, \"Not found\")","v":"Learner support as third didactics "},{"$f":"_xlfn.XLOOKUP(C1262,'RAW module list'!A:A,'RAW module list'!C:C, \"Not found\")","v":6},{"$f":"_xlfn.XLOOKUP(C1262,'RAW module list'!A:A,'RAW module list'!D:D, \"Not found\")","v":20},{"$f":"_xlfn.XLOOKUP(C1262,'RAW module list'!A:A,'RAW module list'!E:E, \"Not found\")","v":0},"Third Year",{"$f":"_xlfn.XLOOKUP(B1262,'Programmes lists'!B:B,'Programmes lists'!D:D)","v":0},{"$f":"_xlfn.XLOOKUP(B1262,'Programmes lists'!B:B,'Programmes lists'!E:E, \"Not found\")","v":"QC736512"},{"$f":"_xlfn.XLOOKUP(B1262,'Programmes lists'!B:B,'Programmes lists'!G:G,\"Not found\")","v":"Minimum of 50% in grade 12 pass for \n•\tisiZulu HL "},{"$f":"_xlfn.XLOOKUP(B1262,'Programmes lists'!B:B,'Programmes lists'!F:F,\"Not found\")","v":512}]
["Senior and FET ","Specialising in isiZulu and History (QQ)","EDUB3714",{"$f":"_xlfn.XLOOKUP(C1263,'RAW module list'!A:A,'RAW module list'!B:B, \"Not found\")","v":"Education Studies 3.1 Education systems in global and national context"},{"$f":"_xlfn.XLOOKUP(C1263,'RAW module list'!A:A,'RAW module list'!C:C, \"Not found\")","v":7},{"$f":"_xlfn.XLOOKUP(C1263,'RAW module list'!A:A,'RAW module list'!D:D, \"Not found\")","v":16},{"$f":"_xlfn.XLOOKUP(C1263,'RAW module list'!A:A,'RAW module list'!E:E, \"Not found\")","v":"EDUB1613 & EDUB1623& EDUB2714 & EDUB2724"},"Third Year",{"$f":"_xlfn.XLOOKUP(B1263,'Programmes lists'!B:B,'Programmes lists'!D:D)","v":0},{"$f":"_xlfn.XLOOKUP(B1263,'Programmes lists'!B:B,'Programmes lists'!E:E, \"Not found\")","v":"QC736512"},{"$f":"_xlfn.XLOOKUP(B1263,'Programmes lists'!B:B,'Programmes lists'!G:G,\"Not found\")","v":"Minimum of 50% in grade 12 pass for \n•\tisiZulu HL "},{"$f":"_xlfn.XLOOKUP(B1263,'Programmes lists'!B:B,'Programmes lists'!F:F,\"Not found\")","v":512}]
["Senior and FET ","Specialising in isiZulu and History (QQ)","ENED3514",{"$f":"_xlfn.XLOOKUP(C1264,'RAW module list'!A:A,'RAW module list'!B:B, \"Not found\")","v":"Entrepreneurship in Education "},{"$f":"_xlfn.XLOOKUP(C1264,'RAW module list'!A:A,'RAW module list'!C:C, \"Not found\")","v":5},{"$f":"_xlfn.XLOOKUP(C1264,'RAW module list'!A:A,'RAW module list'!D:D, \"Not found\")","v":16},{"$f":"_xlfn.XLOOKUP(C1264,'RAW module list'!A:A,'RAW module list'!E:E, \"Not found\")","v":0},"Third Year",{"$f":"_xlfn.XLOOKUP(B1264,'Programmes lists'!B:B,'Programmes lists'!D:D)","v":0},{"$f":"_xlfn.XLOOKUP(B1264,'Programmes lists'!B:B,'Programmes lists'!E:E, \"Not found\")","v":"QC736512"},{"$f":"_xlfn.XLOOKUP(B1264,'Programmes lists'!B:B,'Programmes lists'!G:G,\"Not found\")","v":"Minimum of 50% in grade 12 pass for \n•\tisiZulu HL "},{"$f":"_xlfn.XLOOKUP(B1264,'Programmes lists'!B:B,'Programmes lists'!F:F,\"Not found\")","v":512}]
["Senior and FET ","Specialising in isiZulu and History (QQ)","SICL3512 OR SSCL3512 OR GAFR3512",{"$f":"_xlfn.XLOOKUP(C1265,'RAW module list'!A:A,'RAW module list'!B:B, \"Not found\")","v":"Conversational Sign Language OR Conversational Sesotho OR Conversational Afrikaans"},{"$f":"_xlfn.XLOOKUP(C1265,'RAW module list'!A:A,'RAW module list'!C:C, \"Not found\")","v":5},{"$f":"_xlfn.XLOOKUP(C1265,'RAW module list'!A:A,'RAW module list'!D:D, \"Not found\")","v":8},{"$f":"_xlfn.XLOOKUP(C1265,'RAW module list'!A:A,'RAW module list'!E:E, \"Not found\")","v":"No previous exposure to the language"},"Third Year",{"$f":"_xlfn.XLOOKUP(B1265,'Programmes lists'!B:B,'Programmes lists'!D:D)","v":0},{"$f":"_xlfn.XLOOKUP(B1265,'Programmes lists'!B:B,'Programmes lists'!E:E, \"Not found\")","v":"QC736512"},{"$f":"_xlfn.XLOOKUP(B1265,'Programmes lists'!B:B,'Programmes lists'!G:G,\"Not found\")","v":"Minimum of 50% in grade 12 pass for \n•\tisiZulu HL "},{"$f":"_xlfn.XLOOKUP(B1265,'Programmes lists'!B:B,'Programmes lists'!F:F,\"Not found\")","v":512}]
["Senior and FET ","Specialising in isiZulu and History (QQ)","WILV3606",{"$f":"_xlfn.XLOOKUP(C1266,'RAW module list'!A:A,'RAW module list'!B:B, \"Not found\")","v":"Teaching Practice 3"},{"$f":"_xlfn.XLOOKUP(C1266,'RAW module list'!A:A,'RAW module list'!C:C, \"Not found\")","v":6},{"$f":"_xlfn.XLOOKUP(C1266,'RAW module list'!A:A,'RAW module list'!D:D, \"Not found\")","v":24},{"$f":"_xlfn.XLOOKUP(C1266,'RAW module list'!A:A,'RAW module list'!E:E, \"Not found\")","v":"TPRV2502"},"Third Year",{"$f":"_xlfn.XLOOKUP(B1266,'Programmes lists'!B:B,'Programmes lists'!D:D)","v":0},{"$f":"_xlfn.XLOOKUP(B1266,'Programmes lists'!B:B,'Programmes lists'!E:E, \"Not found\")","v":"QC736512"},{"$f":"_xlfn.XLOOKUP(B1266,'Programmes lists'!B:B,'Programmes lists'!G:G,\"Not found\")","v":"Minimum of 50% in grade 12 pass for \n•\tisiZulu HL "},{"$f":"_xlfn.XLOOKUP(B1266,'Programmes lists'!B:B,'Programmes lists'!F:F,\"Not found\")","v":512}]
["Senior and FET ","Specialising in isiZulu and History (QQ)","EDUB3724",{"$f":"_xlfn.XLOOKUP(C1267,'RAW module list'!A:A,'RAW module list'!B:B, \"Not found\")","v":"Education Studies 3.2: Contemporary Education Theory in the current social context"},{"$f":"_xlfn.XLOOKUP(C1267,'RAW module list'!A:A,'RAW module list'!C:C, \"Not found\")","v":7},{"$f":"_xlfn.XLOOKUP(C1267,'RAW module list'!A:A,'RAW module list'!D:D, \"Not found\")","v":16},{"$f":"_xlfn.XLOOKUP(C1267,'RAW module list'!A:A,'RAW module list'!E:E, \"Not found\")","v":"EDUB1613 & EDUB1623 & EDUB2714 & EDUB2724 & EDUB3714"},"Third Year",{"$f":"_xlfn.XLOOKUP(B1267,'Programmes lists'!B:B,'Programmes lists'!D:D)","v":0},{"$f":"_xlfn.XLOOKUP(B1267,'Programmes lists'!B:B,'Programmes lists'!E:E, \"Not found\")","v":"QC736512"},{"$f":"_xlfn.XLOOKUP(B1267,'Programmes lists'!B:B,'Programmes lists'!G:G,\"Not found\")","v":"Minimum of 50% in grade 12 pass for \n•\tisiZulu HL "},{"$f":"_xlfn.XLOOKUP(B1267,'Programmes lists'!B:B,'Programmes lists'!F:F,\"Not found\")","v":512}]
["Senior and FET ","Specialising in isiZulu and History (QQ)","SICL3522 OR SCCL3522 OR GAFR3522",{"$f":"_xlfn.XLOOKUP(C1268,'RAW module list'!A:A,'RAW module list'!B:B, \"Not found\")","v":"Conversational Sign Language OR Conversational Sesotho OR Conversational Afrikaans"},{"$f":"_xlfn.XLOOKUP(C1268,'RAW module list'!A:A,'RAW module list'!C:C, \"Not found\")","v":5},{"$f":"_xlfn.XLOOKUP(C1268,'RAW module list'!A:A,'RAW module list'!D:D, \"Not found\")","v":8},{"$f":"_xlfn.XLOOKUP(C1268,'RAW module list'!A:A,'RAW module list'!E:E, \"Not found\")","v":"Continue with the conversational language chosen in Semester 1"},"Third Year",{"$f":"_xlfn.XLOOKUP(B1268,'Programmes lists'!B:B,'Programmes lists'!D:D)","v":0},{"$f":"_xlfn.XLOOKUP(B1268,'Programmes lists'!B:B,'Programmes lists'!E:E, \"Not found\")","v":"QC736512"},{"$f":"_xlfn.XLOOKUP(B1268,'Programmes lists'!B:B,'Programmes lists'!G:G,\"Not found\")","v":"Minimum of 50% in grade 12 pass for \n•\tisiZulu HL "},{"$f":"_xlfn.XLOOKUP(B1268,'Programmes lists'!B:B,'Programmes lists'!F:F,\"Not found\")","v":512}]
["Senior and FET ","Specialising in isiZulu and History (QQ)","Special Requirement:","Choose three didactics modules according to subjects taken previously; HITV is compulsory",null,null,null,"Third Year",{"$f":"_xlfn.XLOOKUP(B1269,'Programmes lists'!B:B,'Programmes lists'!D:D)","v":0},{"$f":"_xlfn.XLOOKUP(B1269,'Programmes lists'!B:B,'Programmes lists'!E:E, \"Not found\")","v":"QC736512"},{"$f":"_xlfn.XLOOKUP(B1269,'Programmes lists'!B:B,'Programmes lists'!G:G,\"Not found\")","v":"Minimum of 50% in grade 12 pass for \n•\tisiZulu HL "},{"$f":"_xlfn.XLOOKUP(B1269,'Programmes lists'!B:B,'Programmes lists'!F:F,\"Not found\")","v":512}]
["Senior and FET ","Specialising in isiZulu and History (QQ)","ZHTV4705",{"$f":"_xlfn.XLOOKUP(C1270,'RAW module list'!A:A,'RAW module list'!B:B, \"Not found\")","v":"IsiZulu Home Language Teaching  2: Further Education and Training"},{"$f":"_xlfn.XLOOKUP(C1270,'RAW module list'!A:A,'RAW module list'!C:C, \"Not found\")","v":7},{"$f":"_xlfn.XLOOKUP(C1270,'RAW module list'!A:A,'RAW module list'!D:D, \"Not found\")","v":20},{"$f":"_xlfn.XLOOKUP(C1270,'RAW module list'!A:A,'RAW module list'!E:E, \"Not found\")","v":"ZHTV3605"},"Fourth Year",{"$f":"_xlfn.XLOOKUP(B1270,'Programmes lists'!B:B,'Programmes lists'!D:D)","v":0},{"$f":"_xlfn.XLOOKUP(B1270,'Programmes lists'!B:B,'Programmes lists'!E:E, \"Not found\")","v":"QC736512"},{"$f":"_xlfn.XLOOKUP(B1270,'Programmes lists'!B:B,'Programmes lists'!G:G,\"Not found\")","v":"Minimum of 50% in grade 12 pass for \n•\tisiZulu HL "},{"$f":"_xlfn.XLOOKUP(B1270,'Programmes lists'!B:B,'Programmes lists'!F:F,\"Not found\")","v":512},"Continue with  three didactics modules  according to subjects taken  previously; HITV is compulsory"]
["Senior and FET ","Specialising in isiZulu and History (QQ)","ZHTS4705",{"$f":"_xlfn.XLOOKUP(C1271,'RAW module list'!A:A,'RAW module list'!B:B, \"Not found\")","v":"IsiZulu Home Language Teaching  2: Senior Phase"},{"$f":"_xlfn.XLOOKUP(C1271,'RAW module list'!A:A,'RAW module list'!C:C, \"Not found\")","v":7},{"$f":"_xlfn.XLOOKUP(C1271,'RAW module list'!A:A,'RAW module list'!D:D, \"Not found\")","v":-20},{"$f":"_xlfn.XLOOKUP(C1271,'RAW module list'!A:A,'RAW module list'!E:E, \"Not found\")","v":"ZHTS3605"},"Fourth Year",{"$f":"_xlfn.XLOOKUP(B1271,'Programmes lists'!B:B,'Programmes lists'!D:D)","v":0},{"$f":"_xlfn.XLOOKUP(B1271,'Programmes lists'!B:B,'Programmes lists'!E:E, \"Not found\")","v":"QC736512"},{"$f":"_xlfn.XLOOKUP(B1271,'Programmes lists'!B:B,'Programmes lists'!G:G,\"Not found\")","v":"Minimum of 50% in grade 12 pass for \n•\tisiZulu HL "},{"$f":"_xlfn.XLOOKUP(B1271,'Programmes lists'!B:B,'Programmes lists'!F:F,\"Not found\")","v":512}]
["Senior and FET ","Specialising in isiZulu and History (QQ)","HITV4705",{"$f":"_xlfn.XLOOKUP(C1272,'RAW module list'!A:A,'RAW module list'!B:B, \"Not found\")","v":"History Teaching Home Language 2:  FET Phase"},{"$f":"_xlfn.XLOOKUP(C1272,'RAW module list'!A:A,'RAW module list'!C:C, \"Not found\")","v":7},{"$f":"_xlfn.XLOOKUP(C1272,'RAW module list'!A:A,'RAW module list'!D:D, \"Not found\")","v":20},{"$f":"_xlfn.XLOOKUP(C1272,'RAW module list'!A:A,'RAW module list'!E:E, \"Not found\")","v":"HITV3605"},"Fourth Year",{"$f":"_xlfn.XLOOKUP(B1272,'Programmes lists'!B:B,'Programmes lists'!D:D)","v":0},{"$f":"_xlfn.XLOOKUP(B1272,'Programmes lists'!B:B,'Programmes lists'!E:E, \"Not found\")","v":"QC736512"},{"$f":"_xlfn.XLOOKUP(B1272,'Programmes lists'!B:B,'Programmes lists'!G:G,\"Not found\")","v":"Minimum of 50% in grade 12 pass for \n•\tisiZulu HL "},{"$f":"_xlfn.XLOOKUP(B1272,'Programmes lists'!B:B,'Programmes lists'!F:F,\"Not found\")","v":512}]
["Senior and FET ","Specialising in isiZulu and History (QQ)","LSPT4705",{"$f":"_xlfn.XLOOKUP(C1273,'RAW module list'!A:A,'RAW module list'!B:B, \"Not found\")","v":"Third didactics subject"},{"$f":"_xlfn.XLOOKUP(C1273,'RAW module list'!A:A,'RAW module list'!C:C, \"Not found\")","v":7},{"$f":"_xlfn.XLOOKUP(C1273,'RAW module list'!A:A,'RAW module list'!D:D, \"Not found\")","v":20},{"$f":"_xlfn.XLOOKUP(C1273,'RAW module list'!A:A,'RAW module list'!E:E, \"Not found\")","v":"LSPT3605"},"Fourth Year",{"$f":"_xlfn.XLOOKUP(B1273,'Programmes lists'!B:B,'Programmes lists'!D:D)","v":0},{"$f":"_xlfn.XLOOKUP(B1273,'Programmes lists'!B:B,'Programmes lists'!E:E, \"Not found\")","v":"QC736512"},{"$f":"_xlfn.XLOOKUP(B1273,'Programmes lists'!B:B,'Programmes lists'!G:G,\"Not found\")","v":"Minimum of 50% in grade 12 pass for \n•\tisiZulu HL "},{"$f":"_xlfn.XLOOKUP(B1273,'Programmes lists'!B:B,'Programmes lists'!F:F,\"Not found\")","v":512}]
["Senior and FET ","Specialising in isiZulu and History (QQ)","WILV4700",{"$f":"_xlfn.XLOOKUP(C1274,'RAW module list'!A:A,'RAW module list'!B:B, \"Not found\")","v":"Teaching Practice 4"},{"$f":"_xlfn.XLOOKUP(C1274,'RAW module list'!A:A,'RAW module list'!C:C, \"Not found\")","v":7},{"$f":"_xlfn.XLOOKUP(C1274,'RAW module list'!A:A,'RAW module list'!D:D, \"Not found\")","v":40},{"$f":"_xlfn.XLOOKUP(C1274,'RAW module list'!A:A,'RAW module list'!E:E, \"Not found\")","v":"WILV3606"},"Fourth Year",{"$f":"_xlfn.XLOOKUP(B1274,'Programmes lists'!B:B,'Programmes lists'!D:D)","v":0},{"$f":"_xlfn.XLOOKUP(B1274,'Programmes lists'!B:B,'Programmes lists'!E:E, \"Not found\")","v":"QC736512"},{"$f":"_xlfn.XLOOKUP(B1274,'Programmes lists'!B:B,'Programmes lists'!G:G,\"Not found\")","v":"Minimum of 50% in grade 12 pass for \n•\tisiZulu HL "},{"$f":"_xlfn.XLOOKUP(B1274,'Programmes lists'!B:B,'Programmes lists'!F:F,\"Not found\")","v":512}]
["Senior and FET ","Specialising in isiZulu and History (QQ)","Special Requirement:","Continue with three didactics according to subjects in previous years of study",null,null,null,"Fourth Year",{"$f":"_xlfn.XLOOKUP(B1275,'Programmes lists'!B:B,'Programmes lists'!D:D)","v":0},{"$f":"_xlfn.XLOOKUP(B1275,'Programmes lists'!B:B,'Programmes lists'!E:E, \"Not found\")","v":"QC736512"},{"$f":"_xlfn.XLOOKUP(B1275,'Programmes lists'!B:B,'Programmes lists'!G:G,\"Not found\")","v":"Minimum of 50% in grade 12 pass for \n•\tisiZulu HL "},{"$f":"_xlfn.XLOOKUP(B1275,'Programmes lists'!B:B,'Programmes lists'!F:F,\"Not found\")","v":512}]

{"sheet":"RAW module list","index":3,"n_rows":267,"n_cols":5,"rows_kept":267,"cut":false,"hidden":true,"merged":[]}
["Module code","Module description","NQF","Credits","Prerequisites"]
["AHTI3604 OR AATI3604","Afrikaans Teaching  (Home Language) OR Afrikaans FAL Teaching 1",6,16,"AFNT1644 & AFNL1634  or  AFRT1514 & AFRL1624"]
["SICL3512 OR SSCL3512 OR ZUCL3512","Conversational Sign Language OR Conversational Sesotho OR Conversational IsiZulu",5,8,"No previous exposure to the language"]
["SICL3522 OR SSCL3522 OR ZUCL3522","Conversational Sign Language OR Conversational Sesotho OR Conversational IsiZulu",5,8,"Continue with the conversational language  chosen in Semester 1"]
["ENGE1608","English Language for Education ",6,32]
["LSCF1604","Life Skills Content 1: Foundation Phase",5,16]
["MTCF1604","Mathematics Content 1: Numbers, Operations, Relationships, Patterns, Functions and Algebra",5,16]
["EDUB1613","Education Studies 1.1 The Individual in the learning context",6,12]
["AGAE1508","Academic Literacy in Afrikaans",5,-32,"NBT requirements not met"]
["EDUB1623","Education Studies 1.2 What it means to educate: Theoretical perspectives and their significance for SA education",6,12]
["MTCF2604","Mathematics content 2: Algebra, Geometry, Measurement and Statistics in the Foundation Phase",6,16,"MTCF1604"]
["LSCF2604","Life Skills content 2: Foundation Phase",6,16,"LSCF1604"]
["EDUB2714","Education Studies 2: Teaching and Learning in Education Context",7,16,"EDUB1613 & EDUB1623"]
["PEDF2613","General Pedagogy 2: Learning in an inclusive environment",6,12,"PEDF1623"]
["AFNL1634","Introduction to Afrikaans and Dutch literature",6,16,"Grade 12 Afrikaans HL >55% or Afrikaans FAL in grade 12 >70%"]
["EDUB2724","Education Studies 2: Human Relationships in Education context",7,16,"EDUB2714"]
["AFNT1644","Introduction to Afrikaans Linguistics",6,16,"AFNL1634"]
["MTTF3604","Mathematics Teaching 1",6,16,"MTCF1604 & MTCF2604"]
["EDUB3714","Education Studies 3.1 Education systems in global and national context",7,16,"EDUB1613 & EDUB1623& EDUB2714 & EDUB2724"]
["ECED3703","Early Childhood Education 1: Reception Year Studies",7,12]
["AHTF3604","Afrikaans Home language Teaching 1 ",6,16,"AFNT1644 & AFNL1634"]
["EATF3604","English additional language teaching 1 ",6,16,"ENGE1608"]
["SSCL3512 OR SICL3512 OR ZUCL3512","Conversational Language: Sesotho OR Conversational Sign Language OR Conversational IsiZulu",5,8,"No previous exposure to the language"]
["WILF3606","Teaching Practice 3",6,24,"TPRF2502"]
["EDUB3724","Education Studies 3.2: Contemporary Education Theory in the current social context",7,16,"EDUB1613 & EDUB1623 & EDUB2714 & EDUB2724 & EDUB3714"]
["LSTF4705","Life Skills Teaching 2",7,20,"LSTF3604"]
["ECED4703","Early Childhood Education 2: Foundations in Early Childhood Education (birth to four years)",7,12,"ECED3703"]
["EATF4705","English Additional language Teaching 2 ",7,20,"EATF3604"]
["AHTF4705","Afrikaans Home language Teaching 2",7,20,"AHTF3604"]
["WILF4700","Teaching Practice 4",7,40,"WILF3606"]
["TPRF1502","Teaching Practice 1 for Foundation Phase",5,8]
["EALT1508","English Academic Literacy for Education ",5,-32,"NBT requirements not met"]
["UFSS1504","Undergraduate core curriculum",5,-16]
["PEDF1623","General Pedagogy 1: Early Childhood Development and Learning (birth to nine years)",6,12]
["PEDF2623","General Pedagogy 2: Teaching and Learning in the Foundation Phase",6,12,"PEDF2613"]
["SHTF3604","Sesotho Home language Teaching 1 ",6,16,"SSML1514 & SSMT1524"]
["MTTF4705","Mathematics Teaching 2",7,20,"MTTF3604"]
["SHTF4705","Sesotho Home language Teaching 2 ",7,20,"SHTF3604"]
["TPRF2502","Teaching Practice  2",5,8,"TPRF1502"]
["AFNL1634 OR AFRT1514","Introduction to Afrikaans and Dutch literature OR Basic Afrikaans Language",6,16,"Afrikaans HL Grade 12 pass at >55% Or Afr FAL Grade 12 pass at >55%/Afrikaans HL Grade 12 pass at <55% or Afr. FAL Grade 12 pass at <70%"]
["AATF3604 OR AHFT3604","Afrikaans additional Language teaching 1 OR Afrikaans home language Teaching 1",6,16,"AFNT1644 & AFNL1634"]
["EHTF3604","English Home language Teaching 1 ",6,16,"ENGE1608"]
["EHTF4705","English Home language Teaching 2 ",7,20,"EHTF3604"]
["AATF4705 OR AHTF4705","Afrikaans additional language teaching 2 OR Afrikaans home language Teaching 2",7,20,"AATF3604 OR AHTF3604"]
["TPRF2520","Teaching Practice 2",5,8,"TPRF1502"]
["LSTF3604","Life Skills Teaching 1",6,16,"LSCF1604 & LSCF2604"]
["ZHTF3604","IsiZulu Teaching 1 (Home Language)",6,16,"ZULL1514 & ZULT1524"]
["EATF3604 OR GAFR3512","English Teaching 1 Additional Language Or Conversational Afrikaans",6,16,"ENGE1608"]
["ZHTF4705","isiZulu teaching 2 (Home Language)",7,20,"ZHTF3604"]
["GPED1623","General Pedagogy 1: Managing the Curriculum",6,12]
["GPED2613","General Pedagogy 2.1",6,12,"GPED1623"]
["GPED2623","General Pedagogy 2.2: Assessment",6,12,"GPED2613"]
["AHTI3604","Afrikaans Teaching 1 (Home Language)",6,16,"AFNT1644 & AFNL1634"]
["EATI3604","English additional language teaching 1",6,16,"ENGE1608"]
["CURM3502","Intermediate Phase School Curriculum 1",5,8]
["ZULCL3512","Conversational IsiZulu",5,8]
["SSCL3522 ","Conversational Sesotho",5,8]
["ZULCL3522","Conversational isiZulu ",5,8]
["NTTI405","Natural Sciences and Technology Teaching 2",7,20,"NTTI3604"]
["AHTI4705","Afrikaans Teaching 2 (Home Language)",7,20,"AHTI3604"]
["EATI4705","English additional language teaching 2",7,20,"EATI3604"]
["CURM4502","Intermediate Phase School Curriculum 2",5,8,"CURM3502"]
["WILI4700","Teaching Practice 4",7,40,"WILI3606"]
["NSTC2614","Elementary Natural Sciences and Technology",6,16]
["ZULCL3512 ","Conversational IsiZulu",5,8]
["MTHI1624","Mathematics: total surface area and volume",6,16,"Mathematics at NSC level 4 (50%) pass"]
["AFRT1514 OR AFNL1634","Basic Afrikaans Language OR Afrikaans and Dutch literature",6,16,"Afrikaans FAL Grade 12 > 70% OR Afrikaans Home Language Grade 12 > 55%"]
["NSTC2624","Elementary Natural Science and Technology",6,16,"NSTC2614"]
["AFRL1624","Basic Afrikaans literature",6,16,"AFRT1514"]
["NTTI3604","Natural Sciences and Technology Teaching 1 ",6,16,"NSTC2614 & NSTC2624"]
["EHTI3604","English Teaching 1 (Home Language)",6,16,"ENGE1608"]
["ZULCL3522 ","Conversational IsiZulu",5,8]
["MTTI4705","Mathematics teaching 2",7,20,"MTTI3604"]
["AHTI4705 OR AATI4705","Afrikaans Teaching 1 (Home Language) OR Afrikaans Teaching 2: (First Additional Language ",7,20,"AHTI3604 OR AATI3604"]
["EHTI4705","English Teaching 2 (Home Language)",7,20,"EHTI3604"]
["TPRI2502","Teaching Practice 2 ",5,8,"TPRI1502"]
["CURS3502","Intermediate Phase School Curriculum",5,8]
["LSTI4705","Teaching of Life Skills 2",7,20,"LSTI3604"]
["SSTI4705","Teaching of Social Sciences 2",7,20,"SSTI3604"]
["CURS4502","Intermediate Phase School Curriculum",5,8,"CURS3502"]
["SHTI3604","Sesotho Teaching 1: Home Language",6,16,"SSML1514 & SSMT1524"]
["GAFR3512","Conversational Afrikaans ",5,8]
["ZUCL3522 ","Conversational IsiZulu",5,8]
["SHTI4705","Sesotho Teaching 1 (Home Language)",7,20,"SHTI3604"]
["LSCI1614","Life Skills ",6,16]
["SSCI2614","Social Science History",6,16]
["AFRT1514","Basic Afrikaans Language",5,16,"Afrikaans FAL in Grade 12 > 55%"]
["AHTI4705 ","Afrikaans Teaching Home ",7,20,"AHTI3604"]
["WILI3606","Teaching Practice 3",6,24,"TPRI2502"]
["CURS4705","Intermediate Phase School Curriculum",5,8,"CURS3502"]
["EALH2508","Academic Literacy for extended programmes 2",5,32,"AGAE1508 or EALT1508"]
["MTHI1614","Mathematics: Numbers, algebra and functions ",6,16,"Mathematics at NSC level 4 (50%) pass"]
["MTDH1508","Mathematical Literacy",5,32]
["TPRI1502","Teaching Practice 1",5,8]
["MTTI3604","Teaching Mathematics 1",6,16,"MTHI1614 & MTHI1624"]
["SICL3522","Conversational Sign Language",5,8,"Continue with conversational language chosen in Semester 1"]
["NTTI4705","Natural Sciences and Technology Teaching  2",7,20,"NTTI3604"]
["SSML1514","Sesotho language structure ",5,16]
["SSML1524","Sesotho Home Language",5,16,"SSML1514"]
["UFSS1522","Institutional module",5,-8]
["ELLT2504","English language skills for teaching",5,16]
["MTBI2503","Basic Mathematics ",5,12]
["ZHTI3604","IsiZulu Teaching 1 Home Language",6,16,"ZULL1514 & ZULT1524"]
["SSCI2624","Social Sciences 2: Geography",6,16]
["SCLL1508","Skills and competencies for lifelong learning",6,32]
["SSTI3604","Teaching Social Sciences 1",6,16,"SSCI2614 & SSCI2624"]
["AATI3604","Afrikaans Teaching 1 FAL",6,16,"AFRT1514 & AFRL1624"]
["LSTI4075","Teaching of Life Skills 2",7,20,"LSTI3604"]
["AATI4705","Afrikaans Teaching 2: (First Additional Language)",7,20,"AATI3604"]
["LSCI1624","Life Skills 1",6,16]
["LSTI3604","Teaching of Life Skills 1 ",6,16,"LSCI614 & LSCI2624"]
["SSCL3512 ","Conversational Sesotho",5,8]
["SSCL3522  OE SICL3522","Conversational Sesotho OR Conversational Sign language ",5,8,"Continue with conversational language chosen in Semester 1"]
["ZHTI4705","IsiZulu Teaching 2 (Home Language)",7,20,"ZHTI3604"]
["EACC1614","Accounting",5,16]
["TPRV1502","Teaching Practice 1 ",5,8]
["EALT1508 OR AGAE1508","English Academic Literacy for Education OR Academic Literacy in Afrikaans",5,-32,"NBT requirements not been met"]
["EACC1624","Accounting",6,16]
["EBUS1624","General Management",6,16]
["GPEV1623","General Pedagogy 1: Managing the Curriculum",6,12]
["EBUS2715","Strategic Management",7,20," EBUS1624"]
["EBUS2714","Entrepreneurship",7,-16]
["EACC2608","Accounting",6,32,"EACC1614 & EACC1624"]
["ALLT3504","Afrikaans as medium of learning and teaching",5,16]
["ESBM2724 OR EBMA2624","Small Business Management OR Personal Selling",7,16,"EBUS2714 or EBUS2715"]
["BSTV3605","Business Studies Teaching 1",6,20,"ESBM2724 / EBMA2624"]
["EMST3605","Economic and Management Science Teaching Senior Phase",6,20,"EBUS1514/ 1624 & EBUS1624 or EACC1614 & EACC1624"]
["ENED3514","Entrepreneurship in Education ",5,16]
["WILV3606","Teaching Practice 3",6,24,"TPRV2502"]
["GAFR3522","Conversational Afrikaans ",5,8]
["BSTV4705","Business Studies Teaching 2",7,-20,"BSTV3605"]
["EMST4705","Economic and Management Sciences Teaching Senior Phase 2",7,20,"EMST3605"]
["EBUS1514 OR EBUS1614","Business Functions OR Business Dynamics ",5,16]
["EBUS2715*","Strategic Management",7,20,"EBUS1624"]
["EBUS2714*","Entrepreneurship",7,-16]
["ESBM2724*","Small Business Management",7,16,"EBUS2714 or EBUS2715"]
["EBMA2624*","Personal Selling ",6,-16]
["ACTV3605","Accounting Teaching 1 ",6,20,"EACC2608"]
["SICL3512","Conversational Sign Language",5,8,"Continue with the conversational language chosen in Semester 1"]
["ACTV4705","Accounting Teaching 2: FET",7,20,"ACTV3605"]
["EGDC1614","Engineering Graphics 1.1",6,16,"Engineering and Graphics Design at NSC level 4 (50% ) "]
["EGDC1624","Engineering Graphics and Design 1.2",6,16,"EGDC1614"]
["TEGC1624","Technology Education",6,16,"TEGC1614"]
["EGDC2714","Engineering Graphics  and Design 2.1",6,16,"EGDC1614 & EGDC1624"]
["TEGC2714","Technology",7,16,"TEGC1614 & TEGC1624"]
["TPRV2502","Teaching Practice 2",5,8,"TPRV1502"]
["EGDC2724","Engineering Graphics 2.2",6,16,"EGDC2714"]
["EGTV3605","Engineering Graphics and Design Teaching 1: Further Education and Training",6,20,"EGDC2714 & EGDC2724"]
["EGTV4705","Engineering Graphics and Design Teaching 2: Further Education and Training",7,20,"EGTV3605"]
["WILV4700","Teaching Practice 4",7,40,"WILV3606"]
["CHEM1513 & CHEM1551","Physical and Organic Chemistry",5,16,"Mathematics at NSC level 5 (60%) and Physical Sciences at NSC level 5 (60%)"]
["PHYS1514","Mechanics, Optics and Electricity",5,16,"Mathematics at NSC level 5 (60%) and Physical Sciences at NSC level 5 (60%) must be done in combination with MATM1534"]
["CHEM1623 & CHEM1661","Physical and Organic Chemistry",6,16,"CHEM1513 & CHEM1551"]
["PHYS1624","Mechanics Thermodynamics Electricity Magnetism",6,16,"PHYS1514"]
["PHYS2614","Mechanics, Waves and Optics",6,16,"PHYS1624"]
["CHEM2613 & CHEM2611","Physical Chemistry",6,12,"CHEM1623, CHEM1661 & MATM1534"]
["PHYS2624 OR CHEM2623 & CHEM2621","Electronics OR Organic Chemistry",6,16,"PHYS1534 (60%) + OR MATM1534 (60%) + OR MATM1644 (60%)"]
["MSTS3605","Mathematics Teaching 1: Senior Phase",6,20,"MATM1534 & MATM1644"]
["PSTV3605","Physical Science Teaching 1: Further Education and Training",6,20,"PHYS1534 & CHEM2623 & CHEM2621 OR OR PHYS2614 & PHYS2624 & CHEM1513 & CHEM1661"]
["PSTV4705","Physical Science Teaching 2: Further Education and Training",7,20,"PSTV3605"]
["BIOL1514","Lower Life and Molecular Biology",5,16,"Life Sciences at NSC level 5 (60%)"]
["BIOL1624","Plant Biology",6,16,"BIOL1514"]
["BIOL1644","Animal Biology",6,16,"BIOL1514"]
["MATM1644","Calculus and Algebra",6,16,"MATM1534"]
["MATM1622","Prerequisite for MATM2614",6,8]
["BOTA2654","Introduction to plant anatomy and Morphology",6,16,"Any two of: BIOL1514/BIOL1644/BIOL1624"]
["MATM2614","Vector Analysis",6,16,"> 60% for MATM1622 & MATM1644"]
["MATM2624","Linear Algebra",6,16,"MATM1622 & MATM1644"]
["BOTA2684 OR BIOL2644","Plant Physiology and Biotechnology OR The Physical Environment: Natural Resources, ecology and sustainability",6,16,"BIOL1514 & BIOL2614"]
["MSTS4705","Mathematics Teaching 2: Senior Phase",7,-20,"MSTS3605"]
["MSTV4705","Mathematics Teaching 2: FET",7,20,"MSTV3605"]
["MATM1534","Calculus",5,16,"Mathematics at NSC level 5 (60%)"]
["BLGY1643 ","Introduction to Genetics",6,12,"BLGY1513"]
["BLGY1623","Introduction of Genetics: The Independence of plants and life on earth",6,12,"BLGY1513"]
["BLGY1683","Introduction to Zoology and Etymology ",6,12]
["MATA2654","Ordinary differential equations",6,16,">60% for MATM1622 & MATM1644"]
["BLGY2625","Biology for Education 2",6,20,"BLGY2615"]
["MATA2664","Introduction to mathematical modelling",6,16,"MATM1622 & MATM1644"]
["MSTV3605","Mathematics Teaching 1: FET",6,20,"MATA2644 & MATA2654"]
["BLGY1513","Introduction to Biology",5,12,"Life Sciences at NSC level 5 (60%)"]
["TEGC1614","Technology",6,16]
["LLST1513","Lifelong Learning Skills",5,12]
["BLGY1663","Introduction to Biochemistry and Microbiology",6,12,"BLGY1513"]
["BLGY2615","Biology for Education 1",6,20,"BLGY1643 & BLGY1663"]
["TEGC2614","Technology ",6,16,"TEGC1624"]
["TEGC2724","Technology",7,16,"TEGC2614"]
["TEGT3605","Technology Teaching 1: Senior Phase",6,20,"TEGC1614 & TEGC1624"]
["LSTV3605","Life Sciences Teaching 1: Further Education and Training phase",6,20,"At least 64 credits of Biology modules up to level 6"]
["LSTV4705","Life Sciences Teaching 2: Further Education and Training phase",7,20,"LSTV3605"]
["TEGT4705","Technology Teaching 2: Senior Phase",7,20,"TEGT3605"]
["ENGL1514","Reading Literature: An Introduction to Reading, Writing and Critical Textual Analysis",5,16]
["ENGL1624","Reading Literature, Film and Culture",6,16,"ENGL1514"]
["ENGL2614","Early Modern to Contemporary World Literatures",6,16,"ENGL1514 & ENGL1624"]
["ELLT2504*","English as medium of learning and teaching",5,16]
["ENGL2724","Twentieth Century and Modern Literature",7,16,"ENGL2614"]
["EATV3605","English Additional Language teaching 1: Further Education and training Phase",6,20,"ENGL2614 & ENGL2724"]
["EATS3605","English Additional Language teaching 1: Senior phase ",6,20,"ENGL1514 & ENGL1624"]
["ZUCL3512","Conversational IsiZulu ",5,8,"No previous exposure to the language"]
["EATV4705","English Additional Language teaching 2: Further Education and Training phase",7,20,"EATV3605"]
["EATS4705","English Additional Language teaching 2: senior phase",7,-20,"EATS3605"]
["SSML2624","Sesotho Poetry and Drama",6,16,"SSML2614 "]
["GPEV2623","General Pedagogy 2.2: Assessment",6,12,"GPEV2613"]
["EHTV3605","English Home Language teaching 1: Further Education and Training phase",6,20,"ENGL2724 & ENGL2614"]
["EHTS3605","English Home Language teaching 1: Senior Phase",6,20,"ENGL1514 & ENGL1624"]
["EHTV4705","English Home Language teaching 2: Further Education and Training phase",7,20,"EHTV3605"]
["EHTS4705","English home language Teaching 2: Senior Phase",7,-20,"EHTS3605"]
["ZULL1514","IsiZulu: Introduction to Linguistics",5,16]
["GPEV2613","General Pedagogy 2.1",6,12,"GPEV1623"]
["SSCL3512","Conversational Sesotho",5,8,"No previous exposure to the language"]
["SSCL3522","Conversational Sesotho",5,8,"Continue with the conversational language chosen in Semester 1"]
["EALT1508 ","English Academic Literacy for Education",5,-32,"NBT requirements not been met"]
["AFNT2614","Afrikaans morphology and sociolinguistics",6,16,"AFNL1634 & AFNT1644"]
["AFNK2724","Dutch, Dutch literature and culture",7,16,"AFNL1634 & AFNT1644"]
["AHTV3605","Afrikaans Home language Teaching 1: Further Education Training phase",6,20,"AFNT2614 & AFNK2724"]
["AHTS3605","Afrikaans Home Language teaching 1: Senior Phase ",6,20,"AFNL1634 & AFNT1644"]
["AHTS4705","Afrikaans Home language Teaching  2: Senior Phase",7,20,"AHTS3605"]
["AHTV4705","Afrikaans Home Language teaching 2: Further Education and Training",7,20,"AHTV3605"]
["HIST1534","A brief history of the whole world",5,16]
["HIST2624","Twentieth Century Global Clashes ",7,16]
["SICL3522 or SSCL3522 or ZUCL3522 or GAFR3522","Conversational Sign Language OR Conversational Sesotho OR Conversational IsiZulu OR Conversational Afrikaans",5,8,"Continue with the conversational language chosen in Semester 1"]
["SSMT1524","Prose fiction in Sesotho",5,16,"SSML1514"]
["SSML2614","Sociolinguistics in Sesotho",6,16,"SSML1514 & SSMT1524"]
["HIST2614","The Rise of Nationalism in South Africa and Africa and the resistance to it ",6,16]
["SSMT2624","Sesotho",6,16,"SSML2614 "]
["SHTV3605","Sesotho Home Language Teaching  1: Further Education and Training",6,20,"SSML2614 & SSMT2624"]
["SHTS3605","Sesotho Home language Teaching 1: Senior Phase",6,20,"SSML1514 & SSMT1524"]
["ZUCL3522","Conversational Afrikaans ",5,8]
["SHTV4705","Sesotho Home language Teaching  2: Further Education and Training phase",7,20,"SHTV3605"]
["SHTS4705","Sesotho Home language Teaching  2: Senior Phase",7,-20,"SHTS3605"]
["LSPT4705","Third didactics subject",7,20,"LSPT3605"]
["ZULT1524","IsiZulu: Introduction to Literature",6,16,"ZULL1514"]
["HIST1644","Histories, Historians and History-makers",6,16]
["ZULL2614","Sociolinguistics in IsiZulu ",6,16,"ZULL1514 & ZULT1524"]
["ZULT2624","IsiZulu Poetry and Drama",6,16,"ZULL2614"]
["ZHTV3605","IsiZulu Home Language Teaching  1: Further Education and Training phase",6,20,"ZULL2614 & ZULT2624"]
["ZHTS3605","IsiZulu Home language Teaching 1: Senior Phase",6,20,"ZULL1514 & ZULT1524"]
["HITV3605","History Teaching 1: Further Education and Training phase",6,20,"HIST1534 & 1644 & HIST2614 & HIST2624"]
["LSPT3605","Learner support as third didactics ",6,20]
["ZHTV4705","IsiZulu Home Language Teaching  2: Further Education and Training",7,20,"ZHTV3605"]
["ZHTS4705","IsiZulu Home Language Teaching  2: Senior Phase",7,-20,"ZHTS3605"]
["HITV4705","History Teaching Home Language 2:  FET Phase",7,20,"HITV3605"]
["AFNT1644 OR AFRL1624","Introduction to Afrikaans Linguistics OR Basic Afrikaans literature",6,16,"AFNL1634\nor\nAFRT1514"]
["AHTF3604 OR AATF3604","Afrikaans home language Teaching 1 OR Afrikaans additional Language teaching 1",6,16,"AFRT1514 & AFRL1624\nOR\nAFNT1644 & AFNL1634"]
["AATF3604 OR AHTF3604","Afrikaans additional Language teaching 1 OR Afrikaans home language Teaching 1",6,16,"AFNT1644 & AFNL1634 OR AFRT1514 & AFRL1624"]
["AHTF4705 OR AATF4705","Afrikaans home language Teaching 2 OR Afrikaans additional language teaching 2",7,20,"AHTF3604"]
["SSCL3512 OR SICL3512 OR GAFR3512","Conversational Sesotho OR Conversational Sign Language OR Conversational Afrikaans",5,8,"No previous exposure to the language"]
["SICL3522 OR SSCL3522 OR GAFR3522","Conversational Sesotho OR Conversational Sign Language OR Conversational Afrikaans",5,8,"Continue with the conversational language chosen in Semester 1"]
["SICL3512 OR GAFR3512 OR ZUCL3512","Conversational Language: Sesotho OR Conversational Afrikaans OR Conversational IsiZulu",5,8,"No previous exposure to the language"]
["SICL3522 OR GAFR3522 OR ZUCL3522","Conversational Language: Sesotho OR Conversational Afrikaans OR Conversational IsiZulu",5,8,"Continue with the conversational language chosen in Semester 1"]
["AFRL1624 OR AFNT1644","Basic Afrikaans literature OR Introduction to Afrikaans Linguistics ",6,16,"AFRT1514 OR AFNL1634"]
["SICL3512 OR SSCL3512 OR GAFR3512","Conversational Sign Language OR Conversational Sesotho OR Conversational Afrikaans",5,8,"No previous exposure to the language"]
["SICL3522 OR SCCL3522 OR GAFR3522","Conversational Sign Language OR Conversational Sesotho OR Conversational Afrikaans",5,8,"Continue with the conversational language chosen in Semester 1"]
["SICL3512 OR ZUCL3512 OR GAFR3512","Conversational Sign Language OR Conversational IsiZulu OR Conversational Afrikaans",5,8,"No previous exposure to the language"]
["SICL3522 OR ZUCL3522 OR GAFR3522","Conversational Sign Language OR Conversational IsiZulu OR Conversational Afrikaans",5,8,"Continue with the conversational language chosen in Semester 1"]
["SSCL3522 OR SICL3522 OR GAFR3522","Conversational Sesotho OR Conversational Sign Language OR Conversational Afrikaans",5,8,"Continue with the conversational language chosen in Semester 1"]
["EBUS2715 OR EBUS2714","Strategic Management OR Entrepreneurship",7,16,"EBUS1624"]
["ELLT2504 OR ALLT3504","English as medium of learning and teaching OR Afrikaans as medium of learning and teaching",5,16]
["SICL3512 OR SCCL3512 OR GAFR3512","Conversational Sesotho OR Conversational Sign Language OR Conversational Afrikaans",5,8,"No previous exposure to the language"]
["SICL3512 OR SSCL3512 OR GAFR3512 OR ZUCL3512","Conversational Sign Language OR Conversational Sesotho OR Conversational Afrikaans OR Conversational IsiZulu",5,8,"No previous exposure to the language"]
["SICL3522 OR SSCL3522 OR GAFR3522 OR ZUCL3522","Conversational Sign Language OR Conversational Sesotho OR Conversational Afrikaans OR Conversational IsiZulu",5,8,"Continue with the conversational language chosen in Semester 1"]
["PHYS2614 OR CHEM2613 & CHEM2611","Mechanics, Waves and Optics OR Physical Chemistry",6,16,"PHYS1624 OR CHEM1623, CHEM1661 & MATM1534"]
["MSTS3605 OR MSTV3605","Mathematics Teaching 1: Senior Phase OR Mathematics Teaching 1: FET",6,20,"MATM1534 & MATM1644 OR MATM2614 & MATM2624"]
["BLGY1643","Introduction to Zoology and Etymology ",6,12,"BLGY1513"]
["BLGY1623 OR BLGY1683","Introduction of Genetics: The Independence of plants and life on earth OR Introduction to Zoology and Etymology ",6,12,"BLGY1513"]
["ZUCL3512 OR SICL3512 OR GAFR3512","Conversational IsiZulu OR Conversational Sign Language OR Conversational Afrikaans",5,8,"No previous exposure to the language"]
["ZUCL3522 OR SICL3522 OR GAFR3522","Conversational IsiZulu OR Conversational Sign Language OR Conversational Afrikaans",5,8,"Continue with the conversational language chosen in Semester 1"]
["SICL3512 OR SSCL3512 OR ZUCL3522","Conversational Sign Language OR Conversational Sesotho OR Conversational IsiZulu",5,8,"Continue with the conversational language chosen in Semester 1"]

{"sheet":"Slicer Pivot","index":4,"n_rows":5,"n_cols":3,"rows_kept":5,"cut":false,"hidden":true,"merged":[]}
[]
[null,"Foundation Phase","Specialising in Afrikaans Home Language"]
[null,null,"Specialising in English Home Language"]
[null,null,"Specialising in isiZulu Home Language"]
[null,null,"Specialising in Sesotho Home Language"]